{"text_format":"3","workbook":"xlsx","n_sheets":44,"sheets":["Instructions","Range Summary","Outlier Detection","Media Lots","Strain 1","Strain 1 control","Strain 2","Strain 2 Control","Strain 3 ","Strain 3 control","Strain 4","Strain 4 control","Strain 5","Strain 5 control","Strain 6","Strain 6 control","Strain 7","Strain 7 control","Strain 8","Strain 8 control","Strain 9","Strain 9 control","Strain 10","Strain 10 control","Strain 1 graphs","Strain 1 control graphs","Strain 2 graphs","Strain 2 control graphs","Strain 3 graphs","Strain 3 control graphs","Strain 4 graphs","Strain 4 control graph","Strain 5 graphs","Strain 5 control graphs","Strain 6 graphs","Strain 6 control graphs","Strain 7 graphs","Strain 7 control graphs","Strain 8 graphs","Strain 8 control graphs","Strain 9 graphs","Strain 9 control graphs","Strain 10 graphs","Strain 10 control graphs"],"not_rendered":{"charts":100,"defined_names":22},"read":"whole","date_system":"1900"}

{"sheet":"Instructions","index":0,"n_rows":14,"n_cols":2,"rows_kept":14,"merged":[[0,0,0,2]]}
["Instructions"]
[1,"On the Range Summary sheet, enter the names of the test agent and the control agent in their respective purple cells."]
[2,"On the Range Summary sheet, enter the names of the QC organisms in the yellow cells labelled \"strain x\" (up to 10 names are possible)"]
[3,"On the Strain 1 sheet, click on the 'Go to Raw Data Entry area' link. Start entering data for the first QC strain."]
[null,"The numbers you need to enter are the exact MIC numbers as listed in Column A. The fact that these are rounded is taken care of by the program."]
[null,"You get the most out of it if you enter the data for each 'Media Lot'  in their respective sections. This will give the media lot comparison on the Compare Media Lot sheet."]
[null,"Enter CLSI QC limits if currently known,  otherwise ignore (useful for Control drug data)"]
[4,"On the Strain 1 Control sheet do the same for the control agent values"]
[5,"Repeat these two steps for as many QC strains as you have."]
[6,"Review the results for possible outlier labs on the 'Outlier Detection' sheet. Any possible outliers also show up on their respective sheets"]
[null,"If two or three of the three statistics for possible outlier labs show up, then go to the relevant sheet and delete the raw data for that lab."]
[null,"You can always undo it but only when you're on that sheet; if you change sheets you will usually not be able to undo. It's an XL quirk"]
[7,"Review the Media Lot comparison on the 'Compare Media Lots' sheet"]
[8,"Inspect the final recommended QC rnages on the 'Range Summary' tab. They are also to be found on the individual sheets."]

{"sheet":"Range Summary","index":1,"n_rows":17,"n_cols":11,"rows_kept":17,"merged":[[1,0,14,0]]}
[null,"Strain 1","Strain 2","Strain 3","Strain 4","Strain 5","Strain 6","Strain 7","Strain 8","Strain 9","Strain 10"]
["Test agent","QC1","QC2","QC3","QC4","QC5","QC6","QC7","QC8","QC9","QC10"]
[null,{"$f":"'Strain 1'!A$25","v":"Calculated QC Range"},{"$f":"'Strain 2'!$A$25","v":"Calculated QC Range"},{"$f":"'Strain 3 '!$A$25","v":"Calculated QC Range"},{"$f":"'Strain 4'!$A$25","v":"Calculated QC Range"},{"$f":"'Strain 5'!$A$25","v":"Calculated QC Range"},{"$f":"'Strain 6'!$A$25","v":"Calculated QC Range"},{"$f":"'Strain 7'!$A$25","v":"Calculated QC Range"},{"$f":"'Strain 8'!$A$25","v":"Calculated QC Range"},{"$f":"'Strain 9'!$A$25","v":"Calculated QC Range"},{"$f":"'Strain 10'!$A$25","v":"Calculated QC Range"}]
[null,{"$f":"'Strain 1'!$A$26","v":""},{"$f":"'Strain 2'!$A$26","v":""},{"$f":"'Strain 3 '!$A$26","v":""},{"$f":"'Strain 4'!$A$26","v":""},{"$f":"'Strain 5'!$A$26","v":""},{"$f":"'Strain 6'!$A$26","v":""},{"$f":"'Strain 7'!$A$26","v":""},{"$f":"'Strain 8'!$A$26","v":""},{"$f":"'Strain 9'!$A$26","v":""},{"$f":"'Strain 10'!$A$26","v":""}]
[null,{"$f":"'Strain 1'!$A$27","v":"Dilution Range"},{"$f":"'Strain 2'!$A$27","v":"Dilution Range"},{"$f":"'Strain 3 '!$A$27","v":"Dilution Range"},{"$f":"'Strain 4'!$A$27","v":"Dilution Range"},{"$f":"'Strain 5'!$A$27","v":"Dilution Range"},{"$f":"'Strain 6'!$A$27","v":"Dilution Range"},{"$f":"'Strain 7'!$A$27","v":"Dilution Range"},{"$f":"'Strain 8'!$A$27","v":"Dilution Range"},{"$f":"'Strain 9'!$A$27","v":"Dilution Range"},{"$f":"'Strain 10'!$A$27","v":"Dilution Range"}]
[null,{"$f":"'Strain 1'!$A$28","v":""},{"$f":"'Strain 2'!$A$28","v":""},{"$f":"'Strain 3 '!$A$28","v":""},{"$f":"'Strain 4'!$A$28","v":""},{"$f":"'Strain 5'!$A$28","v":""},{"$f":"'Strain 6'!$A$28","v":""},{"$f":"'Strain 7'!$A$28","v":""},{"$f":"'Strain 8'!$A$28","v":""},{"$f":"'Strain 9'!$A$28","v":""},{"$f":"'Strain 10'!$A$28","v":""}]
[null,{"$f":"'Strain 1'!$A$29","v":"% Obs. Captured"},{"$f":"'Strain 2'!$A$29","v":"% Obs. Captured"},{"$f":"'Strain 3 '!$A$29","v":"% Obs. Captured"},{"$f":"'Strain 4'!$A$29","v":"% Obs. Captured"},{"$f":"'Strain 5'!$A$29","v":"% Obs. Captured"},{"$f":"'Strain 6'!$A$29","v":"% Obs. Captured"},{"$f":"'Strain 7'!$A$29","v":"% Obs. Captured"},{"$f":"'Strain 8'!$A$29","v":"% Obs. Captured"},{"$f":"'Strain 9'!$A$29","v":"% Obs. Captured"},{"$f":"'Strain 10'!$A$29","v":"% Obs. Captured"}]
[null,{"$f":"'Strain 1'!$A$30","v":""},{"$f":"'Strain 2'!$A$30","v":""},{"$f":"'Strain 3 '!$A$30","v":""},{"$f":"'Strain 4'!$A$30","v":""},{"$f":"'Strain 5'!$A$30","v":""},{"$f":"'Strain 6'!$A$30","v":""},{"$f":"'Strain 7'!$A$30","v":""},{"$f":"'Strain 8'!$A$30","v":""},{"$f":"'Strain 9'!$A$30","v":""},{"$f":"'Strain 10'!$A$30","v":""}]
[]
[null,{"$f":"'Strain 1'!$A$34","v":"CLSI QC Range"},{"$f":"'Strain 2'!$A$34","v":"CLSI QC Range"},{"$f":"'Strain 3 '!$A$34","v":"CLSI QC Range"},{"$f":"'Strain 4'!$A$34","v":"CLSI QC Range"},{"$f":"'Strain 5'!$A$34","v":"CLSI QC Range"},{"$f":"'Strain 6'!$A$34","v":"CLSI QC Range"},{"$f":"'Strain 7'!$A$34","v":"CLSI QC Range"},{"$f":"'Strain 8'!$A$34","v":"CLSI QC Range"},{"$f":"'Strain 9'!$A$34","v":"CLSI QC Range"},{"$f":"'Strain 10'!$A$34","v":"CLSI QC Range"}]
[null,{"$f":"'Strain 1'!$A$37","v":""},{"$f":"'Strain 2'!$A$37","v":""},{"$f":"'Strain 3 '!$A$37","v":""},{"$f":"'Strain 4'!$A$37","v":""},{"$f":"'Strain 5'!$A$37","v":""},{"$f":"'Strain 6'!$A$37","v":""},{"$f":"'Strain 7'!$A$37","v":""},{"$f":"'Strain 8'!$A$37","v":""},{"$f":"'Strain 9'!$A$37","v":""},{"$f":"'Strain 10'!$A$37","v":""}]
[null,{"$f":"'Strain 1'!$A$38","v":"Dilution Range"},{"$f":"'Strain 2'!$A$38","v":"Dilution Range"},{"$f":"'Strain 3 '!$A$38","v":"Dilution Range"},{"$f":"'Strain 4'!$A$38","v":"Dilution Range"},{"$f":"'Strain 5'!$A$38","v":"Dilution Range"},{"$f":"'Strain 6'!$A$38","v":"Dilution Range"},{"$f":"'Strain 7'!$A$38","v":"Dilution Range"},{"$f":"'Strain 8'!$A$38","v":"Dilution Range"},{"$f":"'Strain 9'!$A$38","v":"Dilution Range"},{"$f":"'Strain 10'!$A$38","v":"Dilution Range"}]
[null,{"$f":"'Strain 1'!$A$39","v":""},{"$f":"'Strain 2'!$A$39","v":""},{"$f":"'Strain 3 '!$A$39","v":""},{"$f":"'Strain 4'!$A$39","v":""},{"$f":"'Strain 5'!$A$39","v":""},{"$f":"'Strain 6'!$A$39","v":""},{"$f":"'Strain 7'!$A$39","v":""},{"$f":"'Strain 8'!$A$39","v":""},{"$f":"'Strain 9'!$A$39","v":""},{"$f":"'Strain 10'!$A$39","v":""}]
[null,{"$f":"'Strain 1'!$A$40","v":"CLSI% Obs. captured"},{"$f":"'Strain 2'!$A$40","v":"CLSI% Obs. captured"},{"$f":"'Strain 3 '!$A$40","v":"CLSI% Obs. captured"},{"$f":"'Strain 4'!$A$40","v":"CLSI% Obs. captured"},{"$f":"'Strain 5'!$A$40","v":"CLSI% Obs. captured"},{"$f":"'Strain 6'!$A$40","v":"CLSI% Obs. captured"},{"$f":"'Strain 7'!$A$40","v":"CLSI% Obs. captured"},{"$f":"'Strain 8'!$A$40","v":"CLSI% Obs. captured"},{"$f":"'Strain 9'!$A$40","v":"CLSI% Obs. captured"},{"$f":"'Strain 10'!$A$40","v":"CLSI% Obs. captured"}]
[null,{"$f":"'Strain 1'!$A$41","v":""},{"$f":"'Strain 2'!$A$41","v":""},{"$f":"'Strain 3 '!$A$41","v":""},{"$f":"'Strain 4'!$A$41","v":""},{"$f":"'Strain 5'!$A$41","v":""},{"$f":"'Strain 6'!$A$41","v":""},{"$f":"'Strain 7'!$A$41","v":""},{"$f":"'Strain 8'!$A$41","v":""},{"$f":"'Strain 9'!$A$41","v":""},{"$f":"'Strain 10'!$A$41","v":""}]
[]
["Control","Control"]

{"sheet":"Outlier Detection","index":2,"n_rows":40,"n_cols":11,"rows_kept":40}
["Strain No.",{"$f":"'Range Summary'!$B$1","v":"Strain 1"},{"$f":"'Range Summary'!$C$1","v":"Strain 2"},{"$f":"'Range Summary'!$D$1","v":"Strain 3"},{"$f":"'Range Summary'!$E$1","v":"Strain 4"},{"$f":"'Range Summary'!$F$1","v":"Strain 5"},{"$f":"'Range Summary'!$G$1","v":"Strain 6"},{"$f":"'Range Summary'!$H$1","v":"Strain 7"},{"$f":"'Range Summary'!$I$1","v":"Strain 8"},{"$f":"'Range Summary'!$J$1","v":"Strain 9"},{"$f":"'Range Summary'!$K$1","v":"Strain 10"}]
["QC Strain",{"$f":"'Range Summary'!$B$2","v":"QC1"},{"$f":"'Range Summary'!$C$2","v":"QC2"},{"$f":"'Range Summary'!$D$2","v":"QC3"},{"$f":"'Range Summary'!$E$2","v":"QC4"},{"$f":"'Range Summary'!$F$2","v":"QC5"},{"$f":"'Range Summary'!$G$2","v":"QC6"},{"$f":"'Range Summary'!$H$2","v":"QC7"},{"$f":"'Range Summary'!$I$2","v":"QC8"},{"$f":"'Range Summary'!$J$2","v":"QC9"},{"$f":"'Range Summary'!$K$2","v":"QC10"}]
["Mean Log2 MIC",{"$f":"'Strain 1'!$N$34","v":""},{"$f":"'Strain 2'!$N$34","v":""},{"$f":"'Strain 3 '!$N$34","v":""},{"$f":"'Strain 4'!$N$34","v":""},{"$f":"'Strain 5'!$N$34","v":""},{"$f":"'Strain 6'!$N$34","v":""},{"$f":"'Strain 7'!$N$34","v":""},{"$f":"'Strain 8'!$N$34","v":""},{"$f":"'Strain 9'!$N$34","v":""},{"$f":"'Strain 10'!$N$34","v":""}]
["Mean MIC",{"$f":"'Strain 1'!$N$35","v":""},{"$f":"'Strain 2'!$N$35","v":""},{"$f":"'Strain 3 '!$N$35","v":""},{"$f":"'Strain 4'!$N$35","v":""},{"$f":"'Strain 5'!$N$35","v":""},{"$f":"'Strain 6'!$N$35","v":""},{"$f":"'Strain 7'!$N$35","v":""},{"$f":"'Strain 8'!$N$35","v":""},{"$f":"'Strain 9'!$N$35","v":""},{"$f":"'Strain 10'!$N$35","v":""}]
["Log2 SD",{"$f":"'Strain 1'!$N$36","v":""},{"$f":"'Strain 2'!$N$36","v":""},{"$f":"'Strain 3 '!$N$36","v":""},{"$f":"'Strain 4'!$N$36","v":""},{"$f":"'Strain 5'!$N$36","v":""},{"$f":"'Strain 6'!$N$36","v":""},{"$f":"'Strain 7'!$N$36","v":""},{"$f":"'Strain 8'!$N$36","v":""},{"$f":"'Strain 9'!$N$36","v":""},{"$f":"'Strain 10'!$N$36","v":""}]
[]
["Interlab CV – Mean",{"$f":"'Strain 1'!$O$34","v":""},{"$f":"'Strain 2'!$O$34","v":""},{"$f":"'Strain 3 '!$O$34","v":""},{"$f":"'Strain 4'!$O$34","v":""},{"$f":"'Strain 5'!$O$34","v":""},{"$f":"'Strain 6'!$O$34","v":""},{"$f":"'Strain 7'!$O$34","v":""},{"$f":"'Strain 8'!$O$34","v":""},{"$f":"'Strain 9'!$O$34","v":""},{"$f":"'Strain 10'!$O$34","v":""}]
["Interlab CV – Median",{"$f":"'Strain 1'!$O$47","v":""},{"$f":"'Strain 2'!$O$47","v":""},{"$f":"'Strain 3 '!$O$47","v":""},{"$f":"'Strain 4'!$O$47","v":""},{"$f":"'Strain 5'!$O$47","v":""},{"$f":"'Strain 6'!$O$47","v":""},{"$f":"'Strain 7'!$O$47","v":""},{"$f":"'Strain 8'!$O$47","v":""},{"$f":"'Strain 9'!$O$47","v":""},{"$f":"'Strain 10'!$O$47","v":""}]
[]
["Outlier Labs"]
["Lab 1 Mean",{"$f":"IF('Strain 1'!$D$24=\"\",\"\",IF(OR('Strain 1'!$D$24<'Strain 1'!$O$24,'Strain 1'!$D$24>'Strain 1'!$P$24),\"Outlier\",\"\"))","v":""},{"$f":"IF('Strain 2'!$D$24=\"\",\"\",IF(OR('Strain 2'!$D$24<'Strain 2'!$O$24,'Strain 2'!$D$24>'Strain 2'!$P$24),\"Outlier\",\"\"))","v":""},{"$f":"IF('Strain 3 '!$D$24=\"\",\"\",IF(OR('Strain 3 '!$D$24<'Strain 3 '!$O$24,'Strain 3 '!$D$24>'Strain 3 '!$P$24),\"Outlier\",\"\"))","v":""},{"$f":"IF('Strain 4'!$D$24=\"\",\"\",IF(OR('Strain 4'!$D$24<'Strain 4'!$O$24,'Strain 4'!$D$24>'Strain 4'!$P$24),\"Outlier\",\"\"))","v":""},{"$f":"IF('Strain 5'!$D$24=\"\",\"\",IF(OR('Strain 5'!$D$24<'Strain 5'!$O$24,'Strain 5'!$D$24>'Strain 5'!$P$24),\"Outlier\",\"\"))","v":""},{"$f":"IF('Strain 6'!$D$24=\"\",\"\",IF(OR('Strain 6'!$D$24<'Strain 6'!$O$24,'Strain 6'!$D$24>'Strain 6'!$P$24),\"Outlier\",\"\"))","v":""},{"$f":"IF('Strain 7'!$D$24=\"\",\"\",IF(OR('Strain 7'!$D$24<'Strain 7'!$O$24,'Strain 7'!$D$24>'Strain 7'!$P$24),\"Outlier\",\"\"))","v":""},{"$f":"IF('Strain 8'!$D$24=\"\",\"\",IF(OR('Strain 8'!$D$24<'Strain 8'!$O$24,'Strain 8'!$D$24>'Strain 8'!$P$24),\"Outlier\",\"\"))","v":""},{"$f":"IF('Strain 9'!$D$24=\"\",\"\",IF(OR('Strain 9'!$D$24<'Strain 9'!$O$24,'Strain 9'!$D$24>'Strain 9'!$P$24),\"Outlier\",\"\"))","v":""},{"$f":"IF('Strain 10'!$D$24=\"\",\"\",IF(OR('Strain 10'!$D$24<'Strain 10'!$O$24,'Strain 10'!$D$24>'Strain 10'!$P$24),\"Outlier\",\"\"))","v":""}]
["Lab 1 Median",{"$f":"IF('Strain 1'!$D$25=\"\",\"\",IF(OR('Strain 1'!$D$25<'Strain 1'!$O$25,'Strain 1'!$D$25>'Strain 1'!$P$25),\"Outlier\",\"\"))","v":""},{"$f":"IF('Strain 2'!$D$25=\"\",\"\",IF(OR('Strain 2'!$D$25<'Strain 2'!$O$25,'Strain 2'!$D$25>'Strain 2'!$P$25),\"Outlier\",\"\"))","v":""},{"$f":"IF('Strain 3 '!$D$25=\"\",\"\",IF(OR('Strain 3 '!$D$25<'Strain 3 '!$O$25,'Strain 3 '!$D$25>'Strain 3 '!$P$25),\"Outlier\",\"\"))","v":""},{"$f":"IF('Strain 4'!$D$25=\"\",\"\",IF(OR('Strain 4'!$D$25<'Strain 4'!$O$25,'Strain 4'!$D$25>'Strain 4'!$P$25),\"Outlier\",\"\"))","v":""},{"$f":"IF('Strain 5'!$D$25=\"\",\"\",IF(OR('Strain 5'!$D$25<'Strain 5'!$O$25,'Strain 5'!$D$25>'Strain 5'!$P$25),\"Outlier\",\"\"))","v":""},{"$f":"IF('Strain 6'!$D$25=\"\",\"\",IF(OR('Strain 6'!$D$25<'Strain 6'!$O$25,'Strain 6'!$D$25>'Strain 6'!$P$25),\"Outlier\",\"\"))","v":""},{"$f":"IF('Strain 7'!$D$25=\"\",\"\",IF(OR('Strain 7'!$D$25<'Strain 7'!$O$25,'Strain 7'!$D$25>'Strain 7'!$P$25),\"Outlier\",\"\"))","v":""},{"$f":"IF('Strain 8'!$D$25=\"\",\"\",IF(OR('Strain 8'!$D$25<'Strain 8'!$O$25,'Strain 8'!$D$25>'Strain 8'!$P$25),\"Outlier\",\"\"))","v":""},{"$f":"IF('Strain 9'!$D$25=\"\",\"\",IF(OR('Strain 9'!$D$25<'Strain 9'!$O$25,'Strain 9'!$D$25>'Strain 9'!$P$25),\"Outlier\",\"\"))","v":""},{"$f":"IF('Strain 10'!$D$25=\"\",\"\",IF(OR('Strain 10'!$D$25<'Strain 10'!$O$25,'Strain 10'!$D$25>'Strain 10'!$P$25),\"Outlier\",\"\"))","v":""}]
["Lab 1 Mode",{"$f":"IF('Strain 1'!$D$26=\"\",\"\",IF(OR('Strain 1'!$D$26<'Strain 1'!$O$26,'Strain 1'!$D$26>'Strain 1'!$P$26),\"Outlier\",\"\"))","v":""},{"$f":"IF('Strain 2'!$D$26=\"\",\"\",IF(OR('Strain 2'!$D$26<'Strain 2'!$O$26,'Strain 2'!$D$26>'Strain 2'!$P$26),\"Outlier\",\"\"))","v":""},{"$f":"IF('Strain 3 '!$D$26=\"\",\"\",IF(OR('Strain 3 '!$D$26<'Strain 3 '!$O$26,'Strain 3 '!$D$26>'Strain 3 '!$P$26),\"Outlier\",\"\"))","v":""},{"$f":"IF('Strain 4'!$D$26=\"\",\"\",IF(OR('Strain 4'!$D$26<'Strain 4'!$O$26,'Strain 4'!$D$26>'Strain 4'!$P$26),\"Outlier\",\"\"))","v":""},{"$f":"IF('Strain 5'!$D$26=\"\",\"\",IF(OR('Strain 5'!$D$26<'Strain 5'!$O$26,'Strain 5'!$D$26>'Strain 5'!$P$26),\"Outlier\",\"\"))","v":""},{"$f":"IF('Strain 6'!$D$26=\"\",\"\",IF(OR('Strain 6'!$D$26<'Strain 6'!$O$26,'Strain 6'!$D$26>'Strain 6'!$P$26),\"Outlier\",\"\"))","v":""},{"$f":"IF('Strain 7'!$D$26=\"\",\"\",IF(OR('Strain 7'!$D$26<'Strain 7'!$O$26,'Strain 7'!$D$26>'Strain 7'!$P$26),\"Outlier\",\"\"))","v":""},{"$f":"IF('Strain 8'!$D$26=\"\",\"\",IF(OR('Strain 8'!$D$26<'Strain 8'!$O$26,'Strain 8'!$D$26>'Strain 8'!$P$26),\"Outlier\",\"\"))","v":""},{"$f":"IF('Strain 9'!$D$26=\"\",\"\",IF(OR('Strain 9'!$D$26<'Strain 9'!$O$26,'Strain 9'!$D$26>'Strain 9'!$P$26),\"Outlier\",\"\"))","v":""},{"$f":"IF('Strain 10'!$D$26=\"\",\"\",IF(OR('Strain 10'!$D$26<'Strain 10'!$O$26,'Strain 10'!$D$26>'Strain 10'!$P$26),\"Outlier\",\"\"))","v":""}]
["Lab 2 Mean",{"$f":"IF('Strain 1'!$E$24=\"\",\"\",IF(OR('Strain 1'!$E$24<'Strain 1'!$O$24,'Strain 1'!$E$24>'Strain 1'!$P$24),\"Outlier\",\"\"))","v":""},{"$f":"IF('Strain 2'!$E$24=\"\",\"\",IF(OR('Strain 2'!$E$24<'Strain 2'!$O$24,'Strain 2'!$E$24>'Strain 2'!$P$24),\"Outlier\",\"\"))","v":""},{"$f":"IF('Strain 3 '!$E$24=\"\",\"\",IF(OR('Strain 3 '!$E$24<'Strain 3 '!$O$24,'Strain 3 '!$E$24>'Strain 3 '!$P$24),\"Outlier\",\"\"))","v":""},{"$f":"IF('Strain 4'!$E$24=\"\",\"\",IF(OR('Strain 4'!$E$24<'Strain 4'!$O$24,'Strain 4'!$E$24>'Strain 4'!$P$24),\"Outlier\",\"\"))","v":""},{"$f":"IF('Strain 5'!$E$24=\"\",\"\",IF(OR('Strain 5'!$E$24<'Strain 5'!$O$24,'Strain 5'!$E$24>'Strain 5'!$P$24),\"Outlier\",\"\"))","v":""},{"$f":"IF('Strain 6'!$E$24=\"\",\"\",IF(OR('Strain 6'!$E$24<'Strain 6'!$O$24,'Strain 6'!$E$24>'Strain 6'!$P$24),\"Outlier\",\"\"))","v":""},{"$f":"IF('Strain 7'!$E$24=\"\",\"\",IF(OR('Strain 7'!$E$24<'Strain 7'!$O$24,'Strain 7'!$E$24>'Strain 7'!$P$24),\"Outlier\",\"\"))","v":""},{"$f":"IF('Strain 8'!$E$24=\"\",\"\",IF(OR('Strain 8'!$E$24<'Strain 8'!$O$24,'Strain 8'!$E$24>'Strain 8'!$P$24),\"Outlier\",\"\"))","v":""},{"$f":"IF('Strain 9'!$E$24=\"\",\"\",IF(OR('Strain 9'!$E$24<'Strain 9'!$O$24,'Strain 9'!$E$24>'Strain 9'!$P$24),\"Outlier\",\"\"))","v":""},{"$f":"IF('Strain 10'!$E$24=\"\",\"\",IF(OR('Strain 10'!$E$24<'Strain 10'!$O$24,'Strain 10'!$E$24>'Strain 10'!$P$24),\"Outlier\",\"\"))","v":""}]
["Lab 2 Median",{"$f":"IF('Strain 1'!$E$25=\"\",\"\",IF(OR('Strain 1'!$E$25<'Strain 1'!$O$25,'Strain 1'!$E$25>'Strain 1'!$P$25),\"Outlier\",\"\"))","v":""},{"$f":"IF('Strain 2'!$E$25=\"\",\"\",IF(OR('Strain 2'!$E$25<'Strain 2'!$O$25,'Strain 2'!$E$25>'Strain 2'!$P$25),\"Outlier\",\"\"))","v":""},{"$f":"IF('Strain 3 '!$E$25=\"\",\"\",IF(OR('Strain 3 '!$E$25<'Strain 3 '!$O$25,'Strain 3 '!$E$25>'Strain 3 '!$P$25),\"Outlier\",\"\"))","v":""},{"$f":"IF('Strain 4'!$E$25=\"\",\"\",IF(OR('Strain 4'!$E$25<'Strain 4'!$O$25,'Strain 4'!$E$25>'Strain 4'!$P$25),\"Outlier\",\"\"))","v":""},{"$f":"IF('Strain 5'!$E$25=\"\",\"\",IF(OR('Strain 5'!$E$25<'Strain 5'!$O$25,'Strain 5'!$E$25>'Strain 5'!$P$25),\"Outlier\",\"\"))","v":""},{"$f":"IF('Strain 6'!$E$25=\"\",\"\",IF(OR('Strain 6'!$E$25<'Strain 6'!$O$25,'Strain 6'!$E$25>'Strain 6'!$P$25),\"Outlier\",\"\"))","v":""},{"$f":"IF('Strain 7'!$E$25=\"\",\"\",IF(OR('Strain 7'!$E$25<'Strain 7'!$O$25,'Strain 7'!$E$25>'Strain 7'!$P$25),\"Outlier\",\"\"))","v":""},{"$f":"IF('Strain 8'!$E$25=\"\",\"\",IF(OR('Strain 8'!$E$25<'Strain 8'!$O$25,'Strain 8'!$E$25>'Strain 8'!$P$25),\"Outlier\",\"\"))","v":""},{"$f":"IF('Strain 9'!$E$25=\"\",\"\",IF(OR('Strain 9'!$E$25<'Strain 9'!$O$25,'Strain 9'!$E$25>'Strain 9'!$P$25),\"Outlier\",\"\"))","v":""},{"$f":"IF('Strain 10'!$E$25=\"\",\"\",IF(OR('Strain 10'!$E$25<'Strain 10'!$O$25,'Strain 10'!$E$25>'Strain 10'!$P$25),\"Outlier\",\"\"))","v":""}]
["Lab 2 Mode",{"$f":"IF('Strain 1'!$E$26=\"\",\"\",IF(OR('Strain 1'!$E$26<'Strain 1'!$O$26,'Strain 1'!$E$26>'Strain 1'!$P$26),\"Outlier\",\"\"))","v":""},{"$f":"IF('Strain 2'!$E$26=\"\",\"\",IF(OR('Strain 2'!$E$26<'Strain 2'!$O$26,'Strain 2'!$E$26>'Strain 2'!$P$26),\"Outlier\",\"\"))","v":""},{"$f":"IF('Strain 3 '!$E$26=\"\",\"\",IF(OR('Strain 3 '!$E$26<'Strain 3 '!$O$26,'Strain 3 '!$E$26>'Strain 3 '!$P$26),\"Outlier\",\"\"))","v":""},{"$f":"IF('Strain 4'!$E$26=\"\",\"\",IF(OR('Strain 4'!$E$26<'Strain 4'!$O$26,'Strain 4'!$E$26>'Strain 4'!$P$26),\"Outlier\",\"\"))","v":""},{"$f":"IF('Strain 5'!$E$26=\"\",\"\",IF(OR('Strain 5'!$E$26<'Strain 5'!$O$26,'Strain 5'!$E$26>'Strain 5'!$P$26),\"Outlier\",\"\"))","v":""},{"$f":"IF('Strain 6'!$E$26=\"\",\"\",IF(OR('Strain 6'!$E$26<'Strain 6'!$O$26,'Strain 6'!$E$26>'Strain 6'!$P$26),\"Outlier\",\"\"))","v":""},{"$f":"IF('Strain 7'!$E$26=\"\",\"\",IF(OR('Strain 7'!$E$26<'Strain 7'!$O$26,'Strain 7'!$E$26>'Strain 7'!$P$26),\"Outlier\",\"\"))","v":""},{"$f":"IF('Strain 8'!$E$26=\"\",\"\",IF(OR('Strain 8'!$E$26<'Strain 8'!$O$26,'Strain 8'!$E$26>'Strain 8'!$P$26),\"Outlier\",\"\"))","v":""},{"$f":"IF('Strain 9'!$E$26=\"\",\"\",IF(OR('Strain 9'!$E$26<'Strain 9'!$O$26,'Strain 9'!$E$26>'Strain 9'!$P$26),\"Outlier\",\"\"))","v":""},{"$f":"IF('Strain 10'!$E$26=\"\",\"\",IF(OR('Strain 10'!$E$26<'Strain 10'!$O$26,'Strain 10'!$E$26>'Strain 10'!$P$26),\"Outlier\",\"\"))","v":""}]
["Lab 3 Mean",{"$f":"IF('Strain 1'!$F$24=\"\",\"\",IF(OR('Strain 1'!$F$24<'Strain 1'!$O$24,'Strain 1'!$F$24>'Strain 1'!$P$24),\"Outlier\",\"\"))","v":""},{"$f":"IF('Strain 2'!$F$24=\"\",\"\",IF(OR('Strain 2'!$F$24<'Strain 2'!$O$24,'Strain 2'!$F$24>'Strain 2'!$P$24),\"Outlier\",\"\"))","v":""},{"$f":"IF('Strain 3 '!$F$24=\"\",\"\",IF(OR('Strain 3 '!$F$24<'Strain 3 '!$O$24,'Strain 3 '!$F$24>'Strain 3 '!$P$24),\"Outlier\",\"\"))","v":""},{"$f":"IF('Strain 4'!$F$24=\"\",\"\",IF(OR('Strain 4'!$F$24<'Strain 4'!$O$24,'Strain 4'!$F$24>'Strain 4'!$P$24),\"Outlier\",\"\"))","v":""},{"$f":"IF('Strain 5'!$F$24=\"\",\"\",IF(OR('Strain 5'!$F$24<'Strain 5'!$O$24,'Strain 5'!$F$24>'Strain 5'!$P$24),\"Outlier\",\"\"))","v":""},{"$f":"IF('Strain 6'!$F$24=\"\",\"\",IF(OR('Strain 6'!$F$24<'Strain 6'!$O$24,'Strain 6'!$F$24>'Strain 6'!$P$24),\"Outlier\",\"\"))","v":""},{"$f":"IF('Strain 7'!$F$24=\"\",\"\",IF(OR('Strain 7'!$F$24<'Strain 7'!$O$24,'Strain 7'!$F$24>'Strain 7'!$P$24),\"Outlier\",\"\"))","v":""},{"$f":"IF('Strain 8'!$F$24=\"\",\"\",IF(OR('Strain 8'!$F$24<'Strain 8'!$O$24,'Strain 8'!$F$24>'Strain 8'!$P$24),\"Outlier\",\"\"))","v":""},{"$f":"IF('Strain 9'!$F$24=\"\",\"\",IF(OR('Strain 9'!$F$24<'Strain 9'!$O$24,'Strain 9'!$F$24>'Strain 9'!$P$24),\"Outlier\",\"\"))","v":""},{"$f":"IF('Strain 10'!$F$24=\"\",\"\",IF(OR('Strain 10'!$F$24<'Strain 10'!$O$24,'Strain 10'!$F$24>'Strain 10'!$P$24),\"Outlier\",\"\"))","v":""}]
["Lab 3 Median",{"$f":"IF('Strain 1'!$F$25=\"\",\"\",IF(OR('Strain 1'!$F$25<'Strain 1'!$O$25,'Strain 1'!$F$25>'Strain 1'!$P$25),\"Outlier\",\"\"))","v":""},{"$f":"IF('Strain 2'!$F$25=\"\",\"\",IF(OR('Strain 2'!$F$25<'Strain 2'!$O$25,'Strain 2'!$F$25>'Strain 2'!$P$25),\"Outlier\",\"\"))","v":""},{"$f":"IF('Strain 3 '!$F$25=\"\",\"\",IF(OR('Strain 3 '!$F$25<'Strain 3 '!$O$25,'Strain 3 '!$F$25>'Strain 3 '!$P$25),\"Outlier\",\"\"))","v":""},{"$f":"IF('Strain 4'!$F$25=\"\",\"\",IF(OR('Strain 4'!$F$25<'Strain 4'!$O$25,'Strain 4'!$F$25>'Strain 4'!$P$25),\"Outlier\",\"\"))","v":""},{"$f":"IF('Strain 5'!$F$25=\"\",\"\",IF(OR('Strain 5'!$F$25<'Strain 5'!$O$25,'Strain 5'!$F$25>'Strain 5'!$P$25),\"Outlier\",\"\"))","v":""},{"$f":"IF('Strain 6'!$F$25=\"\",\"\",IF(OR('Strain 6'!$F$25<'Strain 6'!$O$25,'Strain 6'!$F$25>'Strain 6'!$P$25),\"Outlier\",\"\"))","v":""},{"$f":"IF('Strain 7'!$F$25=\"\",\"\",IF(OR('Strain 7'!$F$25<'Strain 7'!$O$25,'Strain 7'!$F$25>'Strain 7'!$P$25),\"Outlier\",\"\"))","v":""},{"$f":"IF('Strain 8'!$F$25=\"\",\"\",IF(OR('Strain 8'!$F$25<'Strain 8'!$O$25,'Strain 8'!$F$25>'Strain 8'!$P$25),\"Outlier\",\"\"))","v":""},{"$f":"IF('Strain 9'!$F$25=\"\",\"\",IF(OR('Strain 9'!$F$25<'Strain 9'!$O$25,'Strain 9'!$F$25>'Strain 9'!$P$25),\"Outlier\",\"\"))","v":""},{"$f":"IF('Strain 10'!$F$25=\"\",\"\",IF(OR('Strain 10'!$F$25<'Strain 10'!$O$25,'Strain 10'!$F$25>'Strain 10'!$P$25),\"Outlier\",\"\"))","v":""}]
["Lab 3 Mode",{"$f":"IF('Strain 1'!$F$26=\"\",\"\",IF(OR('Strain 1'!$F$26<'Strain 1'!$O$26,'Strain 1'!$F$26>'Strain 1'!$P$26),\"Outlier\",\"\"))","v":""},{"$f":"IF('Strain 2'!$F$26=\"\",\"\",IF(OR('Strain 2'!$F$26<'Strain 2'!$O$26,'Strain 2'!$F$26>'Strain 2'!$P$26),\"Outlier\",\"\"))","v":""},{"$f":"IF('Strain 3 '!$F$26=\"\",\"\",IF(OR('Strain 3 '!$F$26<'Strain 3 '!$O$26,'Strain 3 '!$F$26>'Strain 3 '!$P$26),\"Outlier\",\"\"))","v":""},{"$f":"IF('Strain 4'!$F$26=\"\",\"\",IF(OR('Strain 4'!$F$26<'Strain 4'!$O$26,'Strain 4'!$F$26>'Strain 4'!$P$26),\"Outlier\",\"\"))","v":""},{"$f":"IF('Strain 5'!$F$26=\"\",\"\",IF(OR('Strain 5'!$F$26<'Strain 5'!$O$26,'Strain 5'!$F$26>'Strain 5'!$P$26),\"Outlier\",\"\"))","v":""},{"$f":"IF('Strain 6'!$F$26=\"\",\"\",IF(OR('Strain 6'!$F$26<'Strain 6'!$O$26,'Strain 6'!$F$26>'Strain 6'!$P$26),\"Outlier\",\"\"))","v":""},{"$f":"IF('Strain 7'!$F$26=\"\",\"\",IF(OR('Strain 7'!$F$26<'Strain 7'!$O$26,'Strain 7'!$F$26>'Strain 7'!$P$26),\"Outlier\",\"\"))","v":""},{"$f":"IF('Strain 8'!$F$26=\"\",\"\",IF(OR('Strain 8'!$F$26<'Strain 8'!$O$26,'Strain 8'!$F$26>'Strain 8'!$P$26),\"Outlier\",\"\"))","v":""},{"$f":"IF('Strain 9'!$F$26=\"\",\"\",IF(OR('Strain 9'!$F$26<'Strain 9'!$O$26,'Strain 9'!$F$26>'Strain 9'!$P$26),\"Outlier\",\"\"))","v":""},{"$f":"IF('Strain 10'!$F$26=\"\",\"\",IF(OR('Strain 10'!$F$26<'Strain 10'!$O$26,'Strain 10'!$F$26>'Strain 10'!$P$26),\"Outlier\",\"\"))","v":""}]
["Lab 4 Mean",{"$f":"IF('Strain 1'!$G$24=\"\",\"\",IF(OR('Strain 1'!$G$24<'Strain 1'!$O$24,'Strain 1'!$G$24>'Strain 1'!$P$24),\"Outlier\",\"\"))","v":""},{"$f":"IF('Strain 2'!$G$24=\"\",\"\",IF(OR('Strain 2'!$G$24<'Strain 2'!$O$24,'Strain 2'!$G$24>'Strain 2'!$P$24),\"Outlier\",\"\"))","v":""},{"$f":"IF('Strain 3 '!$G$24=\"\",\"\",IF(OR('Strain 3 '!$G$24<'Strain 3 '!$O$24,'Strain 3 '!$G$24>'Strain 3 '!$P$24),\"Outlier\",\"\"))","v":""},{"$f":"IF('Strain 4'!$G$24=\"\",\"\",IF(OR('Strain 4'!$G$24<'Strain 4'!$O$24,'Strain 4'!$G$24>'Strain 4'!$P$24),\"Outlier\",\"\"))","v":""},{"$f":"IF('Strain 5'!$G$24=\"\",\"\",IF(OR('Strain 5'!$G$24<'Strain 5'!$O$24,'Strain 5'!$G$24>'Strain 5'!$P$24),\"Outlier\",\"\"))","v":""},{"$f":"IF('Strain 6'!$G$24=\"\",\"\",IF(OR('Strain 6'!$G$24<'Strain 6'!$O$24,'Strain 6'!$G$24>'Strain 6'!$P$24),\"Outlier\",\"\"))","v":""},{"$f":"IF('Strain 7'!$G$24=\"\",\"\",IF(OR('Strain 7'!$G$24<'Strain 7'!$O$24,'Strain 7'!$G$24>'Strain 7'!$P$24),\"Outlier\",\"\"))","v":""},{"$f":"IF('Strain 8'!$G$24=\"\",\"\",IF(OR('Strain 8'!$G$24<'Strain 8'!$O$24,'Strain 8'!$G$24>'Strain 8'!$P$24),\"Outlier\",\"\"))","v":""},{"$f":"IF('Strain 9'!$G$24=\"\",\"\",IF(OR('Strain 9'!$G$24<'Strain 9'!$O$24,'Strain 9'!$G$24>'Strain 9'!$P$24),\"Outlier\",\"\"))","v":""},{"$f":"IF('Strain 10'!$G$24=\"\",\"\",IF(OR('Strain 10'!$G$24<'Strain 10'!$O$24,'Strain 10'!$G$24>'Strain 10'!$P$24),\"Outlier\",\"\"))","v":""}]
["Lab 4 Median",{"$f":"IF('Strain 1'!$G$25=\"\",\"\",IF(OR('Strain 1'!$G$25<'Strain 1'!$O$25,'Strain 1'!$G$25>'Strain 1'!$P$25),\"Outlier\",\"\"))","v":""},{"$f":"IF('Strain 2'!$G$25=\"\",\"\",IF(OR('Strain 2'!$G$25<'Strain 2'!$O$25,'Strain 2'!$G$25>'Strain 2'!$P$25),\"Outlier\",\"\"))","v":""},{"$f":"IF('Strain 3 '!$G$25=\"\",\"\",IF(OR('Strain 3 '!$G$25<'Strain 3 '!$O$25,'Strain 3 '!$G$25>'Strain 3 '!$P$25),\"Outlier\",\"\"))","v":""},{"$f":"IF('Strain 4'!$G$25=\"\",\"\",IF(OR('Strain 4'!$G$25<'Strain 4'!$O$25,'Strain 4'!$G$25>'Strain 4'!$P$25),\"Outlier\",\"\"))","v":""},{"$f":"IF('Strain 5'!$G$25=\"\",\"\",IF(OR('Strain 5'!$G$25<'Strain 5'!$O$25,'Strain 5'!$G$25>'Strain 5'!$P$25),\"Outlier\",\"\"))","v":""},{"$f":"IF('Strain 6'!$G$25=\"\",\"\",IF(OR('Strain 6'!$G$25<'Strain 6'!$O$25,'Strain 6'!$G$25>'Strain 6'!$P$25),\"Outlier\",\"\"))","v":""},{"$f":"IF('Strain 7'!$G$25=\"\",\"\",IF(OR('Strain 7'!$G$25<'Strain 7'!$O$25,'Strain 7'!$G$25>'Strain 7'!$P$25),\"Outlier\",\"\"))","v":""},{"$f":"IF('Strain 8'!$G$25=\"\",\"\",IF(OR('Strain 8'!$G$25<'Strain 8'!$O$25,'Strain 8'!$G$25>'Strain 8'!$P$25),\"Outlier\",\"\"))","v":""},{"$f":"IF('Strain 9'!$G$25=\"\",\"\",IF(OR('Strain 9'!$G$25<'Strain 9'!$O$25,'Strain 9'!$G$25>'Strain 9'!$P$25),\"Outlier\",\"\"))","v":""},{"$f":"IF('Strain 10'!$G$25=\"\",\"\",IF(OR('Strain 10'!$G$25<'Strain 10'!$O$25,'Strain 10'!$G$25>'Strain 10'!$P$25),\"Outlier\",\"\"))","v":""}]
["Lab 4 Mode",{"$f":"IF('Strain 1'!$G$26=\"\",\"\",IF(OR('Strain 1'!$G$26<'Strain 1'!$O$26,'Strain 1'!$G$26>'Strain 1'!$P$26),\"Outlier\",\"\"))","v":""},{"$f":"IF('Strain 2'!$G$26=\"\",\"\",IF(OR('Strain 2'!$G$26<'Strain 2'!$O$26,'Strain 2'!$G$26>'Strain 2'!$P$26),\"Outlier\",\"\"))","v":""},{"$f":"IF('Strain 3 '!$G$26=\"\",\"\",IF(OR('Strain 3 '!$G$26<'Strain 3 '!$O$26,'Strain 3 '!$G$26>'Strain 3 '!$P$26),\"Outlier\",\"\"))","v":""},{"$f":"IF('Strain 4'!$G$26=\"\",\"\",IF(OR('Strain 4'!$G$26<'Strain 4'!$O$26,'Strain 4'!$G$26>'Strain 4'!$P$26),\"Outlier\",\"\"))","v":""},{"$f":"IF('Strain 5'!$G$26=\"\",\"\",IF(OR('Strain 5'!$G$26<'Strain 5'!$O$26,'Strain 5'!$G$26>'Strain 5'!$P$26),\"Outlier\",\"\"))","v":""},{"$f":"IF('Strain 6'!$G$26=\"\",\"\",IF(OR('Strain 6'!$G$26<'Strain 6'!$O$26,'Strain 6'!$G$26>'Strain 6'!$P$26),\"Outlier\",\"\"))","v":""},{"$f":"IF('Strain 7'!$G$26=\"\",\"\",IF(OR('Strain 7'!$G$26<'Strain 7'!$O$26,'Strain 7'!$G$26>'Strain 7'!$P$26),\"Outlier\",\"\"))","v":""},{"$f":"IF('Strain 8'!$G$26=\"\",\"\",IF(OR('Strain 8'!$G$26<'Strain 8'!$O$26,'Strain 8'!$G$26>'Strain 8'!$P$26),\"Outlier\",\"\"))","v":""},{"$f":"IF('Strain 9'!$G$26=\"\",\"\",IF(OR('Strain 9'!$G$26<'Strain 9'!$O$26,'Strain 9'!$G$26>'Strain 9'!$P$26),\"Outlier\",\"\"))","v":""},{"$f":"IF('Strain 10'!$G$26=\"\",\"\",IF(OR('Strain 10'!$G$26<'Strain 10'!$O$26,'Strain 10'!$G$26>'Strain 10'!$P$26),\"Outlier\",\"\"))","v":""}]
["Lab 5 Mean",{"$f":"IF('Strain 1'!$H$24=\"\",\"\",IF(OR('Strain 1'!$H$24<'Strain 1'!$O$24,'Strain 1'!$H$24>'Strain 1'!$P$24),\"Outlier\",\"\"))","v":""},{"$f":"IF('Strain 2'!$H$24=\"\",\"\",IF(OR('Strain 2'!$H$24<'Strain 2'!$O$24,'Strain 2'!$H$24>'Strain 2'!$P$24),\"Outlier\",\"\"))","v":""},{"$f":"IF('Strain 3 '!$H$24=\"\",\"\",IF(OR('Strain 3 '!$H$24<'Strain 3 '!$O$24,'Strain 3 '!$H$24>'Strain 3 '!$P$24),\"Outlier\",\"\"))","v":""},{"$f":"IF('Strain 4'!$H$24=\"\",\"\",IF(OR('Strain 4'!$H$24<'Strain 4'!$O$24,'Strain 4'!$H$24>'Strain 4'!$P$24),\"Outlier\",\"\"))","v":""},{"$f":"IF('Strain 5'!$H$24=\"\",\"\",IF(OR('Strain 5'!$H$24<'Strain 5'!$O$24,'Strain 5'!$H$24>'Strain 5'!$P$24),\"Outlier\",\"\"))","v":""},{"$f":"IF('Strain 6'!$H$24=\"\",\"\",IF(OR('Strain 6'!$H$24<'Strain 6'!$O$24,'Strain 6'!$H$24>'Strain 6'!$P$24),\"Outlier\",\"\"))","v":""},{"$f":"IF('Strain 7'!$H$24=\"\",\"\",IF(OR('Strain 7'!$H$24<'Strain 7'!$O$24,'Strain 7'!$H$24>'Strain 7'!$P$24),\"Outlier\",\"\"))","v":""},{"$f":"IF('Strain 8'!$H$24=\"\",\"\",IF(OR('Strain 8'!$H$24<'Strain 8'!$O$24,'Strain 8'!$H$24>'Strain 8'!$P$24),\"Outlier\",\"\"))","v":""},{"$f":"IF('Strain 9'!$H$24=\"\",\"\",IF(OR('Strain 9'!$H$24<'Strain 9'!$O$24,'Strain 9'!$H$24>'Strain 9'!$P$24),\"Outlier\",\"\"))","v":""},{"$f":"IF('Strain 10'!$H$24=\"\",\"\",IF(OR('Strain 10'!$H$24<'Strain 10'!$O$24,'Strain 10'!$H$24>'Strain 10'!$P$24),\"Outlier\",\"\"))","v":""}]
["Lab 5 Median",{"$f":"IF('Strain 1'!$H$25=\"\",\"\",IF(OR('Strain 1'!$H$25<'Strain 1'!$O$25,'Strain 1'!$H$25>'Strain 1'!$P$25),\"Outlier\",\"\"))","v":""},{"$f":"IF('Strain 2'!$H$25=\"\",\"\",IF(OR('Strain 2'!$H$25<'Strain 2'!$O$25,'Strain 2'!$H$25>'Strain 2'!$P$25),\"Outlier\",\"\"))","v":""},{"$f":"IF('Strain 3 '!$H$25=\"\",\"\",IF(OR('Strain 3 '!$H$25<'Strain 3 '!$O$25,'Strain 3 '!$H$25>'Strain 3 '!$P$25),\"Outlier\",\"\"))","v":""},{"$f":"IF('Strain 4'!$H$25=\"\",\"\",IF(OR('Strain 4'!$H$25<'Strain 4'!$O$25,'Strain 4'!$H$25>'Strain 4'!$P$25),\"Outlier\",\"\"))","v":""},{"$f":"IF('Strain 5'!$H$25=\"\",\"\",IF(OR('Strain 5'!$H$25<'Strain 5'!$O$25,'Strain 5'!$H$25>'Strain 5'!$P$25),\"Outlier\",\"\"))","v":""},{"$f":"IF('Strain 6'!$H$25=\"\",\"\",IF(OR('Strain 6'!$H$25<'Strain 6'!$O$25,'Strain 6'!$H$25>'Strain 6'!$P$25),\"Outlier\",\"\"))","v":""},{"$f":"IF('Strain 7'!$H$25=\"\",\"\",IF(OR('Strain 7'!$H$25<'Strain 7'!$O$25,'Strain 7'!$H$25>'Strain 7'!$P$25),\"Outlier\",\"\"))","v":""},{"$f":"IF('Strain 8'!$H$25=\"\",\"\",IF(OR('Strain 8'!$H$25<'Strain 8'!$O$25,'Strain 8'!$H$25>'Strain 8'!$P$25),\"Outlier\",\"\"))","v":""},{"$f":"IF('Strain 9'!$H$25=\"\",\"\",IF(OR('Strain 9'!$H$25<'Strain 9'!$O$25,'Strain 9'!$H$25>'Strain 9'!$P$25),\"Outlier\",\"\"))","v":""},{"$f":"IF('Strain 10'!$H$25=\"\",\"\",IF(OR('Strain 10'!$H$25<'Strain 10'!$O$25,'Strain 10'!$H$25>'Strain 10'!$P$25),\"Outlier\",\"\"))","v":""}]
["Lab 5 Mode",{"$f":"IF('Strain 1'!$H$26=\"\",\"\",IF(OR('Strain 1'!$H$26<'Strain 1'!$O$26,'Strain 1'!$H$26>'Strain 1'!$P$26),\"Outlier\",\"\"))","v":""},{"$f":"IF('Strain 2'!$H$26=\"\",\"\",IF(OR('Strain 2'!$H$26<'Strain 2'!$O$26,'Strain 2'!$H$26>'Strain 2'!$P$26),\"Outlier\",\"\"))","v":""},{"$f":"IF('Strain 3 '!$H$26=\"\",\"\",IF(OR('Strain 3 '!$H$26<'Strain 3 '!$O$26,'Strain 3 '!$H$26>'Strain 3 '!$P$26),\"Outlier\",\"\"))","v":""},{"$f":"IF('Strain 4'!$H$26=\"\",\"\",IF(OR('Strain 4'!$H$26<'Strain 4'!$O$26,'Strain 4'!$H$26>'Strain 4'!$P$26),\"Outlier\",\"\"))","v":""},{"$f":"IF('Strain 5'!$H$26=\"\",\"\",IF(OR('Strain 5'!$H$26<'Strain 5'!$O$26,'Strain 5'!$H$26>'Strain 5'!$P$26),\"Outlier\",\"\"))","v":""},{"$f":"IF('Strain 6'!$H$26=\"\",\"\",IF(OR('Strain 6'!$H$26<'Strain 6'!$O$26,'Strain 6'!$H$26>'Strain 6'!$P$26),\"Outlier\",\"\"))","v":""},{"$f":"IF('Strain 7'!$H$26=\"\",\"\",IF(OR('Strain 7'!$H$26<'Strain 7'!$O$26,'Strain 7'!$H$26>'Strain 7'!$P$26),\"Outlier\",\"\"))","v":""},{"$f":"IF('Strain 8'!$H$26=\"\",\"\",IF(OR('Strain 8'!$H$26<'Strain 8'!$O$26,'Strain 8'!$H$26>'Strain 8'!$P$26),\"Outlier\",\"\"))","v":""},{"$f":"IF('Strain 9'!$H$26=\"\",\"\",IF(OR('Strain 9'!$H$26<'Strain 9'!$O$26,'Strain 9'!$H$26>'Strain 9'!$P$26),\"Outlier\",\"\"))","v":""},{"$f":"IF('Strain 10'!$H$26=\"\",\"\",IF(OR('Strain 10'!$H$26<'Strain 10'!$O$26,'Strain 10'!$H$26>'Strain 10'!$P$26),\"Outlier\",\"\"))","v":""}]
["Lab 6 Mean",{"$f":"IF('Strain 1'!$I$24=\"\",\"\",IF(OR('Strain 1'!$I$24<'Strain 1'!$O$24,'Strain 1'!$I$24>'Strain 1'!$P$24),\"Outlier\",\"\"))","v":""},{"$f":"IF('Strain 2'!$I$24=\"\",\"\",IF(OR('Strain 2'!$I$24<'Strain 2'!$O$24,'Strain 2'!$I$24>'Strain 2'!$P$24),\"Outlier\",\"\"))","v":""},{"$f":"IF('Strain 3 '!$I$24=\"\",\"\",IF(OR('Strain 3 '!$I$24<'Strain 3 '!$O$24,'Strain 3 '!$I$24>'Strain 3 '!$P$24),\"Outlier\",\"\"))","v":""},{"$f":"IF('Strain 4'!$I$24=\"\",\"\",IF(OR('Strain 4'!$I$24<'Strain 4'!$O$24,'Strain 4'!$I$24>'Strain 4'!$P$24),\"Outlier\",\"\"))","v":""},{"$f":"IF('Strain 5'!$I$24=\"\",\"\",IF(OR('Strain 5'!$I$24<'Strain 5'!$O$24,'Strain 5'!$I$24>'Strain 5'!$P$24),\"Outlier\",\"\"))","v":""},{"$f":"IF('Strain 6'!$I$24=\"\",\"\",IF(OR('Strain 6'!$I$24<'Strain 6'!$O$24,'Strain 6'!$I$24>'Strain 6'!$P$24),\"Outlier\",\"\"))","v":""},{"$f":"IF('Strain 7'!$I$24=\"\",\"\",IF(OR('Strain 7'!$I$24<'Strain 7'!$O$24,'Strain 7'!$I$24>'Strain 7'!$P$24),\"Outlier\",\"\"))","v":""},{"$f":"IF('Strain 8'!$I$24=\"\",\"\",IF(OR('Strain 8'!$I$24<'Strain 8'!$O$24,'Strain 8'!$I$24>'Strain 8'!$P$24),\"Outlier\",\"\"))","v":""},{"$f":"IF('Strain 9'!$I$24=\"\",\"\",IF(OR('Strain 9'!$I$24<'Strain 9'!$O$24,'Strain 9'!$I$24>'Strain 9'!$P$24),\"Outlier\",\"\"))","v":""},{"$f":"IF('Strain 10'!$I$24=\"\",\"\",IF(OR('Strain 10'!$I$24<'Strain 10'!$O$24,'Strain 10'!$I$24>'Strain 10'!$P$24),\"Outlier\",\"\"))","v":""}]
["Lab 6 Median",{"$f":"IF('Strain 1'!$I$25=\"\",\"\",IF(OR('Strain 1'!$I$25<'Strain 1'!$O$25,'Strain 1'!$I$25>'Strain 1'!$P$25),\"Outlier\",\"\"))","v":""},{"$f":"IF('Strain 2'!$I$25=\"\",\"\",IF(OR('Strain 2'!$I$25<'Strain 2'!$O$25,'Strain 2'!$I$25>'Strain 2'!$P$25),\"Outlier\",\"\"))","v":""},{"$f":"IF('Strain 3 '!$I$25=\"\",\"\",IF(OR('Strain 3 '!$I$25<'Strain 3 '!$O$25,'Strain 3 '!$I$25>'Strain 3 '!$P$25),\"Outlier\",\"\"))","v":""},{"$f":"IF('Strain 4'!$I$25=\"\",\"\",IF(OR('Strain 4'!$I$25<'Strain 4'!$O$25,'Strain 4'!$I$25>'Strain 4'!$P$25),\"Outlier\",\"\"))","v":""},{"$f":"IF('Strain 5'!$I$25=\"\",\"\",IF(OR('Strain 5'!$I$25<'Strain 5'!$O$25,'Strain 5'!$I$25>'Strain 5'!$P$25),\"Outlier\",\"\"))","v":""},{"$f":"IF('Strain 6'!$I$25=\"\",\"\",IF(OR('Strain 6'!$I$25<'Strain 6'!$O$25,'Strain 6'!$I$25>'Strain 6'!$P$25),\"Outlier\",\"\"))","v":""},{"$f":"IF('Strain 7'!$I$25=\"\",\"\",IF(OR('Strain 7'!$I$25<'Strain 7'!$O$25,'Strain 7'!$I$25>'Strain 7'!$P$25),\"Outlier\",\"\"))","v":""},{"$f":"IF('Strain 8'!$I$25=\"\",\"\",IF(OR('Strain 8'!$I$25<'Strain 8'!$O$25,'Strain 8'!$I$25>'Strain 8'!$P$25),\"Outlier\",\"\"))","v":""},{"$f":"IF('Strain 9'!$I$25=\"\",\"\",IF(OR('Strain 9'!$I$25<'Strain 9'!$O$25,'Strain 9'!$I$25>'Strain 9'!$P$25),\"Outlier\",\"\"))","v":""},{"$f":"IF('Strain 10'!$I$25=\"\",\"\",IF(OR('Strain 10'!$I$25<'Strain 10'!$O$25,'Strain 10'!$I$25>'Strain 10'!$P$25),\"Outlier\",\"\"))","v":""}]
["Lab 6 Mode",{"$f":"IF('Strain 1'!$I$26=\"\",\"\",IF(OR('Strain 1'!$I$26<'Strain 1'!$O$26,'Strain 1'!$I$26>'Strain 1'!$P$26),\"Outlier\",\"\"))","v":""},{"$f":"IF('Strain 2'!$I$26=\"\",\"\",IF(OR('Strain 2'!$I$26<'Strain 2'!$O$26,'Strain 2'!$I$26>'Strain 2'!$P$26),\"Outlier\",\"\"))","v":""},{"$f":"IF('Strain 3 '!$I$26=\"\",\"\",IF(OR('Strain 3 '!$I$26<'Strain 3 '!$O$26,'Strain 3 '!$I$26>'Strain 3 '!$P$26),\"Outlier\",\"\"))","v":""},{"$f":"IF('Strain 4'!$I$26=\"\",\"\",IF(OR('Strain 4'!$I$26<'Strain 4'!$O$26,'Strain 4'!$I$26>'Strain 4'!$P$26),\"Outlier\",\"\"))","v":""},{"$f":"IF('Strain 5'!$I$26=\"\",\"\",IF(OR('Strain 5'!$I$26<'Strain 5'!$O$26,'Strain 5'!$I$26>'Strain 5'!$P$26),\"Outlier\",\"\"))","v":""},{"$f":"IF('Strain 6'!$I$26=\"\",\"\",IF(OR('Strain 6'!$I$26<'Strain 6'!$O$26,'Strain 6'!$I$26>'Strain 6'!$P$26),\"Outlier\",\"\"))","v":""},{"$f":"IF('Strain 7'!$I$26=\"\",\"\",IF(OR('Strain 7'!$I$26<'Strain 7'!$O$26,'Strain 7'!$I$26>'Strain 7'!$P$26),\"Outlier\",\"\"))","v":""},{"$f":"IF('Strain 8'!$I$26=\"\",\"\",IF(OR('Strain 8'!$I$26<'Strain 8'!$O$26,'Strain 8'!$I$26>'Strain 8'!$P$26),\"Outlier\",\"\"))","v":""},{"$f":"IF('Strain 9'!$I$26=\"\",\"\",IF(OR('Strain 9'!$I$26<'Strain 9'!$O$26,'Strain 9'!$I$26>'Strain 9'!$P$26),\"Outlier\",\"\"))","v":""},{"$f":"IF('Strain 10'!$I$26=\"\",\"\",IF(OR('Strain 10'!$I$26<'Strain 10'!$O$26,'Strain 10'!$I$26>'Strain 10'!$P$26),\"Outlier\",\"\"))","v":""}]
["Lab 7 Mean",{"$f":"IF('Strain 1'!$J$24=\"\",\"\",IF(OR('Strain 1'!$J$24<'Strain 1'!$O$24,'Strain 1'!$J$24>'Strain 1'!$P$24),\"Outlier\",\"\"))","v":""},{"$f":"IF('Strain 2'!$J$24=\"\",\"\",IF(OR('Strain 2'!$J$24<'Strain 2'!$O$24,'Strain 2'!$J$24>'Strain 2'!$P$24),\"Outlier\",\"\"))","v":""},{"$f":"IF('Strain 3 '!$J$24=\"\",\"\",IF(OR('Strain 3 '!$J$24<'Strain 3 '!$O$24,'Strain 3 '!$J$24>'Strain 3 '!$P$24),\"Outlier\",\"\"))","v":""},{"$f":"IF('Strain 4'!$J$24=\"\",\"\",IF(OR('Strain 4'!$J$24<'Strain 4'!$O$24,'Strain 4'!$J$24>'Strain 4'!$P$24),\"Outlier\",\"\"))","v":""},{"$f":"IF('Strain 5'!$J$24=\"\",\"\",IF(OR('Strain 5'!$J$24<'Strain 5'!$O$24,'Strain 5'!$J$24>'Strain 5'!$P$24),\"Outlier\",\"\"))","v":""},{"$f":"IF('Strain 6'!$J$24=\"\",\"\",IF(OR('Strain 6'!$J$24<'Strain 6'!$O$24,'Strain 6'!$J$24>'Strain 6'!$P$24),\"Outlier\",\"\"))","v":""},{"$f":"IF('Strain 7'!$J$24=\"\",\"\",IF(OR('Strain 7'!$J$24<'Strain 7'!$O$24,'Strain 7'!$J$24>'Strain 7'!$P$24),\"Outlier\",\"\"))","v":""},{"$f":"IF('Strain 8'!$J$24=\"\",\"\",IF(OR('Strain 8'!$J$24<'Strain 8'!$O$24,'Strain 8'!$J$24>'Strain 8'!$P$24),\"Outlier\",\"\"))","v":""},{"$f":"IF('Strain 9'!$J$24=\"\",\"\",IF(OR('Strain 9'!$J$24<'Strain 9'!$O$24,'Strain 9'!$J$24>'Strain 9'!$P$24),\"Outlier\",\"\"))","v":""},{"$f":"IF('Strain 10'!$J$24=\"\",\"\",IF(OR('Strain 10'!$J$24<'Strain 10'!$O$24,'Strain 10'!$J$24>'Strain 10'!$P$24),\"Outlier\",\"\"))","v":""}]
["Lab 7 Median",{"$f":"IF('Strain 1'!$J$25=\"\",\"\",IF(OR('Strain 1'!$J$25<'Strain 1'!$O$25,'Strain 1'!$J$25>'Strain 1'!$P$25),\"Outlier\",\"\"))","v":""},{"$f":"IF('Strain 2'!$J$25=\"\",\"\",IF(OR('Strain 2'!$J$25<'Strain 2'!$O$25,'Strain 2'!$J$25>'Strain 2'!$P$25),\"Outlier\",\"\"))","v":""},{"$f":"IF('Strain 3 '!$J$25=\"\",\"\",IF(OR('Strain 3 '!$J$25<'Strain 3 '!$O$25,'Strain 3 '!$J$25>'Strain 3 '!$P$25),\"Outlier\",\"\"))","v":""},{"$f":"IF('Strain 4'!$J$25=\"\",\"\",IF(OR('Strain 4'!$J$25<'Strain 4'!$O$25,'Strain 4'!$J$25>'Strain 4'!$P$25),\"Outlier\",\"\"))","v":""},{"$f":"IF('Strain 5'!$J$25=\"\",\"\",IF(OR('Strain 5'!$J$25<'Strain 5'!$O$25,'Strain 5'!$J$25>'Strain 5'!$P$25),\"Outlier\",\"\"))","v":""},{"$f":"IF('Strain 6'!$J$25=\"\",\"\",IF(OR('Strain 6'!$J$25<'Strain 6'!$O$25,'Strain 6'!$J$25>'Strain 6'!$P$25),\"Outlier\",\"\"))","v":""},{"$f":"IF('Strain 7'!$J$25=\"\",\"\",IF(OR('Strain 7'!$J$25<'Strain 7'!$O$25,'Strain 7'!$J$25>'Strain 7'!$P$25),\"Outlier\",\"\"))","v":""},{"$f":"IF('Strain 8'!$J$25=\"\",\"\",IF(OR('Strain 8'!$J$25<'Strain 8'!$O$25,'Strain 8'!$J$25>'Strain 8'!$P$25),\"Outlier\",\"\"))","v":""},{"$f":"IF('Strain 9'!$J$25=\"\",\"\",IF(OR('Strain 9'!$J$25<'Strain 9'!$O$25,'Strain 9'!$J$25>'Strain 9'!$P$25),\"Outlier\",\"\"))","v":""},{"$f":"IF('Strain 10'!$J$25=\"\",\"\",IF(OR('Strain 10'!$J$25<'Strain 10'!$O$25,'Strain 10'!$J$25>'Strain 10'!$P$25),\"Outlier\",\"\"))","v":""}]
["Lab 7 Mode",{"$f":"IF('Strain 1'!$J$26=\"\",\"\",IF(OR('Strain 1'!$J$26<'Strain 1'!$O$26,'Strain 1'!$J$26>'Strain 1'!$P$26),\"Outlier\",\"\"))","v":""},{"$f":"IF('Strain 2'!$J$26=\"\",\"\",IF(OR('Strain 2'!$J$26<'Strain 2'!$O$26,'Strain 2'!$J$26>'Strain 2'!$P$26),\"Outlier\",\"\"))","v":""},{"$f":"IF('Strain 3 '!$J$26=\"\",\"\",IF(OR('Strain 3 '!$J$26<'Strain 3 '!$O$26,'Strain 3 '!$J$26>'Strain 3 '!$P$26),\"Outlier\",\"\"))","v":""},{"$f":"IF('Strain 4'!$J$26=\"\",\"\",IF(OR('Strain 4'!$J$26<'Strain 4'!$O$26,'Strain 4'!$J$26>'Strain 4'!$P$26),\"Outlier\",\"\"))","v":""},{"$f":"IF('Strain 5'!$J$26=\"\",\"\",IF(OR('Strain 5'!$J$26<'Strain 5'!$O$26,'Strain 5'!$J$26>'Strain 5'!$P$26),\"Outlier\",\"\"))","v":""},{"$f":"IF('Strain 6'!$J$26=\"\",\"\",IF(OR('Strain 6'!$J$26<'Strain 6'!$O$26,'Strain 6'!$J$26>'Strain 6'!$P$26),\"Outlier\",\"\"))","v":""},{"$f":"IF('Strain 7'!$J$26=\"\",\"\",IF(OR('Strain 7'!$J$26<'Strain 7'!$O$26,'Strain 7'!$J$26>'Strain 7'!$P$26),\"Outlier\",\"\"))","v":""},{"$f":"IF('Strain 8'!$J$26=\"\",\"\",IF(OR('Strain 8'!$J$26<'Strain 8'!$O$26,'Strain 8'!$J$26>'Strain 8'!$P$26),\"Outlier\",\"\"))","v":""},{"$f":"IF('Strain 9'!$J$26=\"\",\"\",IF(OR('Strain 9'!$J$26<'Strain 9'!$O$26,'Strain 9'!$J$26>'Strain 9'!$P$26),\"Outlier\",\"\"))","v":""},{"$f":"IF('Strain 10'!$J$26=\"\",\"\",IF(OR('Strain 10'!$J$26<'Strain 10'!$O$26,'Strain 10'!$J$26>'Strain 10'!$P$26),\"Outlier\",\"\"))","v":""}]
["Lab 8 Mean",{"$f":"IF('Strain 1'!$K$24=\"\",\"\",IF(OR('Strain 1'!$K$24<'Strain 1'!$O$24,'Strain 1'!$K$24>'Strain 1'!$P$24),\"Outlier\",\"\"))","v":""},{"$f":"IF('Strain 2'!$K$24=\"\",\"\",IF(OR('Strain 2'!$K$24<'Strain 2'!$O$24,'Strain 2'!$K$24>'Strain 2'!$P$24),\"Outlier\",\"\"))","v":""},{"$f":"IF('Strain 3 '!$K$24=\"\",\"\",IF(OR('Strain 3 '!$K$24<'Strain 3 '!$O$24,'Strain 3 '!$K$24>'Strain 3 '!$P$24),\"Outlier\",\"\"))","v":""},{"$f":"IF('Strain 4'!$K$24=\"\",\"\",IF(OR('Strain 4'!$K$24<'Strain 4'!$O$24,'Strain 4'!$K$24>'Strain 4'!$P$24),\"Outlier\",\"\"))","v":""},{"$f":"IF('Strain 5'!$K$24=\"\",\"\",IF(OR('Strain 5'!$K$24<'Strain 5'!$O$24,'Strain 5'!$K$24>'Strain 5'!$P$24),\"Outlier\",\"\"))","v":""},{"$f":"IF('Strain 6'!$K$24=\"\",\"\",IF(OR('Strain 6'!$K$24<'Strain 6'!$O$24,'Strain 6'!$K$24>'Strain 6'!$P$24),\"Outlier\",\"\"))","v":""},{"$f":"IF('Strain 7'!$K$24=\"\",\"\",IF(OR('Strain 7'!$K$24<'Strain 7'!$O$24,'Strain 7'!$K$24>'Strain 7'!$P$24),\"Outlier\",\"\"))","v":""},{"$f":"IF('Strain 8'!$K$24=\"\",\"\",IF(OR('Strain 8'!$K$24<'Strain 8'!$O$24,'Strain 8'!$K$24>'Strain 8'!$P$24),\"Outlier\",\"\"))","v":""},{"$f":"IF('Strain 9'!$K$24=\"\",\"\",IF(OR('Strain 9'!$K$24<'Strain 9'!$O$24,'Strain 9'!$K$24>'Strain 9'!$P$24),\"Outlier\",\"\"))","v":""},{"$f":"IF('Strain 10'!$K$24=\"\",\"\",IF(OR('Strain 10'!$K$24<'Strain 10'!$O$24,'Strain 10'!$K$24>'Strain 10'!$P$24),\"Outlier\",\"\"))","v":""}]
["Lab 8 Median",{"$f":"IF('Strain 1'!$K$25=\"\",\"\",IF(OR('Strain 1'!$K$25<'Strain 1'!$O$25,'Strain 1'!$K$25>'Strain 1'!$P$25),\"Outlier\",\"\"))","v":""},{"$f":"IF('Strain 2'!$K$25=\"\",\"\",IF(OR('Strain 2'!$K$25<'Strain 2'!$O$25,'Strain 2'!$K$25>'Strain 2'!$P$25),\"Outlier\",\"\"))","v":""},{"$f":"IF('Strain 3 '!$K$25=\"\",\"\",IF(OR('Strain 3 '!$K$25<'Strain 3 '!$O$25,'Strain 3 '!$K$25>'Strain 3 '!$P$25),\"Outlier\",\"\"))","v":""},{"$f":"IF('Strain 4'!$K$25=\"\",\"\",IF(OR('Strain 4'!$K$25<'Strain 4'!$O$25,'Strain 4'!$K$25>'Strain 4'!$P$25),\"Outlier\",\"\"))","v":""},{"$f":"IF('Strain 5'!$K$25=\"\",\"\",IF(OR('Strain 5'!$K$25<'Strain 5'!$O$25,'Strain 5'!$K$25>'Strain 5'!$P$25),\"Outlier\",\"\"))","v":""},{"$f":"IF('Strain 6'!$K$25=\"\",\"\",IF(OR('Strain 6'!$K$25<'Strain 6'!$O$25,'Strain 6'!$K$25>'Strain 6'!$P$25),\"Outlier\",\"\"))","v":""},{"$f":"IF('Strain 7'!$K$25=\"\",\"\",IF(OR('Strain 7'!$K$25<'Strain 7'!$O$25,'Strain 7'!$K$25>'Strain 7'!$P$25),\"Outlier\",\"\"))","v":""},{"$f":"IF('Strain 8'!$K$25=\"\",\"\",IF(OR('Strain 8'!$K$25<'Strain 8'!$O$25,'Strain 8'!$K$25>'Strain 8'!$P$25),\"Outlier\",\"\"))","v":""},{"$f":"IF('Strain 9'!$K$25=\"\",\"\",IF(OR('Strain 9'!$K$25<'Strain 9'!$O$25,'Strain 9'!$K$25>'Strain 9'!$P$25),\"Outlier\",\"\"))","v":""},{"$f":"IF('Strain 10'!$K$25=\"\",\"\",IF(OR('Strain 10'!$K$25<'Strain 10'!$O$25,'Strain 10'!$K$25>'Strain 10'!$P$25),\"Outlier\",\"\"))","v":""}]
["Lab 8 Mode",{"$f":"IF('Strain 1'!$K$26=\"\",\"\",IF(OR('Strain 1'!$K$26<'Strain 1'!$O$26,'Strain 1'!$K$26>'Strain 1'!$P$26),\"Outlier\",\"\"))","v":""},{"$f":"IF('Strain 2'!$K$26=\"\",\"\",IF(OR('Strain 2'!$K$26<'Strain 2'!$O$26,'Strain 2'!$K$26>'Strain 2'!$P$26),\"Outlier\",\"\"))","v":""},{"$f":"IF('Strain 3 '!$K$26=\"\",\"\",IF(OR('Strain 3 '!$K$26<'Strain 3 '!$O$26,'Strain 3 '!$K$26>'Strain 3 '!$P$26),\"Outlier\",\"\"))","v":""},{"$f":"IF('Strain 4'!$K$26=\"\",\"\",IF(OR('Strain 4'!$K$26<'Strain 4'!$O$26,'Strain 4'!$K$26>'Strain 4'!$P$26),\"Outlier\",\"\"))","v":""},{"$f":"IF('Strain 5'!$K$26=\"\",\"\",IF(OR('Strain 5'!$K$26<'Strain 5'!$O$26,'Strain 5'!$K$26>'Strain 5'!$P$26),\"Outlier\",\"\"))","v":""},{"$f":"IF('Strain 6'!$K$26=\"\",\"\",IF(OR('Strain 6'!$K$26<'Strain 6'!$O$26,'Strain 6'!$K$26>'Strain 6'!$P$26),\"Outlier\",\"\"))","v":""},{"$f":"IF('Strain 7'!$K$26=\"\",\"\",IF(OR('Strain 7'!$K$26<'Strain 7'!$O$26,'Strain 7'!$K$26>'Strain 7'!$P$26),\"Outlier\",\"\"))","v":""},{"$f":"IF('Strain 8'!$K$26=\"\",\"\",IF(OR('Strain 8'!$K$26<'Strain 8'!$O$26,'Strain 8'!$K$26>'Strain 8'!$P$26),\"Outlier\",\"\"))","v":""},{"$f":"IF('Strain 9'!$K$26=\"\",\"\",IF(OR('Strain 9'!$K$26<'Strain 9'!$O$26,'Strain 9'!$K$26>'Strain 9'!$P$26),\"Outlier\",\"\"))","v":""},{"$f":"IF('Strain 10'!$K$26=\"\",\"\",IF(OR('Strain 10'!$K$26<'Strain 10'!$O$26,'Strain 10'!$K$26>'Strain 10'!$P$26),\"Outlier\",\"\"))","v":""}]
["Lab 9 Mean",{"$f":"IF('Strain 1'!$L$24=\"\",\"\",IF(OR('Strain 1'!$L$24<'Strain 1'!$O$24,'Strain 1'!$L$24>'Strain 1'!$P$24),\"Outlier\",\"\"))","v":""},{"$f":"IF('Strain 2'!$L$24=\"\",\"\",IF(OR('Strain 2'!$L$24<'Strain 2'!$O$24,'Strain 2'!$L$24>'Strain 2'!$P$24),\"Outlier\",\"\"))","v":""},{"$f":"IF('Strain 3 '!$L$24=\"\",\"\",IF(OR('Strain 3 '!$L$24<'Strain 3 '!$O$24,'Strain 3 '!$L$24>'Strain 3 '!$P$24),\"Outlier\",\"\"))","v":""},{"$f":"IF('Strain 4'!$L$24=\"\",\"\",IF(OR('Strain 4'!$L$24<'Strain 4'!$O$24,'Strain 4'!$L$24>'Strain 4'!$P$24),\"Outlier\",\"\"))","v":""},{"$f":"IF('Strain 5'!$L$24=\"\",\"\",IF(OR('Strain 5'!$L$24<'Strain 5'!$O$24,'Strain 5'!$L$24>'Strain 5'!$P$24),\"Outlier\",\"\"))","v":""},{"$f":"IF('Strain 6'!$L$24=\"\",\"\",IF(OR('Strain 6'!$L$24<'Strain 6'!$O$24,'Strain 6'!$L$24>'Strain 6'!$P$24),\"Outlier\",\"\"))","v":""},{"$f":"IF('Strain 7'!$L$24=\"\",\"\",IF(OR('Strain 7'!$L$24<'Strain 7'!$O$24,'Strain 7'!$L$24>'Strain 7'!$P$24),\"Outlier\",\"\"))","v":""},{"$f":"IF('Strain 8'!$L$24=\"\",\"\",IF(OR('Strain 8'!$L$24<'Strain 8'!$O$24,'Strain 8'!$L$24>'Strain 8'!$P$24),\"Outlier\",\"\"))","v":""},{"$f":"IF('Strain 9'!$L$24=\"\",\"\",IF(OR('Strain 9'!$L$24<'Strain 9'!$O$24,'Strain 9'!$L$24>'Strain 9'!$P$24),\"Outlier\",\"\"))","v":""},{"$f":"IF('Strain 10'!$L$24=\"\",\"\",IF(OR('Strain 10'!$L$24<'Strain 10'!$O$24,'Strain 10'!$L$24>'Strain 10'!$P$24),\"Outlier\",\"\"))","v":""}]
["Lab 9 Median",{"$f":"IF('Strain 1'!$L$25=\"\",\"\",IF(OR('Strain 1'!$L$25<'Strain 1'!$O$25,'Strain 1'!$L$25>'Strain 1'!$P$25),\"Outlier\",\"\"))","v":""},{"$f":"IF('Strain 2'!$L$25=\"\",\"\",IF(OR('Strain 2'!$L$25<'Strain 2'!$O$25,'Strain 2'!$L$25>'Strain 2'!$P$25),\"Outlier\",\"\"))","v":""},{"$f":"IF('Strain 3 '!$L$25=\"\",\"\",IF(OR('Strain 3 '!$L$25<'Strain 3 '!$O$25,'Strain 3 '!$L$25>'Strain 3 '!$P$25),\"Outlier\",\"\"))","v":""},{"$f":"IF('Strain 4'!$L$25=\"\",\"\",IF(OR('Strain 4'!$L$25<'Strain 4'!$O$25,'Strain 4'!$L$25>'Strain 4'!$P$25),\"Outlier\",\"\"))","v":""},{"$f":"IF('Strain 5'!$L$25=\"\",\"\",IF(OR('Strain 5'!$L$25<'Strain 5'!$O$25,'Strain 5'!$L$25>'Strain 5'!$P$25),\"Outlier\",\"\"))","v":""},{"$f":"IF('Strain 6'!$L$25=\"\",\"\",IF(OR('Strain 6'!$L$25<'Strain 6'!$O$25,'Strain 6'!$L$25>'Strain 6'!$P$25),\"Outlier\",\"\"))","v":""},{"$f":"IF('Strain 7'!$L$25=\"\",\"\",IF(OR('Strain 7'!$L$25<'Strain 7'!$O$25,'Strain 7'!$L$25>'Strain 7'!$P$25),\"Outlier\",\"\"))","v":""},{"$f":"IF('Strain 8'!$L$25=\"\",\"\",IF(OR('Strain 8'!$L$25<'Strain 8'!$O$25,'Strain 8'!$L$25>'Strain 8'!$P$25),\"Outlier\",\"\"))","v":""},{"$f":"IF('Strain 9'!$L$25=\"\",\"\",IF(OR('Strain 9'!$L$25<'Strain 9'!$O$25,'Strain 9'!$L$25>'Strain 9'!$P$25),\"Outlier\",\"\"))","v":""},{"$f":"IF('Strain 10'!$L$25=\"\",\"\",IF(OR('Strain 10'!$L$25<'Strain 10'!$O$25,'Strain 10'!$L$25>'Strain 10'!$P$25),\"Outlier\",\"\"))","v":""}]
["Lab 9 Mode",{"$f":"IF('Strain 1'!$L$26=\"\",\"\",IF(OR('Strain 1'!$L$26<'Strain 1'!$O$26,'Strain 1'!$L$26>'Strain 1'!$P$26),\"Outlier\",\"\"))","v":""},{"$f":"IF('Strain 2'!$L$26=\"\",\"\",IF(OR('Strain 2'!$L$26<'Strain 2'!$O$26,'Strain 2'!$L$26>'Strain 2'!$P$26),\"Outlier\",\"\"))","v":""},{"$f":"IF('Strain 3 '!$L$26=\"\",\"\",IF(OR('Strain 3 '!$L$26<'Strain 3 '!$O$26,'Strain 3 '!$L$26>'Strain 3 '!$P$26),\"Outlier\",\"\"))","v":""},{"$f":"IF('Strain 4'!$L$26=\"\",\"\",IF(OR('Strain 4'!$L$26<'Strain 4'!$O$26,'Strain 4'!$L$26>'Strain 4'!$P$26),\"Outlier\",\"\"))","v":""},{"$f":"IF('Strain 5'!$L$26=\"\",\"\",IF(OR('Strain 5'!$L$26<'Strain 5'!$O$26,'Strain 5'!$L$26>'Strain 5'!$P$26),\"Outlier\",\"\"))","v":""},{"$f":"IF('Strain 6'!$L$26=\"\",\"\",IF(OR('Strain 6'!$L$26<'Strain 6'!$O$26,'Strain 6'!$L$26>'Strain 6'!$P$26),\"Outlier\",\"\"))","v":""},{"$f":"IF('Strain 7'!$L$26=\"\",\"\",IF(OR('Strain 7'!$L$26<'Strain 7'!$O$26,'Strain 7'!$L$26>'Strain 7'!$P$26),\"Outlier\",\"\"))","v":""},{"$f":"IF('Strain 8'!$L$26=\"\",\"\",IF(OR('Strain 8'!$L$26<'Strain 8'!$O$26,'Strain 8'!$L$26>'Strain 8'!$P$26),\"Outlier\",\"\"))","v":""},{"$f":"IF('Strain 9'!$L$26=\"\",\"\",IF(OR('Strain 9'!$L$26<'Strain 9'!$O$26,'Strain 9'!$L$26>'Strain 9'!$P$26),\"Outlier\",\"\"))","v":""},{"$f":"IF('Strain 10'!$L$26=\"\",\"\",IF(OR('Strain 10'!$L$26<'Strain 10'!$O$26,'Strain 10'!$L$26>'Strain 10'!$P$26),\"Outlier\",\"\"))","v":""}]
["Lab 10 Mean",{"$f":"IF('Strain 1'!$M$24=\"\",\"\",IF(OR('Strain 1'!$M$24<'Strain 1'!$O$24,'Strain 1'!$M$24>'Strain 1'!$P$24),\"Outlier\",\"\"))","v":""},{"$f":"IF('Strain 2'!$M$24=\"\",\"\",IF(OR('Strain 2'!$M$24<'Strain 2'!$O$24,'Strain 2'!$M$24>'Strain 2'!$P$24),\"Outlier\",\"\"))","v":""},{"$f":"IF('Strain 3 '!$M$24=\"\",\"\",IF(OR('Strain 3 '!$M$24<'Strain 3 '!$O$24,'Strain 3 '!$M$24>'Strain 3 '!$P$24),\"Outlier\",\"\"))","v":""},{"$f":"IF('Strain 4'!$M$24=\"\",\"\",IF(OR('Strain 4'!$M$24<'Strain 4'!$O$24,'Strain 4'!$M$24>'Strain 4'!$P$24),\"Outlier\",\"\"))","v":""},{"$f":"IF('Strain 5'!$M$24=\"\",\"\",IF(OR('Strain 5'!$M$24<'Strain 5'!$O$24,'Strain 5'!$M$24>'Strain 5'!$P$24),\"Outlier\",\"\"))","v":""},{"$f":"IF('Strain 6'!$M$24=\"\",\"\",IF(OR('Strain 6'!$M$24<'Strain 6'!$O$24,'Strain 6'!$M$24>'Strain 6'!$P$24),\"Outlier\",\"\"))","v":""},{"$f":"IF('Strain 7'!$M$24=\"\",\"\",IF(OR('Strain 7'!$M$24<'Strain 7'!$O$24,'Strain 7'!$M$24>'Strain 7'!$P$24),\"Outlier\",\"\"))","v":""},{"$f":"IF('Strain 8'!$M$24=\"\",\"\",IF(OR('Strain 8'!$M$24<'Strain 8'!$O$24,'Strain 8'!$M$24>'Strain 8'!$P$24),\"Outlier\",\"\"))","v":""},{"$f":"IF('Strain 9'!$M$24=\"\",\"\",IF(OR('Strain 9'!$M$24<'Strain 9'!$O$24,'Strain 9'!$M$24>'Strain 9'!$P$24),\"Outlier\",\"\"))","v":""},{"$f":"IF('Strain 10'!$M$24=\"\",\"\",IF(OR('Strain 10'!$M$24<'Strain 10'!$O$24,'Strain 10'!$M$24>'Strain 10'!$P$24),\"Outlier\",\"\"))","v":""}]
["Lab 10 Median",{"$f":"IF('Strain 1'!$M$25=\"\",\"\",IF(OR('Strain 1'!$M$25<'Strain 1'!$O$25,'Strain 1'!$M$25>'Strain 1'!$P$25),\"Outlier\",\"\"))","v":""},{"$f":"IF('Strain 2'!$M$25=\"\",\"\",IF(OR('Strain 2'!$M$25<'Strain 2'!$O$25,'Strain 2'!$M$25>'Strain 2'!$P$25),\"Outlier\",\"\"))","v":""},{"$f":"IF('Strain 3 '!$M$25=\"\",\"\",IF(OR('Strain 3 '!$M$25<'Strain 3 '!$O$25,'Strain 3 '!$M$25>'Strain 3 '!$P$25),\"Outlier\",\"\"))","v":""},{"$f":"IF('Strain 4'!$M$25=\"\",\"\",IF(OR('Strain 4'!$M$25<'Strain 4'!$O$25,'Strain 4'!$M$25>'Strain 4'!$P$25),\"Outlier\",\"\"))","v":""},{"$f":"IF('Strain 5'!$M$25=\"\",\"\",IF(OR('Strain 5'!$M$25<'Strain 5'!$O$25,'Strain 5'!$M$25>'Strain 5'!$P$25),\"Outlier\",\"\"))","v":""},{"$f":"IF('Strain 6'!$M$25=\"\",\"\",IF(OR('Strain 6'!$M$25<'Strain 6'!$O$25,'Strain 6'!$M$25>'Strain 6'!$P$25),\"Outlier\",\"\"))","v":""},{"$f":"IF('Strain 7'!$M$25=\"\",\"\",IF(OR('Strain 7'!$M$25<'Strain 7'!$O$25,'Strain 7'!$M$25>'Strain 7'!$P$25),\"Outlier\",\"\"))","v":""},{"$f":"IF('Strain 8'!$M$25=\"\",\"\",IF(OR('Strain 8'!$M$25<'Strain 8'!$O$25,'Strain 8'!$M$25>'Strain 8'!$P$25),\"Outlier\",\"\"))","v":""},{"$f":"IF('Strain 9'!$M$25=\"\",\"\",IF(OR('Strain 9'!$M$25<'Strain 9'!$O$25,'Strain 9'!$M$25>'Strain 9'!$P$25),\"Outlier\",\"\"))","v":""},{"$f":"IF('Strain 10'!$M$25=\"\",\"\",IF(OR('Strain 10'!$M$25<'Strain 10'!$O$25,'Strain 10'!$M$25>'Strain 10'!$P$25),\"Outlier\",\"\"))","v":""}]
["Lab 10 Mode",{"$f":"IF('Strain 1'!$M$26=\"\",\"\",IF(OR('Strain 1'!$M$26<'Strain 1'!$O$26,'Strain 1'!$M$26>'Strain 1'!$P$26),\"Outlier\",\"\"))","v":""},{"$f":"IF('Strain 2'!$M$26=\"\",\"\",IF(OR('Strain 2'!$M$26<'Strain 2'!$O$26,'Strain 2'!$M$26>'Strain 2'!$P$26),\"Outlier\",\"\"))","v":""},{"$f":"IF('Strain 3 '!$M$26=\"\",\"\",IF(OR('Strain 3 '!$M$26<'Strain 3 '!$O$26,'Strain 3 '!$M$26>'Strain 3 '!$P$26),\"Outlier\",\"\"))","v":""},{"$f":"IF('Strain 4'!$M$26=\"\",\"\",IF(OR('Strain 4'!$M$26<'Strain 4'!$O$26,'Strain 4'!$M$26>'Strain 4'!$P$26),\"Outlier\",\"\"))","v":""},{"$f":"IF('Strain 5'!$M$26=\"\",\"\",IF(OR('Strain 5'!$M$26<'Strain 5'!$O$26,'Strain 5'!$M$26>'Strain 5'!$P$26),\"Outlier\",\"\"))","v":""},{"$f":"IF('Strain 6'!$M$26=\"\",\"\",IF(OR('Strain 6'!$M$26<'Strain 6'!$O$26,'Strain 6'!$M$26>'Strain 6'!$P$26),\"Outlier\",\"\"))","v":""},{"$f":"IF('Strain 7'!$M$26=\"\",\"\",IF(OR('Strain 7'!$M$26<'Strain 7'!$O$26,'Strain 7'!$M$26>'Strain 7'!$P$26),\"Outlier\",\"\"))","v":""},{"$f":"IF('Strain 8'!$M$26=\"\",\"\",IF(OR('Strain 8'!$M$26<'Strain 8'!$O$26,'Strain 8'!$M$26>'Strain 8'!$P$26),\"Outlier\",\"\"))","v":""},{"$f":"IF('Strain 9'!$M$26=\"\",\"\",IF(OR('Strain 9'!$M$26<'Strain 9'!$O$26,'Strain 9'!$M$26>'Strain 9'!$P$26),\"Outlier\",\"\"))","v":""},{"$f":"IF('Strain 10'!$M$26=\"\",\"\",IF(OR('Strain 10'!$M$26<'Strain 10'!$O$26,'Strain 10'!$M$26>'Strain 10'!$P$26),\"Outlier\",\"\"))","v":""}]

{"sheet":"Media Lots","index":3,"n_rows":26,"n_cols":34,"rows_kept":26,"merged":[[0,0,0,1],[0,2,0,4],[0,5,0,7],[0,8,0,10],[0,11,0,13],[0,14,0,16],[0,17,0,18],[0,19,0,21],[0,22,0,24],[0,25,0,27],[0,28,0,30],[0,31,0,33],[1,2,1,4],[1,5,1,7],[1,8,1,10],[1,11,1,13],[1,14,1,16],[1,19,1,21],[1,22,1,24],[1,25,1,27],[1,28,1,30],[1,31,1,33],[24,0,24,1],[24,17,24,18],[25,0,25,1],[25,17,25,18]]}
[null,null,{"$f":"'Range Summary'!$B$1","v":"Strain 1"},null,null,{"$f":"'Range Summary'!$C$1","v":"Strain 2"},null,null,{"$f":"'Range Summary'!$D$1","v":"Strain 3"},null,null,{"$f":"'Range Summary'!$E$1","v":"Strain 4"},null,null,{"$f":"'Range Summary'!$F$1","v":"Strain 5"},{"$nulls":4},{"$f":"'Range Summary'!$G$1","v":"Strain 6"},null,null,{"$f":"'Range Summary'!$H$1","v":"Strain 7"},null,null,{"$f":"'Range Summary'!$I$1","v":"Strain 8"},null,null,{"$f":"'Range Summary'!$J$1","v":"Strain 9"},null,null,{"$f":"'Range Summary'!$K$1","v":"Strain 10"}]
["MIC","Mid Log2",{"$f":"'Range Summary'!$B$2","v":"QC1"},null,null,{"$f":"'Range Summary'!$C$2","v":"QC2"},null,null,{"$f":"'Range Summary'!$D$2","v":"QC3"},null,null,{"$f":"'Range Summary'!$E$2","v":"QC4"},null,null,{"$f":"'Range Summary'!$F$2","v":"QC5"},null,null,"MIC","Mid Log2",{"$f":"'Range Summary'!$G$2","v":"QC6"},null,null,{"$f":"'Range Summary'!$H$2","v":"QC7"},null,null,{"$f":"'Range Summary'!$I$2","v":"QC8"},null,null,{"$f":"'Range Summary'!$J$2","v":"QC9"},null,null,{"$f":"'Range Summary'!$K$2","v":"QC10"}]
[null,null,"LOT 1","LOT 2","LOT 3","LOT 1","LOT 2","LOT 3","LOT 1","LOT 2","LOT 3","LOT 1","LOT 2","LOT 3","LOT 1","LOT 2","LOT 3",null,null,"LOT 1","LOT 2","LOT 3","LOT 1","LOT 2","LOT 3","LOT 1","LOT 2","LOT 3","LOT 1","LOT 2","LOT 3","LOT 1","LOT 2","LOT 3"]
[1E-3,-10.5,{"$f":"IF(COUNTIF('Strain 1'!$D$69:$M$108,-10.5)=0,\"\",COUNTIF('Strain 1'!$D$69:$M$108,-10.5))","v":""},{"$f":"IF(COUNTIF('Strain 1'!$D$109:$M$148,-10.5)=0,\"\",COUNTIF('Strain 1'!$D$109:$M$148,-10.5))","v":""},{"$f":"IF(COUNTIF('Strain 1'!$D$149:$M$188,-10.5)=0,\"\",COUNTIF('Strain 1'!$D$149:$M$188,-10.5))","v":""},{"$f":"IF(COUNTIF('Strain 2'!$D$69:$M$108,-10.5)=0,\"\",COUNTIF('Strain 2'!$D$69:$M$108,-10.5))","v":""},{"$f":"IF(COUNTIF('Strain 2'!$D$109:$M$148,-10.5)=0,\"\",COUNTIF('Strain 2'!$D$109:$M$148,-10.5))","v":""},{"$f":"IF(COUNTIF('Strain 2'!$D$149:$M$188,-10.5)=0,\"\",COUNTIF('Strain 2'!$D$149:$M$188,-10.5))","v":""},{"$f":"IF(COUNTIF('Strain 3 '!$D$69:$M$108,-10.5)=0,\"\",COUNTIF('Strain 3 '!$D$69:$M$108,-10.5))","v":""},{"$f":"IF(COUNTIF('Strain 3 '!$D$109:$M$148,-10.5)=0,\"\",COUNTIF('Strain 3 '!$D$109:$M$148,-10.5))","v":""},{"$f":"IF(COUNTIF('Strain 3 '!$D$149:$M$188,-10.5)=0,\"\",COUNTIF('Strain 3 '!$D$149:$M$188,-10.5))","v":""},{"$f":"IF(COUNTIF('Strain 4'!$D$69:$M$108,-10.5)=0,\"\",COUNTIF('Strain 4'!$D$69:$M$108,-10.5))","v":""},{"$f":"IF(COUNTIF('Strain 4'!$D$109:$M$148,-10.5)=0,\"\",COUNTIF('Strain 4'!$D$109:$M$148,-10.5))","v":""},{"$f":"IF(COUNTIF('Strain 4'!$D$149:$M$188,-10.5)=0,\"\",COUNTIF('Strain 4'!$D$149:$M$188,-10.5))","v":""},{"$f":"IF(COUNTIF('Strain 5'!$D$69:$M$108,-10.5)=0,\"\",COUNTIF('Strain 5'!$D$69:$M$108,-10.5))","v":""},{"$f":"IF(COUNTIF('Strain 5'!$D$109:$M$148,-10.5)=0,\"\",COUNTIF('Strain 5'!$D$109:$M$148,-10.5))","v":""},{"$f":"IF(COUNTIF('Strain 5'!$D$149:$M$188,-10.5)=0,\"\",COUNTIF('Strain 5'!$D$149:$M$188,-10.5))","v":""},1E-3,-10.5,{"$f":"IF(COUNTIF('Strain 6'!$D$69:$M$108,-10.5)=0,\"\",COUNTIF('Strain 6'!$D$69:$M$108,-10.5))","v":""},{"$f":"IF(COUNTIF('Strain 6'!$D$109:$M$148,-10.5)=0,\"\",COUNTIF('Strain 6'!$D$109:$M$148,-10.5))","v":""},{"$f":"IF(COUNTIF('Strain 6'!$D$149:$M$188,-10.5)=0,\"\",COUNTIF('Strain 6'!$D$149:$M$188,-10.5))","v":""},{"$f":"IF(COUNTIF('Strain 7'!$D$69:$M$108,-10.5)=0,\"\",COUNTIF('Strain 7'!$D$69:$M$108,-10.5))","v":""},{"$f":"IF(COUNTIF('Strain 7'!$D$109:$M$148,-10.5)=0,\"\",COUNTIF('Strain 7'!$D$109:$M$148,-10.5))","v":""},{"$f":"IF(COUNTIF('Strain 7'!$D$149:$M$188,-10.5)=0,\"\",COUNTIF('Strain 7'!$D$149:$M$188,-10.5))","v":""},{"$f":"IF(COUNTIF('Strain 8'!$D$69:$M$108,-10.5)=0,\"\",COUNTIF('Strain 8'!$D$69:$M$108,-10.5))","v":""},{"$f":"IF(COUNTIF('Strain 8'!$D$109:$M$148,-10.5)=0,\"\",COUNTIF('Strain 8'!$D$109:$M$148,-10.5))","v":""},{"$f":"IF(COUNTIF('Strain 8'!$D$149:$M$188,-10.5)=0,\"\",COUNTIF('Strain 8'!$D$149:$M$188,-10.5))","v":""},{"$f":"IF(COUNTIF('Strain 9'!$D$69:$M$108,-10.5)=0,\"\",COUNTIF('Strain 9'!$D$69:$M$108,-10.5))","v":""},{"$f":"IF(COUNTIF('Strain 9'!$D$109:$M$148,-10.5)=0,\"\",COUNTIF('Strain 9'!$D$109:$M$148,-10.5))","v":""},{"$f":"IF(COUNTIF('Strain 9'!$D$149:$M$188,-10.5)=0,\"\",COUNTIF('Strain 9'!$D$149:$M$188,-10.5))","v":""},{"$f":"IF(COUNTIF('Strain 10'!$D$69:$M$108,-10.5)=0,\"\",COUNTIF('Strain 10'!$D$69:$M$108,-10.5))","v":""},{"$f":"IF(COUNTIF('Strain 10'!$D$109:$M$148,-10.5)=0,\"\",COUNTIF('Strain 10'!$D$109:$M$148,-10.5))","v":""},{"$f":"IF(COUNTIF('Strain 10'!$D$149:$M$188,-10.5)=0,\"\",COUNTIF('Strain 10'!$D$149:$M$188,-10.5))","v":""}]
[2E-3,-9.5,{"$f":"IF(COUNTIF('Strain 1'!$D$69:$M$108,-9.5)=0,\"\",COUNTIF('Strain 1'!$D$69:$M$108,-9.5))","v":""},{"$f":"IF(COUNTIF('Strain 1'!$D$109:$M$148,-9.5)=0,\"\",COUNTIF('Strain 1'!$D$109:$M$148,-9.5))","v":""},{"$f":"IF(COUNTIF('Strain 1'!$D$149:$M$188,-9.5)=0,\"\",COUNTIF('Strain 1'!$D$149:$M$188,-9.5))","v":""},{"$f":"IF(COUNTIF('Strain 2'!$D$69:$M$108,-9.5)=0,\"\",COUNTIF('Strain 2'!$D$69:$M$108,-9.5))","v":""},{"$f":"IF(COUNTIF('Strain 2'!$D$109:$M$148,-9.5)=0,\"\",COUNTIF('Strain 2'!$D$109:$M$148,-9.5))","v":""},{"$f":"IF(COUNTIF('Strain 2'!$D$149:$M$188,-9.5)=0,\"\",COUNTIF('Strain 2'!$D$149:$M$188,-9.5))","v":""},{"$f":"IF(COUNTIF('Strain 3 '!$D$69:$M$108,-9.5)=0,\"\",COUNTIF('Strain 3 '!$D$69:$M$108,-9.5))","v":""},{"$f":"IF(COUNTIF('Strain 3 '!$D$109:$M$148,-9.5)=0,\"\",COUNTIF('Strain 3 '!$D$109:$M$148,-9.5))","v":""},{"$f":"IF(COUNTIF('Strain 3 '!$D$149:$M$188,-9.5)=0,\"\",COUNTIF('Strain 3 '!$D$149:$M$188,-9.5))","v":""},{"$f":"IF(COUNTIF('Strain 4'!$D$69:$M$108,-9.5)=0,\"\",COUNTIF('Strain 4'!$D$69:$M$108,-9.5))","v":""},{"$f":"IF(COUNTIF('Strain 4'!$D$109:$M$148,-9.5)=0,\"\",COUNTIF('Strain 4'!$D$109:$M$148,-9.5))","v":""},{"$f":"IF(COUNTIF('Strain 4'!$D$149:$M$188,-9.5)=0,\"\",COUNTIF('Strain 4'!$D$149:$M$188,-9.5))","v":""},{"$f":"IF(COUNTIF('Strain 5'!$D$69:$M$108,-9.5)=0,\"\",COUNTIF('Strain 5'!$D$69:$M$108,-9.5))","v":""},{"$f":"IF(COUNTIF('Strain 5'!$D$109:$M$148,-9.5)=0,\"\",COUNTIF('Strain 5'!$D$109:$M$148,-9.5))","v":""},{"$f":"IF(COUNTIF('Strain 5'!$D$149:$M$188,-9.5)=0,\"\",COUNTIF('Strain 5'!$D$149:$M$188,-9.5))","v":""},2E-3,-9.5,{"$f":"IF(COUNTIF('Strain 6'!$D$69:$M$108,-9.5)=0,\"\",COUNTIF('Strain 6'!$D$69:$M$108,-9.5))","v":""},{"$f":"IF(COUNTIF('Strain 6'!$D$109:$M$148,-9.5)=0,\"\",COUNTIF('Strain 6'!$D$109:$M$148,-9.5))","v":""},{"$f":"IF(COUNTIF('Strain 6'!$D$149:$M$188,-9.5)=0,\"\",COUNTIF('Strain 6'!$D$149:$M$188,-9.5))","v":""},{"$f":"IF(COUNTIF('Strain 7'!$D$69:$M$108,-9.5)=0,\"\",COUNTIF('Strain 7'!$D$69:$M$108,-9.5))","v":""},{"$f":"IF(COUNTIF('Strain 7'!$D$109:$M$148,-9.5)=0,\"\",COUNTIF('Strain 7'!$D$109:$M$148,-9.5))","v":""},{"$f":"IF(COUNTIF('Strain 7'!$D$149:$M$188,-9.5)=0,\"\",COUNTIF('Strain 7'!$D$149:$M$188,-9.5))","v":""},{"$f":"IF(COUNTIF('Strain 8'!$D$69:$M$108,-9.5)=0,\"\",COUNTIF('Strain 8'!$D$69:$M$108,-9.5))","v":""},{"$f":"IF(COUNTIF('Strain 8'!$D$109:$M$148,-9.5)=0,\"\",COUNTIF('Strain 8'!$D$109:$M$148,-9.5))","v":""},{"$f":"IF(COUNTIF('Strain 8'!$D$149:$M$188,-9.5)=0,\"\",COUNTIF('Strain 8'!$D$149:$M$188,-9.5))","v":""},{"$f":"IF(COUNTIF('Strain 9'!$D$69:$M$108,-9.5)=0,\"\",COUNTIF('Strain 9'!$D$69:$M$108,-9.5))","v":""},{"$f":"IF(COUNTIF('Strain 9'!$D$109:$M$148,-9.5)=0,\"\",COUNTIF('Strain 9'!$D$109:$M$148,-9.5))","v":""},{"$f":"IF(COUNTIF('Strain 9'!$D$149:$M$188,-9.5)=0,\"\",COUNTIF('Strain 9'!$D$149:$M$188,-9.5))","v":""},{"$f":"IF(COUNTIF('Strain 10'!$D$69:$M$108,-9.5)=0,\"\",COUNTIF('Strain 10'!$D$69:$M$108,-9.5))","v":""},{"$f":"IF(COUNTIF('Strain 10'!$D$109:$M$148,-9.5)=0,\"\",COUNTIF('Strain 10'!$D$109:$M$148,-9.5))","v":""},{"$f":"IF(COUNTIF('Strain 10'!$D$149:$M$188,-9.5)=0,\"\",COUNTIF('Strain 10'!$D$149:$M$188,-9.5))","v":""}]
[0.004,-8.5,{"$f":"IF(COUNTIF('Strain 1'!$D$69:$M$108,-8.5)=0,\"\",COUNTIF('Strain 1'!$D$69:$M$108,-8.5))","v":""},{"$f":"IF(COUNTIF('Strain 1'!$D$109:$M$148,-8.5)=0,\"\",COUNTIF('Strain 1'!$D$109:$M$148,-8.5))","v":""},{"$f":"IF(COUNTIF('Strain 1'!$D$149:$M$188,-8.5)=0,\"\",COUNTIF('Strain 1'!$D$149:$M$188,-8.5))","v":""},{"$f":"IF(COUNTIF('Strain 2'!$D$69:$M$108,-8.5)=0,\"\",COUNTIF('Strain 2'!$D$69:$M$108,-8.5))","v":""},{"$f":"IF(COUNTIF('Strain 2'!$D$109:$M$148,-8.5)=0,\"\",COUNTIF('Strain 2'!$D$109:$M$148,-8.5))","v":""},{"$f":"IF(COUNTIF('Strain 2'!$D$149:$M$188,-8.5)=0,\"\",COUNTIF('Strain 2'!$D$149:$M$188,-8.5))","v":""},{"$f":"IF(COUNTIF('Strain 3 '!$D$69:$M$108,-8.5)=0,\"\",COUNTIF('Strain 3 '!$D$69:$M$108,-8.5))","v":""},{"$f":"IF(COUNTIF('Strain 3 '!$D$109:$M$148,-8.5)=0,\"\",COUNTIF('Strain 3 '!$D$109:$M$148,-8.5))","v":""},{"$f":"IF(COUNTIF('Strain 3 '!$D$149:$M$188,-8.5)=0,\"\",COUNTIF('Strain 3 '!$D$149:$M$188,-8.5))","v":""},{"$f":"IF(COUNTIF('Strain 4'!$D$69:$M$108,-8.5)=0,\"\",COUNTIF('Strain 4'!$D$69:$M$108,-8.5))","v":""},{"$f":"IF(COUNTIF('Strain 4'!$D$109:$M$148,-8.5)=0,\"\",COUNTIF('Strain 4'!$D$109:$M$148,-8.5))","v":""},{"$f":"IF(COUNTIF('Strain 4'!$D$149:$M$188,-8.5)=0,\"\",COUNTIF('Strain 4'!$D$149:$M$188,-8.5))","v":""},{"$f":"IF(COUNTIF('Strain 5'!$D$69:$M$108,-8.5)=0,\"\",COUNTIF('Strain 5'!$D$69:$M$108,-8.5))","v":""},{"$f":"IF(COUNTIF('Strain 5'!$D$109:$M$148,-8.5)=0,\"\",COUNTIF('Strain 5'!$D$109:$M$148,-8.5))","v":""},{"$f":"IF(COUNTIF('Strain 5'!$D$149:$M$188,-8.5)=0,\"\",COUNTIF('Strain 5'!$D$149:$M$188,-8.5))","v":""},0.004,-8.5,{"$f":"IF(COUNTIF('Strain 6'!$D$69:$M$108,-8.5)=0,\"\",COUNTIF('Strain 6'!$D$69:$M$108,-8.5))","v":""},{"$f":"IF(COUNTIF('Strain 6'!$D$109:$M$148,-8.5)=0,\"\",COUNTIF('Strain 6'!$D$109:$M$148,-8.5))","v":""},{"$f":"IF(COUNTIF('Strain 6'!$D$149:$M$188,-8.5)=0,\"\",COUNTIF('Strain 6'!$D$149:$M$188,-8.5))","v":""},{"$f":"IF(COUNTIF('Strain 7'!$D$69:$M$108,-8.5)=0,\"\",COUNTIF('Strain 7'!$D$69:$M$108,-8.5))","v":""},{"$f":"IF(COUNTIF('Strain 7'!$D$109:$M$148,-8.5)=0,\"\",COUNTIF('Strain 7'!$D$109:$M$148,-8.5))","v":""},{"$f":"IF(COUNTIF('Strain 7'!$D$149:$M$188,-8.5)=0,\"\",COUNTIF('Strain 7'!$D$149:$M$188,-8.5))","v":""},{"$f":"IF(COUNTIF('Strain 8'!$D$69:$M$108,-8.5)=0,\"\",COUNTIF('Strain 8'!$D$69:$M$108,-8.5))","v":""},{"$f":"IF(COUNTIF('Strain 8'!$D$109:$M$148,-8.5)=0,\"\",COUNTIF('Strain 8'!$D$109:$M$148,-8.5))","v":""},{"$f":"IF(COUNTIF('Strain 8'!$D$149:$M$188,-8.5)=0,\"\",COUNTIF('Strain 8'!$D$149:$M$188,-8.5))","v":""},{"$f":"IF(COUNTIF('Strain 9'!$D$69:$M$108,-8.5)=0,\"\",COUNTIF('Strain 9'!$D$69:$M$108,-8.5))","v":""},{"$f":"IF(COUNTIF('Strain 9'!$D$109:$M$148,-8.5)=0,\"\",COUNTIF('Strain 9'!$D$109:$M$148,-8.5))","v":""},{"$f":"IF(COUNTIF('Strain 9'!$D$149:$M$188,-8.5)=0,\"\",COUNTIF('Strain 9'!$D$149:$M$188,-8.5))","v":""},{"$f":"IF(COUNTIF('Strain 10'!$D$69:$M$108,-8.5)=0,\"\",COUNTIF('Strain 10'!$D$69:$M$108,-8.5))","v":""},{"$f":"IF(COUNTIF('Strain 10'!$D$109:$M$148,-8.5)=0,\"\",COUNTIF('Strain 10'!$D$109:$M$148,-8.5))","v":""},{"$f":"IF(COUNTIF('Strain 10'!$D$149:$M$188,-8.5)=0,\"\",COUNTIF('Strain 10'!$D$149:$M$188,-8.5))","v":""}]
[0.008,-7.5,{"$f":"IF(COUNTIF('Strain 1'!$D$69:$M$108,-7.5)=0,\"\",COUNTIF('Strain 1'!$D$69:$M$108,-7.5))","v":""},{"$f":"IF(COUNTIF('Strain 1'!$D$109:$M$148,-7.5)=0,\"\",COUNTIF('Strain 1'!$D$109:$M$148,-7.5))","v":""},{"$f":"IF(COUNTIF('Strain 1'!$D$149:$M$188,-7.5)=0,\"\",COUNTIF('Strain 1'!$D$149:$M$188,-7.5))","v":""},{"$f":"IF(COUNTIF('Strain 2'!$D$69:$M$108,-7.5)=0,\"\",COUNTIF('Strain 2'!$D$69:$M$108,-7.5))","v":""},{"$f":"IF(COUNTIF('Strain 2'!$D$109:$M$148,-7.5)=0,\"\",COUNTIF('Strain 2'!$D$109:$M$148,-7.5))","v":""},{"$f":"IF(COUNTIF('Strain 2'!$D$149:$M$188,-7.5)=0,\"\",COUNTIF('Strain 2'!$D$149:$M$188,-7.5))","v":""},{"$f":"IF(COUNTIF('Strain 3 '!$D$69:$M$108,-7.5)=0,\"\",COUNTIF('Strain 3 '!$D$69:$M$108,-7.5))","v":""},{"$f":"IF(COUNTIF('Strain 3 '!$D$109:$M$148,-7.5)=0,\"\",COUNTIF('Strain 3 '!$D$109:$M$148,-7.5))","v":""},{"$f":"IF(COUNTIF('Strain 3 '!$D$149:$M$188,-7.5)=0,\"\",COUNTIF('Strain 3 '!$D$149:$M$188,-7.5))","v":""},{"$f":"IF(COUNTIF('Strain 4'!$D$69:$M$108,-7.5)=0,\"\",COUNTIF('Strain 4'!$D$69:$M$108,-7.5))","v":""},{"$f":"IF(COUNTIF('Strain 4'!$D$109:$M$148,-7.5)=0,\"\",COUNTIF('Strain 4'!$D$109:$M$148,-7.5))","v":""},{"$f":"IF(COUNTIF('Strain 4'!$D$149:$M$188,-7.5)=0,\"\",COUNTIF('Strain 4'!$D$149:$M$188,-7.5))","v":""},{"$f":"IF(COUNTIF('Strain 5'!$D$69:$M$108,-7.5)=0,\"\",COUNTIF('Strain 5'!$D$69:$M$108,-7.5))","v":""},{"$f":"IF(COUNTIF('Strain 5'!$D$109:$M$148,-7.5)=0,\"\",COUNTIF('Strain 5'!$D$109:$M$148,-7.5))","v":""},{"$f":"IF(COUNTIF('Strain 5'!$D$149:$M$188,-7.5)=0,\"\",COUNTIF('Strain 5'!$D$149:$M$188,-7.5))","v":""},0.008,-7.5,{"$f":"IF(COUNTIF('Strain 6'!$D$69:$M$108,-7.5)=0,\"\",COUNTIF('Strain 6'!$D$69:$M$108,-7.5))","v":""},{"$f":"IF(COUNTIF('Strain 6'!$D$109:$M$148,-7.5)=0,\"\",COUNTIF('Strain 6'!$D$109:$M$148,-7.5))","v":""},{"$f":"IF(COUNTIF('Strain 6'!$D$149:$M$188,-7.5)=0,\"\",COUNTIF('Strain 6'!$D$149:$M$188,-7.5))","v":""},{"$f":"IF(COUNTIF('Strain 7'!$D$69:$M$108,-7.5)=0,\"\",COUNTIF('Strain 7'!$D$69:$M$108,-7.5))","v":""},{"$f":"IF(COUNTIF('Strain 7'!$D$109:$M$148,-7.5)=0,\"\",COUNTIF('Strain 7'!$D$109:$M$148,-7.5))","v":""},{"$f":"IF(COUNTIF('Strain 7'!$D$149:$M$188,-7.5)=0,\"\",COUNTIF('Strain 7'!$D$149:$M$188,-7.5))","v":""},{"$f":"IF(COUNTIF('Strain 8'!$D$69:$M$108,-7.5)=0,\"\",COUNTIF('Strain 8'!$D$69:$M$108,-7.5))","v":""},{"$f":"IF(COUNTIF('Strain 8'!$D$109:$M$148,-7.5)=0,\"\",COUNTIF('Strain 8'!$D$109:$M$148,-7.5))","v":""},{"$f":"IF(COUNTIF('Strain 8'!$D$149:$M$188,-7.5)=0,\"\",COUNTIF('Strain 8'!$D$149:$M$188,-7.5))","v":""},{"$f":"IF(COUNTIF('Strain 9'!$D$69:$M$108,-7.5)=0,\"\",COUNTIF('Strain 9'!$D$69:$M$108,-7.5))","v":""},{"$f":"IF(COUNTIF('Strain 9'!$D$109:$M$148,-7.5)=0,\"\",COUNTIF('Strain 9'!$D$109:$M$148,-7.5))","v":""},{"$f":"IF(COUNTIF('Strain 9'!$D$149:$M$188,-7.5)=0,\"\",COUNTIF('Strain 9'!$D$149:$M$188,-7.5))","v":""},{"$f":"IF(COUNTIF('Strain 10'!$D$69:$M$108,-7.5)=0,\"\",COUNTIF('Strain 10'!$D$69:$M$108,-7.5))","v":""},{"$f":"IF(COUNTIF('Strain 10'!$D$109:$M$148,-7.5)=0,\"\",COUNTIF('Strain 10'!$D$109:$M$148,-7.5))","v":""},{"$f":"IF(COUNTIF('Strain 10'!$D$149:$M$188,-7.5)=0,\"\",COUNTIF('Strain 10'!$D$149:$M$188,-7.5))","v":""}]
[0.016,-6.5,{"$f":"IF(COUNTIF('Strain 1'!$D$69:$M$108,-6.5)=0,\"\",COUNTIF('Strain 1'!$D$69:$M$108,-6.5))","v":""},{"$f":"IF(COUNTIF('Strain 1'!$D$109:$M$148,-6.5)=0,\"\",COUNTIF('Strain 1'!$D$109:$M$148,-6.5))","v":""},{"$f":"IF(COUNTIF('Strain 1'!$D$149:$M$188,-6.5)=0,\"\",COUNTIF('Strain 1'!$D$149:$M$188,-6.5))","v":""},{"$f":"IF(COUNTIF('Strain 2'!$D$69:$M$108,-6.5)=0,\"\",COUNTIF('Strain 2'!$D$69:$M$108,-6.5))","v":""},{"$f":"IF(COUNTIF('Strain 2'!$D$109:$M$148,-6.5)=0,\"\",COUNTIF('Strain 2'!$D$109:$M$148,-6.5))","v":""},{"$f":"IF(COUNTIF('Strain 2'!$D$149:$M$188,-6.5)=0,\"\",COUNTIF('Strain 2'!$D$149:$M$188,-6.5))","v":""},{"$f":"IF(COUNTIF('Strain 3 '!$D$69:$M$108,-6.5)=0,\"\",COUNTIF('Strain 3 '!$D$69:$M$108,-6.5))","v":""},{"$f":"IF(COUNTIF('Strain 3 '!$D$109:$M$148,-6.5)=0,\"\",COUNTIF('Strain 3 '!$D$109:$M$148,-6.5))","v":""},{"$f":"IF(COUNTIF('Strain 3 '!$D$149:$M$188,-6.5)=0,\"\",COUNTIF('Strain 3 '!$D$149:$M$188,-6.5))","v":""},{"$f":"IF(COUNTIF('Strain 4'!$D$69:$M$108,-6.5)=0,\"\",COUNTIF('Strain 4'!$D$69:$M$108,-6.5))","v":""},{"$f":"IF(COUNTIF('Strain 4'!$D$109:$M$148,-6.5)=0,\"\",COUNTIF('Strain 4'!$D$109:$M$148,-6.5))","v":""},{"$f":"IF(COUNTIF('Strain 4'!$D$149:$M$188,-6.5)=0,\"\",COUNTIF('Strain 4'!$D$149:$M$188,-6.5))","v":""},{"$f":"IF(COUNTIF('Strain 5'!$D$69:$M$108,-6.5)=0,\"\",COUNTIF('Strain 5'!$D$69:$M$108,-6.5))","v":""},{"$f":"IF(COUNTIF('Strain 5'!$D$109:$M$148,-6.5)=0,\"\",COUNTIF('Strain 5'!$D$109:$M$148,-6.5))","v":""},{"$f":"IF(COUNTIF('Strain 5'!$D$149:$M$188,-6.5)=0,\"\",COUNTIF('Strain 5'!$D$149:$M$188,-6.5))","v":""},0.016,-6.5,{"$f":"IF(COUNTIF('Strain 6'!$D$69:$M$108,-6.5)=0,\"\",COUNTIF('Strain 6'!$D$69:$M$108,-6.5))","v":""},{"$f":"IF(COUNTIF('Strain 6'!$D$109:$M$148,-6.5)=0,\"\",COUNTIF('Strain 6'!$D$109:$M$148,-6.5))","v":""},{"$f":"IF(COUNTIF('Strain 6'!$D$149:$M$188,-6.5)=0,\"\",COUNTIF('Strain 6'!$D$149:$M$188,-6.5))","v":""},{"$f":"IF(COUNTIF('Strain 7'!$D$69:$M$108,-6.5)=0,\"\",COUNTIF('Strain 7'!$D$69:$M$108,-6.5))","v":""},{"$f":"IF(COUNTIF('Strain 7'!$D$109:$M$148,-6.5)=0,\"\",COUNTIF('Strain 7'!$D$109:$M$148,-6.5))","v":""},{"$f":"IF(COUNTIF('Strain 7'!$D$149:$M$188,-6.5)=0,\"\",COUNTIF('Strain 7'!$D$149:$M$188,-6.5))","v":""},{"$f":"IF(COUNTIF('Strain 8'!$D$69:$M$108,-6.5)=0,\"\",COUNTIF('Strain 8'!$D$69:$M$108,-6.5))","v":""},{"$f":"IF(COUNTIF('Strain 8'!$D$109:$M$148,-6.5)=0,\"\",COUNTIF('Strain 8'!$D$109:$M$148,-6.5))","v":""},{"$f":"IF(COUNTIF('Strain 8'!$D$149:$M$188,-6.5)=0,\"\",COUNTIF('Strain 8'!$D$149:$M$188,-6.5))","v":""},{"$f":"IF(COUNTIF('Strain 9'!$D$69:$M$108,-6.5)=0,\"\",COUNTIF('Strain 9'!$D$69:$M$108,-6.5))","v":""},{"$f":"IF(COUNTIF('Strain 9'!$D$109:$M$148,-6.5)=0,\"\",COUNTIF('Strain 9'!$D$109:$M$148,-6.5))","v":""},{"$f":"IF(COUNTIF('Strain 9'!$D$149:$M$188,-6.5)=0,\"\",COUNTIF('Strain 9'!$D$149:$M$188,-6.5))","v":""},{"$f":"IF(COUNTIF('Strain 10'!$D$69:$M$108,-6.5)=0,\"\",COUNTIF('Strain 10'!$D$69:$M$108,-6.5))","v":""},{"$f":"IF(COUNTIF('Strain 10'!$D$109:$M$148,-6.5)=0,\"\",COUNTIF('Strain 10'!$D$109:$M$148,-6.5))","v":""},{"$f":"IF(COUNTIF('Strain 10'!$D$149:$M$188,-6.5)=0,\"\",COUNTIF('Strain 10'!$D$149:$M$188,-6.5))","v":""}]
[0.03,-5.5,{"$f":"IF(COUNTIF('Strain 1'!$D$69:$M$108,-5.5)=0,\"\",COUNTIF('Strain 1'!$D$69:$M$108,-5.5))","v":""},{"$f":"IF(COUNTIF('Strain 1'!$D$109:$M$148,-5.5)=0,\"\",COUNTIF('Strain 1'!$D$109:$M$148,-5.5))","v":""},{"$f":"IF(COUNTIF('Strain 1'!$D$149:$M$188,-5.5)=0,\"\",COUNTIF('Strain 1'!$D$149:$M$188,-5.5))","v":""},{"$f":"IF(COUNTIF('Strain 2'!$D$69:$M$108,-5.5)=0,\"\",COUNTIF('Strain 2'!$D$69:$M$108,-5.5))","v":""},{"$f":"IF(COUNTIF('Strain 2'!$D$109:$M$148,-5.5)=0,\"\",COUNTIF('Strain 2'!$D$109:$M$148,-5.5))","v":""},{"$f":"IF(COUNTIF('Strain 2'!$D$149:$M$188,-5.5)=0,\"\",COUNTIF('Strain 2'!$D$149:$M$188,-5.5))","v":""},{"$f":"IF(COUNTIF('Strain 3 '!$D$69:$M$108,-5.5)=0,\"\",COUNTIF('Strain 3 '!$D$69:$M$108,-5.5))","v":""},{"$f":"IF(COUNTIF('Strain 3 '!$D$109:$M$148,-5.5)=0,\"\",COUNTIF('Strain 3 '!$D$109:$M$148,-5.5))","v":""},{"$f":"IF(COUNTIF('Strain 3 '!$D$149:$M$188,-5.5)=0,\"\",COUNTIF('Strain 3 '!$D$149:$M$188,-5.5))","v":""},{"$f":"IF(COUNTIF('Strain 4'!$D$69:$M$108,-5.5)=0,\"\",COUNTIF('Strain 4'!$D$69:$M$108,-5.5))","v":""},{"$f":"IF(COUNTIF('Strain 4'!$D$109:$M$148,-5.5)=0,\"\",COUNTIF('Strain 4'!$D$109:$M$148,-5.5))","v":""},{"$f":"IF(COUNTIF('Strain 4'!$D$149:$M$188,-5.5)=0,\"\",COUNTIF('Strain 4'!$D$149:$M$188,-5.5))","v":""},{"$f":"IF(COUNTIF('Strain 5'!$D$69:$M$108,-5.5)=0,\"\",COUNTIF('Strain 5'!$D$69:$M$108,-5.5))","v":""},{"$f":"IF(COUNTIF('Strain 5'!$D$109:$M$148,-5.5)=0,\"\",COUNTIF('Strain 5'!$D$109:$M$148,-5.5))","v":""},{"$f":"IF(COUNTIF('Strain 5'!$D$149:$M$188,-5.5)=0,\"\",COUNTIF('Strain 5'!$D$149:$M$188,-5.5))","v":""},0.03,-5.5,{"$f":"IF(COUNTIF('Strain 6'!$D$69:$M$108,-5.5)=0,\"\",COUNTIF('Strain 6'!$D$69:$M$108,-5.5))","v":""},{"$f":"IF(COUNTIF('Strain 6'!$D$109:$M$148,-5.5)=0,\"\",COUNTIF('Strain 6'!$D$109:$M$148,-5.5))","v":""},{"$f":"IF(COUNTIF('Strain 6'!$D$149:$M$188,-5.5)=0,\"\",COUNTIF('Strain 6'!$D$149:$M$188,-5.5))","v":""},{"$f":"IF(COUNTIF('Strain 7'!$D$69:$M$108,-5.5)=0,\"\",COUNTIF('Strain 7'!$D$69:$M$108,-5.5))","v":""},{"$f":"IF(COUNTIF('Strain 7'!$D$109:$M$148,-5.5)=0,\"\",COUNTIF('Strain 7'!$D$109:$M$148,-5.5))","v":""},{"$f":"IF(COUNTIF('Strain 7'!$D$149:$M$188,-5.5)=0,\"\",COUNTIF('Strain 7'!$D$149:$M$188,-5.5))","v":""},{"$f":"IF(COUNTIF('Strain 8'!$D$69:$M$108,-5.5)=0,\"\",COUNTIF('Strain 8'!$D$69:$M$108,-5.5))","v":""},{"$f":"IF(COUNTIF('Strain 8'!$D$109:$M$148,-5.5)=0,\"\",COUNTIF('Strain 8'!$D$109:$M$148,-5.5))","v":""},{"$f":"IF(COUNTIF('Strain 8'!$D$149:$M$188,-5.5)=0,\"\",COUNTIF('Strain 8'!$D$149:$M$188,-5.5))","v":""},{"$f":"IF(COUNTIF('Strain 9'!$D$69:$M$108,-5.5)=0,\"\",COUNTIF('Strain 9'!$D$69:$M$108,-5.5))","v":""},{"$f":"IF(COUNTIF('Strain 9'!$D$109:$M$148,-5.5)=0,\"\",COUNTIF('Strain 9'!$D$109:$M$148,-5.5))","v":""},{"$f":"IF(COUNTIF('Strain 9'!$D$149:$M$188,-5.5)=0,\"\",COUNTIF('Strain 9'!$D$149:$M$188,-5.5))","v":""},{"$f":"IF(COUNTIF('Strain 10'!$D$69:$M$108,-5.5)=0,\"\",COUNTIF('Strain 10'!$D$69:$M$108,-5.5))","v":""},{"$f":"IF(COUNTIF('Strain 10'!$D$109:$M$148,-5.5)=0,\"\",COUNTIF('Strain 10'!$D$109:$M$148,-5.5))","v":""},{"$f":"IF(COUNTIF('Strain 10'!$D$149:$M$188,-5.5)=0,\"\",COUNTIF('Strain 10'!$D$149:$M$188,-5.5))","v":""}]
[0.06,-4.5,{"$f":"IF(COUNTIF('Strain 1'!$D$69:$M$108,-4.5)=0,\"\",COUNTIF('Strain 1'!$D$69:$M$108,-4.5))","v":""},{"$f":"IF(COUNTIF('Strain 1'!$D$109:$M$148,-4.5)=0,\"\",COUNTIF('Strain 1'!$D$109:$M$148,-4.5))","v":""},{"$f":"IF(COUNTIF('Strain 1'!$D$149:$M$188,-4.5)=0,\"\",COUNTIF('Strain 1'!$D$149:$M$188,-4.5))","v":""},{"$f":"IF(COUNTIF('Strain 2'!$D$69:$M$108,-4.5)=0,\"\",COUNTIF('Strain 2'!$D$69:$M$108,-4.5))","v":""},{"$f":"IF(COUNTIF('Strain 2'!$D$109:$M$148,-4.5)=0,\"\",COUNTIF('Strain 2'!$D$109:$M$148,-4.5))","v":""},{"$f":"IF(COUNTIF('Strain 2'!$D$149:$M$188,-4.5)=0,\"\",COUNTIF('Strain 2'!$D$149:$M$188,-4.5))","v":""},{"$f":"IF(COUNTIF('Strain 3 '!$D$69:$M$108,-4.5)=0,\"\",COUNTIF('Strain 3 '!$D$69:$M$108,-4.5))","v":""},{"$f":"IF(COUNTIF('Strain 3 '!$D$109:$M$148,-4.5)=0,\"\",COUNTIF('Strain 3 '!$D$109:$M$148,-4.5))","v":""},{"$f":"IF(COUNTIF('Strain 3 '!$D$149:$M$188,-4.5)=0,\"\",COUNTIF('Strain 3 '!$D$149:$M$188,-4.5))","v":""},{"$f":"IF(COUNTIF('Strain 4'!$D$69:$M$108,-4.5)=0,\"\",COUNTIF('Strain 4'!$D$69:$M$108,-4.5))","v":""},{"$f":"IF(COUNTIF('Strain 4'!$D$109:$M$148,-4.5)=0,\"\",COUNTIF('Strain 4'!$D$109:$M$148,-4.5))","v":""},{"$f":"IF(COUNTIF('Strain 4'!$D$149:$M$188,-4.5)=0,\"\",COUNTIF('Strain 4'!$D$149:$M$188,-4.5))","v":""},{"$f":"IF(COUNTIF('Strain 5'!$D$69:$M$108,-4.5)=0,\"\",COUNTIF('Strain 5'!$D$69:$M$108,-4.5))","v":""},{"$f":"IF(COUNTIF('Strain 5'!$D$109:$M$148,-4.5)=0,\"\",COUNTIF('Strain 5'!$D$109:$M$148,-4.5))","v":""},{"$f":"IF(COUNTIF('Strain 5'!$D$149:$M$188,-4.5)=0,\"\",COUNTIF('Strain 5'!$D$149:$M$188,-4.5))","v":""},0.06,-4.5,{"$f":"IF(COUNTIF('Strain 6'!$D$69:$M$108,-4.5)=0,\"\",COUNTIF('Strain 6'!$D$69:$M$108,-4.5))","v":""},{"$f":"IF(COUNTIF('Strain 6'!$D$109:$M$148,-4.5)=0,\"\",COUNTIF('Strain 6'!$D$109:$M$148,-4.5))","v":""},{"$f":"IF(COUNTIF('Strain 6'!$D$149:$M$188,-4.5)=0,\"\",COUNTIF('Strain 6'!$D$149:$M$188,-4.5))","v":""},{"$f":"IF(COUNTIF('Strain 7'!$D$69:$M$108,-4.5)=0,\"\",COUNTIF('Strain 7'!$D$69:$M$108,-4.5))","v":""},{"$f":"IF(COUNTIF('Strain 7'!$D$109:$M$148,-4.5)=0,\"\",COUNTIF('Strain 7'!$D$109:$M$148,-4.5))","v":""},{"$f":"IF(COUNTIF('Strain 7'!$D$149:$M$188,-4.5)=0,\"\",COUNTIF('Strain 7'!$D$149:$M$188,-4.5))","v":""},{"$f":"IF(COUNTIF('Strain 8'!$D$69:$M$108,-4.5)=0,\"\",COUNTIF('Strain 8'!$D$69:$M$108,-4.5))","v":""},{"$f":"IF(COUNTIF('Strain 8'!$D$109:$M$148,-4.5)=0,\"\",COUNTIF('Strain 8'!$D$109:$M$148,-4.5))","v":""},{"$f":"IF(COUNTIF('Strain 8'!$D$149:$M$188,-4.5)=0,\"\",COUNTIF('Strain 8'!$D$149:$M$188,-4.5))","v":""},{"$f":"IF(COUNTIF('Strain 9'!$D$69:$M$108,-4.5)=0,\"\",COUNTIF('Strain 9'!$D$69:$M$108,-4.5))","v":""},{"$f":"IF(COUNTIF('Strain 9'!$D$109:$M$148,-4.5)=0,\"\",COUNTIF('Strain 9'!$D$109:$M$148,-4.5))","v":""},{"$f":"IF(COUNTIF('Strain 9'!$D$149:$M$188,-4.5)=0,\"\",COUNTIF('Strain 9'!$D$149:$M$188,-4.5))","v":""},{"$f":"IF(COUNTIF('Strain 10'!$D$69:$M$108,-4.5)=0,\"\",COUNTIF('Strain 10'!$D$69:$M$108,-4.5))","v":""},{"$f":"IF(COUNTIF('Strain 10'!$D$109:$M$148,-4.5)=0,\"\",COUNTIF('Strain 10'!$D$109:$M$148,-4.5))","v":""},{"$f":"IF(COUNTIF('Strain 10'!$D$149:$M$188,-4.5)=0,\"\",COUNTIF('Strain 10'!$D$149:$M$188,-4.5))","v":""}]
[0.13,-3.5,{"$f":"IF(COUNTIF('Strain 1'!$D$69:$M$108,-3.5)=0,\"\",COUNTIF('Strain 1'!$D$69:$M$108,-3.5))","v":""},{"$f":"IF(COUNTIF('Strain 1'!$D$109:$M$148,-3.5)=0,\"\",COUNTIF('Strain 1'!$D$109:$M$148,-3.5))","v":""},{"$f":"IF(COUNTIF('Strain 1'!$D$149:$M$188,-3.5)=0,\"\",COUNTIF('Strain 1'!$D$149:$M$188,-3.5))","v":""},{"$f":"IF(COUNTIF('Strain 2'!$D$69:$M$108,-3.5)=0,\"\",COUNTIF('Strain 2'!$D$69:$M$108,-3.5))","v":""},{"$f":"IF(COUNTIF('Strain 2'!$D$109:$M$148,-3.5)=0,\"\",COUNTIF('Strain 2'!$D$109:$M$148,-3.5))","v":""},{"$f":"IF(COUNTIF('Strain 2'!$D$149:$M$188,-3.5)=0,\"\",COUNTIF('Strain 2'!$D$149:$M$188,-3.5))","v":""},{"$f":"IF(COUNTIF('Strain 3 '!$D$69:$M$108,-3.5)=0,\"\",COUNTIF('Strain 3 '!$D$69:$M$108,-3.5))","v":""},{"$f":"IF(COUNTIF('Strain 3 '!$D$109:$M$148,-3.5)=0,\"\",COUNTIF('Strain 3 '!$D$109:$M$148,-3.5))","v":""},{"$f":"IF(COUNTIF('Strain 3 '!$D$149:$M$188,-3.5)=0,\"\",COUNTIF('Strain 3 '!$D$149:$M$188,-3.5))","v":""},{"$f":"IF(COUNTIF('Strain 4'!$D$69:$M$108,-3.5)=0,\"\",COUNTIF('Strain 4'!$D$69:$M$108,-3.5))","v":""},{"$f":"IF(COUNTIF('Strain 4'!$D$109:$M$148,-3.5)=0,\"\",COUNTIF('Strain 4'!$D$109:$M$148,-3.5))","v":""},{"$f":"IF(COUNTIF('Strain 4'!$D$149:$M$188,-3.5)=0,\"\",COUNTIF('Strain 4'!$D$149:$M$188,-3.5))","v":""},{"$f":"IF(COUNTIF('Strain 5'!$D$69:$M$108,-3.5)=0,\"\",COUNTIF('Strain 5'!$D$69:$M$108,-3.5))","v":""},{"$f":"IF(COUNTIF('Strain 5'!$D$109:$M$148,-3.5)=0,\"\",COUNTIF('Strain 5'!$D$109:$M$148,-3.5))","v":""},{"$f":"IF(COUNTIF('Strain 5'!$D$149:$M$188,-3.5)=0,\"\",COUNTIF('Strain 5'!$D$149:$M$188,-3.5))","v":""},0.13,-3.5,{"$f":"IF(COUNTIF('Strain 6'!$D$69:$M$108,-3.5)=0,\"\",COUNTIF('Strain 6'!$D$69:$M$108,-3.5))","v":""},{"$f":"IF(COUNTIF('Strain 6'!$D$109:$M$148,-3.5)=0,\"\",COUNTIF('Strain 6'!$D$109:$M$148,-3.5))","v":""},{"$f":"IF(COUNTIF('Strain 6'!$D$149:$M$188,-3.5)=0,\"\",COUNTIF('Strain 6'!$D$149:$M$188,-3.5))","v":""},{"$f":"IF(COUNTIF('Strain 7'!$D$69:$M$108,-3.5)=0,\"\",COUNTIF('Strain 7'!$D$69:$M$108,-3.5))","v":""},{"$f":"IF(COUNTIF('Strain 7'!$D$109:$M$148,-3.5)=0,\"\",COUNTIF('Strain 7'!$D$109:$M$148,-3.5))","v":""},{"$f":"IF(COUNTIF('Strain 7'!$D$149:$M$188,-3.5)=0,\"\",COUNTIF('Strain 7'!$D$149:$M$188,-3.5))","v":""},{"$f":"IF(COUNTIF('Strain 8'!$D$69:$M$108,-3.5)=0,\"\",COUNTIF('Strain 8'!$D$69:$M$108,-3.5))","v":""},{"$f":"IF(COUNTIF('Strain 8'!$D$109:$M$148,-3.5)=0,\"\",COUNTIF('Strain 8'!$D$109:$M$148,-3.5))","v":""},{"$f":"IF(COUNTIF('Strain 8'!$D$149:$M$188,-3.5)=0,\"\",COUNTIF('Strain 8'!$D$149:$M$188,-3.5))","v":""},{"$f":"IF(COUNTIF('Strain 9'!$D$69:$M$108,-3.5)=0,\"\",COUNTIF('Strain 9'!$D$69:$M$108,-3.5))","v":""},{"$f":"IF(COUNTIF('Strain 9'!$D$109:$M$148,-3.5)=0,\"\",COUNTIF('Strain 9'!$D$109:$M$148,-3.5))","v":""},{"$f":"IF(COUNTIF('Strain 9'!$D$149:$M$188,-3.5)=0,\"\",COUNTIF('Strain 9'!$D$149:$M$188,-3.5))","v":""},{"$f":"IF(COUNTIF('Strain 10'!$D$69:$M$108,-3.5)=0,\"\",COUNTIF('Strain 10'!$D$69:$M$108,-3.5))","v":""},{"$f":"IF(COUNTIF('Strain 10'!$D$109:$M$148,-3.5)=0,\"\",COUNTIF('Strain 10'!$D$109:$M$148,-3.5))","v":""},{"$f":"IF(COUNTIF('Strain 10'!$D$149:$M$188,-3.5)=0,\"\",COUNTIF('Strain 10'!$D$149:$M$188,-3.5))","v":""}]
[0.25,-2.5,{"$f":"IF(COUNTIF('Strain 1'!$D$69:$M$108,-2.5)=0,\"\",COUNTIF('Strain 1'!$D$69:$M$108,-2.5))","v":""},{"$f":"IF(COUNTIF('Strain 1'!$D$109:$M$148,-2.5)=0,\"\",COUNTIF('Strain 1'!$D$109:$M$148,-2.5))","v":""},{"$f":"IF(COUNTIF('Strain 1'!$D$149:$M$188,-2.5)=0,\"\",COUNTIF('Strain 1'!$D$149:$M$188,-2.5))","v":""},{"$f":"IF(COUNTIF('Strain 2'!$D$69:$M$108,-2.5)=0,\"\",COUNTIF('Strain 2'!$D$69:$M$108,-2.5))","v":""},{"$f":"IF(COUNTIF('Strain 2'!$D$109:$M$148,-2.5)=0,\"\",COUNTIF('Strain 2'!$D$109:$M$148,-2.5))","v":""},{"$f":"IF(COUNTIF('Strain 2'!$D$149:$M$188,-2.5)=0,\"\",COUNTIF('Strain 2'!$D$149:$M$188,-2.5))","v":""},{"$f":"IF(COUNTIF('Strain 3 '!$D$69:$M$108,-2.5)=0,\"\",COUNTIF('Strain 3 '!$D$69:$M$108,-2.5))","v":""},{"$f":"IF(COUNTIF('Strain 3 '!$D$109:$M$148,-2.5)=0,\"\",COUNTIF('Strain 3 '!$D$109:$M$148,-2.5))","v":""},{"$f":"IF(COUNTIF('Strain 3 '!$D$149:$M$188,-2.5)=0,\"\",COUNTIF('Strain 3 '!$D$149:$M$188,-2.5))","v":""},{"$f":"IF(COUNTIF('Strain 4'!$D$69:$M$108,-2.5)=0,\"\",COUNTIF('Strain 4'!$D$69:$M$108,-2.5))","v":""},{"$f":"IF(COUNTIF('Strain 4'!$D$109:$M$148,-2.5)=0,\"\",COUNTIF('Strain 4'!$D$109:$M$148,-2.5))","v":""},{"$f":"IF(COUNTIF('Strain 4'!$D$149:$M$188,-2.5)=0,\"\",COUNTIF('Strain 4'!$D$149:$M$188,-2.5))","v":""},{"$f":"IF(COUNTIF('Strain 5'!$D$69:$M$108,-2.5)=0,\"\",COUNTIF('Strain 5'!$D$69:$M$108,-2.5))","v":""},{"$f":"IF(COUNTIF('Strain 5'!$D$109:$M$148,-2.5)=0,\"\",COUNTIF('Strain 5'!$D$109:$M$148,-2.5))","v":""},{"$f":"IF(COUNTIF('Strain 5'!$D$149:$M$188,-2.5)=0,\"\",COUNTIF('Strain 5'!$D$149:$M$188,-2.5))","v":""},0.25,-2.5,{"$f":"IF(COUNTIF('Strain 6'!$D$69:$M$108,-2.5)=0,\"\",COUNTIF('Strain 6'!$D$69:$M$108,-2.5))","v":""},{"$f":"IF(COUNTIF('Strain 6'!$D$109:$M$148,-2.5)=0,\"\",COUNTIF('Strain 6'!$D$109:$M$148,-2.5))","v":""},{"$f":"IF(COUNTIF('Strain 6'!$D$149:$M$188,-2.5)=0,\"\",COUNTIF('Strain 6'!$D$149:$M$188,-2.5))","v":""},{"$f":"IF(COUNTIF('Strain 7'!$D$69:$M$108,-2.5)=0,\"\",COUNTIF('Strain 7'!$D$69:$M$108,-2.5))","v":""},{"$f":"IF(COUNTIF('Strain 7'!$D$109:$M$148,-2.5)=0,\"\",COUNTIF('Strain 7'!$D$109:$M$148,-2.5))","v":""},{"$f":"IF(COUNTIF('Strain 7'!$D$149:$M$188,-2.5)=0,\"\",COUNTIF('Strain 7'!$D$149:$M$188,-2.5))","v":""},{"$f":"IF(COUNTIF('Strain 8'!$D$69:$M$108,-2.5)=0,\"\",COUNTIF('Strain 8'!$D$69:$M$108,-2.5))","v":""},{"$f":"IF(COUNTIF('Strain 8'!$D$109:$M$148,-2.5)=0,\"\",COUNTIF('Strain 8'!$D$109:$M$148,-2.5))","v":""},{"$f":"IF(COUNTIF('Strain 8'!$D$149:$M$188,-2.5)=0,\"\",COUNTIF('Strain 8'!$D$149:$M$188,-2.5))","v":""},{"$f":"IF(COUNTIF('Strain 9'!$D$69:$M$108,-2.5)=0,\"\",COUNTIF('Strain 9'!$D$69:$M$108,-2.5))","v":""},{"$f":"IF(COUNTIF('Strain 9'!$D$109:$M$148,-2.5)=0,\"\",COUNTIF('Strain 9'!$D$109:$M$148,-2.5))","v":""},{"$f":"IF(COUNTIF('Strain 9'!$D$149:$M$188,-2.5)=0,\"\",COUNTIF('Strain 9'!$D$149:$M$188,-2.5))","v":""},{"$f":"IF(COUNTIF('Strain 10'!$D$69:$M$108,-2.5)=0,\"\",COUNTIF('Strain 10'!$D$69:$M$108,-2.5))","v":""},{"$f":"IF(COUNTIF('Strain 10'!$D$109:$M$148,-2.5)=0,\"\",COUNTIF('Strain 10'!$D$109:$M$148,-2.5))","v":""},{"$f":"IF(COUNTIF('Strain 10'!$D$149:$M$188,-2.5)=0,\"\",COUNTIF('Strain 10'!$D$149:$M$188,-2.5))","v":""}]
[0.5,-1.5,{"$f":"IF(COUNTIF('Strain 1'!$D$69:$M$108,-1.5)=0,\"\",COUNTIF('Strain 1'!$D$69:$M$108,-1.5))","v":""},{"$f":"IF(COUNTIF('Strain 1'!$D$109:$M$148,-1.5)=0,\"\",COUNTIF('Strain 1'!$D$109:$M$148,-1.5))","v":""},{"$f":"IF(COUNTIF('Strain 1'!$D$149:$M$188,-1.5)=0,\"\",COUNTIF('Strain 1'!$D$149:$M$188,-1.5))","v":""},{"$f":"IF(COUNTIF('Strain 2'!$D$69:$M$108,-1.5)=0,\"\",COUNTIF('Strain 2'!$D$69:$M$108,-1.5))","v":""},{"$f":"IF(COUNTIF('Strain 2'!$D$109:$M$148,-1.5)=0,\"\",COUNTIF('Strain 2'!$D$109:$M$148,-1.5))","v":""},{"$f":"IF(COUNTIF('Strain 2'!$D$149:$M$188,-1.5)=0,\"\",COUNTIF('Strain 2'!$D$149:$M$188,-1.5))","v":""},{"$f":"IF(COUNTIF('Strain 3 '!$D$69:$M$108,-1.5)=0,\"\",COUNTIF('Strain 3 '!$D$69:$M$108,-1.5))","v":""},{"$f":"IF(COUNTIF('Strain 3 '!$D$109:$M$148,-1.5)=0,\"\",COUNTIF('Strain 3 '!$D$109:$M$148,-1.5))","v":""},{"$f":"IF(COUNTIF('Strain 3 '!$D$149:$M$188,-1.5)=0,\"\",COUNTIF('Strain 3 '!$D$149:$M$188,-1.5))","v":""},{"$f":"IF(COUNTIF('Strain 4'!$D$69:$M$108,-1.5)=0,\"\",COUNTIF('Strain 4'!$D$69:$M$108,-1.5))","v":""},{"$f":"IF(COUNTIF('Strain 4'!$D$109:$M$148,-1.5)=0,\"\",COUNTIF('Strain 4'!$D$109:$M$148,-1.5))","v":""},{"$f":"IF(COUNTIF('Strain 4'!$D$149:$M$188,-1.5)=0,\"\",COUNTIF('Strain 4'!$D$149:$M$188,-1.5))","v":""},{"$f":"IF(COUNTIF('Strain 5'!$D$69:$M$108,-1.5)=0,\"\",COUNTIF('Strain 5'!$D$69:$M$108,-1.5))","v":""},{"$f":"IF(COUNTIF('Strain 5'!$D$109:$M$148,-1.5)=0,\"\",COUNTIF('Strain 5'!$D$109:$M$148,-1.5))","v":""},{"$f":"IF(COUNTIF('Strain 5'!$D$149:$M$188,-1.5)=0,\"\",COUNTIF('Strain 5'!$D$149:$M$188,-1.5))","v":""},0.5,-1.5,{"$f":"IF(COUNTIF('Strain 6'!$D$69:$M$108,-1.5)=0,\"\",COUNTIF('Strain 6'!$D$69:$M$108,-1.5))","v":""},{"$f":"IF(COUNTIF('Strain 6'!$D$109:$M$148,-1.5)=0,\"\",COUNTIF('Strain 6'!$D$109:$M$148,-1.5))","v":""},{"$f":"IF(COUNTIF('Strain 6'!$D$149:$M$188,-1.5)=0,\"\",COUNTIF('Strain 6'!$D$149:$M$188,-1.5))","v":""},{"$f":"IF(COUNTIF('Strain 7'!$D$69:$M$108,-1.5)=0,\"\",COUNTIF('Strain 7'!$D$69:$M$108,-1.5))","v":""},{"$f":"IF(COUNTIF('Strain 7'!$D$109:$M$148,-1.5)=0,\"\",COUNTIF('Strain 7'!$D$109:$M$148,-1.5))","v":""},{"$f":"IF(COUNTIF('Strain 7'!$D$149:$M$188,-1.5)=0,\"\",COUNTIF('Strain 7'!$D$149:$M$188,-1.5))","v":""},{"$f":"IF(COUNTIF('Strain 8'!$D$69:$M$108,-1.5)=0,\"\",COUNTIF('Strain 8'!$D$69:$M$108,-1.5))","v":""},{"$f":"IF(COUNTIF('Strain 8'!$D$109:$M$148,-1.5)=0,\"\",COUNTIF('Strain 8'!$D$109:$M$148,-1.5))","v":""},{"$f":"IF(COUNTIF('Strain 8'!$D$149:$M$188,-1.5)=0,\"\",COUNTIF('Strain 8'!$D$149:$M$188,-1.5))","v":""},{"$f":"IF(COUNTIF('Strain 9'!$D$69:$M$108,-1.5)=0,\"\",COUNTIF('Strain 9'!$D$69:$M$108,-1.5))","v":""},{"$f":"IF(COUNTIF('Strain 9'!$D$109:$M$148,-1.5)=0,\"\",COUNTIF('Strain 9'!$D$109:$M$148,-1.5))","v":""},{"$f":"IF(COUNTIF('Strain 9'!$D$149:$M$188,-1.5)=0,\"\",COUNTIF('Strain 9'!$D$149:$M$188,-1.5))","v":""},{"$f":"IF(COUNTIF('Strain 10'!$D$69:$M$108,-1.5)=0,\"\",COUNTIF('Strain 10'!$D$69:$M$108,-1.5))","v":""},{"$f":"IF(COUNTIF('Strain 10'!$D$109:$M$148,-1.5)=0,\"\",COUNTIF('Strain 10'!$D$109:$M$148,-1.5))","v":""},{"$f":"IF(COUNTIF('Strain 10'!$D$149:$M$188,-1.5)=0,\"\",COUNTIF('Strain 10'!$D$149:$M$188,-1.5))","v":""}]
[1,-0.5,{"$f":"IF(COUNTIF('Strain 1'!$D$69:$M$108,-0.5)=0,\"\",COUNTIF('Strain 1'!$D$69:$M$108,-0.5))","v":""},{"$f":"IF(COUNTIF('Strain 1'!$D$109:$M$148,-0.5)=0,\"\",COUNTIF('Strain 1'!$D$109:$M$148,-0.5))","v":""},{"$f":"IF(COUNTIF('Strain 1'!$D$149:$M$188,-0.5)=0,\"\",COUNTIF('Strain 1'!$D$149:$M$188,-0.5))","v":""},{"$f":"IF(COUNTIF('Strain 2'!$D$69:$M$108,-0.5)=0,\"\",COUNTIF('Strain 2'!$D$69:$M$108,-0.5))","v":""},{"$f":"IF(COUNTIF('Strain 2'!$D$109:$M$148,-0.5)=0,\"\",COUNTIF('Strain 2'!$D$109:$M$148,-0.5))","v":""},{"$f":"IF(COUNTIF('Strain 2'!$D$149:$M$188,-0.5)=0,\"\",COUNTIF('Strain 2'!$D$149:$M$188,-0.5))","v":""},{"$f":"IF(COUNTIF('Strain 3 '!$D$69:$M$108,-0.5)=0,\"\",COUNTIF('Strain 3 '!$D$69:$M$108,-0.5))","v":""},{"$f":"IF(COUNTIF('Strain 3 '!$D$109:$M$148,-0.5)=0,\"\",COUNTIF('Strain 3 '!$D$109:$M$148,-0.5))","v":""},{"$f":"IF(COUNTIF('Strain 3 '!$D$149:$M$188,-0.5)=0,\"\",COUNTIF('Strain 3 '!$D$149:$M$188,-0.5))","v":""},{"$f":"IF(COUNTIF('Strain 4'!$D$69:$M$108,-0.5)=0,\"\",COUNTIF('Strain 4'!$D$69:$M$108,-0.5))","v":""},{"$f":"IF(COUNTIF('Strain 4'!$D$109:$M$148,-0.5)=0,\"\",COUNTIF('Strain 4'!$D$109:$M$148,-0.5))","v":""},{"$f":"IF(COUNTIF('Strain 4'!$D$149:$M$188,-0.5)=0,\"\",COUNTIF('Strain 4'!$D$149:$M$188,-0.5))","v":""},{"$f":"IF(COUNTIF('Strain 5'!$D$69:$M$108,-0.5)=0,\"\",COUNTIF('Strain 5'!$D$69:$M$108,-0.5))","v":""},{"$f":"IF(COUNTIF('Strain 5'!$D$109:$M$148,-0.5)=0,\"\",COUNTIF('Strain 5'!$D$109:$M$148,-0.5))","v":""},{"$f":"IF(COUNTIF('Strain 5'!$D$149:$M$188,-0.5)=0,\"\",COUNTIF('Strain 5'!$D$149:$M$188,-0.5))","v":""},1,-0.5,{"$f":"IF(COUNTIF('Strain 6'!$D$69:$M$108,-0.5)=0,\"\",COUNTIF('Strain 6'!$D$69:$M$108,-0.5))","v":""},{"$f":"IF(COUNTIF('Strain 6'!$D$109:$M$148,-0.5)=0,\"\",COUNTIF('Strain 6'!$D$109:$M$148,-0.5))","v":""},{"$f":"IF(COUNTIF('Strain 6'!$D$149:$M$188,-0.5)=0,\"\",COUNTIF('Strain 6'!$D$149:$M$188,-0.5))","v":""},{"$f":"IF(COUNTIF('Strain 7'!$D$69:$M$108,-0.5)=0,\"\",COUNTIF('Strain 7'!$D$69:$M$108,-0.5))","v":""},{"$f":"IF(COUNTIF('Strain 7'!$D$109:$M$148,-0.5)=0,\"\",COUNTIF('Strain 7'!$D$109:$M$148,-0.5))","v":""},{"$f":"IF(COUNTIF('Strain 7'!$D$149:$M$188,-0.5)=0,\"\",COUNTIF('Strain 7'!$D$149:$M$188,-0.5))","v":""},{"$f":"IF(COUNTIF('Strain 8'!$D$69:$M$108,-0.5)=0,\"\",COUNTIF('Strain 8'!$D$69:$M$108,-0.5))","v":""},{"$f":"IF(COUNTIF('Strain 8'!$D$109:$M$148,-0.5)=0,\"\",COUNTIF('Strain 8'!$D$109:$M$148,-0.5))","v":""},{"$f":"IF(COUNTIF('Strain 8'!$D$149:$M$188,-0.5)=0,\"\",COUNTIF('Strain 8'!$D$149:$M$188,-0.5))","v":""},{"$f":"IF(COUNTIF('Strain 9'!$D$69:$M$108,-0.5)=0,\"\",COUNTIF('Strain 9'!$D$69:$M$108,-0.5))","v":""},{"$f":"IF(COUNTIF('Strain 9'!$D$109:$M$148,-0.5)=0,\"\",COUNTIF('Strain 9'!$D$109:$M$148,-0.5))","v":""},{"$f":"IF(COUNTIF('Strain 9'!$D$149:$M$188,-0.5)=0,\"\",COUNTIF('Strain 9'!$D$149:$M$188,-0.5))","v":""},{"$f":"IF(COUNTIF('Strain 10'!$D$69:$M$108,-0.5)=0,\"\",COUNTIF('Strain 10'!$D$69:$M$108,-0.5))","v":""},{"$f":"IF(COUNTIF('Strain 10'!$D$109:$M$148,-0.5)=0,\"\",COUNTIF('Strain 10'!$D$109:$M$148,-0.5))","v":""},{"$f":"IF(COUNTIF('Strain 10'!$D$149:$M$188,-0.5)=0,\"\",COUNTIF('Strain 10'!$D$149:$M$188,-0.5))","v":""}]
[2,0.5,{"$f":"IF(COUNTIF('Strain 1'!$D$69:$M$108,0.5)=0,\"\",COUNTIF('Strain 1'!$D$69:$M$108,0.5))","v":""},{"$f":"IF(COUNTIF('Strain 1'!$D$109:$M$148,0.5)=0,\"\",COUNTIF('Strain 1'!$D$109:$M$148,0.5))","v":""},{"$f":"IF(COUNTIF('Strain 1'!$D$149:$M$188,0.5)=0,\"\",COUNTIF('Strain 1'!$D$149:$M$188,0.5))","v":""},{"$f":"IF(COUNTIF('Strain 2'!$D$69:$M$108,0.5)=0,\"\",COUNTIF('Strain 2'!$D$69:$M$108,0.5))","v":""},{"$f":"IF(COUNTIF('Strain 2'!$D$109:$M$148,0.5)=0,\"\",COUNTIF('Strain 2'!$D$109:$M$148,0.5))","v":""},{"$f":"IF(COUNTIF('Strain 2'!$D$149:$M$188,0.5)=0,\"\",COUNTIF('Strain 2'!$D$149:$M$188,0.5))","v":""},{"$f":"IF(COUNTIF('Strain 3 '!$D$69:$M$108,0.5)=0,\"\",COUNTIF('Strain 3 '!$D$69:$M$108,0.5))","v":""},{"$f":"IF(COUNTIF('Strain 3 '!$D$109:$M$148,0.5)=0,\"\",COUNTIF('Strain 3 '!$D$109:$M$148,0.5))","v":""},{"$f":"IF(COUNTIF('Strain 3 '!$D$149:$M$188,0.5)=0,\"\",COUNTIF('Strain 3 '!$D$149:$M$188,0.5))","v":""},{"$f":"IF(COUNTIF('Strain 4'!$D$69:$M$108,0.5)=0,\"\",COUNTIF('Strain 4'!$D$69:$M$108,0.5))","v":""},{"$f":"IF(COUNTIF('Strain 4'!$D$109:$M$148,0.5)=0,\"\",COUNTIF('Strain 4'!$D$109:$M$148,0.5))","v":""},{"$f":"IF(COUNTIF('Strain 4'!$D$149:$M$188,0.5)=0,\"\",COUNTIF('Strain 4'!$D$149:$M$188,0.5))","v":""},{"$f":"IF(COUNTIF('Strain 5'!$D$69:$M$108,0.5)=0,\"\",COUNTIF('Strain 5'!$D$69:$M$108,0.5))","v":""},{"$f":"IF(COUNTIF('Strain 5'!$D$109:$M$148,0.5)=0,\"\",COUNTIF('Strain 5'!$D$109:$M$148,0.5))","v":""},{"$f":"IF(COUNTIF('Strain 5'!$D$149:$M$188,0.5)=0,\"\",COUNTIF('Strain 5'!$D$149:$M$188,0.5))","v":""},2,0.5,{"$f":"IF(COUNTIF('Strain 6'!$D$69:$M$108,0.5)=0,\"\",COUNTIF('Strain 6'!$D$69:$M$108,0.5))","v":""},{"$f":"IF(COUNTIF('Strain 6'!$D$109:$M$148,0.5)=0,\"\",COUNTIF('Strain 6'!$D$109:$M$148,0.5))","v":""},{"$f":"IF(COUNTIF('Strain 6'!$D$149:$M$188,0.5)=0,\"\",COUNTIF('Strain 6'!$D$149:$M$188,0.5))","v":""},{"$f":"IF(COUNTIF('Strain 7'!$D$69:$M$108,0.5)=0,\"\",COUNTIF('Strain 7'!$D$69:$M$108,0.5))","v":""},{"$f":"IF(COUNTIF('Strain 7'!$D$109:$M$148,0.5)=0,\"\",COUNTIF('Strain 7'!$D$109:$M$148,0.5))","v":""},{"$f":"IF(COUNTIF('Strain 7'!$D$149:$M$188,0.5)=0,\"\",COUNTIF('Strain 7'!$D$149:$M$188,0.5))","v":""},{"$f":"IF(COUNTIF('Strain 8'!$D$69:$M$108,0.5)=0,\"\",COUNTIF('Strain 8'!$D$69:$M$108,0.5))","v":""},{"$f":"IF(COUNTIF('Strain 8'!$D$109:$M$148,0.5)=0,\"\",COUNTIF('Strain 8'!$D$109:$M$148,0.5))","v":""},{"$f":"IF(COUNTIF('Strain 8'!$D$149:$M$188,0.5)=0,\"\",COUNTIF('Strain 8'!$D$149:$M$188,0.5))","v":""},{"$f":"IF(COUNTIF('Strain 9'!$D$69:$M$108,0.5)=0,\"\",COUNTIF('Strain 9'!$D$69:$M$108,0.5))","v":""},{"$f":"IF(COUNTIF('Strain 9'!$D$109:$M$148,0.5)=0,\"\",COUNTIF('Strain 9'!$D$109:$M$148,0.5))","v":""},{"$f":"IF(COUNTIF('Strain 9'!$D$149:$M$188,0.5)=0,\"\",COUNTIF('Strain 9'!$D$149:$M$188,0.5))","v":""},{"$f":"IF(COUNTIF('Strain 10'!$D$69:$M$108,0.5)=0,\"\",COUNTIF('Strain 10'!$D$69:$M$108,0.5))","v":""},{"$f":"IF(COUNTIF('Strain 10'!$D$109:$M$148,0.5)=0,\"\",COUNTIF('Strain 10'!$D$109:$M$148,0.5))","v":""},{"$f":"IF(COUNTIF('Strain 10'!$D$149:$M$188,0.5)=0,\"\",COUNTIF('Strain 10'!$D$149:$M$188,0.5))","v":""}]
[4,1.5,{"$f":"IF(COUNTIF('Strain 1'!$D$69:$M$108,1.5)=0,\"\",COUNTIF('Strain 1'!$D$69:$M$108,1.5))","v":""},{"$f":"IF(COUNTIF('Strain 1'!$D$109:$M$148,1.5)=0,\"\",COUNTIF('Strain 1'!$D$109:$M$148,1.5))","v":""},{"$f":"IF(COUNTIF('Strain 1'!$D$149:$M$188,1.5)=0,\"\",COUNTIF('Strain 1'!$D$149:$M$188,1.5))","v":""},{"$f":"IF(COUNTIF('Strain 2'!$D$69:$M$108,1.5)=0,\"\",COUNTIF('Strain 2'!$D$69:$M$108,1.5))","v":""},{"$f":"IF(COUNTIF('Strain 2'!$D$109:$M$148,1.5)=0,\"\",COUNTIF('Strain 2'!$D$109:$M$148,1.5))","v":""},{"$f":"IF(COUNTIF('Strain 2'!$D$149:$M$188,1.5)=0,\"\",COUNTIF('Strain 2'!$D$149:$M$188,1.5))","v":""},{"$f":"IF(COUNTIF('Strain 3 '!$D$69:$M$108,1.5)=0,\"\",COUNTIF('Strain 3 '!$D$69:$M$108,1.5))","v":""},{"$f":"IF(COUNTIF('Strain 3 '!$D$109:$M$148,1.5)=0,\"\",COUNTIF('Strain 3 '!$D$109:$M$148,1.5))","v":""},{"$f":"IF(COUNTIF('Strain 3 '!$D$149:$M$188,1.5)=0,\"\",COUNTIF('Strain 3 '!$D$149:$M$188,1.5))","v":""},{"$f":"IF(COUNTIF('Strain 4'!$D$69:$M$108,1.5)=0,\"\",COUNTIF('Strain 4'!$D$69:$M$108,1.5))","v":""},{"$f":"IF(COUNTIF('Strain 4'!$D$109:$M$148,1.5)=0,\"\",COUNTIF('Strain 4'!$D$109:$M$148,1.5))","v":""},{"$f":"IF(COUNTIF('Strain 4'!$D$149:$M$188,1.5)=0,\"\",COUNTIF('Strain 4'!$D$149:$M$188,1.5))","v":""},{"$f":"IF(COUNTIF('Strain 5'!$D$69:$M$108,1.5)=0,\"\",COUNTIF('Strain 5'!$D$69:$M$108,1.5))","v":""},{"$f":"IF(COUNTIF('Strain 5'!$D$109:$M$148,1.5)=0,\"\",COUNTIF('Strain 5'!$D$109:$M$148,1.5))","v":""},{"$f":"IF(COUNTIF('Strain 5'!$D$149:$M$188,1.5)=0,\"\",COUNTIF('Strain 5'!$D$149:$M$188,1.5))","v":""},4,1.5,{"$f":"IF(COUNTIF('Strain 6'!$D$69:$M$108,1.5)=0,\"\",COUNTIF('Strain 6'!$D$69:$M$108,1.5))","v":""},{"$f":"IF(COUNTIF('Strain 6'!$D$109:$M$148,1.5)=0,\"\",COUNTIF('Strain 6'!$D$109:$M$148,1.5))","v":""},{"$f":"IF(COUNTIF('Strain 6'!$D$149:$M$188,1.5)=0,\"\",COUNTIF('Strain 6'!$D$149:$M$188,1.5))","v":""},{"$f":"IF(COUNTIF('Strain 7'!$D$69:$M$108,1.5)=0,\"\",COUNTIF('Strain 7'!$D$69:$M$108,1.5))","v":""},{"$f":"IF(COUNTIF('Strain 7'!$D$109:$M$148,1.5)=0,\"\",COUNTIF('Strain 7'!$D$109:$M$148,1.5))","v":""},{"$f":"IF(COUNTIF('Strain 7'!$D$149:$M$188,1.5)=0,\"\",COUNTIF('Strain 7'!$D$149:$M$188,1.5))","v":""},{"$f":"IF(COUNTIF('Strain 8'!$D$69:$M$108,1.5)=0,\"\",COUNTIF('Strain 8'!$D$69:$M$108,1.5))","v":""},{"$f":"IF(COUNTIF('Strain 8'!$D$109:$M$148,1.5)=0,\"\",COUNTIF('Strain 8'!$D$109:$M$148,1.5))","v":""},{"$f":"IF(COUNTIF('Strain 8'!$D$149:$M$188,1.5)=0,\"\",COUNTIF('Strain 8'!$D$149:$M$188,1.5))","v":""},{"$f":"IF(COUNTIF('Strain 9'!$D$69:$M$108,1.5)=0,\"\",COUNTIF('Strain 9'!$D$69:$M$108,1.5))","v":""},{"$f":"IF(COUNTIF('Strain 9'!$D$109:$M$148,1.5)=0,\"\",COUNTIF('Strain 9'!$D$109:$M$148,1.5))","v":""},{"$f":"IF(COUNTIF('Strain 9'!$D$149:$M$188,1.5)=0,\"\",COUNTIF('Strain 9'!$D$149:$M$188,1.5))","v":""},{"$f":"IF(COUNTIF('Strain 10'!$D$69:$M$108,1.5)=0,\"\",COUNTIF('Strain 10'!$D$69:$M$108,1.5))","v":""},{"$f":"IF(COUNTIF('Strain 10'!$D$109:$M$148,1.5)=0,\"\",COUNTIF('Strain 10'!$D$109:$M$148,1.5))","v":""},{"$f":"IF(COUNTIF('Strain 10'!$D$149:$M$188,1.5)=0,\"\",COUNTIF('Strain 10'!$D$149:$M$188,1.5))","v":""}]
[8,2.5,{"$f":"IF(COUNTIF('Strain 1'!$D$69:$M$108,2.5)=0,\"\",COUNTIF('Strain 1'!$D$69:$M$108,2.5))","v":""},{"$f":"IF(COUNTIF('Strain 1'!$D$109:$M$148,2.5)=0,\"\",COUNTIF('Strain 1'!$D$109:$M$148,2.5))","v":""},{"$f":"IF(COUNTIF('Strain 1'!$D$149:$M$188,2.5)=0,\"\",COUNTIF('Strain 1'!$D$149:$M$188,2.5))","v":""},{"$f":"IF(COUNTIF('Strain 2'!$D$69:$M$108,2.5)=0,\"\",COUNTIF('Strain 2'!$D$69:$M$108,2.5))","v":""},{"$f":"IF(COUNTIF('Strain 2'!$D$109:$M$148,2.5)=0,\"\",COUNTIF('Strain 2'!$D$109:$M$148,2.5))","v":""},{"$f":"IF(COUNTIF('Strain 2'!$D$149:$M$188,2.5)=0,\"\",COUNTIF('Strain 2'!$D$149:$M$188,2.5))","v":""},{"$f":"IF(COUNTIF('Strain 3 '!$D$69:$M$108,2.5)=0,\"\",COUNTIF('Strain 3 '!$D$69:$M$108,2.5))","v":""},{"$f":"IF(COUNTIF('Strain 3 '!$D$109:$M$148,2.5)=0,\"\",COUNTIF('Strain 3 '!$D$109:$M$148,2.5))","v":""},{"$f":"IF(COUNTIF('Strain 3 '!$D$149:$M$188,2.5)=0,\"\",COUNTIF('Strain 3 '!$D$149:$M$188,2.5))","v":""},{"$f":"IF(COUNTIF('Strain 4'!$D$69:$M$108,2.5)=0,\"\",COUNTIF('Strain 4'!$D$69:$M$108,2.5))","v":""},{"$f":"IF(COUNTIF('Strain 4'!$D$109:$M$148,2.5)=0,\"\",COUNTIF('Strain 4'!$D$109:$M$148,2.5))","v":""},{"$f":"IF(COUNTIF('Strain 4'!$D$149:$M$188,2.5)=0,\"\",COUNTIF('Strain 4'!$D$149:$M$188,2.5))","v":""},{"$f":"IF(COUNTIF('Strain 5'!$D$69:$M$108,2.5)=0,\"\",COUNTIF('Strain 5'!$D$69:$M$108,2.5))","v":""},{"$f":"IF(COUNTIF('Strain 5'!$D$109:$M$148,2.5)=0,\"\",COUNTIF('Strain 5'!$D$109:$M$148,2.5))","v":""},{"$f":"IF(COUNTIF('Strain 5'!$D$149:$M$188,2.5)=0,\"\",COUNTIF('Strain 5'!$D$149:$M$188,2.5))","v":""},8,2.5,{"$f":"IF(COUNTIF('Strain 6'!$D$69:$M$108,2.5)=0,\"\",COUNTIF('Strain 6'!$D$69:$M$108,2.5))","v":""},{"$f":"IF(COUNTIF('Strain 6'!$D$109:$M$148,2.5)=0,\"\",COUNTIF('Strain 6'!$D$109:$M$148,2.5))","v":""},{"$f":"IF(COUNTIF('Strain 6'!$D$149:$M$188,2.5)=0,\"\",COUNTIF('Strain 6'!$D$149:$M$188,2.5))","v":""},{"$f":"IF(COUNTIF('Strain 7'!$D$69:$M$108,2.5)=0,\"\",COUNTIF('Strain 7'!$D$69:$M$108,2.5))","v":""},{"$f":"IF(COUNTIF('Strain 7'!$D$109:$M$148,2.5)=0,\"\",COUNTIF('Strain 7'!$D$109:$M$148,2.5))","v":""},{"$f":"IF(COUNTIF('Strain 7'!$D$149:$M$188,2.5)=0,\"\",COUNTIF('Strain 7'!$D$149:$M$188,2.5))","v":""},{"$f":"IF(COUNTIF('Strain 8'!$D$69:$M$108,2.5)=0,\"\",COUNTIF('Strain 8'!$D$69:$M$108,2.5))","v":""},{"$f":"IF(COUNTIF('Strain 8'!$D$109:$M$148,2.5)=0,\"\",COUNTIF('Strain 8'!$D$109:$M$148,2.5))","v":""},{"$f":"IF(COUNTIF('Strain 8'!$D$149:$M$188,2.5)=0,\"\",COUNTIF('Strain 8'!$D$149:$M$188,2.5))","v":""},{"$f":"IF(COUNTIF('Strain 9'!$D$69:$M$108,2.5)=0,\"\",COUNTIF('Strain 9'!$D$69:$M$108,2.5))","v":""},{"$f":"IF(COUNTIF('Strain 9'!$D$109:$M$148,2.5)=0,\"\",COUNTIF('Strain 9'!$D$109:$M$148,2.5))","v":""},{"$f":"IF(COUNTIF('Strain 9'!$D$149:$M$188,2.5)=0,\"\",COUNTIF('Strain 9'!$D$149:$M$188,2.5))","v":""},{"$f":"IF(COUNTIF('Strain 10'!$D$69:$M$108,2.5)=0,\"\",COUNTIF('Strain 10'!$D$69:$M$108,2.5))","v":""},{"$f":"IF(COUNTIF('Strain 10'!$D$109:$M$148,2.5)=0,\"\",COUNTIF('Strain 10'!$D$109:$M$148,2.5))","v":""},{"$f":"IF(COUNTIF('Strain 10'!$D$149:$M$188,2.5)=0,\"\",COUNTIF('Strain 10'!$D$149:$M$188,2.5))","v":""}]
[16,3.5,{"$f":"IF(COUNTIF('Strain 1'!$D$69:$M$108,3.5)=0,\"\",COUNTIF('Strain 1'!$D$69:$M$108,3.5))","v":""},{"$f":"IF(COUNTIF('Strain 1'!$D$109:$M$148,3.5)=0,\"\",COUNTIF('Strain 1'!$D$109:$M$148,3.5))","v":""},{"$f":"IF(COUNTIF('Strain 1'!$D$149:$M$188,3.5)=0,\"\",COUNTIF('Strain 1'!$D$149:$M$188,3.5))","v":""},{"$f":"IF(COUNTIF('Strain 2'!$D$69:$M$108,3.5)=0,\"\",COUNTIF('Strain 2'!$D$69:$M$108,3.5))","v":""},{"$f":"IF(COUNTIF('Strain 2'!$D$109:$M$148,3.5)=0,\"\",COUNTIF('Strain 2'!$D$109:$M$148,3.5))","v":""},{"$f":"IF(COUNTIF('Strain 2'!$D$149:$M$188,3.5)=0,\"\",COUNTIF('Strain 2'!$D$149:$M$188,3.5))","v":""},{"$f":"IF(COUNTIF('Strain 3 '!$D$69:$M$108,3.5)=0,\"\",COUNTIF('Strain 3 '!$D$69:$M$108,3.5))","v":""},{"$f":"IF(COUNTIF('Strain 3 '!$D$109:$M$148,3.5)=0,\"\",COUNTIF('Strain 3 '!$D$109:$M$148,3.5))","v":""},{"$f":"IF(COUNTIF('Strain 3 '!$D$149:$M$188,3.5)=0,\"\",COUNTIF('Strain 3 '!$D$149:$M$188,3.5))","v":""},{"$f":"IF(COUNTIF('Strain 4'!$D$69:$M$108,3.5)=0,\"\",COUNTIF('Strain 4'!$D$69:$M$108,3.5))","v":""},{"$f":"IF(COUNTIF('Strain 4'!$D$109:$M$148,3.5)=0,\"\",COUNTIF('Strain 4'!$D$109:$M$148,3.5))","v":""},{"$f":"IF(COUNTIF('Strain 4'!$D$149:$M$188,3.5)=0,\"\",COUNTIF('Strain 4'!$D$149:$M$188,3.5))","v":""},{"$f":"IF(COUNTIF('Strain 5'!$D$69:$M$108,3.5)=0,\"\",COUNTIF('Strain 5'!$D$69:$M$108,3.5))","v":""},{"$f":"IF(COUNTIF('Strain 5'!$D$109:$M$148,3.5)=0,\"\",COUNTIF('Strain 5'!$D$109:$M$148,3.5))","v":""},{"$f":"IF(COUNTIF('Strain 5'!$D$149:$M$188,3.5)=0,\"\",COUNTIF('Strain 5'!$D$149:$M$188,3.5))","v":""},16,3.5,{"$f":"IF(COUNTIF('Strain 6'!$D$69:$M$108,3.5)=0,\"\",COUNTIF('Strain 6'!$D$69:$M$108,3.5))","v":""},{"$f":"IF(COUNTIF('Strain 6'!$D$109:$M$148,3.5)=0,\"\",COUNTIF('Strain 6'!$D$109:$M$148,3.5))","v":""},{"$f":"IF(COUNTIF('Strain 6'!$D$149:$M$188,3.5)=0,\"\",COUNTIF('Strain 6'!$D$149:$M$188,3.5))","v":""},{"$f":"IF(COUNTIF('Strain 7'!$D$69:$M$108,3.5)=0,\"\",COUNTIF('Strain 7'!$D$69:$M$108,3.5))","v":""},{"$f":"IF(COUNTIF('Strain 7'!$D$109:$M$148,3.5)=0,\"\",COUNTIF('Strain 7'!$D$109:$M$148,3.5))","v":""},{"$f":"IF(COUNTIF('Strain 7'!$D$149:$M$188,3.5)=0,\"\",COUNTIF('Strain 7'!$D$149:$M$188,3.5))","v":""},{"$f":"IF(COUNTIF('Strain 8'!$D$69:$M$108,3.5)=0,\"\",COUNTIF('Strain 8'!$D$69:$M$108,3.5))","v":""},{"$f":"IF(COUNTIF('Strain 8'!$D$109:$M$148,3.5)=0,\"\",COUNTIF('Strain 8'!$D$109:$M$148,3.5))","v":""},{"$f":"IF(COUNTIF('Strain 8'!$D$149:$M$188,3.5)=0,\"\",COUNTIF('Strain 8'!$D$149:$M$188,3.5))","v":""},{"$f":"IF(COUNTIF('Strain 9'!$D$69:$M$108,3.5)=0,\"\",COUNTIF('Strain 9'!$D$69:$M$108,3.5))","v":""},{"$f":"IF(COUNTIF('Strain 9'!$D$109:$M$148,3.5)=0,\"\",COUNTIF('Strain 9'!$D$109:$M$148,3.5))","v":""},{"$f":"IF(COUNTIF('Strain 9'!$D$149:$M$188,3.5)=0,\"\",COUNTIF('Strain 9'!$D$149:$M$188,3.5))","v":""},{"$f":"IF(COUNTIF('Strain 10'!$D$69:$M$108,3.5)=0,\"\",COUNTIF('Strain 10'!$D$69:$M$108,3.5))","v":""},{"$f":"IF(COUNTIF('Strain 10'!$D$109:$M$148,3.5)=0,\"\",COUNTIF('Strain 10'!$D$109:$M$148,3.5))","v":""},{"$f":"IF(COUNTIF('Strain 10'!$D$149:$M$188,3.5)=0,\"\",COUNTIF('Strain 10'!$D$149:$M$188,3.5))","v":""}]
[32,4.5,{"$f":"IF(COUNTIF('Strain 1'!$D$69:$M$108,4.5)=0,\"\",COUNTIF('Strain 1'!$D$69:$M$108,4.5))","v":""},{"$f":"IF(COUNTIF('Strain 1'!$D$109:$M$148,4.5)=0,\"\",COUNTIF('Strain 1'!$D$109:$M$148,4.5))","v":""},{"$f":"IF(COUNTIF('Strain 1'!$D$149:$M$188,4.5)=0,\"\",COUNTIF('Strain 1'!$D$149:$M$188,4.5))","v":""},{"$f":"IF(COUNTIF('Strain 2'!$D$69:$M$108,4.5)=0,\"\",COUNTIF('Strain 2'!$D$69:$M$108,4.5))","v":""},{"$f":"IF(COUNTIF('Strain 2'!$D$109:$M$148,4.5)=0,\"\",COUNTIF('Strain 2'!$D$109:$M$148,4.5))","v":""},{"$f":"IF(COUNTIF('Strain 2'!$D$149:$M$188,4.5)=0,\"\",COUNTIF('Strain 2'!$D$149:$M$188,4.5))","v":""},{"$f":"IF(COUNTIF('Strain 3 '!$D$69:$M$108,4.5)=0,\"\",COUNTIF('Strain 3 '!$D$69:$M$108,4.5))","v":""},{"$f":"IF(COUNTIF('Strain 3 '!$D$109:$M$148,4.5)=0,\"\",COUNTIF('Strain 3 '!$D$109:$M$148,4.5))","v":""},{"$f":"IF(COUNTIF('Strain 3 '!$D$149:$M$188,4.5)=0,\"\",COUNTIF('Strain 3 '!$D$149:$M$188,4.5))","v":""},{"$f":"IF(COUNTIF('Strain 4'!$D$69:$M$108,4.5)=0,\"\",COUNTIF('Strain 4'!$D$69:$M$108,4.5))","v":""},{"$f":"IF(COUNTIF('Strain 4'!$D$109:$M$148,4.5)=0,\"\",COUNTIF('Strain 4'!$D$109:$M$148,4.5))","v":""},{"$f":"IF(COUNTIF('Strain 4'!$D$149:$M$188,4.5)=0,\"\",COUNTIF('Strain 4'!$D$149:$M$188,4.5))","v":""},{"$f":"IF(COUNTIF('Strain 5'!$D$69:$M$108,4.5)=0,\"\",COUNTIF('Strain 5'!$D$69:$M$108,4.5))","v":""},{"$f":"IF(COUNTIF('Strain 5'!$D$109:$M$148,4.5)=0,\"\",COUNTIF('Strain 5'!$D$109:$M$148,4.5))","v":""},{"$f":"IF(COUNTIF('Strain 5'!$D$149:$M$188,4.5)=0,\"\",COUNTIF('Strain 5'!$D$149:$M$188,4.5))","v":""},32,4.5,{"$f":"IF(COUNTIF('Strain 6'!$D$69:$M$108,4.5)=0,\"\",COUNTIF('Strain 6'!$D$69:$M$108,4.5))","v":""},{"$f":"IF(COUNTIF('Strain 6'!$D$109:$M$148,4.5)=0,\"\",COUNTIF('Strain 6'!$D$109:$M$148,4.5))","v":""},{"$f":"IF(COUNTIF('Strain 6'!$D$149:$M$188,4.5)=0,\"\",COUNTIF('Strain 6'!$D$149:$M$188,4.5))","v":""},{"$f":"IF(COUNTIF('Strain 7'!$D$69:$M$108,4.5)=0,\"\",COUNTIF('Strain 7'!$D$69:$M$108,4.5))","v":""},{"$f":"IF(COUNTIF('Strain 7'!$D$109:$M$148,4.5)=0,\"\",COUNTIF('Strain 7'!$D$109:$M$148,4.5))","v":""},{"$f":"IF(COUNTIF('Strain 7'!$D$149:$M$188,4.5)=0,\"\",COUNTIF('Strain 7'!$D$149:$M$188,4.5))","v":""},{"$f":"IF(COUNTIF('Strain 8'!$D$69:$M$108,4.5)=0,\"\",COUNTIF('Strain 8'!$D$69:$M$108,4.5))","v":""},{"$f":"IF(COUNTIF('Strain 8'!$D$109:$M$148,4.5)=0,\"\",COUNTIF('Strain 8'!$D$109:$M$148,4.5))","v":""},{"$f":"IF(COUNTIF('Strain 8'!$D$149:$M$188,4.5)=0,\"\",COUNTIF('Strain 8'!$D$149:$M$188,4.5))","v":""},{"$f":"IF(COUNTIF('Strain 9'!$D$69:$M$108,4.5)=0,\"\",COUNTIF('Strain 9'!$D$69:$M$108,4.5))","v":""},{"$f":"IF(COUNTIF('Strain 9'!$D$109:$M$148,4.5)=0,\"\",COUNTIF('Strain 9'!$D$109:$M$148,4.5))","v":""},{"$f":"IF(COUNTIF('Strain 9'!$D$149:$M$188,4.5)=0,\"\",COUNTIF('Strain 9'!$D$149:$M$188,4.5))","v":""},{"$f":"IF(COUNTIF('Strain 10'!$D$69:$M$108,4.5)=0,\"\",COUNTIF('Strain 10'!$D$69:$M$108,4.5))","v":""},{"$f":"IF(COUNTIF('Strain 10'!$D$109:$M$148,4.5)=0,\"\",COUNTIF('Strain 10'!$D$109:$M$148,4.5))","v":""},{"$f":"IF(COUNTIF('Strain 10'!$D$149:$M$188,4.5)=0,\"\",COUNTIF('Strain 10'!$D$149:$M$188,4.5))","v":""}]
[64,5.5,{"$f":"IF(COUNTIF('Strain 1'!$D$69:$M$108,5.5)=0,\"\",COUNTIF('Strain 1'!$D$69:$M$108,5.5))","v":""},{"$f":"IF(COUNTIF('Strain 1'!$D$109:$M$148,5.5)=0,\"\",COUNTIF('Strain 1'!$D$109:$M$148,5.5))","v":""},{"$f":"IF(COUNTIF('Strain 1'!$D$149:$M$188,5.5)=0,\"\",COUNTIF('Strain 1'!$D$149:$M$188,5.5))","v":""},{"$f":"IF(COUNTIF('Strain 2'!$D$69:$M$108,5.5)=0,\"\",COUNTIF('Strain 2'!$D$69:$M$108,5.5))","v":""},{"$f":"IF(COUNTIF('Strain 2'!$D$109:$M$148,5.5)=0,\"\",COUNTIF('Strain 2'!$D$109:$M$148,5.5))","v":""},{"$f":"IF(COUNTIF('Strain 2'!$D$149:$M$188,5.5)=0,\"\",COUNTIF('Strain 2'!$D$149:$M$188,5.5))","v":""},{"$f":"IF(COUNTIF('Strain 3 '!$D$69:$M$108,5.5)=0,\"\",COUNTIF('Strain 3 '!$D$69:$M$108,5.5))","v":""},{"$f":"IF(COUNTIF('Strain 3 '!$D$109:$M$148,5.5)=0,\"\",COUNTIF('Strain 3 '!$D$109:$M$148,5.5))","v":""},{"$f":"IF(COUNTIF('Strain 3 '!$D$149:$M$188,5.5)=0,\"\",COUNTIF('Strain 3 '!$D$149:$M$188,5.5))","v":""},{"$f":"IF(COUNTIF('Strain 4'!$D$69:$M$108,5.5)=0,\"\",COUNTIF('Strain 4'!$D$69:$M$108,5.5))","v":""},{"$f":"IF(COUNTIF('Strain 4'!$D$109:$M$148,5.5)=0,\"\",COUNTIF('Strain 4'!$D$109:$M$148,5.5))","v":""},{"$f":"IF(COUNTIF('Strain 4'!$D$149:$M$188,5.5)=0,\"\",COUNTIF('Strain 4'!$D$149:$M$188,5.5))","v":""},{"$f":"IF(COUNTIF('Strain 5'!$D$69:$M$108,5.5)=0,\"\",COUNTIF('Strain 5'!$D$69:$M$108,5.5))","v":""},{"$f":"IF(COUNTIF('Strain 5'!$D$109:$M$148,5.5)=0,\"\",COUNTIF('Strain 5'!$D$109:$M$148,5.5))","v":""},{"$f":"IF(COUNTIF('Strain 5'!$D$149:$M$188,5.5)=0,\"\",COUNTIF('Strain 5'!$D$149:$M$188,5.5))","v":""},64,5.5,{"$f":"IF(COUNTIF('Strain 6'!$D$69:$M$108,5.5)=0,\"\",COUNTIF('Strain 6'!$D$69:$M$108,5.5))","v":""},{"$f":"IF(COUNTIF('Strain 6'!$D$109:$M$148,5.5)=0,\"\",COUNTIF('Strain 6'!$D$109:$M$148,5.5))","v":""},{"$f":"IF(COUNTIF('Strain 6'!$D$149:$M$188,5.5)=0,\"\",COUNTIF('Strain 6'!$D$149:$M$188,5.5))","v":""},{"$f":"IF(COUNTIF('Strain 7'!$D$69:$M$108,5.5)=0,\"\",COUNTIF('Strain 7'!$D$69:$M$108,5.5))","v":""},{"$f":"IF(COUNTIF('Strain 7'!$D$109:$M$148,5.5)=0,\"\",COUNTIF('Strain 7'!$D$109:$M$148,5.5))","v":""},{"$f":"IF(COUNTIF('Strain 7'!$D$149:$M$188,5.5)=0,\"\",COUNTIF('Strain 7'!$D$149:$M$188,5.5))","v":""},{"$f":"IF(COUNTIF('Strain 8'!$D$69:$M$108,5.5)=0,\"\",COUNTIF('Strain 8'!$D$69:$M$108,5.5))","v":""},{"$f":"IF(COUNTIF('Strain 8'!$D$109:$M$148,5.5)=0,\"\",COUNTIF('Strain 8'!$D$109:$M$148,5.5))","v":""},{"$f":"IF(COUNTIF('Strain 8'!$D$149:$M$188,5.5)=0,\"\",COUNTIF('Strain 8'!$D$149:$M$188,5.5))","v":""},{"$f":"IF(COUNTIF('Strain 9'!$D$69:$M$108,5.5)=0,\"\",COUNTIF('Strain 9'!$D$69:$M$108,5.5))","v":""},{"$f":"IF(COUNTIF('Strain 9'!$D$109:$M$148,5.5)=0,\"\",COUNTIF('Strain 9'!$D$109:$M$148,5.5))","v":""},{"$f":"IF(COUNTIF('Strain 9'!$D$149:$M$188,5.5)=0,\"\",COUNTIF('Strain 9'!$D$149:$M$188,5.5))","v":""},{"$f":"IF(COUNTIF('Strain 10'!$D$69:$M$108,5.5)=0,\"\",COUNTIF('Strain 10'!$D$69:$M$108,5.5))","v":""},{"$f":"IF(COUNTIF('Strain 10'!$D$109:$M$148,5.5)=0,\"\",COUNTIF('Strain 10'!$D$109:$M$148,5.5))","v":""},{"$f":"IF(COUNTIF('Strain 10'!$D$149:$M$188,5.5)=0,\"\",COUNTIF('Strain 10'!$D$149:$M$188,5.5))","v":""}]
[128,6.5,{"$f":"IF(COUNTIF('Strain 1'!$D$69:$M$108,6.5)=0,\"\",COUNTIF('Strain 1'!$D$69:$M$108,6.5))","v":""},{"$f":"IF(COUNTIF('Strain 1'!$D$109:$M$148,6.5)=0,\"\",COUNTIF('Strain 1'!$D$109:$M$148,6.5))","v":""},{"$f":"IF(COUNTIF('Strain 1'!$D$149:$M$188,6.5)=0,\"\",COUNTIF('Strain 1'!$D$149:$M$188,6.5))","v":""},{"$f":"IF(COUNTIF('Strain 2'!$D$69:$M$108,6.5)=0,\"\",COUNTIF('Strain 2'!$D$69:$M$108,6.5))","v":""},{"$f":"IF(COUNTIF('Strain 2'!$D$109:$M$148,6.5)=0,\"\",COUNTIF('Strain 2'!$D$109:$M$148,6.5))","v":""},{"$f":"IF(COUNTIF('Strain 2'!$D$149:$M$188,6.5)=0,\"\",COUNTIF('Strain 2'!$D$149:$M$188,6.5))","v":""},{"$f":"IF(COUNTIF('Strain 3 '!$D$69:$M$108,6.5)=0,\"\",COUNTIF('Strain 3 '!$D$69:$M$108,6.5))","v":""},{"$f":"IF(COUNTIF('Strain 3 '!$D$109:$M$148,6.5)=0,\"\",COUNTIF('Strain 3 '!$D$109:$M$148,6.5))","v":""},{"$f":"IF(COUNTIF('Strain 3 '!$D$149:$M$188,6.5)=0,\"\",COUNTIF('Strain 3 '!$D$149:$M$188,6.5))","v":""},{"$f":"IF(COUNTIF('Strain 4'!$D$69:$M$108,6.5)=0,\"\",COUNTIF('Strain 4'!$D$69:$M$108,6.5))","v":""},{"$f":"IF(COUNTIF('Strain 4'!$D$109:$M$148,6.5)=0,\"\",COUNTIF('Strain 4'!$D$109:$M$148,6.5))","v":""},{"$f":"IF(COUNTIF('Strain 4'!$D$149:$M$188,6.5)=0,\"\",COUNTIF('Strain 4'!$D$149:$M$188,6.5))","v":""},{"$f":"IF(COUNTIF('Strain 5'!$D$69:$M$108,6.5)=0,\"\",COUNTIF('Strain 5'!$D$69:$M$108,6.5))","v":""},{"$f":"IF(COUNTIF('Strain 5'!$D$109:$M$148,6.5)=0,\"\",COUNTIF('Strain 5'!$D$109:$M$148,6.5))","v":""},{"$f":"IF(COUNTIF('Strain 5'!$D$149:$M$188,6.5)=0,\"\",COUNTIF('Strain 5'!$D$149:$M$188,6.5))","v":""},128,6.5,{"$f":"IF(COUNTIF('Strain 6'!$D$69:$M$108,6.5)=0,\"\",COUNTIF('Strain 6'!$D$69:$M$108,6.5))","v":""},{"$f":"IF(COUNTIF('Strain 6'!$D$109:$M$148,6.5)=0,\"\",COUNTIF('Strain 6'!$D$109:$M$148,6.5))","v":""},{"$f":"IF(COUNTIF('Strain 6'!$D$149:$M$188,6.5)=0,\"\",COUNTIF('Strain 6'!$D$149:$M$188,6.5))","v":""},{"$f":"IF(COUNTIF('Strain 7'!$D$69:$M$108,6.5)=0,\"\",COUNTIF('Strain 7'!$D$69:$M$108,6.5))","v":""},{"$f":"IF(COUNTIF('Strain 7'!$D$109:$M$148,6.5)=0,\"\",COUNTIF('Strain 7'!$D$109:$M$148,6.5))","v":""},{"$f":"IF(COUNTIF('Strain 7'!$D$149:$M$188,6.5)=0,\"\",COUNTIF('Strain 7'!$D$149:$M$188,6.5))","v":""},{"$f":"IF(COUNTIF('Strain 8'!$D$69:$M$108,6.5)=0,\"\",COUNTIF('Strain 8'!$D$69:$M$108,6.5))","v":""},{"$f":"IF(COUNTIF('Strain 8'!$D$109:$M$148,6.5)=0,\"\",COUNTIF('Strain 8'!$D$109:$M$148,6.5))","v":""},{"$f":"IF(COUNTIF('Strain 8'!$D$149:$M$188,6.5)=0,\"\",COUNTIF('Strain 8'!$D$149:$M$188,6.5))","v":""},{"$f":"IF(COUNTIF('Strain 9'!$D$69:$M$108,6.5)=0,\"\",COUNTIF('Strain 9'!$D$69:$M$108,6.5))","v":""},{"$f":"IF(COUNTIF('Strain 9'!$D$109:$M$148,6.5)=0,\"\",COUNTIF('Strain 9'!$D$109:$M$148,6.5))","v":""},{"$f":"IF(COUNTIF('Strain 9'!$D$149:$M$188,6.5)=0,\"\",COUNTIF('Strain 9'!$D$149:$M$188,6.5))","v":""},{"$f":"IF(COUNTIF('Strain 10'!$D$69:$M$108,6.5)=0,\"\",COUNTIF('Strain 10'!$D$69:$M$108,6.5))","v":""},{"$f":"IF(COUNTIF('Strain 10'!$D$109:$M$148,6.5)=0,\"\",COUNTIF('Strain 10'!$D$109:$M$148,6.5))","v":""},{"$f":"IF(COUNTIF('Strain 10'!$D$149:$M$188,6.5)=0,\"\",COUNTIF('Strain 10'!$D$149:$M$188,6.5))","v":""}]
[256,7.5,{"$f":"IF(COUNTIF('Strain 1'!$D$69:$M$108,7.5)=0,\"\",COUNTIF('Strain 1'!$D$69:$M$108,7.5))","v":""},{"$f":"IF(COUNTIF('Strain 1'!$D$109:$M$148,7.5)=0,\"\",COUNTIF('Strain 1'!$D$109:$M$148,7.5))","v":""},{"$f":"IF(COUNTIF('Strain 1'!$D$149:$M$188,7.5)=0,\"\",COUNTIF('Strain 1'!$D$149:$M$188,7.5))","v":""},{"$f":"IF(COUNTIF('Strain 2'!$D$69:$M$108,7.5)=0,\"\",COUNTIF('Strain 2'!$D$69:$M$108,7.5))","v":""},{"$f":"IF(COUNTIF('Strain 2'!$D$109:$M$148,7.5)=0,\"\",COUNTIF('Strain 2'!$D$109:$M$148,7.5))","v":""},{"$f":"IF(COUNTIF('Strain 2'!$D$149:$M$188,7.5)=0,\"\",COUNTIF('Strain 2'!$D$149:$M$188,7.5))","v":""},{"$f":"IF(COUNTIF('Strain 3 '!$D$69:$M$108,7.5)=0,\"\",COUNTIF('Strain 3 '!$D$69:$M$108,7.5))","v":""},{"$f":"IF(COUNTIF('Strain 3 '!$D$109:$M$148,7.5)=0,\"\",COUNTIF('Strain 3 '!$D$109:$M$148,7.5))","v":""},{"$f":"IF(COUNTIF('Strain 3 '!$D$149:$M$188,7.5)=0,\"\",COUNTIF('Strain 3 '!$D$149:$M$188,7.5))","v":""},{"$f":"IF(COUNTIF('Strain 4'!$D$69:$M$108,7.5)=0,\"\",COUNTIF('Strain 4'!$D$69:$M$108,7.5))","v":""},{"$f":"IF(COUNTIF('Strain 4'!$D$109:$M$148,7.5)=0,\"\",COUNTIF('Strain 4'!$D$109:$M$148,7.5))","v":""},{"$f":"IF(COUNTIF('Strain 4'!$D$149:$M$188,7.5)=0,\"\",COUNTIF('Strain 4'!$D$149:$M$188,7.5))","v":""},{"$f":"IF(COUNTIF('Strain 5'!$D$69:$M$108,7.5)=0,\"\",COUNTIF('Strain 5'!$D$69:$M$108,7.5))","v":""},{"$f":"IF(COUNTIF('Strain 5'!$D$109:$M$148,7.5)=0,\"\",COUNTIF('Strain 5'!$D$109:$M$148,7.5))","v":""},{"$f":"IF(COUNTIF('Strain 5'!$D$149:$M$188,7.5)=0,\"\",COUNTIF('Strain 5'!$D$149:$M$188,7.5))","v":""},256,7.5,{"$f":"IF(COUNTIF('Strain 6'!$D$69:$M$108,7.5)=0,\"\",COUNTIF('Strain 6'!$D$69:$M$108,7.5))","v":""},{"$f":"IF(COUNTIF('Strain 6'!$D$109:$M$148,7.5)=0,\"\",COUNTIF('Strain 6'!$D$109:$M$148,7.5))","v":""},{"$f":"IF(COUNTIF('Strain 6'!$D$149:$M$188,7.5)=0,\"\",COUNTIF('Strain 6'!$D$149:$M$188,7.5))","v":""},{"$f":"IF(COUNTIF('Strain 7'!$D$69:$M$108,7.5)=0,\"\",COUNTIF('Strain 7'!$D$69:$M$108,7.5))","v":""},{"$f":"IF(COUNTIF('Strain 7'!$D$109:$M$148,7.5)=0,\"\",COUNTIF('Strain 7'!$D$109:$M$148,7.5))","v":""},{"$f":"IF(COUNTIF('Strain 7'!$D$149:$M$188,7.5)=0,\"\",COUNTIF('Strain 7'!$D$149:$M$188,7.5))","v":""},{"$f":"IF(COUNTIF('Strain 8'!$D$69:$M$108,7.5)=0,\"\",COUNTIF('Strain 8'!$D$69:$M$108,7.5))","v":""},{"$f":"IF(COUNTIF('Strain 8'!$D$109:$M$148,7.5)=0,\"\",COUNTIF('Strain 8'!$D$109:$M$148,7.5))","v":""},{"$f":"IF(COUNTIF('Strain 8'!$D$149:$M$188,7.5)=0,\"\",COUNTIF('Strain 8'!$D$149:$M$188,7.5))","v":""},{"$f":"IF(COUNTIF('Strain 9'!$D$69:$M$108,7.5)=0,\"\",COUNTIF('Strain 9'!$D$69:$M$108,7.5))","v":""},{"$f":"IF(COUNTIF('Strain 9'!$D$109:$M$148,7.5)=0,\"\",COUNTIF('Strain 9'!$D$109:$M$148,7.5))","v":""},{"$f":"IF(COUNTIF('Strain 9'!$D$149:$M$188,7.5)=0,\"\",COUNTIF('Strain 9'!$D$149:$M$188,7.5))","v":""},{"$f":"IF(COUNTIF('Strain 10'!$D$69:$M$108,7.5)=0,\"\",COUNTIF('Strain 10'!$D$69:$M$108,7.5))","v":""},{"$f":"IF(COUNTIF('Strain 10'!$D$109:$M$148,7.5)=0,\"\",COUNTIF('Strain 10'!$D$109:$M$148,7.5))","v":""},{"$f":"IF(COUNTIF('Strain 10'!$D$149:$M$188,7.5)=0,\"\",COUNTIF('Strain 10'!$D$149:$M$188,7.5))","v":""}]
[512,8.5,{"$f":"IF(COUNTIF('Strain 1'!$D$69:$M$108,8.5)=0,\"\",COUNTIF('Strain 1'!$D$69:$M$108,8.5))","v":""},{"$f":"IF(COUNTIF('Strain 1'!$D$109:$M$148,8.5)=0,\"\",COUNTIF('Strain 1'!$D$109:$M$148,8.5))","v":""},{"$f":"IF(COUNTIF('Strain 1'!$D$149:$M$188,8.5)=0,\"\",COUNTIF('Strain 1'!$D$149:$M$188,8.5))","v":""},{"$f":"IF(COUNTIF('Strain 2'!$D$69:$M$108,8.5)=0,\"\",COUNTIF('Strain 2'!$D$69:$M$108,8.5))","v":""},{"$f":"IF(COUNTIF('Strain 2'!$D$109:$M$148,8.5)=0,\"\",COUNTIF('Strain 2'!$D$109:$M$148,8.5))","v":""},{"$f":"IF(COUNTIF('Strain 2'!$D$149:$M$188,8.5)=0,\"\",COUNTIF('Strain 2'!$D$149:$M$188,8.5))","v":""},{"$f":"IF(COUNTIF('Strain 3 '!$D$69:$M$108,8.5)=0,\"\",COUNTIF('Strain 3 '!$D$69:$M$108,8.5))","v":""},{"$f":"IF(COUNTIF('Strain 3 '!$D$109:$M$148,8.5)=0,\"\",COUNTIF('Strain 3 '!$D$109:$M$148,8.5))","v":""},{"$f":"IF(COUNTIF('Strain 3 '!$D$149:$M$188,8.5)=0,\"\",COUNTIF('Strain 3 '!$D$149:$M$188,8.5))","v":""},{"$f":"IF(COUNTIF('Strain 4'!$D$69:$M$108,8.5)=0,\"\",COUNTIF('Strain 4'!$D$69:$M$108,8.5))","v":""},{"$f":"IF(COUNTIF('Strain 4'!$D$109:$M$148,8.5)=0,\"\",COUNTIF('Strain 4'!$D$109:$M$148,8.5))","v":""},{"$f":"IF(COUNTIF('Strain 4'!$D$149:$M$188,8.5)=0,\"\",COUNTIF('Strain 4'!$D$149:$M$188,8.5))","v":""},{"$f":"IF(COUNTIF('Strain 5'!$D$69:$M$108,8.5)=0,\"\",COUNTIF('Strain 5'!$D$69:$M$108,8.5))","v":""},{"$f":"IF(COUNTIF('Strain 5'!$D$109:$M$148,8.5)=0,\"\",COUNTIF('Strain 5'!$D$109:$M$148,8.5))","v":""},{"$f":"IF(COUNTIF('Strain 5'!$D$149:$M$188,8.5)=0,\"\",COUNTIF('Strain 5'!$D$149:$M$188,8.5))","v":""},512,8.5,{"$f":"IF(COUNTIF('Strain 6'!$D$69:$M$108,8.5)=0,\"\",COUNTIF('Strain 6'!$D$69:$M$108,8.5))","v":""},{"$f":"IF(COUNTIF('Strain 6'!$D$109:$M$148,8.5)=0,\"\",COUNTIF('Strain 6'!$D$109:$M$148,8.5))","v":""},{"$f":"IF(COUNTIF('Strain 6'!$D$149:$M$188,8.5)=0,\"\",COUNTIF('Strain 6'!$D$149:$M$188,8.5))","v":""},{"$f":"IF(COUNTIF('Strain 7'!$D$69:$M$108,8.5)=0,\"\",COUNTIF('Strain 7'!$D$69:$M$108,8.5))","v":""},{"$f":"IF(COUNTIF('Strain 7'!$D$109:$M$148,8.5)=0,\"\",COUNTIF('Strain 7'!$D$109:$M$148,8.5))","v":""},{"$f":"IF(COUNTIF('Strain 7'!$D$149:$M$188,8.5)=0,\"\",COUNTIF('Strain 7'!$D$149:$M$188,8.5))","v":""},{"$f":"IF(COUNTIF('Strain 8'!$D$69:$M$108,8.5)=0,\"\",COUNTIF('Strain 8'!$D$69:$M$108,8.5))","v":""},{"$f":"IF(COUNTIF('Strain 8'!$D$109:$M$148,8.5)=0,\"\",COUNTIF('Strain 8'!$D$109:$M$148,8.5))","v":""},{"$f":"IF(COUNTIF('Strain 8'!$D$149:$M$188,8.5)=0,\"\",COUNTIF('Strain 8'!$D$149:$M$188,8.5))","v":""},{"$f":"IF(COUNTIF('Strain 9'!$D$69:$M$108,8.5)=0,\"\",COUNTIF('Strain 9'!$D$69:$M$108,8.5))","v":""},{"$f":"IF(COUNTIF('Strain 9'!$D$109:$M$148,8.5)=0,\"\",COUNTIF('Strain 9'!$D$109:$M$148,8.5))","v":""},{"$f":"IF(COUNTIF('Strain 9'!$D$149:$M$188,8.5)=0,\"\",COUNTIF('Strain 9'!$D$149:$M$188,8.5))","v":""},{"$f":"IF(COUNTIF('Strain 10'!$D$69:$M$108,8.5)=0,\"\",COUNTIF('Strain 10'!$D$69:$M$108,8.5))","v":""},{"$f":"IF(COUNTIF('Strain 10'!$D$109:$M$148,8.5)=0,\"\",COUNTIF('Strain 10'!$D$109:$M$148,8.5))","v":""},{"$f":"IF(COUNTIF('Strain 10'!$D$149:$M$188,8.5)=0,\"\",COUNTIF('Strain 10'!$D$149:$M$188,8.5))","v":""}]
[]
["Log2 Mean",null,{"$f":"AVERAGE('Strain 1'!$D$69:$M$108)","v":{"$error":"#DIV/0!"}},{"$f":"AVERAGE('Strain 1'!$D$109:$M$148)","v":{"$error":"#DIV/0!"}},{"$f":"AVERAGE('Strain 1'!$D$149:$M$188)","v":{"$error":"#DIV/0!"}},{"$f":"AVERAGE('Strain 2'!$D$69:$M$108)","v":{"$error":"#DIV/0!"}},{"$f":"AVERAGE('Strain 2'!$D$109:$M$148)","v":{"$error":"#DIV/0!"}},{"$f":"AVERAGE('Strain 2'!$D$149:$M$188)","v":{"$error":"#DIV/0!"}},{"$f":"AVERAGE('Strain 3 '!$D$69:$M$108)","v":{"$error":"#DIV/0!"}},{"$f":"AVERAGE('Strain 3 '!$D$109:$M$148)","v":{"$error":"#DIV/0!"}},{"$f":"AVERAGE('Strain 3 '!$D$149:$M$188)","v":{"$error":"#DIV/0!"}},{"$f":"AVERAGE('Strain 4'!$D$69:$M$108)","v":{"$error":"#DIV/0!"}},{"$f":"AVERAGE('Strain 4'!$D$109:$M$148)","v":{"$error":"#DIV/0!"}},{"$f":"AVERAGE('Strain 4'!$D$149:$M$188)","v":{"$error":"#DIV/0!"}},{"$f":"AVERAGE('Strain 5'!$D$69:$M$108)","v":{"$error":"#DIV/0!"}},{"$f":"AVERAGE('Strain 5'!$D$109:$M$148)","v":{"$error":"#DIV/0!"}},{"$f":"AVERAGE('Strain 5'!$D$149:$M$188)","v":{"$error":"#DIV/0!"}},"Log2 Mean",null,{"$f":"AVERAGE('Strain 6'!$D$69:$M$108)","v":{"$error":"#DIV/0!"}},{"$f":"AVERAGE('Strain 6'!$D$109:$M$148)","v":{"$error":"#DIV/0!"}},{"$f":"AVERAGE('Strain 6'!$D$149:$M$188)","v":{"$error":"#DIV/0!"}},{"$f":"AVERAGE('Strain 7'!$D$69:$M$108)","v":{"$error":"#DIV/0!"}},{"$f":"AVERAGE('Strain 7'!$D$109:$M$148)","v":{"$error":"#DIV/0!"}},{"$f":"AVERAGE('Strain 7'!$D$149:$M$188)","v":{"$error":"#DIV/0!"}},{"$f":"AVERAGE('Strain 8'!$D$69:$M$108)","v":{"$error":"#DIV/0!"}},{"$f":"AVERAGE('Strain 8'!$D$109:$M$148)","v":{"$error":"#DIV/0!"}},{"$f":"AVERAGE('Strain 8'!$D$149:$M$188)","v":{"$error":"#DIV/0!"}},{"$f":"AVERAGE('Strain 9'!$D$69:$M$108)","v":{"$error":"#DIV/0!"}},{"$f":"AVERAGE('Strain 9'!$D$109:$M$148)","v":{"$error":"#DIV/0!"}},{"$f":"AVERAGE('Strain 9'!$D$149:$M$188)","v":{"$error":"#DIV/0!"}},{"$f":"AVERAGE('Strain 10'!$D$69:$M$108)","v":{"$error":"#DIV/0!"}},{"$f":"AVERAGE('Strain 10'!$D$109:$M$148)","v":{"$error":"#DIV/0!"}},{"$f":"AVERAGE('Strain 10'!$D$149:$M$188)","v":{"$error":"#DIV/0!"}}]
["Log2 SD",null,{"$f":"STDEV('Strain 1'!$D$69:$M$108)","v":{"$error":"#DIV/0!"}},{"$f":"STDEV('Strain 1'!$D$109:$M$148)","v":{"$error":"#DIV/0!"}},{"$f":"STDEV('Strain 1'!$D$149:$M$188)","v":{"$error":"#DIV/0!"}},{"$f":"STDEV('Strain 2'!$D$69:$M$108)","v":{"$error":"#DIV/0!"}},{"$f":"STDEV('Strain 2'!$D$109:$M$148)","v":{"$error":"#DIV/0!"}},{"$f":"STDEV('Strain 2'!$D$149:$M$188)","v":{"$error":"#DIV/0!"}},{"$f":"STDEV('Strain 3 '!$D$69:$M$108)","v":{"$error":"#DIV/0!"}},{"$f":"STDEV('Strain 3 '!$D$109:$M$148)","v":{"$error":"#DIV/0!"}},{"$f":"STDEV('Strain 3 '!$D$149:$M$188)","v":{"$error":"#DIV/0!"}},{"$f":"STDEV('Strain 4'!$D$69:$M$108)","v":{"$error":"#DIV/0!"}},{"$f":"STDEV('Strain 4'!$D$109:$M$148)","v":{"$error":"#DIV/0!"}},{"$f":"STDEV('Strain 4'!$D$149:$M$188)","v":{"$error":"#DIV/0!"}},{"$f":"STDEV('Strain 5'!$D$69:$M$108)","v":{"$error":"#DIV/0!"}},{"$f":"STDEV('Strain 5'!$D$109:$M$148)","v":{"$error":"#DIV/0!"}},{"$f":"STDEV('Strain 5'!$D$149:$M$188)","v":{"$error":"#DIV/0!"}},"Log2 SD",null,{"$f":"STDEV('Strain 6'!$D$69:$M$108)","v":{"$error":"#DIV/0!"}},{"$f":"STDEV('Strain 6'!$D$109:$M$148)","v":{"$error":"#DIV/0!"}},{"$f":"STDEV('Strain 6'!$D$149:$M$188)","v":{"$error":"#DIV/0!"}},{"$f":"STDEV('Strain 7'!$D$69:$M$108)","v":{"$error":"#DIV/0!"}},{"$f":"STDEV('Strain 7'!$D$109:$M$148)","v":{"$error":"#DIV/0!"}},{"$f":"STDEV('Strain 7'!$D$149:$M$188)","v":{"$error":"#DIV/0!"}},{"$f":"STDEV('Strain 8'!$D$69:$M$108)","v":{"$error":"#DIV/0!"}},{"$f":"STDEV('Strain 8'!$D$109:$M$148)","v":{"$error":"#DIV/0!"}},{"$f":"STDEV('Strain 8'!$D$149:$M$188)","v":{"$error":"#DIV/0!"}},{"$f":"STDEV('Strain 9'!$D$69:$M$108)","v":{"$error":"#DIV/0!"}},{"$f":"STDEV('Strain 9'!$D$109:$M$148)","v":{"$error":"#DIV/0!"}},{"$f":"STDEV('Strain 9'!$D$149:$M$188)","v":{"$error":"#DIV/0!"}},{"$f":"STDEV('Strain 10'!$D$69:$M$108)","v":{"$error":"#DIV/0!"}},{"$f":"STDEV('Strain 10'!$D$109:$M$148)","v":{"$error":"#DIV/0!"}},{"$f":"STDEV('Strain 10'!$D$149:$M$188)","v":{"$error":"#DIV/0!"}}]

{"sheet":"Strain 1","index":4,"n_rows":271,"n_cols":16,"rows_kept":271,"merged":[[0,4,0,6]]}
[{"$f":"'Range Summary'!B2","v":"QC1"},{"$f":"'Range Summary'!A2","v":"Test agent"},null,null,"Go to Raw Data Entry area"]
["MIC","Midpoint MIC","Mid Log2MIC","Lab 1","Lab 2","Lab 3","Lab 4","Lab 5","Lab 6","Lab 7","Lab 8","Lab 9","Lab 10","All labs","Norm"]
[{"v":1E-3,"d":"0.001"},{"$f":"2^C3","v":{"v":6.9053396600248776E-4,"d":"0.000691"}},-10.5,{"$f":"IF(COUNTIF(D69:D188,-10.5)=0,\"\",COUNTIF(D69:D188,-10.5))","v":""},{"$f":"IF(COUNTIF(E69:E188,-10.5)=0,\"\",COUNTIF(E69:E188,-10.5))","v":""},{"$f":"IF(COUNTIF(F69:F188,-10.5)=0,\"\",COUNTIF(F69:F188,-10.5))","v":""},"","",{"$f":"IF(COUNTIF(I69:I188,-10.5)=0,\"\",COUNTIF(I69:I188,-10.5))","v":""},{"$f":"IF(COUNTIF(J69:J188,-10.5)=0,\"\",COUNTIF(J69:J188,-10.5))","v":""},"","","",{"$f":"SUM(D3:M3)","v":0},{"$f":"IF(D69=\"\",0,ROUND(N$33*NORMDIST(C3+0.5,N$34,N$36,TRUE),0))","v":0}]
[{"v":2E-3,"d":"0.002"},{"$f":"2^C4","v":{"v":1.3810679320049757E-3,"d":"0.001381"}},-9.5,{"$f":"IF(COUNTIF(D69:D188,-9.5)=0,\"\",COUNTIF(D69:D188,-9.5))","v":""},{"$f":"IF(COUNTIF(E69:E188,-9.5)=0,\"\",COUNTIF(E69:E188,-9.5))","v":""},{"$f":"IF(COUNTIF(F69:F188,-9.5)=0,\"\",COUNTIF(F69:F188,-9.5))","v":""},"","",{"$f":"IF(COUNTIF(I69:I188,-9.5)=0,\"\",COUNTIF(I69:I188,-9.5))","v":""},{"$f":"IF(COUNTIF(J69:J188,-9.5)=0,\"\",COUNTIF(J69:J188,-9.5))","v":""},"","","",0,{"$f":"IF(D69=\"\",0,ROUND(N$33*NORMDIST(C4+0.5,N$34,N$36,TRUE),0)-SUM(O2:O$3))","v":0}]
[0.004,{"v":2.7621358640099515E-3,"d":"0.002762"},-8.5,{"$f":"IF(COUNTIF(D69:D188,-8.5)=0,\"\",COUNTIF(D69:D188,-8.5))","v":""},{"$f":"IF(COUNTIF(E69:E188,-8.5)=0,\"\",COUNTIF(E69:E188,-8.5))","v":""},{"$f":"IF(COUNTIF(F69:F188,-8.5)=0,\"\",COUNTIF(F69:F188,-8.5))","v":""},"","",{"$f":"IF(COUNTIF(I69:I188,-8.5)=0,\"\",COUNTIF(I69:I188,-8.5))","v":""},{"$f":"IF(COUNTIF(J69:J188,-8.5)=0,\"\",COUNTIF(J69:J188,-8.5))","v":""},"","","",0,{"$f":"IF(D69=\"\",0,ROUND(N$33*NORMDIST(C5+0.5,N$34,N$36,TRUE),0)-SUM(O$3:O3))","v":0}]
[0.008,{"v":0.005524271728019904,"d":"0.005524"},-7.5,{"$f":"IF(COUNTIF(D69:D188,-7.5)=0,\"\",COUNTIF(D69:D188,-7.5))","v":""},{"$f":"IF(COUNTIF(E69:E188,-7.5)=0,\"\",COUNTIF(E69:E188,-7.5))","v":""},{"$f":"IF(COUNTIF(F69:F188,-7.5)=0,\"\",COUNTIF(F69:F188,-7.5))","v":""},"","",{"$f":"IF(COUNTIF(I69:I188,-7.5)=0,\"\",COUNTIF(I69:I188,-7.5))","v":""},{"$f":"IF(COUNTIF(J69:J188,-7.5)=0,\"\",COUNTIF(J69:J188,-7.5))","v":""},"","","",{"$f":"SUM(D6:M6)","v":0},{"$f":"IF(D69=\"\",0,ROUND(N$33*NORMDIST(C6+0.5,N$34,N$36,TRUE),0)-SUM(O$3:O5))","v":0}]
[0.016,{"v":0.011048543456039808,"d":"0.011049"},-6.5,{"$f":"IF(COUNTIF(D69:D188,-6.5)=0,\"\",COUNTIF(D69:D188,-6.5))","v":""},{"$f":"IF(COUNTIF(E69:E188,-6.5)=0,\"\",COUNTIF(E69:E188,-6.5))","v":""},{"$f":"IF(COUNTIF(F69:F188,-6.5)=0,\"\",COUNTIF(F69:F188,-6.5))","v":""},"","",{"$f":"IF(COUNTIF(I69:I188,-6.5)=0,\"\",COUNTIF(I69:I188,-6.5))","v":""},{"$f":"IF(COUNTIF(J69:J188,-6.5)=0,\"\",COUNTIF(J69:J188,-6.5))","v":""},"","","",0,{"$f":"IF(D69=\"\",0,ROUND(N$33*NORMDIST(C7+0.5,N$34,N$36,TRUE),0)-SUM(O$3:O6))","v":0}]
[0.03,{"v":0.022097086912079608,"d":"0.022097"},-5.5,{"$f":"IF(COUNTIF(D69:D188,-5.5)=0,\"\",COUNTIF(D69:D188,-5.5))","v":""},{"$f":"IF(COUNTIF(E69:E188,-5.5)=0,\"\",COUNTIF(E69:E188,-5.5))","v":""},{"$f":"IF(COUNTIF(F69:F188,-5.5)=0,\"\",COUNTIF(F69:F188,-5.5))","v":""},"","",{"$f":"IF(COUNTIF(I69:I188,-5.5)=0,\"\",COUNTIF(I69:I188,-5.5))","v":""},{"$f":"IF(COUNTIF(J69:J188,-5.5)=0,\"\",COUNTIF(J69:J188,-5.5))","v":""},"","","",0,{"$f":"IF(D69=\"\",0,ROUND(N$33*NORMDIST(C8+0.5,N$34,N$36,TRUE),0)-SUM(O$3:O7))","v":0}]
[0.06,{"v":0.04419417382415922,"d":"0.044194"},-4.5,{"$f":"IF(COUNTIF(D69:D188,-4.5)=0,\"\",COUNTIF(D69:D188,-4.5))","v":""},{"$f":"IF(COUNTIF(E69:E188,-4.5)=0,\"\",COUNTIF(E69:E188,-4.5))","v":""},{"$f":"IF(COUNTIF(F69:F188,-4.5)=0,\"\",COUNTIF(F69:F188,-4.5))","v":""},"","",{"$f":"IF(COUNTIF(I69:I188,-4.5)=0,\"\",COUNTIF(I69:I188,-4.5))","v":""},{"$f":"IF(COUNTIF(J69:J188,-4.5)=0,\"\",COUNTIF(J69:J188,-4.5))","v":""},"","","",0,{"$f":"IF(D69=\"\",0,ROUND(N$33*NORMDIST(C9+0.5,N$34,N$36,TRUE),0)-SUM(O$3:O8))","v":0}]
[0.13,{"v":0.08838834764831845,"d":"0.088388"},-3.5,{"$f":"IF(COUNTIF(D69:D188,-3.5)=0,\"\",COUNTIF(D69:D188,-3.5))","v":""},{"$f":"IF(COUNTIF(E69:E188,-3.5)=0,\"\",COUNTIF(E69:E188,-3.5))","v":""},{"$f":"IF(COUNTIF(F69:F188,-3.5)=0,\"\",COUNTIF(F69:F188,-3.5))","v":""},"","",{"$f":"IF(COUNTIF(I69:I188,-3.5)=0,\"\",COUNTIF(I69:I188,-3.5))","v":""},{"$f":"IF(COUNTIF(J69:J188,-3.5)=0,\"\",COUNTIF(J69:J188,-3.5))","v":""},"","","",0,{"$f":"IF(D69=\"\",0,ROUND(N$33*NORMDIST(C10+0.5,N$34,N$36,TRUE),0)-SUM(O$3:O9))","v":0}]
[0.25,{"v":0.17677669529663687,"d":"0.176777"},-2.5,{"$f":"IF(COUNTIF(D69:D188,-2.5)=0,\"\",COUNTIF(D69:D188,-2.5))","v":""},{"$f":"IF(COUNTIF(E69:E188,-2.5)=0,\"\",COUNTIF(E69:E188,-2.5))","v":""},{"$f":"IF(COUNTIF(F69:F188,-2.5)=0,\"\",COUNTIF(F69:F188,-2.5))","v":""},"","",{"$f":"IF(COUNTIF(I69:I188,-2.5)=0,\"\",COUNTIF(I69:I188,-2.5))","v":""},{"$f":"IF(COUNTIF(J69:J188,-2.5)=0,\"\",COUNTIF(J69:J188,-2.5))","v":""},"","","",0,{"$f":"IF(D69=\"\",0,ROUND(N$33*NORMDIST(C11+0.5,N$34,N$36,TRUE),0)-SUM(O$3:O10))","v":0}]
[0.5,{"v":0.3535533905932738,"d":"0.353553"},-1.5,{"$f":"IF(COUNTIF(D69:D188,-1.5)=0,\"\",COUNTIF(D69:D188,-1.5))","v":""},{"$f":"IF(COUNTIF(E69:E188,-1.5)=0,\"\",COUNTIF(E69:E188,-1.5))","v":""},{"$f":"IF(COUNTIF(F69:F188,-1.5)=0,\"\",COUNTIF(F69:F188,-1.5))","v":""},"","",{"$f":"IF(COUNTIF(I69:I188,-1.5)=0,\"\",COUNTIF(I69:I188,-1.5))","v":""},{"$f":"IF(COUNTIF(J69:J188,-1.5)=0,\"\",COUNTIF(J69:J188,-1.5))","v":""},"","","",0,{"$f":"IF(D69=\"\",0,ROUND(N$33*NORMDIST(C12+0.5,N$34,N$36,TRUE),0)-SUM(O$3:O11))","v":0}]
[1,{"v":0.7071067811865475,"d":"0.707107"},-0.5,{"$f":"IF(COUNTIF(D69:D188,-0.5)=0,\"\",COUNTIF(D69:D188,-0.5))","v":""},{"$f":"IF(COUNTIF(E69:E188,-0.5)=0,\"\",COUNTIF(E69:E188,-0.5))","v":""},{"$f":"IF(COUNTIF(F69:F188,-0.5)=0,\"\",COUNTIF(F69:F188,-0.5))","v":""},"","",{"$f":"IF(COUNTIF(I69:I188,-0.5)=0,\"\",COUNTIF(I69:I188,-0.5))","v":""},{"$f":"IF(COUNTIF(J69:J188,-0.5)=0,\"\",COUNTIF(J69:J188,-0.5))","v":""},"","","",0,{"$f":"IF(D69=\"\",0,ROUND(N$33*NORMDIST(C13+0.5,N$34,N$36,TRUE),0)-SUM(O$3:O12))","v":0}]
[2,{"v":1.4142135623730951,"d":"1.414214"},0.5,{"$f":"IF(COUNTIF(D69:D188,0.5)=0,\"\",COUNTIF(D69:D188,0.5))","v":""},{"$f":"IF(COUNTIF(E69:E188,0.5)=0,\"\",COUNTIF(E69:E188,0.5))","v":""},{"$f":"IF(COUNTIF(F69:F188,0.5)=0,\"\",COUNTIF(F69:F188,0.5))","v":""},"","",{"$f":"IF(COUNTIF(I69:I188,0.5)=0,\"\",COUNTIF(I69:I188,0.5))","v":""},{"$f":"IF(COUNTIF(J69:J188,0.5)=0,\"\",COUNTIF(J69:J188,0.5))","v":""},"","","",0,{"$f":"IF(D69=\"\",0,ROUND(N$33*NORMDIST(C14+0.5,N$34,N$36,TRUE),0)-SUM(O$3:O13))","v":0}]
[4,{"v":2.82842712474619,"d":"2.828427"},1.5,{"$f":"IF(COUNTIF(D69:D188,1.5)=0,\"\",COUNTIF(D69:D188,1.5))","v":""},{"$f":"IF(COUNTIF(E69:E188,1.5)=0,\"\",COUNTIF(E69:E188,1.5))","v":""},{"$f":"IF(COUNTIF(F69:F188,1.5)=0,\"\",COUNTIF(F69:F188,1.5))","v":""},"","",{"$f":"IF(COUNTIF(I69:I188,1.5)=0,\"\",COUNTIF(I69:I188,1.5))","v":""},{"$f":"IF(COUNTIF(J69:J188,1.5)=0,\"\",COUNTIF(J69:J188,1.5))","v":""},"","","",0,{"$f":"IF(D69=\"\",0,ROUND(N$33*NORMDIST(C15+0.5,N$34,N$36,TRUE),0)-SUM(O$3:O14))","v":0}]
[8,{"v":5.656854249492381,"d":"5.656854"},2.5,{"$f":"IF(COUNTIF(D69:D188,2.5)=0,\"\",COUNTIF(D69:D188,2.5))","v":""},{"$f":"IF(COUNTIF(E69:E188,2.5)=0,\"\",COUNTIF(E69:E188,2.5))","v":""},{"$f":"IF(COUNTIF(F69:F188,2.5)=0,\"\",COUNTIF(F69:F188,2.5))","v":""},"","",{"$f":"IF(COUNTIF(I69:I188,2.5)=0,\"\",COUNTIF(I69:I188,2.5))","v":""},{"$f":"IF(COUNTIF(J69:J188,2.5)=0,\"\",COUNTIF(J69:J188,2.5))","v":""},"","","",0,{"$f":"IF(D69=\"\",0,ROUND(N$33*NORMDIST(C16+0.5,N$34,N$36,TRUE),0)-SUM(O$3:O15))","v":0}]
[16,{"v":11.31370849898476,"d":"11.313708"},3.5,{"$f":"IF(COUNTIF(D69:D188,3.5)=0,\"\",COUNTIF(D69:D188,3.5))","v":""},{"$f":"IF(COUNTIF(E69:E188,3.5)=0,\"\",COUNTIF(E69:E188,3.5))","v":""},{"$f":"IF(COUNTIF(F69:F188,3.5)=0,\"\",COUNTIF(F69:F188,3.5))","v":""},"","",{"$f":"IF(COUNTIF(I69:I188,3.5)=0,\"\",COUNTIF(I69:I188,3.5))","v":""},{"$f":"IF(COUNTIF(J69:J188,3.5)=0,\"\",COUNTIF(J69:J188,3.5))","v":""},"","","",0,{"$f":"IF(D69=\"\",0,ROUND(N$33*NORMDIST(C17+0.5,N$34,N$36,TRUE),0)-SUM(O$3:O16))","v":0}]
[32,{"v":22.62741699796952,"d":"22.627417"},4.5,{"$f":"IF(COUNTIF(D69:D188,4.5)=0,\"\",COUNTIF(D69:D188,4.5))","v":""},{"$f":"IF(COUNTIF(E69:E188,4.5)=0,\"\",COUNTIF(E69:E188,4.5))","v":""},{"$f":"IF(COUNTIF(F69:F188,4.5)=0,\"\",COUNTIF(F69:F188,4.5))","v":""},"","",{"$f":"IF(COUNTIF(I69:I188,4.5)=0,\"\",COUNTIF(I69:I188,4.5))","v":""},{"$f":"IF(COUNTIF(J69:J188,4.5)=0,\"\",COUNTIF(J69:J188,4.5))","v":""},"","","",0,{"$f":"IF(D69=\"\",0,ROUND(N$33*NORMDIST(C18+0.5,N$34,N$36,TRUE),0)-SUM(O$3:O17))","v":0}]
[64,{"v":45.254833995939045,"d":"45.254834"},5.5,{"$f":"IF(COUNTIF(D69:D188,5.5)=0,\"\",COUNTIF(D69:D188,5.5))","v":""},{"$f":"IF(COUNTIF(E69:E188,5.5)=0,\"\",COUNTIF(E69:E188,5.5))","v":""},{"$f":"IF(COUNTIF(F69:F188,5.5)=0,\"\",COUNTIF(F69:F188,5.5))","v":""},"","",{"$f":"IF(COUNTIF(I69:I188,5.5)=0,\"\",COUNTIF(I69:I188,5.5))","v":""},{"$f":"IF(COUNTIF(J69:J188,5.5)=0,\"\",COUNTIF(J69:J188,5.5))","v":""},"","","",0,{"$f":"IF(D69=\"\",0,ROUND(N$33*NORMDIST(C19+0.5,N$34,N$36,TRUE),0)-SUM(O$3:O18))","v":0}]
[128,{"v":90.50966799187806,"d":"90.509668"},6.5,{"$f":"IF(COUNTIF(D69:D188,6.5)=0,\"\",COUNTIF(D69:D188,6.5))","v":""},{"$f":"IF(COUNTIF(E69:E188,6.5)=0,\"\",COUNTIF(E69:E188,6.5))","v":""},{"$f":"IF(COUNTIF(F69:F188,6.5)=0,\"\",COUNTIF(F69:F188,6.5))","v":""},"","",{"$f":"IF(COUNTIF(I69:I188,6.5)=0,\"\",COUNTIF(I69:I188,6.5))","v":""},{"$f":"IF(COUNTIF(J69:J188,6.5)=0,\"\",COUNTIF(J69:J188,6.5))","v":""},"","","",0,{"$f":"IF(D69=\"\",0,ROUND(N$33*NORMDIST(C20+0.5,N$34,N$36,TRUE),0)-SUM(O$3:O19))","v":0}]
[256,{"v":181.01933598375612,"d":"181.019336"},7.5,{"$f":"IF(COUNTIF(D69:D188,7.5)=0,\"\",COUNTIF(D69:D188,7.5))","v":""},{"$f":"IF(COUNTIF(E69:E188,7.5)=0,\"\",COUNTIF(E69:E188,7.5))","v":""},{"$f":"IF(COUNTIF(F69:F188,7.5)=0,\"\",COUNTIF(F69:F188,7.5))","v":""},"","",{"$f":"IF(COUNTIF(I69:I188,7.5)=0,\"\",COUNTIF(I69:I188,7.5))","v":""},{"$f":"IF(COUNTIF(J69:J188,7.5)=0,\"\",COUNTIF(J69:J188,7.5))","v":""},"","","",0,{"$f":"IF(D69=\"\",0,ROUND(N$33*NORMDIST(C21+0.5,N$34,N$36,TRUE),0)-SUM(O$3:O20))","v":0}]
[512,{"v":362.0386719675123,"d":"362.038672"},8.5,{"$f":"IF(COUNTIF(D69:D188,8.5)=0,\"\",COUNTIF(D69:D188,8.5))","v":""},{"$f":"IF(COUNTIF(E69:E188,8.5)=0,\"\",COUNTIF(E69:E188,8.5))","v":""},{"$f":"IF(COUNTIF(F69:F188,8.5)=0,\"\",COUNTIF(F69:F188,8.5))","v":""},"","",{"$f":"IF(COUNTIF(I69:I188,8.5)=0,\"\",COUNTIF(I69:I188,8.5))","v":""},{"$f":"IF(COUNTIF(J69:J188,8.5)=0,\"\",COUNTIF(J69:J188,8.5))","v":""},"","","",0,{"$f":"IF(D69=\"\",0,ROUND(N$33*NORMDIST(C22+0.5,N$34,N$36,TRUE),0)-SUM(O$3:O21))","v":0}]
[null,null,"Central Tendancy Stats","Lab 1","Lab 2","Lab 3","Lab 4","Lab 5","Lab 6","Lab 7","Lab 8","Lab 9","Lab 10","All labs","Control","Limits"]
[null,null,"Mean",{"$f":"IF(COUNT(D69:D188)=0,\"\",AVERAGE(D69:D188))","v":""},"","","","",{"$f":"IF(COUNT(I69:I188)=0,\"\",AVERAGE(I69:I188))","v":""},{"$f":"IF(COUNT(J69:J188)=0,\"\",AVERAGE(J69:J188))","v":""},"","","",{"$f":"IF(D69=\"\",\"\",AVERAGE(D69:M188))","v":""},{"$f":"IF(D69=\"\",\"\",ROUND(NORMINV(0.025,N34,N36),3))","v":""},{"$f":"IF(D69=\"\",\"\",ROUND(NORMINV(0.975,N34,N36),3))","v":""}]
["Calculated QC Range",null,"Median",{"$f":"IF(COUNT(D69:D188)=0,\"\",MEDIAN(D69:D188))","v":""},"","","","",{"$f":"IF(COUNT(I69:I188)=0,\"\",MEDIAN(I69:I188))","v":""},{"$f":"IF(COUNT(J69:J188)=0,\"\",MEDIAN(J69:J188))","v":""},"","","",{"$f":"IF(D69=\"\",\"\",MEDIAN(D69:M188))","v":""},{"$f":"IF(D69=\"\",\"\",ROUND(N51,3))","v":""},{"$f":"IF(D69=\"\",\"\",ROUND(N52,3))","v":""}]
[{"$f":"IF(N33=0,\"\",ROUND(2*N39,3)&\" to \"&ROUND(N40,3))","v":""},null,"Mode",{"$f":"IF(COUNT(D69:D188)=0,\"\",MODE(D69:D188))","v":""},"","","","",{"$f":"IF(COUNT(I69:I188)=0,\"\",MODE(I69:I188))","v":""},{"$f":"IF(COUNT(J69:J188)=0,\"\",MODE(J69:J188))","v":""},"","","",{"$f":"IF(D69=\"\",\"\",MODE(D69:M188))","v":""},{"$f":"IF(D69=\"\",\"\",N26-1)","v":""},{"$f":"IF(D69=\"\",\"\",N26+1)","v":""}]
["Dilution Range",null,null,"(Converted back to MIC)",{"$nulls":10},"Control","Limits"]
[{"$f":"IF(N33=0,\"\",LN(N40/N39)/LN(2))","v":""},null,"Mean",{"$f":"IF(COUNT(D69:D188)=0,\"\",2^(AVERAGE(D69:D188)+0.5))","v":""},"","","","",{"$f":"IF(COUNT(I69:I188)=0,\"\",2^(AVERAGE(I69:I188)+0.5))","v":""},{"$f":"IF(COUNT(J69:J188)=0,\"\",2^(AVERAGE(J69:J188)+0.5))","v":""},"","","",{"$f":"IF(D69=\"\",\"\",2^(AVERAGE(D69:M188)+0.5))","v":""},{"$f":"IF(D69=\"\",\"\",2^O24)","v":""},{"$f":"IF(D69=\"\",\"\",2^P24)","v":""}]
["% Obs. Captured",null,"Median",{"$f":"IF(COUNT(D69:D188)=0,\"\",2^(MEDIAN(D69:D188)+0.5))","v":""},"","","","",{"$f":"IF(COUNT(I69:I188)=0,\"\",2^(MEDIAN(I69:I188)+0.5))","v":""},{"$f":"IF(COUNT(J69:J188)=0,\"\",2^(MEDIAN(J69:J188)+0.5))","v":""},"","","",{"$f":"IF(D69=\"\",\"\",2^(MEDIAN(D69:M188)+0.5))","v":""},{"$f":"IF(D69=\"\",\"\",2^O25)","v":""},{"$f":"IF(D69=\"\",\"\",2^P25)","v":""}]
[{"$f":"IF(N33=0,\"\",((COUNTIF(D69:M188,\"<\"&LN(N40)/LN(2))-COUNTIF(D69:M188,\"<\"&LN(N39)/LN(2)))/N$33))","v":""},null,"Mode",{"$f":"IF(COUNT(D69:D188)=0,\"\",2^(MODE(D69:D188)+0.5))","v":""},"","","","",{"$f":"IF(COUNT(I69:I188)=0,\"\",2^(MODE(I69:I188)+0.5))","v":""},{"$f":"IF(COUNT(J69:J188)=0,\"\",2^(MODE(J69:J188)+0.5))","v":""},"","","",{"$f":"IF(D69=\"\",\"\",2^(MODE(D69:M188)+0.5))","v":""},{"$f":"IF(D69=\"\",\"\",2^O26)","v":""},{"$f":"IF(D69=\"\",\"\",2^P26)","v":""}]
["Prob'ty Outside Range"]
[{"$f":"IF(N33=0,\"\",N41+N42)","v":""},null,"Conventional Stats","Lab 1","Lab 2","Lab 3","Lab 4","Lab 5","Lab 6","Lab 7","Lab 8","Lab 9","Lab 10","All labs","Interlab"]
[null,null,"N",{"$f":"IF(COUNT(D69:D188)=0,\"\",COUNT(D69:D188))","v":""},"","","","",{"$f":"IF(COUNT(I69:I188)=0,\"\",COUNT(I69:I188))","v":""},{"$f":"IF(COUNT(J69:J188)=0,\"\",COUNT(J69:J188))","v":""},"","","",{"$f":"COUNT(D69:M188)","v":0},"CV"]
["CLSI QC Range",null,"GeoMean MIC (log2)",{"$f":"IF(COUNT(D69:D188)=0,\"\",AVERAGE(D69:D188))","v":""},"","","","",{"$f":"IF(COUNT(I69:I188)=0,\"\",AVERAGE(I69:I188))","v":""},{"$f":"IF(COUNT(J69:J188)=0,\"\",AVERAGE(J69:J188))","v":""},"","","",{"$f":"IF(D69=\"\",\"\",AVERAGE(D69:M188))","v":""},{"$f":"IF(D69=\"\",\"\",ABS(STDEVA(D34:M34)/N34))","v":""}]
[null,null,"GeoMean MIC",{"$f":"IF(COUNT(D69:D188)=0,\"\",2^D34)","v":""},"","","","",{"$f":"IF(COUNT(I69:I188)=0,\"\",2^I34)","v":""},{"$f":"IF(COUNT(J69:J188)=0,\"\",2^J34)","v":""},"","","",{"$f":"IF(D69=\"\",\"\",2^N34)","v":""}]
[null,null,"GeoSD (log2)",{"$f":"IF(COUNT(D69:D188)=0,\"\",STDEV(D69:D188))","v":""},"","","","",{"$f":"IF(COUNT(I69:I188)=0,\"\",STDEV(I69:I188))","v":""},{"$f":"IF(COUNT(J69:J188)=0,\"\",STDEV(J69:J188))","v":""},"","","",{"$f":"IF(D69=\"\",\"\",STDEV(D69:M188))","v":""}]
[{"$f":"IF(A35=\"\",\"\",ROUND(2^(A35+0.5),3)&\" to \"&ROUND(2^(A36+0.5),3))","v":""},null,"95% Lower Bound",{"$f":"IF(COUNT(D69:D188)=0,\"\",IF(D33=0,\"\",2^((NORMINV(0.025,D34,D36)))))","v":""},"","","","",{"$f":"IF(COUNT(I69:I188)=0,\"\",IF(I33=0,\"\",2^((NORMINV(0.025,I34,I36)))))","v":""},{"$f":"IF(COUNT(J69:J188)=0,\"\",IF(J33=0,\"\",2^((NORMINV(0.025,J34,J36)))))","v":""},"","","",{"$f":"IF(N33=0,\"\",2^((NORMINV(0.025,N34,N36))))","v":""}]
["Dilution Range",null,"95% Upper Bound",{"$f":"IF(COUNT(D69:D188)=0,\"\",IF(D33=0,\"\",2^(NORMINV(0.975,D34,D36))))","v":""},"","","","",{"$f":"IF(COUNT(I69:I188)=0,\"\",IF(I33=0,\"\",2^(NORMINV(0.975,I34,I36))))","v":""},{"$f":"IF(COUNT(J69:J188)=0,\"\",IF(J33=0,\"\",2^(NORMINV(0.975,J34,J36))))","v":""},"","","",{"$f":"IF(N33=0,\"\",2^(NORMINV(0.975,N34,N36)))","v":""}]
[{"$f":"IF(A35=\"\",\"\",A36-A35+1)","v":""},null,"Lower Bound Rounded Down",{"$f":"IF(COUNT(D69:D188)=0,\"\",IF(D33=0,\"\",2^(INT((NORMINV(0.025,D34,D36))))))","v":""},"","","","",{"$f":"IF(COUNT(I69:I188)=0,\"\",IF(I33=0,\"\",2^(INT((NORMINV(0.025,I34,I36))))))","v":""},{"$f":"IF(COUNT(J69:J188)=0,\"\",IF(J33=0,\"\",2^(INT((NORMINV(0.025,J34,J36))))))","v":""},"","","",{"$f":"IF(N33=0,\"\",2^(INT((NORMINV(0.025,N34,N36)))))","v":""}]
["CLSI% Obs. captured",null,"Upper Bound Rounded Up",{"$f":"IF(COUNT(D69:D188)=0,\"\",IF(D33=0,\"\",2^(INT((NORMINV(0.975,D34,D36)))+1)))","v":""},"","","","",{"$f":"IF(COUNT(I69:I188)=0,\"\",IF(I33=0,\"\",2^(INT((NORMINV(0.975,I34,I36)))+1)))","v":""},{"$f":"IF(COUNT(J69:J188)=0,\"\",IF(J33=0,\"\",2^(INT((NORMINV(0.975,J34,J36)))+1)))","v":""},"","","",{"$f":"IF(N33=0,\"\",2^(INT((NORMINV(0.975,N34,N36)))+1))","v":""}]
[{"$f":"IF(A35=0,\"\",(COUNTIF(D69:M188,\"<\"&A36+1)-COUNTIF(D69:M188,\"<\"&A35))/N$33)","v":""},null,"Probability of <=Lower Bound",{"$f":"IF(COUNT(D69:D188)=0,\"\",NORMDIST(LOG(D39)/LOG(2),D34,D36,TRUE))","v":""},"","","","",{"$f":"IF(COUNT(I69:I188)=0,\"\",NORMDIST(LOG(I39)/LOG(2),I34,I36,TRUE))","v":""},{"$f":"IF(COUNT(J69:J188)=0,\"\",NORMDIST(LOG(J39)/LOG(2),J34,J36,TRUE))","v":""},"","","",{"$f":"IF(D69=\"\",\"\",NORMDIST(LOG(N39)/LOG(2),N34,N36,TRUE))","v":""}]
[null,null,"Probability of >Upper Bound",{"$f":"IF(COUNT(D69:D188)=0,\"\",1-NORMDIST(LOG(D40)/LOG(2),D34,D36,TRUE))","v":""},"","","","",{"$f":"IF(COUNT(I69:I188)=0,\"\",1-NORMDIST(LOG(I40)/LOG(2),I34,I36,TRUE))","v":""},{"$f":"IF(COUNT(J69:J188)=0,\"\",1-NORMDIST(LOG(J40)/LOG(2),J34,J36,TRUE))","v":""},"","","",{"$f":"IF(D69=\"\",\"\",1-NORMDIST(LOG(N40)/LOG(2),N34,N36,TRUE))","v":""}]
[null,null,"New Range",{"$f":"IF(COUNT(D69:D188)=0,\"\",1-D41-D42)","v":""},"","","","",{"$f":"IF(COUNT(I69:I188)=0,\"\",1-I41-I42)","v":""},{"$f":"IF(COUNT(J69:J188)=0,\"\",1-J41-J42)","v":""},"","","",{"$f":"IF(D69=\"\",\"\",1-N41-N42)","v":""}]
[]
[null,null,"Order Stats","Lab 1","Lab 2","Lab 3","Lab 4","Lab 5","Lab 6","Lab 7","Lab 8","Lab 9","Lab 10","All labs","Interlab"]
[null,null,"25th %ile",{"$f":"IF(COUNT(D69:D188)=0,\"\",QUARTILE(D69:D188,1))","v":""},"","","","",{"$f":"IF(COUNT(I69:I188)=0,\"\",QUARTILE(I69:I188,1))","v":""},{"$f":"IF(COUNT(J69:J188)=0,\"\",QUARTILE(J69:J188,1))","v":""},"","","",{"$f":"IF(D69=\"\",\"\",QUARTILE(D69:M188,1))","v":""},"CV"]
[null,null,"75th %ile",{"$f":"IF(COUNT(D69:D188)=0,\"\",QUARTILE(D69:D188,3))","v":""},"","","","",{"$f":"IF(COUNT(I69:I188)=0,\"\",QUARTILE(I69:I188,3))","v":""},{"$f":"IF(COUNT(J69:J188)=0,\"\",QUARTILE(J69:J188,3))","v":""},"","","",{"$f":"IF(D69=\"\",\"\",QUARTILE(D69:M188,3))","v":""},{"$f":"IF(D69=\"\",\"\",ABS(N48/N25))","v":""}]
[null,null,"Interquartile Range",{"$f":"IF(COUNT(D69:D188)=0,\"\",IF(D47-D46=0,1,D47-D46))","v":""},"","","","",{"$f":"IF(COUNT(I69:I188)=0,\"\",IF(I47-I46=0,1,I47-I46))","v":""},{"$f":"IF(COUNT(J69:J188)=0,\"\",IF(J47-J46=0,1,J47-J46))","v":""},"","","",{"$f":"IF(D69=\"\",\"\",IF(N47-N46=0,1,N47-N46))","v":""}]
[null,null,"Minimum",{"$f":"IF(COUNT(D69:D188)=0,\"\",MIN(D69:D188))","v":""},"","","","",{"$f":"IF(COUNT(I69:I188)=0,\"\",MIN(I69:I188))","v":""},{"$f":"IF(COUNT(J69:J188)=0,\"\",MIN(J69:J188))","v":""},"","","",{"$f":"IF(D69=\"\",\"\",MIN(D69:M188))","v":""}]
[null,null,"Maximum",{"$f":"IF(COUNT(D69:D188)=0,\"\",MAX(D69:D188))","v":""},"","","","",{"$f":"IF(COUNT(I69:I188)=0,\"\",MAX(I69:I188))","v":""},{"$f":"IF(COUNT(J69:J188)=0,\"\",MAX(J69:J188))","v":""},"","","",{"$f":"IF(D69=\"\",\"\",MAX(D69:M188))","v":""}]
[null,null,"Lower Inner Fence",{"$f":"IF(COUNT(D69:D188)=0,\"\",D$46-1.5*D$48)","v":""},"","","","",{"$f":"IF(COUNT(I69:I188)=0,\"\",I$46-1.5*I$48)","v":""},{"$f":"IF(COUNT(J69:J188)=0,\"\",J$46-1.5*J$48)","v":""},"","","",{"$f":"IF(D69=\"\",\"\",N$46-1.5*N$48)","v":""}]
[null,null,"Upper Inner Fence",{"$f":"IF(COUNT(D69:D188)=0,\"\",D$47+1.5*D$48)","v":""},"","","","",{"$f":"IF(COUNT(I69:I188)=0,\"\",I$47+1.5*I$48)","v":""},{"$f":"IF(COUNT(J69:J188)=0,\"\",J$47+1.5*J$48)","v":""},"","","",{"$f":"IF(D69=\"\",\"\",N$47+1.5*N$48)","v":""}]
[null,null,"Lower Outer Fence",{"$f":"IF(COUNT(D69:D188)=0,\"\",D$46-3*D$48)","v":""},"","","","",{"$f":"IF(COUNT(I69:I188)=0,\"\",I$46-3*I$48)","v":""},{"$f":"IF(COUNT(J69:J188)=0,\"\",J$46-3*J$48)","v":""},"","","",{"$f":"IF(D69=\"\",\"\",N$46-3*N$48)","v":""}]
[null,null,"Upper Outer Fence",{"$f":"IF(COUNT(D69:D188)=0,\"\",D$47+3*D$48)","v":""},"","","","",{"$f":"IF(COUNT(I69:I188)=0,\"\",I$47+3*I$48)","v":""},{"$f":"IF(COUNT(J69:J188)=0,\"\",J$47+3*J$48)","v":""},"","","",{"$f":"IF(D69=\"\",\"\",N$47+3*N$48)","v":""}]
[null,null,"Lower Near Outliers",{"$f":"IF(COUNT(D69:D188)=0,\"\",COUNTIF(D69:D188,\"<\"&D51))","v":""},"","","","",{"$f":"IF(COUNT(I69:I188)=0,\"\",COUNTIF(I69:I188,\"<\"&I51))","v":""},{"$f":"IF(COUNT(J69:J188)=0,\"\",COUNTIF(J69:J188,\"<\"&J51))","v":""},"","","",{"$f":"IF(D69=\"\",\"\",COUNTIF(D69:M188,\"<\"&N51)-N57)","v":""}]
[null,null,"Upper Near Outliers",{"$f":"IF(COUNT(D69:D188)=0,\"\",COUNTIF(D69:D188,\">\"&D52))","v":""},"","","","",{"$f":"IF(COUNT(I69:I188)=0,\"\",COUNTIF(I69:I188,\">\"&I52))","v":""},{"$f":"IF(COUNT(J69:J188)=0,\"\",COUNTIF(J69:J188,\">\"&J52))","v":""},"","","",{"$f":"IF(D69=\"\",\"\",COUNTIF(D69:M188,\">\"&N52)-N58)","v":""}]
[null,null,"Lower Extreme Outliers",{"$f":"IF(COUNT(D69:D188)=0,\"\",COUNTIF(D69:D188,\"<\"&D53))","v":""},"","","","",{"$f":"IF(COUNT(I69:I188)=0,\"\",COUNTIF(I69:I188,\"<\"&I53))","v":""},{"$f":"IF(COUNT(J69:J188)=0,\"\",COUNTIF(J69:J188,\"<\"&J53))","v":""},"","","",{"$f":"IF(D69=\"\",\"\",COUNTIF(D69:M188,\"<\"&N53))","v":""}]
[null,null,"Upper Extreme Outliers",{"$f":"IF(COUNT(D69:D188)=0,\"\",COUNTIF(D69:D188,\">\"&D54))","v":""},"","","","",{"$f":"IF(COUNT(I69:I188)=0,\"\",COUNTIF(I69:I188,\">\"&I54))","v":""},{"$f":"IF(COUNT(J69:J188)=0,\"\",COUNTIF(J69:J188,\">\"&J54))","v":""},"","","",{"$f":"IF(D69=\"\",\"\",COUNTIF(D69:M188,\">\"&N54))","v":""}]
[]
[null,null,"Chart Control Limits","Lab 1","Lab 2","Lab 3","Lab 4","Lab 5","Lab 6","Lab 7","Lab 8","Lab 9","Lab 10"]
[null,"Mean","Lower CL",{"$f":"$O$24","v":""},{"$f":"$O$24","v":""},"","","","","","","",""]
[null,null,"Upper CL",{"$f":"$P$24","v":""},{"$f":"$P$24","v":""},"","","","","","","",""]
[null,"Median","Lower CL",{"$f":"$O$25","v":""},{"$f":"$O$25","v":""},"","","","","","","",""]
[null,null,"Upper CL",{"$f":"$P$25","v":""},{"$f":"$P$25","v":""},"","","","","","","",""]
[null,"Mode","Lower CL",{"$f":"$O$26","v":""},{"$f":"$O$26","v":""},"","","","","","","",""]
[null,null,"Upper CL",{"$f":"$P$26","v":""},{"$f":"$P$26","v":""},"","","","","","","",""]
[]
[null,null,"Log2 Converted Raw Data","Lab 1","Lab 2","Lab 3","Lab 4","Lab 5","Lab 6","Lab 7","Lab 8","Lab 9","Lab 10","Control","Limits"]
[null,null,"Media Lot 1",{"$f":"IF(D191=\"\",\"\",LOOKUP(D191,$A$3:$A$22,$C$3:$C$22))","v":""},"","","","",{"$f":"IF(I191=\"\",\"\",LOOKUP(I191,$A$3:$A$22,$C$3:$C$22))","v":""},"","","","",{"$f":"IF(D69=\"\",\"\",LN($N$39)/LN(2))","v":""},{"$f":"IF(D69=\"\",\"\",LN($N$40)/LN(2)-0.5)","v":""}]
[{"$nulls":3},"","","","","","","","","",""]
[{"$nulls":3},"","","","","","","","","",""]
[{"$nulls":3},"","","","","","","","","",""]
[{"$nulls":3},{"$f":"IF(D195=\"\",\"\",LOOKUP(D195,$A$3:$A$22,$C$3:$C$22))","v":""},"",{"$f":"IF(F195=\"\",\"\",LOOKUP(F195,$A$3:$A$22,$C$3:$C$22))","v":""},"","","","","","",""]
[{"$nulls":3},"","","","","","","","","",""]
[{"$nulls":3},"","","","","","","","","",""]
[{"$nulls":3},"","","","","","","","","",""]
[{"$nulls":3},"","","","","","","","","",""]
[{"$nulls":3},"","","","","","","","","",""]
[{"$nulls":3},{"$f":"IF(D201=\"\",\"\",LOOKUP(D201,$A$3:$A$22,$C$3:$C$22))","v":""},{"$f":"IF(E201=\"\",\"\",LOOKUP(E201,$A$3:$A$22,$C$3:$C$22))","v":""},"","","",{"$f":"IF(I201=\"\",\"\",LOOKUP(I201,$A$3:$A$22,$C$3:$C$22))","v":""},"","","",""]
[{"$nulls":3},{"$f":"IF(D202=\"\",\"\",LOOKUP(D202,$A$3:$A$22,$C$3:$C$22))","v":""},{"$f":"IF(E202=\"\",\"\",LOOKUP(E202,$A$3:$A$22,$C$3:$C$22))","v":""},"","","","","","","",""]
[{"$nulls":3},"","","","","","","","","",""]
[{"$nulls":3},"","","","","","","","","",""]
[{"$nulls":3},"","","","","","","","","",""]
[{"$nulls":3},"","","","","","","","","",""]
[{"$nulls":3},"","","","","","","","","",""]
[{"$nulls":3},"","","","","","","","","",""]
[{"$nulls":3},"","","","","","","","","",""]
[{"$nulls":3},"","","","","","","","","",""]
[{"$nulls":3},"","","","","",{"$f":"IF(I211=\"\",\"\",LOOKUP(I211,$A$3:$A$22,$C$3:$C$22))","v":""},"","","",""]
[{"$nulls":3},"","","","","","","","","",""]
[{"$nulls":3},"","","","","","","","","",""]
[{"$nulls":3},"","","","","","","","","",""]
[{"$nulls":3},"","","","","","","","","",""]
[{"$nulls":3},"","","","","","","","","",""]
[{"$nulls":3},"","","","","","","","","",""]
[{"$nulls":3},"","","",{"$f":"IF(G218=\"\",\"\",LOOKUP(G218,$A$3:$A$22,$C$3:$C$22))","v":""},"","","","","",""]
[{"$nulls":3},"","","","","","","","","",""]
[{"$nulls":3},"","","","","","","","","",""]
[{"$nulls":3},"","",{"$f":"IF(F221=\"\",\"\",LOOKUP(F221,$A$3:$A$22,$C$3:$C$22))","v":""},"","",{"$f":"IF(I221=\"\",\"\",LOOKUP(I221,$A$3:$A$22,$C$3:$C$22))","v":""},"","","",""]
[{"$nulls":3},"","","","","","","","","",""]
[{"$nulls":3},"","","","","","","","","",""]
[{"$nulls":3},"","","","","","","","","",""]
[{"$nulls":3},"","","","","","","","","",""]
[{"$nulls":3},"","","","","","","","","",""]
[{"$nulls":3},"","","","","","","","","",""]
[{"$nulls":3},"","","","","","","","","",""]
[{"$nulls":3},"","","","","","","","","",""]
[{"$nulls":3},"","","","","","","","","",""]
[null,null,"Media Lot 2","","","","","",{"$f":"IF(I231=\"\",\"\",LOOKUP(I231,$A$3:$A$22,$C$3:$C$22))","v":""},"","","",""]
[{"$nulls":3},"","","","","","","","","",""]
[{"$nulls":3},"","","","","","","","","",""]
[{"$nulls":3},"","","","","","","","","",""]
[{"$nulls":3},"","","","","","","","","",""]
[{"$nulls":3},"","","","","","","","","",""]
[{"$nulls":3},"","","","","","","","","",""]
[{"$nulls":3},"","","",{"$f":"IF(G238=\"\",\"\",LOOKUP(G238,$A$3:$A$22,$C$3:$C$22))","v":""},"","","","","",""]
[{"$nulls":3},"","","","","","","","","",""]
[{"$nulls":3},"","","","","","","","","",""]
[{"$nulls":3},"","","","","",{"$f":"IF(I241=\"\",\"\",LOOKUP(I241,$A$3:$A$22,$C$3:$C$22))","v":""},"","","",""]
[{"$nulls":3},"","","","","","","","","",""]
[{"$nulls":3},"","","","","","","","","",""]
[{"$nulls":3},"","","","","","","","","",""]
[{"$nulls":3},"","","","","","","","","",""]
[{"$nulls":3},"","","","","","","","","",""]
[{"$nulls":3},"","","","","","","","","",""]
[{"$nulls":3},"","","","","","","","","",""]
[{"$nulls":3},"","","","","","","","","",""]
[{"$nulls":3},"","","","","","","","","",""]
[{"$nulls":3},"","","","","",{"$f":"IF(I251=\"\",\"\",LOOKUP(I251,$A$3:$A$22,$C$3:$C$22))","v":""},"","","",""]
[{"$nulls":3},"","","","","","","","","",""]
[{"$nulls":3},"","","","","","","","","",""]
[{"$nulls":3},"","","","","","","","","",""]
[{"$nulls":3},"","","","","","","","","",""]
[{"$nulls":3},"","","","","","","","","",""]
[{"$nulls":3},"","","","","","","","","",""]
[{"$nulls":3},"","","",{"$f":"IF(G258=\"\",\"\",LOOKUP(G258,$A$3:$A$22,$C$3:$C$22))","v":""},"","","","","",""]
[{"$nulls":3},{"$f":"IF(D259=\"\",\"\",LOOKUP(D259,$A$3:$A$22,$C$3:$C$22))","v":""},"",{"$f":"IF(F259=\"\",\"\",LOOKUP(F259,$A$3:$A$22,$C$3:$C$22))","v":""},"","","","","","",""]
[{"$nulls":3},"","","","","","","","","",""]
[{"$nulls":3},"","","","","",{"$f":"IF(I261=\"\",\"\",LOOKUP(I261,$A$3:$A$22,$C$3:$C$22))","v":""},"","","",""]
[{"$nulls":3},"","","","","","","","","",""]
[{"$nulls":3},"","","","","","","","","",""]
[{"$nulls":3},"","","","","","","","","",""]
[{"$nulls":3},"","","","","","","","","",""]
[{"$nulls":3},"","","","","","","","","",""]
[{"$nulls":3},"","","","","","","","","",""]
[{"$nulls":3},"","","","","","","","","",""]
[{"$nulls":3},"","","","","","","","","",""]
[{"$nulls":3},"","","","","","","","","",""]
[null,null,"Media Lot 3","","","","","",{"$f":"IF(I271=\"\",\"\",LOOKUP(I271,$A$3:$A$22,$C$3:$C$22))","v":""},"","","",""]
[{"$nulls":3},"","","","","","","","","",""]
[{"$nulls":3},"","","","","","","","","",""]
[{"$nulls":3},"","","","","","","","","",""]
[{"$nulls":3},"","","","","","","","","",""]
[{"$nulls":3},"","","","","","","","","",""]
[{"$nulls":3},"","","","","","","","","",""]
[{"$nulls":3},"","","",{"$f":"IF(G278=\"\",\"\",LOOKUP(G278,$A$3:$A$22,$C$3:$C$22))","v":""},"","","","","",""]
[{"$nulls":3},"","","","","","","","","",""]
[{"$nulls":3},"","","","","","","","","",""]
[{"$nulls":3},"","","","","",{"$f":"IF(I281=\"\",\"\",LOOKUP(I281,$A$3:$A$22,$C$3:$C$22))","v":""},"","","",""]
[{"$nulls":3},"","","","","","","","","",""]
[{"$nulls":3},"","","","","","","","","",""]
[{"$nulls":3},"","","","","","","","","",""]
[{"$nulls":3},"","","","","","","","","",""]
[{"$nulls":3},"","","","","","","","","",""]
[{"$nulls":3},"","","","","","","","","",""]
[{"$nulls":3},"","","","","","","","","",""]
[{"$nulls":3},"","","","","","","","","",""]
[{"$nulls":3},"","","","","","","","","",""]
[{"$nulls":3},"","",{"$f":"IF(F291=\"\",\"\",LOOKUP(F291,$A$3:$A$22,$C$3:$C$22))","v":""},"","",{"$f":"IF(I291=\"\",\"\",LOOKUP(I291,$A$3:$A$22,$C$3:$C$22))","v":""},"","","",""]
[{"$nulls":3},"","","","","","","","","",""]
[{"$nulls":3},"","","","","","","","","",""]
[{"$nulls":3},"","","","","","","","","",""]
[{"$nulls":3},"","","","","","","","","",""]
[{"$nulls":3},"","","","","","","","","",""]
[{"$nulls":3},"","","","","","","","","",""]
[{"$nulls":3},"","","",{"$f":"IF(G298=\"\",\"\",LOOKUP(G298,$A$3:$A$22,$C$3:$C$22))","v":""},"","","","","",""]
[{"$nulls":3},"","","","","","","","","",""]
[{"$nulls":3},"","","","","","","","","",""]
[{"$nulls":3},"","","","","",{"$f":"IF(I301=\"\",\"\",LOOKUP(I301,$A$3:$A$22,$C$3:$C$22))","v":""},"","","",""]
[{"$nulls":3},"","","","","","","","","",""]
[{"$nulls":3},"","","","","","","","","",""]
[{"$nulls":3},"","","","","","","","","",""]
[{"$nulls":3},"","","","","","","","","",""]
[{"$nulls":3},"","","","","","","","","",""]
[{"$nulls":3},"","","","","","","","","",""]
[{"$nulls":3},"","","","","","","","","",""]
[{"$nulls":3},"","","","","","","","","",""]
[{"$nulls":3},"","","","","","","","","",""]
[]
[null,null,"Raw Data Entry","Lab 1","Lab 2","Lab 3","Lab 4","Lab 5","Lab 6","Lab 7","Lab 8","Lab 9","Lab 10"]
[null,null,"Media Lot 1"]
{"$rows_empty":39}
[null,null,"Media Lot 2"]
{"$rows_empty":39}
[null,null,"Media Lot 3"]

{"sheet":"Strain 1 control","index":5,"n_rows":271,"n_cols":16,"rows_kept":271,"merged":[[0,4,0,6]]}
[{"$f":"'Range Summary'!B2","v":"QC1"},{"$f":"'Range Summary'!B17","v":"Control"},"Control",null,"Go to Raw Data Entry area"]
["MIC","Midpoint MIC","Mid Log2MIC","Lab 1","Lab 2","Lab 3","Lab 4","Lab 5","Lab 6","Lab 7","Lab 8","Lab 9","Lab 10","All labs","Norm"]
[{"v":1E-3,"d":"0.001"},{"$f":"2^C3","v":{"v":6.9053396600248776E-4,"d":"0.000691"}},-10.5,{"$f":"IF(COUNTIF(D69:D188,-10.5)=0,\"\",COUNTIF(D69:D188,-10.5))","v":""},{"$f":"IF(COUNTIF(E69:E188,-10.5)=0,\"\",COUNTIF(E69:E188,-10.5))","v":""},{"$f":"IF(COUNTIF(F69:F188,-10.5)=0,\"\",COUNTIF(F69:F188,-10.5))","v":""},"","",{"$f":"IF(COUNTIF(I69:I188,-10.5)=0,\"\",COUNTIF(I69:I188,-10.5))","v":""},{"$f":"IF(COUNTIF(J69:J188,-10.5)=0,\"\",COUNTIF(J69:J188,-10.5))","v":""},"","","",{"$f":"SUM(D3:M3)","v":0},{"$f":"IF(D69=\"\",0,ROUND(N$33*NORMDIST(C3+0.5,N$34,N$36,TRUE),0))","v":0}]
[{"v":2E-3,"d":"0.002"},{"$f":"2^C4","v":{"v":1.3810679320049757E-3,"d":"0.001381"}},-9.5,{"$f":"IF(COUNTIF(D69:D188,-9.5)=0,\"\",COUNTIF(D69:D188,-9.5))","v":""},{"$f":"IF(COUNTIF(E69:E188,-9.5)=0,\"\",COUNTIF(E69:E188,-9.5))","v":""},{"$f":"IF(COUNTIF(F69:F188,-9.5)=0,\"\",COUNTIF(F69:F188,-9.5))","v":""},"","",{"$f":"IF(COUNTIF(I69:I188,-9.5)=0,\"\",COUNTIF(I69:I188,-9.5))","v":""},{"$f":"IF(COUNTIF(J69:J188,-9.5)=0,\"\",COUNTIF(J69:J188,-9.5))","v":""},"","","",0,{"$f":"IF(D69=\"\",0,ROUND(N$33*NORMDIST(C4+0.5,N$34,N$36,TRUE),0)-SUM(O2:O$3))","v":0}]
[0.004,{"v":2.7621358640099515E-3,"d":"0.002762"},-8.5,{"$f":"IF(COUNTIF(D69:D188,-8.5)=0,\"\",COUNTIF(D69:D188,-8.5))","v":""},{"$f":"IF(COUNTIF(E69:E188,-8.5)=0,\"\",COUNTIF(E69:E188,-8.5))","v":""},{"$f":"IF(COUNTIF(F69:F188,-8.5)=0,\"\",COUNTIF(F69:F188,-8.5))","v":""},"","",{"$f":"IF(COUNTIF(I69:I188,-8.5)=0,\"\",COUNTIF(I69:I188,-8.5))","v":""},{"$f":"IF(COUNTIF(J69:J188,-8.5)=0,\"\",COUNTIF(J69:J188,-8.5))","v":""},"","","",0,{"$f":"IF(D69=\"\",0,ROUND(N$33*NORMDIST(C5+0.5,N$34,N$36,TRUE),0)-SUM(O$3:O3))","v":0}]
[0.008,{"v":0.005524271728019904,"d":"0.005524"},-7.5,{"$f":"IF(COUNTIF(D69:D188,-7.5)=0,\"\",COUNTIF(D69:D188,-7.5))","v":""},{"$f":"IF(COUNTIF(E69:E188,-7.5)=0,\"\",COUNTIF(E69:E188,-7.5))","v":""},{"$f":"IF(COUNTIF(F69:F188,-7.5)=0,\"\",COUNTIF(F69:F188,-7.5))","v":""},"","",{"$f":"IF(COUNTIF(I69:I188,-7.5)=0,\"\",COUNTIF(I69:I188,-7.5))","v":""},{"$f":"IF(COUNTIF(J69:J188,-7.5)=0,\"\",COUNTIF(J69:J188,-7.5))","v":""},"","","",{"$f":"SUM(D6:M6)","v":0},{"$f":"IF(D69=\"\",0,ROUND(N$33*NORMDIST(C6+0.5,N$34,N$36,TRUE),0)-SUM(O$3:O5))","v":0}]
[0.016,{"v":0.011048543456039808,"d":"0.011049"},-6.5,{"$f":"IF(COUNTIF(D69:D188,-6.5)=0,\"\",COUNTIF(D69:D188,-6.5))","v":""},{"$f":"IF(COUNTIF(E69:E188,-6.5)=0,\"\",COUNTIF(E69:E188,-6.5))","v":""},{"$f":"IF(COUNTIF(F69:F188,-6.5)=0,\"\",COUNTIF(F69:F188,-6.5))","v":""},"","",{"$f":"IF(COUNTIF(I69:I188,-6.5)=0,\"\",COUNTIF(I69:I188,-6.5))","v":""},{"$f":"IF(COUNTIF(J69:J188,-6.5)=0,\"\",COUNTIF(J69:J188,-6.5))","v":""},"","","",0,{"$f":"IF(D69=\"\",0,ROUND(N$33*NORMDIST(C7+0.5,N$34,N$36,TRUE),0)-SUM(O$3:O6))","v":0}]
[0.03,{"v":0.022097086912079608,"d":"0.022097"},-5.5,{"$f":"IF(COUNTIF(D69:D188,-5.5)=0,\"\",COUNTIF(D69:D188,-5.5))","v":""},{"$f":"IF(COUNTIF(E69:E188,-5.5)=0,\"\",COUNTIF(E69:E188,-5.5))","v":""},{"$f":"IF(COUNTIF(F69:F188,-5.5)=0,\"\",COUNTIF(F69:F188,-5.5))","v":""},"","",{"$f":"IF(COUNTIF(I69:I188,-5.5)=0,\"\",COUNTIF(I69:I188,-5.5))","v":""},{"$f":"IF(COUNTIF(J69:J188,-5.5)=0,\"\",COUNTIF(J69:J188,-5.5))","v":""},"","","",0,{"$f":"IF(D69=\"\",0,ROUND(N$33*NORMDIST(C8+0.5,N$34,N$36,TRUE),0)-SUM(O$3:O7))","v":0}]
[0.06,{"v":0.04419417382415922,"d":"0.044194"},-4.5,{"$f":"IF(COUNTIF(D69:D188,-4.5)=0,\"\",COUNTIF(D69:D188,-4.5))","v":""},{"$f":"IF(COUNTIF(E69:E188,-4.5)=0,\"\",COUNTIF(E69:E188,-4.5))","v":""},{"$f":"IF(COUNTIF(F69:F188,-4.5)=0,\"\",COUNTIF(F69:F188,-4.5))","v":""},"","",{"$f":"IF(COUNTIF(I69:I188,-4.5)=0,\"\",COUNTIF(I69:I188,-4.5))","v":""},{"$f":"IF(COUNTIF(J69:J188,-4.5)=0,\"\",COUNTIF(J69:J188,-4.5))","v":""},"","","",0,{"$f":"IF(D69=\"\",0,ROUND(N$33*NORMDIST(C9+0.5,N$34,N$36,TRUE),0)-SUM(O$3:O8))","v":0}]
[0.13,{"v":0.08838834764831845,"d":"0.088388"},-3.5,{"$f":"IF(COUNTIF(D69:D188,-3.5)=0,\"\",COUNTIF(D69:D188,-3.5))","v":""},{"$f":"IF(COUNTIF(E69:E188,-3.5)=0,\"\",COUNTIF(E69:E188,-3.5))","v":""},{"$f":"IF(COUNTIF(F69:F188,-3.5)=0,\"\",COUNTIF(F69:F188,-3.5))","v":""},"","",{"$f":"IF(COUNTIF(I69:I188,-3.5)=0,\"\",COUNTIF(I69:I188,-3.5))","v":""},{"$f":"IF(COUNTIF(J69:J188,-3.5)=0,\"\",COUNTIF(J69:J188,-3.5))","v":""},"","","",0,{"$f":"IF(D69=\"\",0,ROUND(N$33*NORMDIST(C10+0.5,N$34,N$36,TRUE),0)-SUM(O$3:O9))","v":0}]
[0.25,{"v":0.17677669529663687,"d":"0.176777"},-2.5,{"$f":"IF(COUNTIF(D69:D188,-2.5)=0,\"\",COUNTIF(D69:D188,-2.5))","v":""},{"$f":"IF(COUNTIF(E69:E188,-2.5)=0,\"\",COUNTIF(E69:E188,-2.5))","v":""},{"$f":"IF(COUNTIF(F69:F188,-2.5)=0,\"\",COUNTIF(F69:F188,-2.5))","v":""},"","",{"$f":"IF(COUNTIF(I69:I188,-2.5)=0,\"\",COUNTIF(I69:I188,-2.5))","v":""},{"$f":"IF(COUNTIF(J69:J188,-2.5)=0,\"\",COUNTIF(J69:J188,-2.5))","v":""},"","","",0,{"$f":"IF(D69=\"\",0,ROUND(N$33*NORMDIST(C11+0.5,N$34,N$36,TRUE),0)-SUM(O$3:O10))","v":0}]
[0.5,{"v":0.3535533905932738,"d":"0.353553"},-1.5,{"$f":"IF(COUNTIF(D69:D188,-1.5)=0,\"\",COUNTIF(D69:D188,-1.5))","v":""},{"$f":"IF(COUNTIF(E69:E188,-1.5)=0,\"\",COUNTIF(E69:E188,-1.5))","v":""},{"$f":"IF(COUNTIF(F69:F188,-1.5)=0,\"\",COUNTIF(F69:F188,-1.5))","v":""},"","",{"$f":"IF(COUNTIF(I69:I188,-1.5)=0,\"\",COUNTIF(I69:I188,-1.5))","v":""},{"$f":"IF(COUNTIF(J69:J188,-1.5)=0,\"\",COUNTIF(J69:J188,-1.5))","v":""},"","","",0,{"$f":"IF(D69=\"\",0,ROUND(N$33*NORMDIST(C12+0.5,N$34,N$36,TRUE),0)-SUM(O$3:O11))","v":0}]
[1,{"v":0.7071067811865475,"d":"0.707107"},-0.5,{"$f":"IF(COUNTIF(D69:D188,-0.5)=0,\"\",COUNTIF(D69:D188,-0.5))","v":""},{"$f":"IF(COUNTIF(E69:E188,-0.5)=0,\"\",COUNTIF(E69:E188,-0.5))","v":""},{"$f":"IF(COUNTIF(F69:F188,-0.5)=0,\"\",COUNTIF(F69:F188,-0.5))","v":""},"","",{"$f":"IF(COUNTIF(I69:I188,-0.5)=0,\"\",COUNTIF(I69:I188,-0.5))","v":""},{"$f":"IF(COUNTIF(J69:J188,-0.5)=0,\"\",COUNTIF(J69:J188,-0.5))","v":""},"","","",0,{"$f":"IF(D69=\"\",0,ROUND(N$33*NORMDIST(C13+0.5,N$34,N$36,TRUE),0)-SUM(O$3:O12))","v":0}]
[2,{"v":1.4142135623730951,"d":"1.414214"},0.5,{"$f":"IF(COUNTIF(D69:D188,0.5)=0,\"\",COUNTIF(D69:D188,0.5))","v":""},{"$f":"IF(COUNTIF(E69:E188,0.5)=0,\"\",COUNTIF(E69:E188,0.5))","v":""},{"$f":"IF(COUNTIF(F69:F188,0.5)=0,\"\",COUNTIF(F69:F188,0.5))","v":""},"","",{"$f":"IF(COUNTIF(I69:I188,0.5)=0,\"\",COUNTIF(I69:I188,0.5))","v":""},{"$f":"IF(COUNTIF(J69:J188,0.5)=0,\"\",COUNTIF(J69:J188,0.5))","v":""},"","","",0,{"$f":"IF(D69=\"\",0,ROUND(N$33*NORMDIST(C14+0.5,N$34,N$36,TRUE),0)-SUM(O$3:O13))","v":0}]
[4,{"v":2.82842712474619,"d":"2.828427"},1.5,{"$f":"IF(COUNTIF(D69:D188,1.5)=0,\"\",COUNTIF(D69:D188,1.5))","v":""},{"$f":"IF(COUNTIF(E69:E188,1.5)=0,\"\",COUNTIF(E69:E188,1.5))","v":""},{"$f":"IF(COUNTIF(F69:F188,1.5)=0,\"\",COUNTIF(F69:F188,1.5))","v":""},"","",{"$f":"IF(COUNTIF(I69:I188,1.5)=0,\"\",COUNTIF(I69:I188,1.5))","v":""},{"$f":"IF(COUNTIF(J69:J188,1.5)=0,\"\",COUNTIF(J69:J188,1.5))","v":""},"","","",0,{"$f":"IF(D69=\"\",0,ROUND(N$33*NORMDIST(C15+0.5,N$34,N$36,TRUE),0)-SUM(O$3:O14))","v":0}]
[8,{"v":5.656854249492381,"d":"5.656854"},2.5,{"$f":"IF(COUNTIF(D69:D188,2.5)=0,\"\",COUNTIF(D69:D188,2.5))","v":""},{"$f":"IF(COUNTIF(E69:E188,2.5)=0,\"\",COUNTIF(E69:E188,2.5))","v":""},{"$f":"IF(COUNTIF(F69:F188,2.5)=0,\"\",COUNTIF(F69:F188,2.5))","v":""},"","",{"$f":"IF(COUNTIF(I69:I188,2.5)=0,\"\",COUNTIF(I69:I188,2.5))","v":""},{"$f":"IF(COUNTIF(J69:J188,2.5)=0,\"\",COUNTIF(J69:J188,2.5))","v":""},"","","",0,{"$f":"IF(D69=\"\",0,ROUND(N$33*NORMDIST(C16+0.5,N$34,N$36,TRUE),0)-SUM(O$3:O15))","v":0}]
[16,{"v":11.31370849898476,"d":"11.313708"},3.5,{"$f":"IF(COUNTIF(D69:D188,3.5)=0,\"\",COUNTIF(D69:D188,3.5))","v":""},{"$f":"IF(COUNTIF(E69:E188,3.5)=0,\"\",COUNTIF(E69:E188,3.5))","v":""},{"$f":"IF(COUNTIF(F69:F188,3.5)=0,\"\",COUNTIF(F69:F188,3.5))","v":""},"","",{"$f":"IF(COUNTIF(I69:I188,3.5)=0,\"\",COUNTIF(I69:I188,3.5))","v":""},{"$f":"IF(COUNTIF(J69:J188,3.5)=0,\"\",COUNTIF(J69:J188,3.5))","v":""},"","","",0,{"$f":"IF(D69=\"\",0,ROUND(N$33*NORMDIST(C17+0.5,N$34,N$36,TRUE),0)-SUM(O$3:O16))","v":0}]
[32,{"v":22.62741699796952,"d":"22.627417"},4.5,{"$f":"IF(COUNTIF(D69:D188,4.5)=0,\"\",COUNTIF(D69:D188,4.5))","v":""},{"$f":"IF(COUNTIF(E69:E188,4.5)=0,\"\",COUNTIF(E69:E188,4.5))","v":""},{"$f":"IF(COUNTIF(F69:F188,4.5)=0,\"\",COUNTIF(F69:F188,4.5))","v":""},"","",{"$f":"IF(COUNTIF(I69:I188,4.5)=0,\"\",COUNTIF(I69:I188,4.5))","v":""},{"$f":"IF(COUNTIF(J69:J188,4.5)=0,\"\",COUNTIF(J69:J188,4.5))","v":""},"","","",0,{"$f":"IF(D69=\"\",0,ROUND(N$33*NORMDIST(C18+0.5,N$34,N$36,TRUE),0)-SUM(O$3:O17))","v":0}]
[64,{"v":45.254833995939045,"d":"45.254834"},5.5,{"$f":"IF(COUNTIF(D69:D188,5.5)=0,\"\",COUNTIF(D69:D188,5.5))","v":""},{"$f":"IF(COUNTIF(E69:E188,5.5)=0,\"\",COUNTIF(E69:E188,5.5))","v":""},{"$f":"IF(COUNTIF(F69:F188,5.5)=0,\"\",COUNTIF(F69:F188,5.5))","v":""},"","",{"$f":"IF(COUNTIF(I69:I188,5.5)=0,\"\",COUNTIF(I69:I188,5.5))","v":""},{"$f":"IF(COUNTIF(J69:J188,5.5)=0,\"\",COUNTIF(J69:J188,5.5))","v":""},"","","",0,{"$f":"IF(D69=\"\",0,ROUND(N$33*NORMDIST(C19+0.5,N$34,N$36,TRUE),0)-SUM(O$3:O18))","v":0}]
[128,{"v":90.50966799187806,"d":"90.509668"},6.5,{"$f":"IF(COUNTIF(D69:D188,6.5)=0,\"\",COUNTIF(D69:D188,6.5))","v":""},{"$f":"IF(COUNTIF(E69:E188,6.5)=0,\"\",COUNTIF(E69:E188,6.5))","v":""},{"$f":"IF(COUNTIF(F69:F188,6.5)=0,\"\",COUNTIF(F69:F188,6.5))","v":""},"","",{"$f":"IF(COUNTIF(I69:I188,6.5)=0,\"\",COUNTIF(I69:I188,6.5))","v":""},{"$f":"IF(COUNTIF(J69:J188,6.5)=0,\"\",COUNTIF(J69:J188,6.5))","v":""},"","","",0,{"$f":"IF(D69=\"\",0,ROUND(N$33*NORMDIST(C20+0.5,N$34,N$36,TRUE),0)-SUM(O$3:O19))","v":0}]
[256,{"v":181.01933598375612,"d":"181.019336"},7.5,{"$f":"IF(COUNTIF(D69:D188,7.5)=0,\"\",COUNTIF(D69:D188,7.5))","v":""},{"$f":"IF(COUNTIF(E69:E188,7.5)=0,\"\",COUNTIF(E69:E188,7.5))","v":""},{"$f":"IF(COUNTIF(F69:F188,7.5)=0,\"\",COUNTIF(F69:F188,7.5))","v":""},"","",{"$f":"IF(COUNTIF(I69:I188,7.5)=0,\"\",COUNTIF(I69:I188,7.5))","v":""},{"$f":"IF(COUNTIF(J69:J188,7.5)=0,\"\",COUNTIF(J69:J188,7.5))","v":""},"","","",0,{"$f":"IF(D69=\"\",0,ROUND(N$33*NORMDIST(C21+0.5,N$34,N$36,TRUE),0)-SUM(O$3:O20))","v":0}]
[512,{"v":362.0386719675123,"d":"362.038672"},8.5,{"$f":"IF(COUNTIF(D69:D188,8.5)=0,\"\",COUNTIF(D69:D188,8.5))","v":""},{"$f":"IF(COUNTIF(E69:E188,8.5)=0,\"\",COUNTIF(E69:E188,8.5))","v":""},{"$f":"IF(COUNTIF(F69:F188,8.5)=0,\"\",COUNTIF(F69:F188,8.5))","v":""},"","",{"$f":"IF(COUNTIF(I69:I188,8.5)=0,\"\",COUNTIF(I69:I188,8.5))","v":""},{"$f":"IF(COUNTIF(J69:J188,8.5)=0,\"\",COUNTIF(J69:J188,8.5))","v":""},"","","",0,{"$f":"IF(D69=\"\",0,ROUND(N$33*NORMDIST(C22+0.5,N$34,N$36,TRUE),0)-SUM(O$3:O21))","v":0}]
[null,null,"Central Tendancy Stats","Lab 1","Lab 2","Lab 3","Lab 4","Lab 5","Lab 6","Lab 7","Lab 8","Lab 9","Lab 10","All labs","Control","Limits"]
[null,null,"Mean",{"$f":"IF(COUNT(D69:D188)=0,\"\",AVERAGE(D69:D188))","v":""},"","","","",{"$f":"IF(COUNT(I69:I188)=0,\"\",AVERAGE(I69:I188))","v":""},{"$f":"IF(COUNT(J69:J188)=0,\"\",AVERAGE(J69:J188))","v":""},"","","",{"$f":"IF(D69=\"\",\"\",AVERAGE(D69:M188))","v":""},{"$f":"IF(D69=\"\",\"\",ROUND(NORMINV(0.05,N34,N36),3))","v":""},{"$f":"IF(D69=\"\",\"\",ROUND(NORMINV(0.95,N34,N36),3))","v":""}]
["Calculated QC Range",null,"Median",{"$f":"IF(COUNT(D69:D188)=0,\"\",MEDIAN(D69:D188))","v":""},"","","","",{"$f":"IF(COUNT(I69:I188)=0,\"\",MEDIAN(I69:I188))","v":""},{"$f":"IF(COUNT(J69:J188)=0,\"\",MEDIAN(J69:J188))","v":""},"","","",{"$f":"IF(D69=\"\",\"\",MEDIAN(D69:M188))","v":""},{"$f":"IF(D69=\"\",\"\",ROUND(N51,3))","v":""},{"$f":"IF(D69=\"\",\"\",ROUND(N52,3))","v":""}]
[{"$f":"IF(N33=0,\"\",ROUND(2*N39,3)&\" to \"&ROUND(N40,3))","v":""},null,"Mode",{"$f":"IF(COUNT(D69:D188)=0,\"\",MODE(D69:D188))","v":""},"","","","",{"$f":"IF(COUNT(I69:I188)=0,\"\",MODE(I69:I188))","v":""},{"$f":"IF(COUNT(J69:J188)=0,\"\",MODE(J69:J188))","v":""},"","","",{"$f":"IF(D69=\"\",\"\",MODE(D69:M188))","v":""},{"$f":"IF(D69=\"\",\"\",N26-1)","v":""},{"$f":"IF(D69=\"\",\"\",N26+1)","v":""}]
["Dilution Range",null,null,"(Converted back to MIC)",{"$nulls":10},"Control","Limits"]
[{"$f":"IF(N33=0,\"\",LN(N40/N39)/LN(2))","v":""},null,"Mean",{"$f":"IF(COUNT(D69:D188)=0,\"\",2^(AVERAGE(D69:D188)+0.5))","v":""},"","","","",{"$f":"IF(COUNT(I69:I188)=0,\"\",2^(AVERAGE(I69:I188)+0.5))","v":""},{"$f":"IF(COUNT(J69:J188)=0,\"\",2^(AVERAGE(J69:J188)+0.5))","v":""},"","","",{"$f":"IF(D69=\"\",\"\",2^(AVERAGE(D69:M188)+0.5))","v":""},{"$f":"IF(D69=\"\",\"\",2^O24)","v":""},{"$f":"IF(D69=\"\",\"\",2^P24)","v":""}]
["% Obs. Captured",null,"Median",{"$f":"IF(COUNT(D69:D188)=0,\"\",2^(MEDIAN(D69:D188)+0.5))","v":""},"","","","",{"$f":"IF(COUNT(I69:I188)=0,\"\",2^(MEDIAN(I69:I188)+0.5))","v":""},{"$f":"IF(COUNT(J69:J188)=0,\"\",2^(MEDIAN(J69:J188)+0.5))","v":""},"","","",{"$f":"IF(D69=\"\",\"\",2^(MEDIAN(D69:M188)+0.5))","v":""},{"$f":"IF(D69=\"\",\"\",2^O25)","v":""},{"$f":"IF(D69=\"\",\"\",2^P25)","v":""}]
[{"$f":"IF(N33=0,\"\",((COUNTIF(D69:M188,\"<\"&LN(N40)/LN(2))-COUNTIF(D69:M188,\"<\"&LN(N39)/LN(2)))/N$33))","v":""},null,"Mode",{"$f":"IF(COUNT(D69:D188)=0,\"\",2^(MODE(D69:D188)+0.5))","v":""},"","","","",{"$f":"IF(COUNT(I69:I188)=0,\"\",2^(MODE(I69:I188)+0.5))","v":""},{"$f":"IF(COUNT(J69:J188)=0,\"\",2^(MODE(J69:J188)+0.5))","v":""},"","","",{"$f":"IF(D69=\"\",\"\",2^(MODE(D69:M188)+0.5))","v":""},{"$f":"IF(D69=\"\",\"\",2^O26)","v":""},{"$f":"IF(D69=\"\",\"\",2^P26)","v":""}]
["Prob'ty Outside Range"]
[{"$f":"IF(N33=0,\"\",N41+N42)","v":""},null,"Conventional Stats","Lab 1","Lab 2","Lab 3","Lab 4","Lab 5","Lab 6","Lab 7","Lab 8","Lab 9","Lab 10","All labs","Interlab"]
[null,null,"N",{"$f":"IF(COUNT(D69:D188)=0,\"\",COUNT(D69:D188))","v":""},"","","","",{"$f":"IF(COUNT(I69:I188)=0,\"\",COUNT(I69:I188))","v":""},{"$f":"IF(COUNT(J69:J188)=0,\"\",COUNT(J69:J188))","v":""},"","","",{"$f":"COUNT(D69:M188)","v":0},"CV"]
["CLSI QC Range",null,"GeoMean MIC (log2)",{"$f":"IF(COUNT(D69:D188)=0,\"\",AVERAGE(D69:D188))","v":""},"","","","",{"$f":"IF(COUNT(I69:I188)=0,\"\",AVERAGE(I69:I188))","v":""},{"$f":"IF(COUNT(J69:J188)=0,\"\",AVERAGE(J69:J188))","v":""},"","","",{"$f":"IF(D69=\"\",\"\",AVERAGE(D69:M188))","v":""},{"$f":"IF(D69=\"\",\"\",ABS(STDEVA(D34:M34)/N34))","v":""}]
[null,null,"GeoMean MIC",{"$f":"IF(COUNT(D69:D188)=0,\"\",2^D34)","v":""},"","","","",{"$f":"IF(COUNT(I69:I188)=0,\"\",2^I34)","v":""},{"$f":"IF(COUNT(J69:J188)=0,\"\",2^J34)","v":""},"","","",{"$f":"IF(D69=\"\",\"\",2^N34)","v":""}]
[null,null,"GeoSD (log2)",{"$f":"IF(COUNT(D69:D188)=0,\"\",STDEV(D69:D188))","v":""},"","","","",{"$f":"IF(COUNT(I69:I188)=0,\"\",STDEV(I69:I188))","v":""},{"$f":"IF(COUNT(J69:J188)=0,\"\",STDEV(J69:J188))","v":""},"","","",{"$f":"IF(D69=\"\",\"\",STDEV(D69:M188))","v":""}]
[{"$f":"IF(A35=\"\",\"\",ROUND(2^(A35+0.5),3)&\" to \"&ROUND(2^(A36+0.5),3))","v":""},null,"95% Lower Bound",{"$f":"IF(COUNT(D69:D188)=0,\"\",IF(D33=0,\"\",2^((NORMINV(0.025,D34,D36)))))","v":""},"","","","",{"$f":"IF(COUNT(I69:I188)=0,\"\",IF(I33=0,\"\",2^((NORMINV(0.025,I34,I36)))))","v":""},{"$f":"IF(COUNT(J69:J188)=0,\"\",IF(J33=0,\"\",2^((NORMINV(0.025,J34,J36)))))","v":""},"","","",{"$f":"IF(N33=0,\"\",2^((NORMINV(0.025,N34,N36))))","v":""}]
["Dilution Range",null,"95% Upper Bound",{"$f":"IF(COUNT(D69:D188)=0,\"\",IF(D33=0,\"\",2^(NORMINV(0.975,D34,D36))))","v":""},"","","","",{"$f":"IF(COUNT(I69:I188)=0,\"\",IF(I33=0,\"\",2^(NORMINV(0.975,I34,I36))))","v":""},{"$f":"IF(COUNT(J69:J188)=0,\"\",IF(J33=0,\"\",2^(NORMINV(0.975,J34,J36))))","v":""},"","","",{"$f":"IF(N33=0,\"\",2^(NORMINV(0.975,N34,N36)))","v":""}]
[{"$f":"IF(A35=\"\",\"\",A36-A35+1)","v":""},null,"Lower Bound Rounded Down",{"$f":"IF(COUNT(D69:D188)=0,\"\",IF(D33=0,\"\",2^(INT((NORMINV(0.025,D34,D36))))))","v":""},"","","","",{"$f":"IF(COUNT(I69:I188)=0,\"\",IF(I33=0,\"\",2^(INT((NORMINV(0.025,I34,I36))))))","v":""},{"$f":"IF(COUNT(J69:J188)=0,\"\",IF(J33=0,\"\",2^(INT((NORMINV(0.025,J34,J36))))))","v":""},"","","",{"$f":"IF(N33=0,\"\",2^(INT((NORMINV(0.025,N34,N36)))))","v":""}]
["CLSI% Obs. captured",null,"Upper Bound Rounded Up",{"$f":"IF(COUNT(D69:D188)=0,\"\",IF(D33=0,\"\",2^(INT((NORMINV(0.975,D34,D36)))+1)))","v":""},"","","","",{"$f":"IF(COUNT(I69:I188)=0,\"\",IF(I33=0,\"\",2^(INT((NORMINV(0.975,I34,I36)))+1)))","v":""},{"$f":"IF(COUNT(J69:J188)=0,\"\",IF(J33=0,\"\",2^(INT((NORMINV(0.975,J34,J36)))+1)))","v":""},"","","",{"$f":"IF(N33=0,\"\",2^(INT((NORMINV(0.975,N34,N36)))+1))","v":""}]
[{"$f":"IF(A35=0,\"\",(COUNTIF(D69:M188,\"<\"&A36+1)-COUNTIF(D69:M188,\"<\"&A35))/N$33)","v":""},null,"Probability of <=Lower Bound",{"$f":"IF(COUNT(D69:D188)=0,\"\",NORMDIST(LOG(D39)/LOG(2),D34,D36,TRUE))","v":""},"","","","",{"$f":"IF(COUNT(I69:I188)=0,\"\",NORMDIST(LOG(I39)/LOG(2),I34,I36,TRUE))","v":""},{"$f":"IF(COUNT(J69:J188)=0,\"\",NORMDIST(LOG(J39)/LOG(2),J34,J36,TRUE))","v":""},"","","",{"$f":"IF(D69=\"\",\"\",NORMDIST(LOG(N39)/LOG(2),N34,N36,TRUE))","v":""}]
[null,null,"Probability of >Upper Bound",{"$f":"IF(COUNT(D69:D188)=0,\"\",1-NORMDIST(LOG(D40)/LOG(2),D34,D36,TRUE))","v":""},"","","","",{"$f":"IF(COUNT(I69:I188)=0,\"\",1-NORMDIST(LOG(I40)/LOG(2),I34,I36,TRUE))","v":""},{"$f":"IF(COUNT(J69:J188)=0,\"\",1-NORMDIST(LOG(J40)/LOG(2),J34,J36,TRUE))","v":""},"","","",{"$f":"IF(D69=\"\",\"\",1-NORMDIST(LOG(N40)/LOG(2),N34,N36,TRUE))","v":""}]
[null,null,"New Range",{"$f":"IF(COUNT(D69:D188)=0,\"\",1-D41-D42)","v":""},"","","","",{"$f":"IF(COUNT(I69:I188)=0,\"\",1-I41-I42)","v":""},{"$f":"IF(COUNT(J69:J188)=0,\"\",1-J41-J42)","v":""},"","","",{"$f":"IF(D69=\"\",\"\",1-N41-N42)","v":""}]
[]
[null,null,"Order Stats","Lab 1","Lab 2","Lab 3","Lab 4","Lab 5","Lab 6","Lab 7","Lab 8","Lab 9","Lab 10","All labs","Interlab"]
[null,null,"25th %ile",{"$f":"IF(COUNT(D69:D188)=0,\"\",QUARTILE(D69:D188,1))","v":""},"","","","",{"$f":"IF(COUNT(I69:I188)=0,\"\",QUARTILE(I69:I188,1))","v":""},{"$f":"IF(COUNT(J69:J188)=0,\"\",QUARTILE(J69:J188,1))","v":""},"","","",{"$f":"IF(D69=\"\",\"\",QUARTILE(D69:M188,1))","v":""},"CV"]
[null,null,"75th %ile",{"$f":"IF(COUNT(D69:D188)=0,\"\",QUARTILE(D69:D188,3))","v":""},"","","","",{"$f":"IF(COUNT(I69:I188)=0,\"\",QUARTILE(I69:I188,3))","v":""},{"$f":"IF(COUNT(J69:J188)=0,\"\",QUARTILE(J69:J188,3))","v":""},"","","",{"$f":"IF(D69=\"\",\"\",QUARTILE(D69:M188,3))","v":""},{"$f":"IF(D69=\"\",\"\",ABS(N48/N25))","v":""}]
[null,null,"Interquartile Range",{"$f":"IF(COUNT(D69:D188)=0,\"\",IF(D47-D46=0,1,D47-D46))","v":""},"","","","",{"$f":"IF(COUNT(I69:I188)=0,\"\",IF(I47-I46=0,1,I47-I46))","v":""},{"$f":"IF(COUNT(J69:J188)=0,\"\",IF(J47-J46=0,1,J47-J46))","v":""},"","","",{"$f":"IF(D69=\"\",\"\",IF(N47-N46=0,1,N47-N46))","v":""}]
[null,null,"Minimum",{"$f":"IF(COUNT(D69:D188)=0,\"\",MIN(D69:D188))","v":""},"","","","",{"$f":"IF(COUNT(I69:I188)=0,\"\",MIN(I69:I188))","v":""},{"$f":"IF(COUNT(J69:J188)=0,\"\",MIN(J69:J188))","v":""},"","","",{"$f":"IF(D69=\"\",\"\",MIN(D69:M188))","v":""}]
[null,null,"Maximum",{"$f":"IF(COUNT(D69:D188)=0,\"\",MAX(D69:D188))","v":""},"","","","",{"$f":"IF(COUNT(I69:I188)=0,\"\",MAX(I69:I188))","v":""},{"$f":"IF(COUNT(J69:J188)=0,\"\",MAX(J69:J188))","v":""},"","","",{"$f":"IF(D69=\"\",\"\",MAX(D69:M188))","v":""}]
[null,null,"Lower Inner Fence",{"$f":"IF(COUNT(D69:D188)=0,\"\",D$46-1.5*D$48)","v":""},"","","","",{"$f":"IF(COUNT(I69:I188)=0,\"\",I$46-1.5*I$48)","v":""},{"$f":"IF(COUNT(J69:J188)=0,\"\",J$46-1.5*J$48)","v":""},"","","",{"$f":"IF(D69=\"\",\"\",N$46-1.5*N$48)","v":""}]
[null,null,"Upper Inner Fence",{"$f":"IF(COUNT(D69:D188)=0,\"\",D$47+1.5*D$48)","v":""},"","","","",{"$f":"IF(COUNT(I69:I188)=0,\"\",I$47+1.5*I$48)","v":""},{"$f":"IF(COUNT(J69:J188)=0,\"\",J$47+1.5*J$48)","v":""},"","","",{"$f":"IF(D69=\"\",\"\",N$47+1.5*N$48)","v":""}]
[null,null,"Lower Outer Fence",{"$f":"IF(COUNT(D69:D188)=0,\"\",D$46-3*D$48)","v":""},"","","","",{"$f":"IF(COUNT(I69:I188)=0,\"\",I$46-3*I$48)","v":""},{"$f":"IF(COUNT(J69:J188)=0,\"\",J$46-3*J$48)","v":""},"","","",{"$f":"IF(D69=\"\",\"\",N$46-3*N$48)","v":""}]
[null,null,"Upper Outer Fence",{"$f":"IF(COUNT(D69:D188)=0,\"\",D$47+3*D$48)","v":""},"","","","",{"$f":"IF(COUNT(I69:I188)=0,\"\",I$47+3*I$48)","v":""},{"$f":"IF(COUNT(J69:J188)=0,\"\",J$47+3*J$48)","v":""},"","","",{"$f":"IF(D69=\"\",\"\",N$47+3*N$48)","v":""}]
[null,null,"Lower Near Outliers",{"$f":"IF(COUNT(D69:D188)=0,\"\",COUNTIF(D69:D188,\"<\"&D51))","v":""},"","","","",{"$f":"IF(COUNT(I69:I188)=0,\"\",COUNTIF(I69:I188,\"<\"&I51))","v":""},{"$f":"IF(COUNT(J69:J188)=0,\"\",COUNTIF(J69:J188,\"<\"&J51))","v":""},"","","",{"$f":"IF(D69=\"\",\"\",COUNTIF(D69:M188,\"<\"&N51)-N57)","v":""}]
[null,null,"Upper Near Outliers",{"$f":"IF(COUNT(D69:D188)=0,\"\",COUNTIF(D69:D188,\">\"&D52))","v":""},"","","","",{"$f":"IF(COUNT(I69:I188)=0,\"\",COUNTIF(I69:I188,\">\"&I52))","v":""},{"$f":"IF(COUNT(J69:J188)=0,\"\",COUNTIF(J69:J188,\">\"&J52))","v":""},"","","",{"$f":"IF(D69=\"\",\"\",COUNTIF(D69:M188,\">\"&N52)-N58)","v":""}]
[null,null,"Lower Extreme Outliers",{"$f":"IF(COUNT(D69:D188)=0,\"\",COUNTIF(D69:D188,\"<\"&D53))","v":""},"","","","",{"$f":"IF(COUNT(I69:I188)=0,\"\",COUNTIF(I69:I188,\"<\"&I53))","v":""},{"$f":"IF(COUNT(J69:J188)=0,\"\",COUNTIF(J69:J188,\"<\"&J53))","v":""},"","","",{"$f":"IF(D69=\"\",\"\",COUNTIF(D69:M188,\"<\"&N53))","v":""}]
[null,null,"Upper Extreme Outliers",{"$f":"IF(COUNT(D69:D188)=0,\"\",COUNTIF(D69:D188,\">\"&D54))","v":""},"","","","",{"$f":"IF(COUNT(I69:I188)=0,\"\",COUNTIF(I69:I188,\">\"&I54))","v":""},{"$f":"IF(COUNT(J69:J188)=0,\"\",COUNTIF(J69:J188,\">\"&J54))","v":""},"","","",{"$f":"IF(D69=\"\",\"\",COUNTIF(D69:M188,\">\"&N54))","v":""}]
[]
[null,null,"Chart Control Limits","Lab 1","Lab 2","Lab 3","Lab 4","Lab 5","Lab 6","Lab 7","Lab 8","Lab 9","Lab 10"]
[null,"Mean","Lower CL",{"$f":"$O$24","v":""},{"$f":"$O$24","v":""},"","","","","","","",""]
[null,null,"Upper CL",{"$f":"$P$24","v":""},{"$f":"$P$24","v":""},"","","","","","","",""]
[null,"Median","Lower CL",{"$f":"$O$25","v":""},{"$f":"$O$25","v":""},"","","","","","","",""]
[null,null,"Upper CL",{"$f":"$P$25","v":""},{"$f":"$P$25","v":""},"","","","","","","",""]
[null,"Mode","Lower CL",{"$f":"$O$26","v":""},{"$f":"$O$26","v":""},"","","","","","","",""]
[null,null,"Upper CL",{"$f":"$P$26","v":""},{"$f":"$P$26","v":""},"","","","","","","",""]
[]
[null,null,"Log2 Converted Raw Data","Lab 1","Lab 2","Lab 3","Lab 4","Lab 5","Lab 6","Lab 7","Lab 8","Lab 9","Lab 10","Control","Limits"]
[null,null,"Media Lot 1",{"$f":"IF(D191=\"\",\"\",LOOKUP(D191,$A$3:$A$22,$C$3:$C$22))","v":""},"","","","",{"$f":"IF(I191=\"\",\"\",LOOKUP(I191,$A$3:$A$22,$C$3:$C$22))","v":""},"","","","",{"$f":"IF(D69=\"\",\"\",LN($N$39)/LN(2))","v":""},{"$f":"IF(D69=\"\",\"\",LN($N$40)/LN(2)-0.5)","v":""}]
[{"$nulls":3},"","","","","","","","","",""]
[{"$nulls":3},"","","","","","","","","",""]
[{"$nulls":3},"","","","","","","","","",""]
[{"$nulls":3},{"$f":"IF(D195=\"\",\"\",LOOKUP(D195,$A$3:$A$22,$C$3:$C$22))","v":""},"","","","","","","","",""]
[{"$nulls":3},"","","","","","","","","",""]
[{"$nulls":3},"","","","","","","","","",""]
[{"$nulls":3},"","","","","","","","","",""]
[{"$nulls":3},"","","","","","","","","",""]
[{"$nulls":3},"","","","","","","","","",""]
[{"$nulls":3},{"$f":"IF(D201=\"\",\"\",LOOKUP(D201,$A$3:$A$22,$C$3:$C$22))","v":""},"","","","",{"$f":"IF(I201=\"\",\"\",LOOKUP(I201,$A$3:$A$22,$C$3:$C$22))","v":""},"","","",""]
[{"$nulls":3},"","","","","","","","","",""]
[{"$nulls":3},{"$f":"IF(D203=\"\",\"\",LOOKUP(D203,$A$3:$A$22,$C$3:$C$22))","v":""},"","","","","","","","",""]
[{"$nulls":3},"","","","","","","","","",""]
[{"$nulls":3},"","","","","","","","","",""]
[{"$nulls":3},"","","","","","","","","",""]
[{"$nulls":3},"","","","","","","","","",""]
[{"$nulls":3},"","","","","","","","","",""]
[{"$nulls":3},"","","","","","","","","",""]
[{"$nulls":3},"","","","","","","","","",""]
[{"$nulls":3},{"$f":"IF(D211=\"\",\"\",LOOKUP(D211,$A$3:$A$22,$C$3:$C$22))","v":""},"","","","",{"$f":"IF(I211=\"\",\"\",LOOKUP(I211,$A$3:$A$22,$C$3:$C$22))","v":""},"","","",""]
[{"$nulls":3},"","","","","","","","","",""]
[{"$nulls":3},"","","","","","","","","",""]
[{"$nulls":3},"","","","","","","","","",""]
[{"$nulls":3},"","","","","","","","","",""]
[{"$nulls":3},"","","","","","","","","",""]
[{"$nulls":3},"","","","","","","","","",""]
[{"$nulls":3},"","","","","","","","","",""]
[{"$nulls":3},"","","","","","","","","",""]
[{"$nulls":3},"","","","","","","","","",""]
[{"$nulls":3},"","","","","",{"$f":"IF(I221=\"\",\"\",LOOKUP(I221,$A$3:$A$22,$C$3:$C$22))","v":""},"","","",""]
[{"$nulls":3},"","","","","","","","","",""]
[{"$nulls":3},"","","","","","","","","",""]
[{"$nulls":3},"","","","","","","","","",""]
[{"$nulls":3},"","","","","","","","","",""]
[{"$nulls":3},"","","","","","","","","",""]
[{"$nulls":3},{"$f":"IF(D227=\"\",\"\",LOOKUP(D227,$A$3:$A$22,$C$3:$C$22))","v":""},"","","","","","","","",""]
[{"$nulls":3},"","","","","","","","","",""]
[{"$nulls":3},"","","","","","","","","",""]
[{"$nulls":3},"","","","","","","","","",""]
[null,null,"Media Lot 2","","","","","",{"$f":"IF(I231=\"\",\"\",LOOKUP(I231,$A$3:$A$22,$C$3:$C$22))","v":""},"","","",""]
[{"$nulls":3},"","","","","","","","","",""]
[{"$nulls":3},"","","","","","","","","",""]
[{"$nulls":3},"","","","","","","","","",""]
[{"$nulls":3},"","","","","","","","","",""]
[{"$nulls":3},"","","","","","","","","",""]
[{"$nulls":3},"","","","","","","","","",""]
[{"$nulls":3},"","","","","","","","","",""]
[{"$nulls":3},"","","","","","","","","",""]
[{"$nulls":3},"","","","","","","","","",""]
[{"$nulls":3},"","","","","",{"$f":"IF(I241=\"\",\"\",LOOKUP(I241,$A$3:$A$22,$C$3:$C$22))","v":""},"","","",""]
[{"$nulls":3},"","","","","","","","","",""]
[{"$nulls":3},{"$f":"IF(D243=\"\",\"\",LOOKUP(D243,$A$3:$A$22,$C$3:$C$22))","v":""},"","","","","","","","",""]
[{"$nulls":3},"","","","","","","","","",""]
[{"$nulls":3},"","","","","","","","","",""]
[{"$nulls":3},"","","","","","","","","",""]
[{"$nulls":3},"","","","","","","","","",""]
[{"$nulls":3},"","","","","","","","","",""]
[{"$nulls":3},"","","","","","","","","",""]
[{"$nulls":3},"","","","","","","","","",""]
[{"$nulls":3},"","","","","",{"$f":"IF(I251=\"\",\"\",LOOKUP(I251,$A$3:$A$22,$C$3:$C$22))","v":""},"","","",""]
[{"$nulls":3},"","","","","","","","","",""]
[{"$nulls":3},"","","","","","","","","",""]
[{"$nulls":3},"","","","","","","","","",""]
[{"$nulls":3},"","","","","","","","","",""]
[{"$nulls":3},"","","","","","","","","",""]
[{"$nulls":3},"","","","","","","","","",""]
[{"$nulls":3},"","","","","","","","","",""]
[{"$nulls":3},{"$f":"IF(D259=\"\",\"\",LOOKUP(D259,$A$3:$A$22,$C$3:$C$22))","v":""},"","","","","","","","",""]
[{"$nulls":3},"","","","","","","","","",""]
[{"$nulls":3},"","","","","",{"$f":"IF(I261=\"\",\"\",LOOKUP(I261,$A$3:$A$22,$C$3:$C$22))","v":""},"","","",""]
[{"$nulls":3},"","","","","","","","","",""]
[{"$nulls":3},"","","","","","","","","",""]
[{"$nulls":3},"","","","","","","","","",""]
[{"$nulls":3},"","","","","","","","","",""]
[{"$nulls":3},"","","","","","","","","",""]
[{"$nulls":3},"","","","","","","","","",""]
[{"$nulls":3},"","","","","","","","","",""]
[{"$nulls":3},"","","","","","","","","",""]
[{"$nulls":3},"","","","","","","","","",""]
[null,null,"Media Lot 3","","","","","",{"$f":"IF(I271=\"\",\"\",LOOKUP(I271,$A$3:$A$22,$C$3:$C$22))","v":""},"","","",""]
[{"$nulls":3},"","","","","","","","","",""]
[{"$nulls":3},"","","","","","","","","",""]
[{"$nulls":3},"","","","","","","","","",""]
[{"$nulls":3},{"$f":"IF(D275=\"\",\"\",LOOKUP(D275,$A$3:$A$22,$C$3:$C$22))","v":""},"","","","","","","","",""]
[{"$nulls":3},"","","","","","","","","",""]
[{"$nulls":3},"","","","","","","","","",""]
[{"$nulls":3},"","","","","","","","","",""]
[{"$nulls":3},"","","","","","","","","",""]
[{"$nulls":3},"","","","","","","","","",""]
[{"$nulls":3},"","","","","",{"$f":"IF(I281=\"\",\"\",LOOKUP(I281,$A$3:$A$22,$C$3:$C$22))","v":""},"","","",""]
[{"$nulls":3},"","","","","","","","","",""]
[{"$nulls":3},"","","","","","","","","",""]
[{"$nulls":3},"","","","","","","","","",""]
[{"$nulls":3},"","","","","","","","","",""]
[{"$nulls":3},"","","","","","","","","",""]
[{"$nulls":3},"","","","","","","","","",""]
[{"$nulls":3},"","","","","","","","","",""]
[{"$nulls":3},"","","","","","","","","",""]
[{"$nulls":3},"","","","","","","","","",""]
[{"$nulls":3},{"$f":"IF(D291=\"\",\"\",LOOKUP(D291,$A$3:$A$22,$C$3:$C$22))","v":""},"","","","",{"$f":"IF(I291=\"\",\"\",LOOKUP(I291,$A$3:$A$22,$C$3:$C$22))","v":""},"","","",""]
[{"$nulls":3},"","","","","","","","","",""]
[{"$nulls":3},"","","","","","","","","",""]
[{"$nulls":3},"","","","","","","","","",""]
[{"$nulls":3},"","","","","","","","","",""]
[{"$nulls":3},"","","","","","","","","",""]
[{"$nulls":3},"","","","","","","","","",""]
[{"$nulls":3},"","","","","","","","","",""]
[{"$nulls":3},"","","","","","","","","",""]
[{"$nulls":3},"","","","","","","","","",""]
[{"$nulls":3},"","","","","",{"$f":"IF(I301=\"\",\"\",LOOKUP(I301,$A$3:$A$22,$C$3:$C$22))","v":""},"","","",""]
[{"$nulls":3},"","","","","","","","","",""]
[{"$nulls":3},"","","","","","","","","",""]
[{"$nulls":3},"","","","","","","","","",""]
[{"$nulls":3},"","","","","","","","","",""]
[{"$nulls":3},"","","","","","","","","",""]
[{"$nulls":3},{"$f":"IF(D307=\"\",\"\",LOOKUP(D307,$A$3:$A$22,$C$3:$C$22))","v":""},"","","","","","","","",""]
[{"$nulls":3},"","","","","","","","","",""]
[{"$nulls":3},"","","","","","","","","",""]
[{"$nulls":3},"","","","","","","","","",""]
[]
[null,null,"Raw Data Entry","Lab 1","Lab 2","Lab 3","Lab 4","Lab 5","Lab 6","Lab 7","Lab 8","Lab 9","Lab 10"]
[null,null,"Media Lot 1"]
{"$rows_empty":39}
[null,null,"Media Lot 2"]
{"$rows_empty":39}
[null,null,"Media Lot 3"]

{"sheet":"Strain 2","index":6,"n_rows":271,"n_cols":16,"rows_kept":271,"merged":[[0,4,0,6]]}
[{"$f":"'Range Summary'!C2","v":"QC2"},{"$f":"'Range Summary'!A2","v":"Test agent"},null,null,"Go to Raw Data Entry area"]
["MIC","Midpoint MIC","Mid Log2MIC","Lab 1","Lab 2","Lab 3","Lab 4","Lab 5","Lab 6","Lab 7","Lab 8","Lab 9","Lab 10","All labs","Norm"]
[{"v":1E-3,"d":"0.001"},{"$f":"2^C3","v":{"v":6.9053396600248776E-4,"d":"0.000691"}},-10.5,{"$f":"IF(COUNTIF(D69:D188,-10.5)=0,\"\",COUNTIF(D69:D188,-10.5))","v":""},{"$f":"IF(COUNTIF(E69:E188,-10.5)=0,\"\",COUNTIF(E69:E188,-10.5))","v":""},{"$f":"IF(COUNTIF(F69:F188,-10.5)=0,\"\",COUNTIF(F69:F188,-10.5))","v":""},"","",{"$f":"IF(COUNTIF(I69:I188,-10.5)=0,\"\",COUNTIF(I69:I188,-10.5))","v":""},{"$f":"IF(COUNTIF(J69:J188,-10.5)=0,\"\",COUNTIF(J69:J188,-10.5))","v":""},"","","",{"$f":"SUM(D3:M3)","v":0},{"$f":"IF(D69=\"\",0,ROUND(N$33*NORMDIST(C3+0.5,N$34,N$36,TRUE),0))","v":0}]
[{"v":2E-3,"d":"0.002"},{"$f":"2^C4","v":{"v":1.3810679320049757E-3,"d":"0.001381"}},-9.5,{"$f":"IF(COUNTIF(D69:D188,-9.5)=0,\"\",COUNTIF(D69:D188,-9.5))","v":""},{"$f":"IF(COUNTIF(E69:E188,-9.5)=0,\"\",COUNTIF(E69:E188,-9.5))","v":""},{"$f":"IF(COUNTIF(F69:F188,-9.5)=0,\"\",COUNTIF(F69:F188,-9.5))","v":""},"","",{"$f":"IF(COUNTIF(I69:I188,-9.5)=0,\"\",COUNTIF(I69:I188,-9.5))","v":""},{"$f":"IF(COUNTIF(J69:J188,-9.5)=0,\"\",COUNTIF(J69:J188,-9.5))","v":""},"","","",0,{"$f":"IF(D69=\"\",0,ROUND(N$33*NORMDIST(C4+0.5,N$34,N$36,TRUE),0)-SUM(O2:O$3))","v":0}]
[0.004,{"v":2.7621358640099515E-3,"d":"0.002762"},-8.5,{"$f":"IF(COUNTIF(D69:D188,-8.5)=0,\"\",COUNTIF(D69:D188,-8.5))","v":""},{"$f":"IF(COUNTIF(E69:E188,-8.5)=0,\"\",COUNTIF(E69:E188,-8.5))","v":""},{"$f":"IF(COUNTIF(F69:F188,-8.5)=0,\"\",COUNTIF(F69:F188,-8.5))","v":""},"","",{"$f":"IF(COUNTIF(I69:I188,-8.5)=0,\"\",COUNTIF(I69:I188,-8.5))","v":""},{"$f":"IF(COUNTIF(J69:J188,-8.5)=0,\"\",COUNTIF(J69:J188,-8.5))","v":""},"","","",0,{"$f":"IF(D69=\"\",0,ROUND(N$33*NORMDIST(C5+0.5,N$34,N$36,TRUE),0)-SUM(O$3:O3))","v":0}]
[0.008,{"v":0.005524271728019904,"d":"0.005524"},-7.5,{"$f":"IF(COUNTIF(D69:D188,-7.5)=0,\"\",COUNTIF(D69:D188,-7.5))","v":""},{"$f":"IF(COUNTIF(E69:E188,-7.5)=0,\"\",COUNTIF(E69:E188,-7.5))","v":""},{"$f":"IF(COUNTIF(F69:F188,-7.5)=0,\"\",COUNTIF(F69:F188,-7.5))","v":""},"","",{"$f":"IF(COUNTIF(I69:I188,-7.5)=0,\"\",COUNTIF(I69:I188,-7.5))","v":""},{"$f":"IF(COUNTIF(J69:J188,-7.5)=0,\"\",COUNTIF(J69:J188,-7.5))","v":""},"","","",{"$f":"SUM(D6:M6)","v":0},{"$f":"IF(D69=\"\",0,ROUND(N$33*NORMDIST(C6+0.5,N$34,N$36,TRUE),0)-SUM(O$3:O5))","v":0}]
[0.016,{"v":0.011048543456039808,"d":"0.011049"},-6.5,{"$f":"IF(COUNTIF(D69:D188,-6.5)=0,\"\",COUNTIF(D69:D188,-6.5))","v":""},{"$f":"IF(COUNTIF(E69:E188,-6.5)=0,\"\",COUNTIF(E69:E188,-6.5))","v":""},{"$f":"IF(COUNTIF(F69:F188,-6.5)=0,\"\",COUNTIF(F69:F188,-6.5))","v":""},"","",{"$f":"IF(COUNTIF(I69:I188,-6.5)=0,\"\",COUNTIF(I69:I188,-6.5))","v":""},{"$f":"IF(COUNTIF(J69:J188,-6.5)=0,\"\",COUNTIF(J69:J188,-6.5))","v":""},"","","",0,{"$f":"IF(D69=\"\",0,ROUND(N$33*NORMDIST(C7+0.5,N$34,N$36,TRUE),0)-SUM(O$3:O6))","v":0}]
[0.03,{"v":0.022097086912079608,"d":"0.022097"},-5.5,{"$f":"IF(COUNTIF(D69:D188,-5.5)=0,\"\",COUNTIF(D69:D188,-5.5))","v":""},{"$f":"IF(COUNTIF(E69:E188,-5.5)=0,\"\",COUNTIF(E69:E188,-5.5))","v":""},{"$f":"IF(COUNTIF(F69:F188,-5.5)=0,\"\",COUNTIF(F69:F188,-5.5))","v":""},"","",{"$f":"IF(COUNTIF(I69:I188,-5.5)=0,\"\",COUNTIF(I69:I188,-5.5))","v":""},{"$f":"IF(COUNTIF(J69:J188,-5.5)=0,\"\",COUNTIF(J69:J188,-5.5))","v":""},"","","",0,{"$f":"IF(D69=\"\",0,ROUND(N$33*NORMDIST(C8+0.5,N$34,N$36,TRUE),0)-SUM(O$3:O7))","v":0}]
[0.06,{"v":0.04419417382415922,"d":"0.044194"},-4.5,{"$f":"IF(COUNTIF(D69:D188,-4.5)=0,\"\",COUNTIF(D69:D188,-4.5))","v":""},{"$f":"IF(COUNTIF(E69:E188,-4.5)=0,\"\",COUNTIF(E69:E188,-4.5))","v":""},{"$f":"IF(COUNTIF(F69:F188,-4.5)=0,\"\",COUNTIF(F69:F188,-4.5))","v":""},"","",{"$f":"IF(COUNTIF(I69:I188,-4.5)=0,\"\",COUNTIF(I69:I188,-4.5))","v":""},{"$f":"IF(COUNTIF(J69:J188,-4.5)=0,\"\",COUNTIF(J69:J188,-4.5))","v":""},"","","",0,{"$f":"IF(D69=\"\",0,ROUND(N$33*NORMDIST(C9+0.5,N$34,N$36,TRUE),0)-SUM(O$3:O8))","v":0}]
[0.13,{"v":0.08838834764831845,"d":"0.088388"},-3.5,{"$f":"IF(COUNTIF(D69:D188,-3.5)=0,\"\",COUNTIF(D69:D188,-3.5))","v":""},{"$f":"IF(COUNTIF(E69:E188,-3.5)=0,\"\",COUNTIF(E69:E188,-3.5))","v":""},{"$f":"IF(COUNTIF(F69:F188,-3.5)=0,\"\",COUNTIF(F69:F188,-3.5))","v":""},"","",{"$f":"IF(COUNTIF(I69:I188,-3.5)=0,\"\",COUNTIF(I69:I188,-3.5))","v":""},{"$f":"IF(COUNTIF(J69:J188,-3.5)=0,\"\",COUNTIF(J69:J188,-3.5))","v":""},"","","",0,{"$f":"IF(D69=\"\",0,ROUND(N$33*NORMDIST(C10+0.5,N$34,N$36,TRUE),0)-SUM(O$3:O9))","v":0}]
[0.25,{"v":0.17677669529663687,"d":"0.176777"},-2.5,{"$f":"IF(COUNTIF(D69:D188,-2.5)=0,\"\",COUNTIF(D69:D188,-2.5))","v":""},{"$f":"IF(COUNTIF(E69:E188,-2.5)=0,\"\",COUNTIF(E69:E188,-2.5))","v":""},{"$f":"IF(COUNTIF(F69:F188,-2.5)=0,\"\",COUNTIF(F69:F188,-2.5))","v":""},"","",{"$f":"IF(COUNTIF(I69:I188,-2.5)=0,\"\",COUNTIF(I69:I188,-2.5))","v":""},{"$f":"IF(COUNTIF(J69:J188,-2.5)=0,\"\",COUNTIF(J69:J188,-2.5))","v":""},"","","",0,{"$f":"IF(D69=\"\",0,ROUND(N$33*NORMDIST(C11+0.5,N$34,N$36,TRUE),0)-SUM(O$3:O10))","v":0}]
[0.5,{"v":0.3535533905932738,"d":"0.353553"},-1.5,{"$f":"IF(COUNTIF(D69:D188,-1.5)=0,\"\",COUNTIF(D69:D188,-1.5))","v":""},{"$f":"IF(COUNTIF(E69:E188,-1.5)=0,\"\",COUNTIF(E69:E188,-1.5))","v":""},{"$f":"IF(COUNTIF(F69:F188,-1.5)=0,\"\",COUNTIF(F69:F188,-1.5))","v":""},"","",{"$f":"IF(COUNTIF(I69:I188,-1.5)=0,\"\",COUNTIF(I69:I188,-1.5))","v":""},{"$f":"IF(COUNTIF(J69:J188,-1.5)=0,\"\",COUNTIF(J69:J188,-1.5))","v":""},"","","",0,{"$f":"IF(D69=\"\",0,ROUND(N$33*NORMDIST(C12+0.5,N$34,N$36,TRUE),0)-SUM(O$3:O11))","v":0}]
[1,{"v":0.7071067811865475,"d":"0.707107"},-0.5,{"$f":"IF(COUNTIF(D69:D188,-0.5)=0,\"\",COUNTIF(D69:D188,-0.5))","v":""},{"$f":"IF(COUNTIF(E69:E188,-0.5)=0,\"\",COUNTIF(E69:E188,-0.5))","v":""},{"$f":"IF(COUNTIF(F69:F188,-0.5)=0,\"\",COUNTIF(F69:F188,-0.5))","v":""},"","",{"$f":"IF(COUNTIF(I69:I188,-0.5)=0,\"\",COUNTIF(I69:I188,-0.5))","v":""},{"$f":"IF(COUNTIF(J69:J188,-0.5)=0,\"\",COUNTIF(J69:J188,-0.5))","v":""},"","","",0,{"$f":"IF(D69=\"\",0,ROUND(N$33*NORMDIST(C13+0.5,N$34,N$36,TRUE),0)-SUM(O$3:O12))","v":0}]
[2,{"v":1.4142135623730951,"d":"1.414214"},0.5,{"$f":"IF(COUNTIF(D69:D188,0.5)=0,\"\",COUNTIF(D69:D188,0.5))","v":""},{"$f":"IF(COUNTIF(E69:E188,0.5)=0,\"\",COUNTIF(E69:E188,0.5))","v":""},{"$f":"IF(COUNTIF(F69:F188,0.5)=0,\"\",COUNTIF(F69:F188,0.5))","v":""},"","",{"$f":"IF(COUNTIF(I69:I188,0.5)=0,\"\",COUNTIF(I69:I188,0.5))","v":""},{"$f":"IF(COUNTIF(J69:J188,0.5)=0,\"\",COUNTIF(J69:J188,0.5))","v":""},"","","",0,{"$f":"IF(D69=\"\",0,ROUND(N$33*NORMDIST(C14+0.5,N$34,N$36,TRUE),0)-SUM(O$3:O13))","v":0}]
[4,{"v":2.82842712474619,"d":"2.828427"},1.5,{"$f":"IF(COUNTIF(D69:D188,1.5)=0,\"\",COUNTIF(D69:D188,1.5))","v":""},{"$f":"IF(COUNTIF(E69:E188,1.5)=0,\"\",COUNTIF(E69:E188,1.5))","v":""},{"$f":"IF(COUNTIF(F69:F188,1.5)=0,\"\",COUNTIF(F69:F188,1.5))","v":""},"","",{"$f":"IF(COUNTIF(I69:I188,1.5)=0,\"\",COUNTIF(I69:I188,1.5))","v":""},{"$f":"IF(COUNTIF(J69:J188,1.5)=0,\"\",COUNTIF(J69:J188,1.5))","v":""},"","","",0,{"$f":"IF(D69=\"\",0,ROUND(N$33*NORMDIST(C15+0.5,N$34,N$36,TRUE),0)-SUM(O$3:O14))","v":0}]
[8,{"v":5.656854249492381,"d":"5.656854"},2.5,{"$f":"IF(COUNTIF(D69:D188,2.5)=0,\"\",COUNTIF(D69:D188,2.5))","v":""},{"$f":"IF(COUNTIF(E69:E188,2.5)=0,\"\",COUNTIF(E69:E188,2.5))","v":""},{"$f":"IF(COUNTIF(F69:F188,2.5)=0,\"\",COUNTIF(F69:F188,2.5))","v":""},"","",{"$f":"IF(COUNTIF(I69:I188,2.5)=0,\"\",COUNTIF(I69:I188,2.5))","v":""},{"$f":"IF(COUNTIF(J69:J188,2.5)=0,\"\",COUNTIF(J69:J188,2.5))","v":""},"","","",0,{"$f":"IF(D69=\"\",0,ROUND(N$33*NORMDIST(C16+0.5,N$34,N$36,TRUE),0)-SUM(O$3:O15))","v":0}]
[16,{"v":11.31370849898476,"d":"11.313708"},3.5,{"$f":"IF(COUNTIF(D69:D188,3.5)=0,\"\",COUNTIF(D69:D188,3.5))","v":""},{"$f":"IF(COUNTIF(E69:E188,3.5)=0,\"\",COUNTIF(E69:E188,3.5))","v":""},{"$f":"IF(COUNTIF(F69:F188,3.5)=0,\"\",COUNTIF(F69:F188,3.5))","v":""},"","",{"$f":"IF(COUNTIF(I69:I188,3.5)=0,\"\",COUNTIF(I69:I188,3.5))","v":""},{"$f":"IF(COUNTIF(J69:J188,3.5)=0,\"\",COUNTIF(J69:J188,3.5))","v":""},"","","",0,{"$f":"IF(D69=\"\",0,ROUND(N$33*NORMDIST(C17+0.5,N$34,N$36,TRUE),0)-SUM(O$3:O16))","v":0}]
[32,{"v":22.62741699796952,"d":"22.627417"},4.5,{"$f":"IF(COUNTIF(D69:D188,4.5)=0,\"\",COUNTIF(D69:D188,4.5))","v":""},{"$f":"IF(COUNTIF(E69:E188,4.5)=0,\"\",COUNTIF(E69:E188,4.5))","v":""},{"$f":"IF(COUNTIF(F69:F188,4.5)=0,\"\",COUNTIF(F69:F188,4.5))","v":""},"","",{"$f":"IF(COUNTIF(I69:I188,4.5)=0,\"\",COUNTIF(I69:I188,4.5))","v":""},{"$f":"IF(COUNTIF(J69:J188,4.5)=0,\"\",COUNTIF(J69:J188,4.5))","v":""},"","","",0,{"$f":"IF(D69=\"\",0,ROUND(N$33*NORMDIST(C18+0.5,N$34,N$36,TRUE),0)-SUM(O$3:O17))","v":0}]
[64,{"v":45.254833995939045,"d":"45.254834"},5.5,{"$f":"IF(COUNTIF(D69:D188,5.5)=0,\"\",COUNTIF(D69:D188,5.5))","v":""},{"$f":"IF(COUNTIF(E69:E188,5.5)=0,\"\",COUNTIF(E69:E188,5.5))","v":""},{"$f":"IF(COUNTIF(F69:F188,5.5)=0,\"\",COUNTIF(F69:F188,5.5))","v":""},"","",{"$f":"IF(COUNTIF(I69:I188,5.5)=0,\"\",COUNTIF(I69:I188,5.5))","v":""},{"$f":"IF(COUNTIF(J69:J188,5.5)=0,\"\",COUNTIF(J69:J188,5.5))","v":""},"","","",0,{"$f":"IF(D69=\"\",0,ROUND(N$33*NORMDIST(C19+0.5,N$34,N$36,TRUE),0)-SUM(O$3:O18))","v":0}]
[128,{"v":90.50966799187806,"d":"90.509668"},6.5,{"$f":"IF(COUNTIF(D69:D188,6.5)=0,\"\",COUNTIF(D69:D188,6.5))","v":""},{"$f":"IF(COUNTIF(E69:E188,6.5)=0,\"\",COUNTIF(E69:E188,6.5))","v":""},{"$f":"IF(COUNTIF(F69:F188,6.5)=0,\"\",COUNTIF(F69:F188,6.5))","v":""},"","",{"$f":"IF(COUNTIF(I69:I188,6.5)=0,\"\",COUNTIF(I69:I188,6.5))","v":""},{"$f":"IF(COUNTIF(J69:J188,6.5)=0,\"\",COUNTIF(J69:J188,6.5))","v":""},"","","",0,{"$f":"IF(D69=\"\",0,ROUND(N$33*NORMDIST(C20+0.5,N$34,N$36,TRUE),0)-SUM(O$3:O19))","v":0}]
[256,{"v":181.01933598375612,"d":"181.019336"},7.5,{"$f":"IF(COUNTIF(D69:D188,7.5)=0,\"\",COUNTIF(D69:D188,7.5))","v":""},{"$f":"IF(COUNTIF(E69:E188,7.5)=0,\"\",COUNTIF(E69:E188,7.5))","v":""},{"$f":"IF(COUNTIF(F69:F188,7.5)=0,\"\",COUNTIF(F69:F188,7.5))","v":""},"","",{"$f":"IF(COUNTIF(I69:I188,7.5)=0,\"\",COUNTIF(I69:I188,7.5))","v":""},{"$f":"IF(COUNTIF(J69:J188,7.5)=0,\"\",COUNTIF(J69:J188,7.5))","v":""},"","","",0,{"$f":"IF(D69=\"\",0,ROUND(N$33*NORMDIST(C21+0.5,N$34,N$36,TRUE),0)-SUM(O$3:O20))","v":0}]
[512,{"v":362.0386719675123,"d":"362.038672"},8.5,{"$f":"IF(COUNTIF(D69:D188,8.5)=0,\"\",COUNTIF(D69:D188,8.5))","v":""},{"$f":"IF(COUNTIF(E69:E188,8.5)=0,\"\",COUNTIF(E69:E188,8.5))","v":""},{"$f":"IF(COUNTIF(F69:F188,8.5)=0,\"\",COUNTIF(F69:F188,8.5))","v":""},"","",{"$f":"IF(COUNTIF(I69:I188,8.5)=0,\"\",COUNTIF(I69:I188,8.5))","v":""},{"$f":"IF(COUNTIF(J69:J188,8.5)=0,\"\",COUNTIF(J69:J188,8.5))","v":""},"","","",0,{"$f":"IF(D69=\"\",0,ROUND(N$33*NORMDIST(C22+0.5,N$34,N$36,TRUE),0)-SUM(O$3:O21))","v":0}]
[null,null,"Central Tendancy Stats","Lab 1","Lab 2","Lab 3","Lab 4","Lab 5","Lab 6","Lab 7","Lab 8","Lab 9","Lab 10","All labs","Control","Limits"]
[null,null,"Mean",{"$f":"IF(COUNT(D69:D188)=0,\"\",AVERAGE(D69:D188))","v":""},"","","","",{"$f":"IF(COUNT(I69:I188)=0,\"\",AVERAGE(I69:I188))","v":""},{"$f":"IF(COUNT(J69:J188)=0,\"\",AVERAGE(J69:J188))","v":""},"","","",{"$f":"IF(D69=\"\",\"\",AVERAGE(D69:M188))","v":""},{"$f":"IF(D69=\"\",\"\",ROUND(NORMINV(0.05,N34,N36),3))","v":""},{"$f":"IF(D69=\"\",\"\",ROUND(NORMINV(0.95,N34,N36),3))","v":""}]
["Calculated QC Range",null,"Median",{"$f":"IF(COUNT(D69:D188)=0,\"\",MEDIAN(D69:D188))","v":""},"","","","",{"$f":"IF(COUNT(I69:I188)=0,\"\",MEDIAN(I69:I188))","v":""},{"$f":"IF(COUNT(J69:J188)=0,\"\",MEDIAN(J69:J188))","v":""},"","","",{"$f":"IF(D69=\"\",\"\",MEDIAN(D69:M188))","v":""},{"$f":"IF(D69=\"\",\"\",ROUND(N51,3))","v":""},{"$f":"IF(D69=\"\",\"\",ROUND(N52,3))","v":""}]
[{"$f":"IF(N33=0,\"\",ROUND(2*N39,3)&\" to \"&ROUND(N40,3))","v":""},null,"Mode",{"$f":"IF(COUNT(D69:D188)=0,\"\",MODE(D69:D188))","v":""},"","","","",{"$f":"IF(COUNT(I69:I188)=0,\"\",MODE(I69:I188))","v":""},{"$f":"IF(COUNT(J69:J188)=0,\"\",MODE(J69:J188))","v":""},"","","",{"$f":"IF(D69=\"\",\"\",MODE(D69:M188))","v":""},{"$f":"IF(D69=\"\",\"\",N26-1)","v":""},{"$f":"IF(D69=\"\",\"\",N26+1)","v":""}]
["Dilution Range",null,null,"(Converted back to MIC)",{"$nulls":10},"Control","Limits"]
[{"$f":"IF(N33=0,\"\",LN(N40/N39)/LN(2))","v":""},null,"Mean",{"$f":"IF(COUNT(D69:D188)=0,\"\",2^(AVERAGE(D69:D188)+0.5))","v":""},"","","","",{"$f":"IF(COUNT(I69:I188)=0,\"\",2^(AVERAGE(I69:I188)+0.5))","v":""},{"$f":"IF(COUNT(J69:J188)=0,\"\",2^(AVERAGE(J69:J188)+0.5))","v":""},"","","",{"$f":"IF(D69=\"\",\"\",2^(AVERAGE(D69:M188)+0.5))","v":""},{"$f":"IF(D69=\"\",\"\",2^O24)","v":""},{"$f":"IF(D69=\"\",\"\",2^P24)","v":""}]
["% Obs. Captured",null,"Median",{"$f":"IF(COUNT(D69:D188)=0,\"\",2^(MEDIAN(D69:D188)+0.5))","v":""},"","","","",{"$f":"IF(COUNT(I69:I188)=0,\"\",2^(MEDIAN(I69:I188)+0.5))","v":""},{"$f":"IF(COUNT(J69:J188)=0,\"\",2^(MEDIAN(J69:J188)+0.5))","v":""},"","","",{"$f":"IF(D69=\"\",\"\",2^(MEDIAN(D69:M188)+0.5))","v":""},{"$f":"IF(D69=\"\",\"\",2^O25)","v":""},{"$f":"IF(D69=\"\",\"\",2^P25)","v":""}]
[{"$f":"IF(N33=0,\"\",((COUNTIF(D69:M188,\"<\"&LN(N40)/LN(2))-COUNTIF(D69:M188,\"<\"&LN(N39)/LN(2)))/N$33))","v":""},null,"Mode",{"$f":"IF(COUNT(D69:D188)=0,\"\",2^(MODE(D69:D188)+0.5))","v":""},"","","","",{"$f":"IF(COUNT(I69:I188)=0,\"\",2^(MODE(I69:I188)+0.5))","v":""},{"$f":"IF(COUNT(J69:J188)=0,\"\",2^(MODE(J69:J188)+0.5))","v":""},"","","",{"$f":"IF(D69=\"\",\"\",2^(MODE(D69:M188)+0.5))","v":""},{"$f":"IF(D69=\"\",\"\",2^O26)","v":""},{"$f":"IF(D69=\"\",\"\",2^P26)","v":""}]
["Prob'ty Outside Range"]
[{"$f":"IF(N33=0,\"\",N41+N42)","v":""},null,"Conventional Stats","Lab 1","Lab 2","Lab 3","Lab 4","Lab 5","Lab 6","Lab 7","Lab 8","Lab 9","Lab 10","All labs","Interlab"]
[null,null,"N",{"$f":"IF(COUNT(D69:D188)=0,\"\",COUNT(D69:D188))","v":""},"","","","",{"$f":"IF(COUNT(I69:I188)=0,\"\",COUNT(I69:I188))","v":""},{"$f":"IF(COUNT(J69:J188)=0,\"\",COUNT(J69:J188))","v":""},"","","",{"$f":"COUNT(D69:M188)","v":0},"CV"]
["CLSI QC Range",null,"GeoMean MIC (log2)",{"$f":"IF(COUNT(D69:D188)=0,\"\",AVERAGE(D69:D188))","v":""},"","","","",{"$f":"IF(COUNT(I69:I188)=0,\"\",AVERAGE(I69:I188))","v":""},{"$f":"IF(COUNT(J69:J188)=0,\"\",AVERAGE(J69:J188))","v":""},"","","",{"$f":"IF(D69=\"\",\"\",AVERAGE(D69:M188))","v":""},{"$f":"IF(D69=\"\",\"\",ABS(STDEVA(D34:M34)/N34))","v":""}]
[null,null,"GeoMean MIC",{"$f":"IF(COUNT(D69:D188)=0,\"\",2^D34)","v":""},"","","","",{"$f":"IF(COUNT(I69:I188)=0,\"\",2^I34)","v":""},{"$f":"IF(COUNT(J69:J188)=0,\"\",2^J34)","v":""},"","","",{"$f":"IF(D69=\"\",\"\",2^N34)","v":""}]
[null,null,"GeoSD (log2)",{"$f":"IF(COUNT(D69:D188)=0,\"\",STDEV(D69:D188))","v":""},"","","","",{"$f":"IF(COUNT(I69:I188)=0,\"\",STDEV(I69:I188))","v":""},{"$f":"IF(COUNT(J69:J188)=0,\"\",STDEV(J69:J188))","v":""},"","","",{"$f":"IF(D69=\"\",\"\",STDEV(D69:M188))","v":""}]
[{"$f":"IF(A35=\"\",\"\",ROUND(2^(A35+0.5),3)&\" to \"&ROUND(2^(A36+0.5),3))","v":""},null,"95% Lower Bound",{"$f":"IF(COUNT(D69:D188)=0,\"\",IF(D33=0,\"\",2^((NORMINV(0.025,D34,D36)))))","v":""},"","","","",{"$f":"IF(COUNT(I69:I188)=0,\"\",IF(I33=0,\"\",2^((NORMINV(0.025,I34,I36)))))","v":""},{"$f":"IF(COUNT(J69:J188)=0,\"\",IF(J33=0,\"\",2^((NORMINV(0.025,J34,J36)))))","v":""},"","","",{"$f":"IF(N33=0,\"\",2^((NORMINV(0.025,N34,N36))))","v":""}]
["Dilution Range",null,"95% Upper Bound",{"$f":"IF(COUNT(D69:D188)=0,\"\",IF(D33=0,\"\",2^(NORMINV(0.975,D34,D36))))","v":""},"","","","",{"$f":"IF(COUNT(I69:I188)=0,\"\",IF(I33=0,\"\",2^(NORMINV(0.975,I34,I36))))","v":""},{"$f":"IF(COUNT(J69:J188)=0,\"\",IF(J33=0,\"\",2^(NORMINV(0.975,J34,J36))))","v":""},"","","",{"$f":"IF(N33=0,\"\",2^(NORMINV(0.975,N34,N36)))","v":""}]
[{"$f":"IF(A35=\"\",\"\",A36-A35+1)","v":""},null,"Lower Bound Rounded Down",{"$f":"IF(COUNT(D69:D188)=0,\"\",IF(D33=0,\"\",2^(INT((NORMINV(0.025,D34,D36))))))","v":""},"","","","",{"$f":"IF(COUNT(I69:I188)=0,\"\",IF(I33=0,\"\",2^(INT((NORMINV(0.025,I34,I36))))))","v":""},{"$f":"IF(COUNT(J69:J188)=0,\"\",IF(J33=0,\"\",2^(INT((NORMINV(0.025,J34,J36))))))","v":""},"","","",{"$f":"IF(N33=0,\"\",2^(INT((NORMINV(0.025,N34,N36)))))","v":""}]
["CLSI% Obs. captured",null,"Upper Bound Rounded Up",{"$f":"IF(COUNT(D69:D188)=0,\"\",IF(D33=0,\"\",2^(INT((NORMINV(0.975,D34,D36)))+1)))","v":""},"","","","",{"$f":"IF(COUNT(I69:I188)=0,\"\",IF(I33=0,\"\",2^(INT((NORMINV(0.975,I34,I36)))+1)))","v":""},{"$f":"IF(COUNT(J69:J188)=0,\"\",IF(J33=0,\"\",2^(INT((NORMINV(0.975,J34,J36)))+1)))","v":""},"","","",{"$f":"IF(N33=0,\"\",2^(INT((NORMINV(0.975,N34,N36)))+1))","v":""}]
[{"$f":"IF(A35=0,\"\",(COUNTIF(D69:M188,\"<\"&A36+1)-COUNTIF(D69:M188,\"<\"&A35))/N$33)","v":""},null,"Probability of <=Lower Bound",{"$f":"IF(COUNT(D69:D188)=0,\"\",NORMDIST(LOG(D39)/LOG(2),D34,D36,TRUE))","v":""},"","","","",{"$f":"IF(COUNT(I69:I188)=0,\"\",NORMDIST(LOG(I39)/LOG(2),I34,I36,TRUE))","v":""},{"$f":"IF(COUNT(J69:J188)=0,\"\",NORMDIST(LOG(J39)/LOG(2),J34,J36,TRUE))","v":""},"","","",{"$f":"IF(D69=\"\",\"\",NORMDIST(LOG(N39)/LOG(2),N34,N36,TRUE))","v":""}]
[null,null,"Probability of >Upper Bound",{"$f":"IF(COUNT(D69:D188)=0,\"\",1-NORMDIST(LOG(D40)/LOG(2),D34,D36,TRUE))","v":""},"","","","",{"$f":"IF(COUNT(I69:I188)=0,\"\",1-NORMDIST(LOG(I40)/LOG(2),I34,I36,TRUE))","v":""},{"$f":"IF(COUNT(J69:J188)=0,\"\",1-NORMDIST(LOG(J40)/LOG(2),J34,J36,TRUE))","v":""},"","","",{"$f":"IF(D69=\"\",\"\",1-NORMDIST(LOG(N40)/LOG(2),N34,N36,TRUE))","v":""}]
[null,null,"New Range",{"$f":"IF(COUNT(D69:D188)=0,\"\",1-D41-D42)","v":""},"","","","",{"$f":"IF(COUNT(I69:I188)=0,\"\",1-I41-I42)","v":""},{"$f":"IF(COUNT(J69:J188)=0,\"\",1-J41-J42)","v":""},"","","",{"$f":"IF(D69=\"\",\"\",1-N41-N42)","v":""}]
[]
[null,null,"Order Stats","Lab 1","Lab 2","Lab 3","Lab 4","Lab 5","Lab 6","Lab 7","Lab 8","Lab 9","Lab 10","All labs","Interlab"]
[null,null,"25th %ile",{"$f":"IF(COUNT(D69:D188)=0,\"\",QUARTILE(D69:D188,1))","v":""},"","","","",{"$f":"IF(COUNT(I69:I188)=0,\"\",QUARTILE(I69:I188,1))","v":""},{"$f":"IF(COUNT(J69:J188)=0,\"\",QUARTILE(J69:J188,1))","v":""},"","","",{"$f":"IF(D69=\"\",\"\",QUARTILE(D69:M188,1))","v":""},"CV"]
[null,null,"75th %ile",{"$f":"IF(COUNT(D69:D188)=0,\"\",QUARTILE(D69:D188,3))","v":""},"","","","",{"$f":"IF(COUNT(I69:I188)=0,\"\",QUARTILE(I69:I188,3))","v":""},{"$f":"IF(COUNT(J69:J188)=0,\"\",QUARTILE(J69:J188,3))","v":""},"","","",{"$f":"IF(D69=\"\",\"\",QUARTILE(D69:M188,3))","v":""},{"$f":"IF(D69=\"\",\"\",ABS(N48/N25))","v":""}]
[null,null,"Interquartile Range",{"$f":"IF(COUNT(D69:D188)=0,\"\",IF(D47-D46=0,1,D47-D46))","v":""},"","","","",{"$f":"IF(COUNT(I69:I188)=0,\"\",IF(I47-I46=0,1,I47-I46))","v":""},{"$f":"IF(COUNT(J69:J188)=0,\"\",IF(J47-J46=0,1,J47-J46))","v":""},"","","",{"$f":"IF(D69=\"\",\"\",IF(N47-N46=0,1,N47-N46))","v":""}]
[null,null,"Minimum",{"$f":"IF(COUNT(D69:D188)=0,\"\",MIN(D69:D188))","v":""},"","","","",{"$f":"IF(COUNT(I69:I188)=0,\"\",MIN(I69:I188))","v":""},{"$f":"IF(COUNT(J69:J188)=0,\"\",MIN(J69:J188))","v":""},"","","",{"$f":"IF(D69=\"\",\"\",MIN(D69:M188))","v":""}]
[null,null,"Maximum",{"$f":"IF(COUNT(D69:D188)=0,\"\",MAX(D69:D188))","v":""},"","","","",{"$f":"IF(COUNT(I69:I188)=0,\"\",MAX(I69:I188))","v":""},{"$f":"IF(COUNT(J69:J188)=0,\"\",MAX(J69:J188))","v":""},"","","",{"$f":"IF(D69=\"\",\"\",MAX(D69:M188))","v":""}]
[null,null,"Lower Inner Fence",{"$f":"IF(COUNT(D69:D188)=0,\"\",D$46-1.5*D$48)","v":""},"","","","",{"$f":"IF(COUNT(I69:I188)=0,\"\",I$46-1.5*I$48)","v":""},{"$f":"IF(COUNT(J69:J188)=0,\"\",J$46-1.5*J$48)","v":""},"","","",{"$f":"IF(D69=\"\",\"\",N$46-1.5*N$48)","v":""}]
[null,null,"Upper Inner Fence",{"$f":"IF(COUNT(D69:D188)=0,\"\",D$47+1.5*D$48)","v":""},"","","","",{"$f":"IF(COUNT(I69:I188)=0,\"\",I$47+1.5*I$48)","v":""},{"$f":"IF(COUNT(J69:J188)=0,\"\",J$47+1.5*J$48)","v":""},"","","",{"$f":"IF(D69=\"\",\"\",N$47+1.5*N$48)","v":""}]
[null,null,"Lower Outer Fence",{"$f":"IF(COUNT(D69:D188)=0,\"\",D$46-3*D$48)","v":""},"","","","",{"$f":"IF(COUNT(I69:I188)=0,\"\",I$46-3*I$48)","v":""},{"$f":"IF(COUNT(J69:J188)=0,\"\",J$46-3*J$48)","v":""},"","","",{"$f":"IF(D69=\"\",\"\",N$46-3*N$48)","v":""}]
[null,null,"Upper Outer Fence",{"$f":"IF(COUNT(D69:D188)=0,\"\",D$47+3*D$48)","v":""},"","","","",{"$f":"IF(COUNT(I69:I188)=0,\"\",I$47+3*I$48)","v":""},{"$f":"IF(COUNT(J69:J188)=0,\"\",J$47+3*J$48)","v":""},"","","",{"$f":"IF(D69=\"\",\"\",N$47+3*N$48)","v":""}]
[null,null,"Lower Near Outliers",{"$f":"IF(COUNT(D69:D188)=0,\"\",COUNTIF(D69:D188,\"<\"&D51))","v":""},"","","","",{"$f":"IF(COUNT(I69:I188)=0,\"\",COUNTIF(I69:I188,\"<\"&I51))","v":""},{"$f":"IF(COUNT(J69:J188)=0,\"\",COUNTIF(J69:J188,\"<\"&J51))","v":""},"","","",{"$f":"IF(D69=\"\",\"\",COUNTIF(D69:M188,\"<\"&N51)-N57)","v":""}]
[null,null,"Upper Near Outliers",{"$f":"IF(COUNT(D69:D188)=0,\"\",COUNTIF(D69:D188,\">\"&D52))","v":""},"","","","",{"$f":"IF(COUNT(I69:I188)=0,\"\",COUNTIF(I69:I188,\">\"&I52))","v":""},{"$f":"IF(COUNT(J69:J188)=0,\"\",COUNTIF(J69:J188,\">\"&J52))","v":""},"","","",{"$f":"IF(D69=\"\",\"\",COUNTIF(D69:M188,\">\"&N52)-N58)","v":""}]
[null,null,"Lower Extreme Outliers",{"$f":"IF(COUNT(D69:D188)=0,\"\",COUNTIF(D69:D188,\"<\"&D53))","v":""},"","","","",{"$f":"IF(COUNT(I69:I188)=0,\"\",COUNTIF(I69:I188,\"<\"&I53))","v":""},{"$f":"IF(COUNT(J69:J188)=0,\"\",COUNTIF(J69:J188,\"<\"&J53))","v":""},"","","",{"$f":"IF(D69=\"\",\"\",COUNTIF(D69:M188,\"<\"&N53))","v":""}]
[null,null,"Upper Extreme Outliers",{"$f":"IF(COUNT(D69:D188)=0,\"\",COUNTIF(D69:D188,\">\"&D54))","v":""},"","","","",{"$f":"IF(COUNT(I69:I188)=0,\"\",COUNTIF(I69:I188,\">\"&I54))","v":""},{"$f":"IF(COUNT(J69:J188)=0,\"\",COUNTIF(J69:J188,\">\"&J54))","v":""},"","","",{"$f":"IF(D69=\"\",\"\",COUNTIF(D69:M188,\">\"&N54))","v":""}]
[]
[null,null,"Chart Control Limits","Lab 1","Lab 2","Lab 3","Lab 4","Lab 5","Lab 6","Lab 7","Lab 8","Lab 9","Lab 10"]
[null,"Mean","Lower CL",{"$f":"$O$24","v":""},{"$f":"$O$24","v":""},"","","","","","","",""]
[null,null,"Upper CL",{"$f":"$P$24","v":""},{"$f":"$P$24","v":""},"","","","","","","",""]
[null,"Median","Lower CL",{"$f":"$O$25","v":""},{"$f":"$O$25","v":""},"","","","","","","",""]
[null,null,"Upper CL",{"$f":"$P$25","v":""},{"$f":"$P$25","v":""},"","","","","","","",""]
[null,"Mode","Lower CL",{"$f":"$O$26","v":""},{"$f":"$O$26","v":""},"","","","","","","",""]
[null,null,"Upper CL",{"$f":"$P$26","v":""},{"$f":"$P$26","v":""},"","","","","","","",""]
[]
[null,null,"Log2 Converted Raw Data","Lab 1","Lab 2","Lab 3","Lab 4","Lab 5","Lab 6","Lab 7","Lab 8","Lab 9","Lab 10","Control","Limits"]
[null,null,"Media Lot 1",{"$f":"IF(D191=\"\",\"\",LOOKUP(D191,$A$3:$A$22,$C$3:$C$22))","v":""},"","","","",{"$f":"IF(I191=\"\",\"\",LOOKUP(I191,$A$3:$A$22,$C$3:$C$22))","v":""},"","","","",{"$f":"IF(D69=\"\",\"\",LN($N$39)/LN(2))","v":""},{"$f":"IF(D69=\"\",\"\",LN($N$40)/LN(2)-0.5)","v":""}]
[{"$nulls":3},"","","","","","","","","",""]
[{"$nulls":3},"","","","","","","","","",""]
[{"$nulls":3},"","","","","","","","","",""]
[{"$nulls":3},{"$f":"IF(D195=\"\",\"\",LOOKUP(D195,$A$3:$A$22,$C$3:$C$22))","v":""},"","","","","","","","",""]
[{"$nulls":3},"","","","","","","","","",""]
[{"$nulls":3},"","","","","","","","","",""]
[{"$nulls":3},"","","","","","","","","",""]
[{"$nulls":3},"","","","","","","","","",""]
[{"$nulls":3},"","","","","","","","","",""]
[{"$nulls":3},{"$f":"IF(D201=\"\",\"\",LOOKUP(D201,$A$3:$A$22,$C$3:$C$22))","v":""},"","","","",{"$f":"IF(I201=\"\",\"\",LOOKUP(I201,$A$3:$A$22,$C$3:$C$22))","v":""},"","","",""]
[{"$nulls":3},"","","","","","","","","",""]
[{"$nulls":3},{"$f":"IF(D203=\"\",\"\",LOOKUP(D203,$A$3:$A$22,$C$3:$C$22))","v":""},"","","","","","","","",""]
[{"$nulls":3},"","","","","","","","","",""]
[{"$nulls":3},"","","","","","","","","",""]
[{"$nulls":3},"","","","","","","","","",""]
[{"$nulls":3},"","","","","","","","","",""]
[{"$nulls":3},"","","","","","","","","",""]
[{"$nulls":3},"","","","","","","","","",""]
[{"$nulls":3},"","","","","","","","","",""]
[{"$nulls":3},{"$f":"IF(D211=\"\",\"\",LOOKUP(D211,$A$3:$A$22,$C$3:$C$22))","v":""},"","","","",{"$f":"IF(I211=\"\",\"\",LOOKUP(I211,$A$3:$A$22,$C$3:$C$22))","v":""},"","","",""]
[{"$nulls":3},"","","","","","","","","",""]
[{"$nulls":3},"","","","","","","","","",""]
[{"$nulls":3},"","","","","","","","","",""]
[{"$nulls":3},"","","","","","","","","",""]
[{"$nulls":3},"","","","","","","","","",""]
[{"$nulls":3},"","","","","","","","","",""]
[{"$nulls":3},"","","","","","","","","",""]
[{"$nulls":3},"","","","","","","","","",""]
[{"$nulls":3},"","","","","","","","","",""]
[{"$nulls":3},"","","","","",{"$f":"IF(I221=\"\",\"\",LOOKUP(I221,$A$3:$A$22,$C$3:$C$22))","v":""},"","","",""]
[{"$nulls":3},"","","","","","","","","",""]
[{"$nulls":3},"","","","","","","","","",""]
[{"$nulls":3},"","","","","","","","","",""]
[{"$nulls":3},"","","","","","","","","",""]
[{"$nulls":3},"","","","","","","","","",""]
[{"$nulls":3},{"$f":"IF(D227=\"\",\"\",LOOKUP(D227,$A$3:$A$22,$C$3:$C$22))","v":""},"","","","","","","","",""]
[{"$nulls":3},"","","","","","","","","",""]
[{"$nulls":3},"","","","","","","","","",""]
[{"$nulls":3},"","","","","","","","","",""]
[null,null,"Media Lot 2","","","","","",{"$f":"IF(I231=\"\",\"\",LOOKUP(I231,$A$3:$A$22,$C$3:$C$22))","v":""},"","","",""]
[{"$nulls":3},"","","","","","","","","",""]
[{"$nulls":3},"","","","","","","","","",""]
[{"$nulls":3},"","","","","","","","","",""]
[{"$nulls":3},"","","","","","","","","",""]
[{"$nulls":3},"","","","","","","","","",""]
[{"$nulls":3},"","","","","","","","","",""]
[{"$nulls":3},"","","","","","","","","",""]
[{"$nulls":3},"","","","","","","","","",""]
[{"$nulls":3},"","","","","","","","","",""]
[{"$nulls":3},"","","","","",{"$f":"IF(I241=\"\",\"\",LOOKUP(I241,$A$3:$A$22,$C$3:$C$22))","v":""},"","","",""]
[{"$nulls":3},"","","","","","","","","",""]
[{"$nulls":3},{"$f":"IF(D243=\"\",\"\",LOOKUP(D243,$A$3:$A$22,$C$3:$C$22))","v":""},"","","","","","","","",""]
[{"$nulls":3},"","","","","","","","","",""]
[{"$nulls":3},"","","","","","","","","",""]
[{"$nulls":3},"","","","","","","","","",""]
[{"$nulls":3},"","","","","","","","","",""]
[{"$nulls":3},"","","","","","","","","",""]
[{"$nulls":3},"","","","","","","","","",""]
[{"$nulls":3},"","","","","","","","","",""]
[{"$nulls":3},"","","","","",{"$f":"IF(I251=\"\",\"\",LOOKUP(I251,$A$3:$A$22,$C$3:$C$22))","v":""},"","","",""]
[{"$nulls":3},"","","","","","","","","",""]
[{"$nulls":3},"","","","","","","","","",""]
[{"$nulls":3},"","","","","","","","","",""]
[{"$nulls":3},"","","","","","","","","",""]
[{"$nulls":3},"","","","","","","","","",""]
[{"$nulls":3},"","","","","","","","","",""]
[{"$nulls":3},"","","","","","","","","",""]
[{"$nulls":3},{"$f":"IF(D259=\"\",\"\",LOOKUP(D259,$A$3:$A$22,$C$3:$C$22))","v":""},"","","","","","","","",""]
[{"$nulls":3},"","","","","","","","","",""]
[{"$nulls":3},"","","","","",{"$f":"IF(I261=\"\",\"\",LOOKUP(I261,$A$3:$A$22,$C$3:$C$22))","v":""},"","","",""]
[{"$nulls":3},"","","","","","","","","",""]
[{"$nulls":3},"","","","","","","","","",""]
[{"$nulls":3},"","","","","","","","","",""]
[{"$nulls":3},"","","","","","","","","",""]
[{"$nulls":3},"","","","","","","","","",""]
[{"$nulls":3},"","","","","","","","","",""]
[{"$nulls":3},"","","","","","","","","",""]
[{"$nulls":3},"","","","","","","","","",""]
[{"$nulls":3},"","","","","","","","","",""]
[null,null,"Media Lot 3","","","","","",{"$f":"IF(I271=\"\",\"\",LOOKUP(I271,$A$3:$A$22,$C$3:$C$22))","v":""},"","","",""]
[{"$nulls":3},"","","","","","","","","",""]
[{"$nulls":3},"","","","","","","","","",""]
[{"$nulls":3},"","","","","","","","","",""]
[{"$nulls":3},{"$f":"IF(D275=\"\",\"\",LOOKUP(D275,$A$3:$A$22,$C$3:$C$22))","v":""},"","","","","","","","",""]
[{"$nulls":3},"","","","","","","","","",""]
[{"$nulls":3},"","","","","","","","","",""]
[{"$nulls":3},"","","","","","","","","",""]
[{"$nulls":3},"","","","","","","","","",""]
[{"$nulls":3},"","","","","","","","","",""]
[{"$nulls":3},"","","","","",{"$f":"IF(I281=\"\",\"\",LOOKUP(I281,$A$3:$A$22,$C$3:$C$22))","v":""},"","","",""]
[{"$nulls":3},"","","","","","","","","",""]
[{"$nulls":3},"","","","","","","","","",""]
[{"$nulls":3},"","","","","","","","","",""]
[{"$nulls":3},"","","","","","","","","",""]
[{"$nulls":3},"","","","","","","","","",""]
[{"$nulls":3},"","","","","","","","","",""]
[{"$nulls":3},"","","","","","","","","",""]
[{"$nulls":3},"","","","","","","","","",""]
[{"$nulls":3},"","","","","","","","","",""]
[{"$nulls":3},{"$f":"IF(D291=\"\",\"\",LOOKUP(D291,$A$3:$A$22,$C$3:$C$22))","v":""},"","","","",{"$f":"IF(I291=\"\",\"\",LOOKUP(I291,$A$3:$A$22,$C$3:$C$22))","v":""},"","","",""]
[{"$nulls":3},"","","","","","","","","",""]
[{"$nulls":3},"","","","","","","","","",""]
[{"$nulls":3},"","","","","","","","","",""]
[{"$nulls":3},"","","","","","","","","",""]
[{"$nulls":3},"","","","","","","","","",""]
[{"$nulls":3},"","","","","","","","","",""]
[{"$nulls":3},"","","","","","","","","",""]
[{"$nulls":3},"","","","","","","","","",""]
[{"$nulls":3},"","","","","","","","","",""]
[{"$nulls":3},"","","","","",{"$f":"IF(I301=\"\",\"\",LOOKUP(I301,$A$3:$A$22,$C$3:$C$22))","v":""},"","","",""]
[{"$nulls":3},"","","","","","","","","",""]
[{"$nulls":3},"","","","","","","","","",""]
[{"$nulls":3},"","","","","","","","","",""]
[{"$nulls":3},"","","","","","","","","",""]
[{"$nulls":3},"","","","","","","","","",""]
[{"$nulls":3},{"$f":"IF(D307=\"\",\"\",LOOKUP(D307,$A$3:$A$22,$C$3:$C$22))","v":""},"","","","","","","","",""]
[{"$nulls":3},"","","","","","","","","",""]
[{"$nulls":3},"","","","","","","","","",""]
[{"$nulls":3},"","","","","","","","","",""]
[]
[null,null,"Raw Data Entry","Lab 1","Lab 2","Lab 3","Lab 4","Lab 5","Lab 6","Lab 7","Lab 8","Lab 9","Lab 10"]
[null,null,"Media Lot 1"]
{"$rows_empty":39}
[null,null,"Media Lot 2"]
{"$rows_empty":39}
[null,null,"Media Lot 3"]

{"sheet":"Strain 2 Control","index":7,"n_rows":271,"n_cols":16,"rows_kept":271,"merged":[[0,4,0,6]]}
[{"$f":"'Range Summary'!C2","v":"QC2"},{"$f":"'Range Summary'!B17","v":"Control"},"Control",null,"Go to Raw Data Entry area"]
["MIC","Midpoint MIC","Mid Log2MIC","Lab 1","Lab 2","Lab 3","Lab 4","Lab 5","Lab 6","Lab 7","Lab 8","Lab 9","Lab 10","All labs","Norm"]
[{"v":1E-3,"d":"0.001"},{"$f":"2^C3","v":{"v":6.9053396600248776E-4,"d":"0.000691"}},-10.5,{"$f":"IF(COUNTIF(D69:D188,-10.5)=0,\"\",COUNTIF(D69:D188,-10.5))","v":""},{"$f":"IF(COUNTIF(E69:E188,-10.5)=0,\"\",COUNTIF(E69:E188,-10.5))","v":""},{"$f":"IF(COUNTIF(F69:F188,-10.5)=0,\"\",COUNTIF(F69:F188,-10.5))","v":""},"","",{"$f":"IF(COUNTIF(I69:I188,-10.5)=0,\"\",COUNTIF(I69:I188,-10.5))","v":""},{"$f":"IF(COUNTIF(J69:J188,-10.5)=0,\"\",COUNTIF(J69:J188,-10.5))","v":""},"","","",{"$f":"SUM(D3:M3)","v":0},{"$f":"IF(D69=\"\",0,ROUND(N$33*NORMDIST(C3+0.5,N$34,N$36,TRUE),0))","v":0}]
[{"v":2E-3,"d":"0.002"},{"$f":"2^C4","v":{"v":1.3810679320049757E-3,"d":"0.001381"}},-9.5,{"$f":"IF(COUNTIF(D69:D188,-9.5)=0,\"\",COUNTIF(D69:D188,-9.5))","v":""},{"$f":"IF(COUNTIF(E69:E188,-9.5)=0,\"\",COUNTIF(E69:E188,-9.5))","v":""},{"$f":"IF(COUNTIF(F69:F188,-9.5)=0,\"\",COUNTIF(F69:F188,-9.5))","v":""},"","",{"$f":"IF(COUNTIF(I69:I188,-9.5)=0,\"\",COUNTIF(I69:I188,-9.5))","v":""},{"$f":"IF(COUNTIF(J69:J188,-9.5)=0,\"\",COUNTIF(J69:J188,-9.5))","v":""},"","","",0,{"$f":"IF(D69=\"\",0,ROUND(N$33*NORMDIST(C4+0.5,N$34,N$36,TRUE),0)-SUM(O2:O$3))","v":0}]
[0.004,{"v":2.7621358640099515E-3,"d":"0.002762"},-8.5,{"$f":"IF(COUNTIF(D69:D188,-8.5)=0,\"\",COUNTIF(D69:D188,-8.5))","v":""},{"$f":"IF(COUNTIF(E69:E188,-8.5)=0,\"\",COUNTIF(E69:E188,-8.5))","v":""},{"$f":"IF(COUNTIF(F69:F188,-8.5)=0,\"\",COUNTIF(F69:F188,-8.5))","v":""},"","",{"$f":"IF(COUNTIF(I69:I188,-8.5)=0,\"\",COUNTIF(I69:I188,-8.5))","v":""},{"$f":"IF(COUNTIF(J69:J188,-8.5)=0,\"\",COUNTIF(J69:J188,-8.5))","v":""},"","","",0,{"$f":"IF(D69=\"\",0,ROUND(N$33*NORMDIST(C5+0.5,N$34,N$36,TRUE),0)-SUM(O$3:O3))","v":0}]
[0.008,{"v":0.005524271728019904,"d":"0.005524"},-7.5,{"$f":"IF(COUNTIF(D69:D188,-7.5)=0,\"\",COUNTIF(D69:D188,-7.5))","v":""},{"$f":"IF(COUNTIF(E69:E188,-7.5)=0,\"\",COUNTIF(E69:E188,-7.5))","v":""},{"$f":"IF(COUNTIF(F69:F188,-7.5)=0,\"\",COUNTIF(F69:F188,-7.5))","v":""},"","",{"$f":"IF(COUNTIF(I69:I188,-7.5)=0,\"\",COUNTIF(I69:I188,-7.5))","v":""},{"$f":"IF(COUNTIF(J69:J188,-7.5)=0,\"\",COUNTIF(J69:J188,-7.5))","v":""},"","","",{"$f":"SUM(D6:M6)","v":0},{"$f":"IF(D69=\"\",0,ROUND(N$33*NORMDIST(C6+0.5,N$34,N$36,TRUE),0)-SUM(O$3:O5))","v":0}]
[0.016,{"v":0.011048543456039808,"d":"0.011049"},-6.5,{"$f":"IF(COUNTIF(D69:D188,-6.5)=0,\"\",COUNTIF(D69:D188,-6.5))","v":""},{"$f":"IF(COUNTIF(E69:E188,-6.5)=0,\"\",COUNTIF(E69:E188,-6.5))","v":""},{"$f":"IF(COUNTIF(F69:F188,-6.5)=0,\"\",COUNTIF(F69:F188,-6.5))","v":""},"","",{"$f":"IF(COUNTIF(I69:I188,-6.5)=0,\"\",COUNTIF(I69:I188,-6.5))","v":""},{"$f":"IF(COUNTIF(J69:J188,-6.5)=0,\"\",COUNTIF(J69:J188,-6.5))","v":""},"","","",0,{"$f":"IF(D69=\"\",0,ROUND(N$33*NORMDIST(C7+0.5,N$34,N$36,TRUE),0)-SUM(O$3:O6))","v":0}]
[0.03,{"v":0.022097086912079608,"d":"0.022097"},-5.5,{"$f":"IF(COUNTIF(D69:D188,-5.5)=0,\"\",COUNTIF(D69:D188,-5.5))","v":""},{"$f":"IF(COUNTIF(E69:E188,-5.5)=0,\"\",COUNTIF(E69:E188,-5.5))","v":""},{"$f":"IF(COUNTIF(F69:F188,-5.5)=0,\"\",COUNTIF(F69:F188,-5.5))","v":""},"","",{"$f":"IF(COUNTIF(I69:I188,-5.5)=0,\"\",COUNTIF(I69:I188,-5.5))","v":""},{"$f":"IF(COUNTIF(J69:J188,-5.5)=0,\"\",COUNTIF(J69:J188,-5.5))","v":""},"","","",0,{"$f":"IF(D69=\"\",0,ROUND(N$33*NORMDIST(C8+0.5,N$34,N$36,TRUE),0)-SUM(O$3:O7))","v":0}]
[0.06,{"v":0.04419417382415922,"d":"0.044194"},-4.5,{"$f":"IF(COUNTIF(D69:D188,-4.5)=0,\"\",COUNTIF(D69:D188,-4.5))","v":""},{"$f":"IF(COUNTIF(E69:E188,-4.5)=0,\"\",COUNTIF(E69:E188,-4.5))","v":""},{"$f":"IF(COUNTIF(F69:F188,-4.5)=0,\"\",COUNTIF(F69:F188,-4.5))","v":""},"","",{"$f":"IF(COUNTIF(I69:I188,-4.5)=0,\"\",COUNTIF(I69:I188,-4.5))","v":""},{"$f":"IF(COUNTIF(J69:J188,-4.5)=0,\"\",COUNTIF(J69:J188,-4.5))","v":""},"","","",0,{"$f":"IF(D69=\"\",0,ROUND(N$33*NORMDIST(C9+0.5,N$34,N$36,TRUE),0)-SUM(O$3:O8))","v":0}]
[0.13,{"v":0.08838834764831845,"d":"0.088388"},-3.5,{"$f":"IF(COUNTIF(D69:D188,-3.5)=0,\"\",COUNTIF(D69:D188,-3.5))","v":""},{"$f":"IF(COUNTIF(E69:E188,-3.5)=0,\"\",COUNTIF(E69:E188,-3.5))","v":""},{"$f":"IF(COUNTIF(F69:F188,-3.5)=0,\"\",COUNTIF(F69:F188,-3.5))","v":""},"","",{"$f":"IF(COUNTIF(I69:I188,-3.5)=0,\"\",COUNTIF(I69:I188,-3.5))","v":""},{"$f":"IF(COUNTIF(J69:J188,-3.5)=0,\"\",COUNTIF(J69:J188,-3.5))","v":""},"","","",0,{"$f":"IF(D69=\"\",0,ROUND(N$33*NORMDIST(C10+0.5,N$34,N$36,TRUE),0)-SUM(O$3:O9))","v":0}]
[0.25,{"v":0.17677669529663687,"d":"0.176777"},-2.5,{"$f":"IF(COUNTIF(D69:D188,-2.5)=0,\"\",COUNTIF(D69:D188,-2.5))","v":""},{"$f":"IF(COUNTIF(E69:E188,-2.5)=0,\"\",COUNTIF(E69:E188,-2.5))","v":""},{"$f":"IF(COUNTIF(F69:F188,-2.5)=0,\"\",COUNTIF(F69:F188,-2.5))","v":""},"","",{"$f":"IF(COUNTIF(I69:I188,-2.5)=0,\"\",COUNTIF(I69:I188,-2.5))","v":""},{"$f":"IF(COUNTIF(J69:J188,-2.5)=0,\"\",COUNTIF(J69:J188,-2.5))","v":""},"","","",0,{"$f":"IF(D69=\"\",0,ROUND(N$33*NORMDIST(C11+0.5,N$34,N$36,TRUE),0)-SUM(O$3:O10))","v":0}]
[0.5,{"v":0.3535533905932738,"d":"0.353553"},-1.5,{"$f":"IF(COUNTIF(D69:D188,-1.5)=0,\"\",COUNTIF(D69:D188,-1.5))","v":""},{"$f":"IF(COUNTIF(E69:E188,-1.5)=0,\"\",COUNTIF(E69:E188,-1.5))","v":""},{"$f":"IF(COUNTIF(F69:F188,-1.5)=0,\"\",COUNTIF(F69:F188,-1.5))","v":""},"","",{"$f":"IF(COUNTIF(I69:I188,-1.5)=0,\"\",COUNTIF(I69:I188,-1.5))","v":""},{"$f":"IF(COUNTIF(J69:J188,-1.5)=0,\"\",COUNTIF(J69:J188,-1.5))","v":""},"","","",0,{"$f":"IF(D69=\"\",0,ROUND(N$33*NORMDIST(C12+0.5,N$34,N$36,TRUE),0)-SUM(O$3:O11))","v":0}]
[1,{"v":0.7071067811865475,"d":"0.707107"},-0.5,{"$f":"IF(COUNTIF(D69:D188,-0.5)=0,\"\",COUNTIF(D69:D188,-0.5))","v":""},{"$f":"IF(COUNTIF(E69:E188,-0.5)=0,\"\",COUNTIF(E69:E188,-0.5))","v":""},{"$f":"IF(COUNTIF(F69:F188,-0.5)=0,\"\",COUNTIF(F69:F188,-0.5))","v":""},"","",{"$f":"IF(COUNTIF(I69:I188,-0.5)=0,\"\",COUNTIF(I69:I188,-0.5))","v":""},{"$f":"IF(COUNTIF(J69:J188,-0.5)=0,\"\",COUNTIF(J69:J188,-0.5))","v":""},"","","",0,{"$f":"IF(D69=\"\",0,ROUND(N$33*NORMDIST(C13+0.5,N$34,N$36,TRUE),0)-SUM(O$3:O12))","v":0}]
[2,{"v":1.4142135623730951,"d":"1.414214"},0.5,{"$f":"IF(COUNTIF(D69:D188,0.5)=0,\"\",COUNTIF(D69:D188,0.5))","v":""},{"$f":"IF(COUNTIF(E69:E188,0.5)=0,\"\",COUNTIF(E69:E188,0.5))","v":""},{"$f":"IF(COUNTIF(F69:F188,0.5)=0,\"\",COUNTIF(F69:F188,0.5))","v":""},"","",{"$f":"IF(COUNTIF(I69:I188,0.5)=0,\"\",COUNTIF(I69:I188,0.5))","v":""},{"$f":"IF(COUNTIF(J69:J188,0.5)=0,\"\",COUNTIF(J69:J188,0.5))","v":""},"","","",0,{"$f":"IF(D69=\"\",0,ROUND(N$33*NORMDIST(C14+0.5,N$34,N$36,TRUE),0)-SUM(O$3:O13))","v":0}]
[4,{"v":2.82842712474619,"d":"2.828427"},1.5,{"$f":"IF(COUNTIF(D69:D188,1.5)=0,\"\",COUNTIF(D69:D188,1.5))","v":""},{"$f":"IF(COUNTIF(E69:E188,1.5)=0,\"\",COUNTIF(E69:E188,1.5))","v":""},{"$f":"IF(COUNTIF(F69:F188,1.5)=0,\"\",COUNTIF(F69:F188,1.5))","v":""},"","",{"$f":"IF(COUNTIF(I69:I188,1.5)=0,\"\",COUNTIF(I69:I188,1.5))","v":""},{"$f":"IF(COUNTIF(J69:J188,1.5)=0,\"\",COUNTIF(J69:J188,1.5))","v":""},"","","",0,{"$f":"IF(D69=\"\",0,ROUND(N$33*NORMDIST(C15+0.5,N$34,N$36,TRUE),0)-SUM(O$3:O14))","v":0}]
[8,{"v":5.656854249492381,"d":"5.656854"},2.5,{"$f":"IF(COUNTIF(D69:D188,2.5)=0,\"\",COUNTIF(D69:D188,2.5))","v":""},{"$f":"IF(COUNTIF(E69:E188,2.5)=0,\"\",COUNTIF(E69:E188,2.5))","v":""},{"$f":"IF(COUNTIF(F69:F188,2.5)=0,\"\",COUNTIF(F69:F188,2.5))","v":""},"","",{"$f":"IF(COUNTIF(I69:I188,2.5)=0,\"\",COUNTIF(I69:I188,2.5))","v":""},{"$f":"IF(COUNTIF(J69:J188,2.5)=0,\"\",COUNTIF(J69:J188,2.5))","v":""},"","","",0,{"$f":"IF(D69=\"\",0,ROUND(N$33*NORMDIST(C16+0.5,N$34,N$36,TRUE),0)-SUM(O$3:O15))","v":0}]
[16,{"v":11.31370849898476,"d":"11.313708"},3.5,{"$f":"IF(COUNTIF(D69:D188,3.5)=0,\"\",COUNTIF(D69:D188,3.5))","v":""},{"$f":"IF(COUNTIF(E69:E188,3.5)=0,\"\",COUNTIF(E69:E188,3.5))","v":""},{"$f":"IF(COUNTIF(F69:F188,3.5)=0,\"\",COUNTIF(F69:F188,3.5))","v":""},"","",{"$f":"IF(COUNTIF(I69:I188,3.5)=0,\"\",COUNTIF(I69:I188,3.5))","v":""},{"$f":"IF(COUNTIF(J69:J188,3.5)=0,\"\",COUNTIF(J69:J188,3.5))","v":""},"","","",0,{"$f":"IF(D69=\"\",0,ROUND(N$33*NORMDIST(C17+0.5,N$34,N$36,TRUE),0)-SUM(O$3:O16))","v":0}]
[32,{"v":22.62741699796952,"d":"22.627417"},4.5,{"$f":"IF(COUNTIF(D69:D188,4.5)=0,\"\",COUNTIF(D69:D188,4.5))","v":""},{"$f":"IF(COUNTIF(E69:E188,4.5)=0,\"\",COUNTIF(E69:E188,4.5))","v":""},{"$f":"IF(COUNTIF(F69:F188,4.5)=0,\"\",COUNTIF(F69:F188,4.5))","v":""},"","",{"$f":"IF(COUNTIF(I69:I188,4.5)=0,\"\",COUNTIF(I69:I188,4.5))","v":""},{"$f":"IF(COUNTIF(J69:J188,4.5)=0,\"\",COUNTIF(J69:J188,4.5))","v":""},"","","",0,{"$f":"IF(D69=\"\",0,ROUND(N$33*NORMDIST(C18+0.5,N$34,N$36,TRUE),0)-SUM(O$3:O17))","v":0}]
[64,{"v":45.254833995939045,"d":"45.254834"},5.5,{"$f":"IF(COUNTIF(D69:D188,5.5)=0,\"\",COUNTIF(D69:D188,5.5))","v":""},{"$f":"IF(COUNTIF(E69:E188,5.5)=0,\"\",COUNTIF(E69:E188,5.5))","v":""},{"$f":"IF(COUNTIF(F69:F188,5.5)=0,\"\",COUNTIF(F69:F188,5.5))","v":""},"","",{"$f":"IF(COUNTIF(I69:I188,5.5)=0,\"\",COUNTIF(I69:I188,5.5))","v":""},{"$f":"IF(COUNTIF(J69:J188,5.5)=0,\"\",COUNTIF(J69:J188,5.5))","v":""},"","","",0,{"$f":"IF(D69=\"\",0,ROUND(N$33*NORMDIST(C19+0.5,N$34,N$36,TRUE),0)-SUM(O$3:O18))","v":0}]
[128,{"v":90.50966799187806,"d":"90.509668"},6.5,{"$f":"IF(COUNTIF(D69:D188,6.5)=0,\"\",COUNTIF(D69:D188,6.5))","v":""},{"$f":"IF(COUNTIF(E69:E188,6.5)=0,\"\",COUNTIF(E69:E188,6.5))","v":""},{"$f":"IF(COUNTIF(F69:F188,6.5)=0,\"\",COUNTIF(F69:F188,6.5))","v":""},"","",{"$f":"IF(COUNTIF(I69:I188,6.5)=0,\"\",COUNTIF(I69:I188,6.5))","v":""},{"$f":"IF(COUNTIF(J69:J188,6.5)=0,\"\",COUNTIF(J69:J188,6.5))","v":""},"","","",0,{"$f":"IF(D69=\"\",0,ROUND(N$33*NORMDIST(C20+0.5,N$34,N$36,TRUE),0)-SUM(O$3:O19))","v":0}]
[256,{"v":181.01933598375612,"d":"181.019336"},7.5,{"$f":"IF(COUNTIF(D69:D188,7.5)=0,\"\",COUNTIF(D69:D188,7.5))","v":""},{"$f":"IF(COUNTIF(E69:E188,7.5)=0,\"\",COUNTIF(E69:E188,7.5))","v":""},{"$f":"IF(COUNTIF(F69:F188,7.5)=0,\"\",COUNTIF(F69:F188,7.5))","v":""},"","",{"$f":"IF(COUNTIF(I69:I188,7.5)=0,\"\",COUNTIF(I69:I188,7.5))","v":""},{"$f":"IF(COUNTIF(J69:J188,7.5)=0,\"\",COUNTIF(J69:J188,7.5))","v":""},"","","",0,{"$f":"IF(D69=\"\",0,ROUND(N$33*NORMDIST(C21+0.5,N$34,N$36,TRUE),0)-SUM(O$3:O20))","v":0}]
[512,{"v":362.0386719675123,"d":"362.038672"},8.5,{"$f":"IF(COUNTIF(D69:D188,8.5)=0,\"\",COUNTIF(D69:D188,8.5))","v":""},{"$f":"IF(COUNTIF(E69:E188,8.5)=0,\"\",COUNTIF(E69:E188,8.5))","v":""},{"$f":"IF(COUNTIF(F69:F188,8.5)=0,\"\",COUNTIF(F69:F188,8.5))","v":""},"","",{"$f":"IF(COUNTIF(I69:I188,8.5)=0,\"\",COUNTIF(I69:I188,8.5))","v":""},{"$f":"IF(COUNTIF(J69:J188,8.5)=0,\"\",COUNTIF(J69:J188,8.5))","v":""},"","","",0,{"$f":"IF(D69=\"\",0,ROUND(N$33*NORMDIST(C22+0.5,N$34,N$36,TRUE),0)-SUM(O$3:O21))","v":0}]
[null,null,"Central Tendancy Stats","Lab 1","Lab 2","Lab 3","Lab 4","Lab 5","Lab 6","Lab 7","Lab 8","Lab 9","Lab 10","All labs","Control","Limits"]
[null,null,"Mean",{"$f":"IF(COUNT(D69:D188)=0,\"\",AVERAGE(D69:D188))","v":""},"","","","",{"$f":"IF(COUNT(I69:I188)=0,\"\",AVERAGE(I69:I188))","v":""},{"$f":"IF(COUNT(J69:J188)=0,\"\",AVERAGE(J69:J188))","v":""},"","","",{"$f":"IF(D69=\"\",\"\",AVERAGE(D69:M188))","v":""},{"$f":"IF(D69=\"\",\"\",ROUND(NORMINV(0.05,N34,N36),3))","v":""},{"$f":"IF(D69=\"\",\"\",ROUND(NORMINV(0.95,N34,N36),3))","v":""}]
["Calculated QC Range",null,"Median",{"$f":"IF(COUNT(D69:D188)=0,\"\",MEDIAN(D69:D188))","v":""},"","","","",{"$f":"IF(COUNT(I69:I188)=0,\"\",MEDIAN(I69:I188))","v":""},{"$f":"IF(COUNT(J69:J188)=0,\"\",MEDIAN(J69:J188))","v":""},"","","",{"$f":"IF(D69=\"\",\"\",MEDIAN(D69:M188))","v":""},{"$f":"IF(D69=\"\",\"\",ROUND(N51,3))","v":""},{"$f":"IF(D69=\"\",\"\",ROUND(N52,3))","v":""}]
[{"$f":"IF(N33=0,\"\",ROUND(2*N39,3)&\" to \"&ROUND(N40,3))","v":""},null,"Mode",{"$f":"IF(COUNT(D69:D188)=0,\"\",MODE(D69:D188))","v":""},"","","","",{"$f":"IF(COUNT(I69:I188)=0,\"\",MODE(I69:I188))","v":""},{"$f":"IF(COUNT(J69:J188)=0,\"\",MODE(J69:J188))","v":""},"","","",{"$f":"IF(D69=\"\",\"\",MODE(D69:M188))","v":""},{"$f":"IF(D69=\"\",\"\",N26-1)","v":""},{"$f":"IF(D69=\"\",\"\",N26+1)","v":""}]
["Dilution Range",null,null,"(Converted back to MIC)",{"$nulls":10},"Control","Limits"]
[{"$f":"IF(N33=0,\"\",LN(N40/N39)/LN(2))","v":""},null,"Mean",{"$f":"IF(COUNT(D69:D188)=0,\"\",2^(AVERAGE(D69:D188)+0.5))","v":""},"","","","",{"$f":"IF(COUNT(I69:I188)=0,\"\",2^(AVERAGE(I69:I188)+0.5))","v":""},{"$f":"IF(COUNT(J69:J188)=0,\"\",2^(AVERAGE(J69:J188)+0.5))","v":""},"","","",{"$f":"IF(D69=\"\",\"\",2^(AVERAGE(D69:M188)+0.5))","v":""},{"$f":"IF(D69=\"\",\"\",2^O24)","v":""},{"$f":"IF(D69=\"\",\"\",2^P24)","v":""}]
["% Obs. Captured",null,"Median",{"$f":"IF(COUNT(D69:D188)=0,\"\",2^(MEDIAN(D69:D188)+0.5))","v":""},"","","","",{"$f":"IF(COUNT(I69:I188)=0,\"\",2^(MEDIAN(I69:I188)+0.5))","v":""},{"$f":"IF(COUNT(J69:J188)=0,\"\",2^(MEDIAN(J69:J188)+0.5))","v":""},"","","",{"$f":"IF(D69=\"\",\"\",2^(MEDIAN(D69:M188)+0.5))","v":""},{"$f":"IF(D69=\"\",\"\",2^O25)","v":""},{"$f":"IF(D69=\"\",\"\",2^P25)","v":""}]
[{"$f":"IF(N33=0,\"\",((COUNTIF(D69:M188,\"<\"&LN(N40)/LN(2))-COUNTIF(D69:M188,\"<\"&LN(N39)/LN(2)))/N$33))","v":""},null,"Mode",{"$f":"IF(COUNT(D69:D188)=0,\"\",2^(MODE(D69:D188)+0.5))","v":""},"","","","",{"$f":"IF(COUNT(I69:I188)=0,\"\",2^(MODE(I69:I188)+0.5))","v":""},{"$f":"IF(COUNT(J69:J188)=0,\"\",2^(MODE(J69:J188)+0.5))","v":""},"","","",{"$f":"IF(D69=\"\",\"\",2^(MODE(D69:M188)+0.5))","v":""},{"$f":"IF(D69=\"\",\"\",2^O26)","v":""},{"$f":"IF(D69=\"\",\"\",2^P26)","v":""}]
["Prob'ty Outside Range"]
[{"$f":"IF(N33=0,\"\",N41+N42)","v":""},null,"Conventional Stats","Lab 1","Lab 2","Lab 3","Lab 4","Lab 5","Lab 6","Lab 7","Lab 8","Lab 9","Lab 10","All labs","Interlab"]
[null,null,"N",{"$f":"IF(COUNT(D69:D188)=0,\"\",COUNT(D69:D188))","v":""},"","","","",{"$f":"IF(COUNT(I69:I188)=0,\"\",COUNT(I69:I188))","v":""},{"$f":"IF(COUNT(J69:J188)=0,\"\",COUNT(J69:J188))","v":""},"","","",{"$f":"COUNT(D69:M188)","v":0},"CV"]
["CLSI QC Range",null,"GeoMean MIC (log2)",{"$f":"IF(COUNT(D69:D188)=0,\"\",AVERAGE(D69:D188))","v":""},"","","","",{"$f":"IF(COUNT(I69:I188)=0,\"\",AVERAGE(I69:I188))","v":""},{"$f":"IF(COUNT(J69:J188)=0,\"\",AVERAGE(J69:J188))","v":""},"","","",{"$f":"IF(D69=\"\",\"\",AVERAGE(D69:M188))","v":""},{"$f":"IF(D69=\"\",\"\",ABS(STDEVA(D34:M34)/N34))","v":""}]
[null,null,"GeoMean MIC",{"$f":"IF(COUNT(D69:D188)=0,\"\",2^D34)","v":""},"","","","",{"$f":"IF(COUNT(I69:I188)=0,\"\",2^I34)","v":""},{"$f":"IF(COUNT(J69:J188)=0,\"\",2^J34)","v":""},"","","",{"$f":"IF(D69=\"\",\"\",2^N34)","v":""}]
[null,null,"GeoSD (log2)",{"$f":"IF(COUNT(D69:D188)=0,\"\",STDEV(D69:D188))","v":""},"","","","",{"$f":"IF(COUNT(I69:I188)=0,\"\",STDEV(I69:I188))","v":""},{"$f":"IF(COUNT(J69:J188)=0,\"\",STDEV(J69:J188))","v":""},"","","",{"$f":"IF(D69=\"\",\"\",STDEV(D69:M188))","v":""}]
[{"$f":"IF(A35=\"\",\"\",ROUND(2^(A35+0.5),3)&\" to \"&ROUND(2^(A36+0.5),3))","v":""},null,"95% Lower Bound",{"$f":"IF(COUNT(D69:D188)=0,\"\",IF(D33=0,\"\",2^((NORMINV(0.025,D34,D36)))))","v":""},"","","","",{"$f":"IF(COUNT(I69:I188)=0,\"\",IF(I33=0,\"\",2^((NORMINV(0.025,I34,I36)))))","v":""},{"$f":"IF(COUNT(J69:J188)=0,\"\",IF(J33=0,\"\",2^((NORMINV(0.025,J34,J36)))))","v":""},"","","",{"$f":"IF(N33=0,\"\",2^((NORMINV(0.025,N34,N36))))","v":""}]
["Dilution Range",null,"95% Upper Bound",{"$f":"IF(COUNT(D69:D188)=0,\"\",IF(D33=0,\"\",2^(NORMINV(0.975,D34,D36))))","v":""},"","","","",{"$f":"IF(COUNT(I69:I188)=0,\"\",IF(I33=0,\"\",2^(NORMINV(0.975,I34,I36))))","v":""},{"$f":"IF(COUNT(J69:J188)=0,\"\",IF(J33=0,\"\",2^(NORMINV(0.975,J34,J36))))","v":""},"","","",{"$f":"IF(N33=0,\"\",2^(NORMINV(0.975,N34,N36)))","v":""}]
[{"$f":"IF(A35=\"\",\"\",A36-A35+1)","v":""},null,"Lower Bound Rounded Down",{"$f":"IF(COUNT(D69:D188)=0,\"\",IF(D33=0,\"\",2^(INT((NORMINV(0.025,D34,D36))))))","v":""},"","","","",{"$f":"IF(COUNT(I69:I188)=0,\"\",IF(I33=0,\"\",2^(INT((NORMINV(0.025,I34,I36))))))","v":""},{"$f":"IF(COUNT(J69:J188)=0,\"\",IF(J33=0,\"\",2^(INT((NORMINV(0.025,J34,J36))))))","v":""},"","","",{"$f":"IF(N33=0,\"\",2^(INT((NORMINV(0.025,N34,N36)))))","v":""}]
["CLSI% Obs. captured",null,"Upper Bound Rounded Up",{"$f":"IF(COUNT(D69:D188)=0,\"\",IF(D33=0,\"\",2^(INT((NORMINV(0.975,D34,D36)))+1)))","v":""},"","","","",{"$f":"IF(COUNT(I69:I188)=0,\"\",IF(I33=0,\"\",2^(INT((NORMINV(0.975,I34,I36)))+1)))","v":""},{"$f":"IF(COUNT(J69:J188)=0,\"\",IF(J33=0,\"\",2^(INT((NORMINV(0.975,J34,J36)))+1)))","v":""},"","","",{"$f":"IF(N33=0,\"\",2^(INT((NORMINV(0.975,N34,N36)))+1))","v":""}]
[{"$f":"IF(A35=0,\"\",(COUNTIF(D69:M188,\"<\"&A36+1)-COUNTIF(D69:M188,\"<\"&A35))/N$33)","v":""},null,"Probability of <=Lower Bound",{"$f":"IF(COUNT(D69:D188)=0,\"\",NORMDIST(LOG(D39)/LOG(2),D34,D36,TRUE))","v":""},"","","","",{"$f":"IF(COUNT(I69:I188)=0,\"\",NORMDIST(LOG(I39)/LOG(2),I34,I36,TRUE))","v":""},{"$f":"IF(COUNT(J69:J188)=0,\"\",NORMDIST(LOG(J39)/LOG(2),J34,J36,TRUE))","v":""},"","","",{"$f":"IF(D69=\"\",\"\",NORMDIST(LOG(N39)/LOG(2),N34,N36,TRUE))","v":""}]
[null,null,"Probability of >Upper Bound",{"$f":"IF(COUNT(D69:D188)=0,\"\",1-NORMDIST(LOG(D40)/LOG(2),D34,D36,TRUE))","v":""},"","","","",{"$f":"IF(COUNT(I69:I188)=0,\"\",1-NORMDIST(LOG(I40)/LOG(2),I34,I36,TRUE))","v":""},{"$f":"IF(COUNT(J69:J188)=0,\"\",1-NORMDIST(LOG(J40)/LOG(2),J34,J36,TRUE))","v":""},"","","",{"$f":"IF(D69=\"\",\"\",1-NORMDIST(LOG(N40)/LOG(2),N34,N36,TRUE))","v":""}]
[null,null,"New Range",{"$f":"IF(COUNT(D69:D188)=0,\"\",1-D41-D42)","v":""},"","","","",{"$f":"IF(COUNT(I69:I188)=0,\"\",1-I41-I42)","v":""},{"$f":"IF(COUNT(J69:J188)=0,\"\",1-J41-J42)","v":""},"","","",{"$f":"IF(D69=\"\",\"\",1-N41-N42)","v":""}]
[]
[null,null,"Order Stats","Lab 1","Lab 2","Lab 3","Lab 4","Lab 5","Lab 6","Lab 7","Lab 8","Lab 9","Lab 10","All labs","Interlab"]
[null,null,"25th %ile",{"$f":"IF(COUNT(D69:D188)=0,\"\",QUARTILE(D69:D188,1))","v":""},"","","","",{"$f":"IF(COUNT(I69:I188)=0,\"\",QUARTILE(I69:I188,1))","v":""},{"$f":"IF(COUNT(J69:J188)=0,\"\",QUARTILE(J69:J188,1))","v":""},"","","",{"$f":"IF(D69=\"\",\"\",QUARTILE(D69:M188,1))","v":""},"CV"]
[null,null,"75th %ile",{"$f":"IF(COUNT(D69:D188)=0,\"\",QUARTILE(D69:D188,3))","v":""},"","","","",{"$f":"IF(COUNT(I69:I188)=0,\"\",QUARTILE(I69:I188,3))","v":""},{"$f":"IF(COUNT(J69:J188)=0,\"\",QUARTILE(J69:J188,3))","v":""},"","","",{"$f":"IF(D69=\"\",\"\",QUARTILE(D69:M188,3))","v":""},{"$f":"IF(D69=\"\",\"\",ABS(N48/N25))","v":""}]
[null,null,"Interquartile Range",{"$f":"IF(COUNT(D69:D188)=0,\"\",IF(D47-D46=0,1,D47-D46))","v":""},"","","","",{"$f":"IF(COUNT(I69:I188)=0,\"\",IF(I47-I46=0,1,I47-I46))","v":""},{"$f":"IF(COUNT(J69:J188)=0,\"\",IF(J47-J46=0,1,J47-J46))","v":""},"","","",{"$f":"IF(D69=\"\",\"\",IF(N47-N46=0,1,N47-N46))","v":""}]
[null,null,"Minimum",{"$f":"IF(COUNT(D69:D188)=0,\"\",MIN(D69:D188))","v":""},"","","","",{"$f":"IF(COUNT(I69:I188)=0,\"\",MIN(I69:I188))","v":""},{"$f":"IF(COUNT(J69:J188)=0,\"\",MIN(J69:J188))","v":""},"","","",{"$f":"IF(D69=\"\",\"\",MIN(D69:M188))","v":""}]
[null,null,"Maximum",{"$f":"IF(COUNT(D69:D188)=0,\"\",MAX(D69:D188))","v":""},"","","","",{"$f":"IF(COUNT(I69:I188)=0,\"\",MAX(I69:I188))","v":""},{"$f":"IF(COUNT(J69:J188)=0,\"\",MAX(J69:J188))","v":""},"","","",{"$f":"IF(D69=\"\",\"\",MAX(D69:M188))","v":""}]
[null,null,"Lower Inner Fence",{"$f":"IF(COUNT(D69:D188)=0,\"\",D$46-1.5*D$48)","v":""},"","","","",{"$f":"IF(COUNT(I69:I188)=0,\"\",I$46-1.5*I$48)","v":""},{"$f":"IF(COUNT(J69:J188)=0,\"\",J$46-1.5*J$48)","v":""},"","","",{"$f":"IF(D69=\"\",\"\",N$46-1.5*N$48)","v":""}]
[null,null,"Upper Inner Fence",{"$f":"IF(COUNT(D69:D188)=0,\"\",D$47+1.5*D$48)","v":""},"","","","",{"$f":"IF(COUNT(I69:I188)=0,\"\",I$47+1.5*I$48)","v":""},{"$f":"IF(COUNT(J69:J188)=0,\"\",J$47+1.5*J$48)","v":""},"","","",{"$f":"IF(D69=\"\",\"\",N$47+1.5*N$48)","v":""}]
[null,null,"Lower Outer Fence",{"$f":"IF(COUNT(D69:D188)=0,\"\",D$46-3*D$48)","v":""},"","","","",{"$f":"IF(COUNT(I69:I188)=0,\"\",I$46-3*I$48)","v":""},{"$f":"IF(COUNT(J69:J188)=0,\"\",J$46-3*J$48)","v":""},"","","",{"$f":"IF(D69=\"\",\"\",N$46-3*N$48)","v":""}]
[null,null,"Upper Outer Fence",{"$f":"IF(COUNT(D69:D188)=0,\"\",D$47+3*D$48)","v":""},"","","","",{"$f":"IF(COUNT(I69:I188)=0,\"\",I$47+3*I$48)","v":""},{"$f":"IF(COUNT(J69:J188)=0,\"\",J$47+3*J$48)","v":""},"","","",{"$f":"IF(D69=\"\",\"\",N$47+3*N$48)","v":""}]
[null,null,"Lower Near Outliers",{"$f":"IF(COUNT(D69:D188)=0,\"\",COUNTIF(D69:D188,\"<\"&D51))","v":""},"","","","",{"$f":"IF(COUNT(I69:I188)=0,\"\",COUNTIF(I69:I188,\"<\"&I51))","v":""},{"$f":"IF(COUNT(J69:J188)=0,\"\",COUNTIF(J69:J188,\"<\"&J51))","v":""},"","","",{"$f":"IF(D69=\"\",\"\",COUNTIF(D69:M188,\"<\"&N51)-N57)","v":""}]
[null,null,"Upper Near Outliers",{"$f":"IF(COUNT(D69:D188)=0,\"\",COUNTIF(D69:D188,\">\"&D52))","v":""},"","","","",{"$f":"IF(COUNT(I69:I188)=0,\"\",COUNTIF(I69:I188,\">\"&I52))","v":""},{"$f":"IF(COUNT(J69:J188)=0,\"\",COUNTIF(J69:J188,\">\"&J52))","v":""},"","","",{"$f":"IF(D69=\"\",\"\",COUNTIF(D69:M188,\">\"&N52)-N58)","v":""}]
[null,null,"Lower Extreme Outliers",{"$f":"IF(COUNT(D69:D188)=0,\"\",COUNTIF(D69:D188,\"<\"&D53))","v":""},"","","","",{"$f":"IF(COUNT(I69:I188)=0,\"\",COUNTIF(I69:I188,\"<\"&I53))","v":""},{"$f":"IF(COUNT(J69:J188)=0,\"\",COUNTIF(J69:J188,\"<\"&J53))","v":""},"","","",{"$f":"IF(D69=\"\",\"\",COUNTIF(D69:M188,\"<\"&N53))","v":""}]
[null,null,"Upper Extreme Outliers",{"$f":"IF(COUNT(D69:D188)=0,\"\",COUNTIF(D69:D188,\">\"&D54))","v":""},"","","","",{"$f":"IF(COUNT(I69:I188)=0,\"\",COUNTIF(I69:I188,\">\"&I54))","v":""},{"$f":"IF(COUNT(J69:J188)=0,\"\",COUNTIF(J69:J188,\">\"&J54))","v":""},"","","",{"$f":"IF(D69=\"\",\"\",COUNTIF(D69:M188,\">\"&N54))","v":""}]
[]
[null,null,"Chart Control Limits","Lab 1","Lab 2","Lab 3","Lab 4","Lab 5","Lab 6","Lab 7","Lab 8","Lab 9","Lab 10"]
[null,"Mean","Lower CL",{"$f":"$O$24","v":""},{"$f":"$O$24","v":""},"","","","","","","",""]
[null,null,"Upper CL",{"$f":"$P$24","v":""},{"$f":"$P$24","v":""},"","","","","","","",""]
[null,"Median","Lower CL",{"$f":"$O$25","v":""},{"$f":"$O$25","v":""},"","","","","","","",""]
[null,null,"Upper CL",{"$f":"$P$25","v":""},{"$f":"$P$25","v":""},"","","","","","","",""]
[null,"Mode","Lower CL",{"$f":"$O$26","v":""},{"$f":"$O$26","v":""},"","","","","","","",""]
[null,null,"Upper CL",{"$f":"$P$26","v":""},{"$f":"$P$26","v":""},"","","","","","","",""]
[]
[null,null,"Log2 Converted Raw Data","Lab 1","Lab 2","Lab 3","Lab 4","Lab 5","Lab 6","Lab 7","Lab 8","Lab 9","Lab 10","Control","Limits"]
[null,null,"Media Lot 1",{"$f":"IF(D191=\"\",\"\",LOOKUP(D191,$A$3:$A$22,$C$3:$C$22))","v":""},"","","","",{"$f":"IF(I191=\"\",\"\",LOOKUP(I191,$A$3:$A$22,$C$3:$C$22))","v":""},"","","","",{"$f":"IF(D69=\"\",\"\",LN($N$39)/LN(2))","v":""},{"$f":"IF(D69=\"\",\"\",LN($N$40)/LN(2)-0.5)","v":""}]
[{"$nulls":3},"","","","","","","","","",""]
[{"$nulls":3},"","","","","","","","","",""]
[{"$nulls":3},"","","","","","","","","",""]
[{"$nulls":3},{"$f":"IF(D195=\"\",\"\",LOOKUP(D195,$A$3:$A$22,$C$3:$C$22))","v":""},"","","","","","","","",""]
[{"$nulls":3},"","","","","","","","","",""]
[{"$nulls":3},"","","","","","","","","",""]
[{"$nulls":3},"","","","","","","","","",""]
[{"$nulls":3},"","","","","","","","","",""]
[{"$nulls":3},"","","","","","","","","",""]
[{"$nulls":3},{"$f":"IF(D201=\"\",\"\",LOOKUP(D201,$A$3:$A$22,$C$3:$C$22))","v":""},"","","","",{"$f":"IF(I201=\"\",\"\",LOOKUP(I201,$A$3:$A$22,$C$3:$C$22))","v":""},"","","",""]
[{"$nulls":3},"","","","","","","","","",""]
[{"$nulls":3},{"$f":"IF(D203=\"\",\"\",LOOKUP(D203,$A$3:$A$22,$C$3:$C$22))","v":""},"","","","","","","","",""]
[{"$nulls":3},"","","","","","","","","",""]
[{"$nulls":3},"","","","","","","","","",""]
[{"$nulls":3},"","","","","","","","","",""]
[{"$nulls":3},"","","","","","","","","",""]
[{"$nulls":3},"","","","","","","","","",""]
[{"$nulls":3},"","","","","","","","","",""]
[{"$nulls":3},"","","","","","","","","",""]
[{"$nulls":3},{"$f":"IF(D211=\"\",\"\",LOOKUP(D211,$A$3:$A$22,$C$3:$C$22))","v":""},"","","","",{"$f":"IF(I211=\"\",\"\",LOOKUP(I211,$A$3:$A$22,$C$3:$C$22))","v":""},"","","",""]
[{"$nulls":3},"","","","","","","","","",""]
[{"$nulls":3},"","","","","","","","","",""]
[{"$nulls":3},"","","","","","","","","",""]
[{"$nulls":3},"","","","","","","","","",""]
[{"$nulls":3},"","","","","","","","","",""]
[{"$nulls":3},"","","","","","","","","",""]
[{"$nulls":3},"","","","","","","","","",""]
[{"$nulls":3},"","","","","","","","","",""]
[{"$nulls":3},"","","","","","","","","",""]
[{"$nulls":3},"","","","","",{"$f":"IF(I221=\"\",\"\",LOOKUP(I221,$A$3:$A$22,$C$3:$C$22))","v":""},"","","",""]
[{"$nulls":3},"","","","","","","","","",""]
[{"$nulls":3},"","","","","","","","","",""]
[{"$nulls":3},"","","","","","","","","",""]
[{"$nulls":3},"","","","","","","","","",""]
[{"$nulls":3},"","","","","","","","","",""]
[{"$nulls":3},{"$f":"IF(D227=\"\",\"\",LOOKUP(D227,$A$3:$A$22,$C$3:$C$22))","v":""},"","","","","","","","",""]
[{"$nulls":3},"","","","","","","","","",""]
[{"$nulls":3},"","","","","","","","","",""]
[{"$nulls":3},"","","","","","","","","",""]
[null,null,"Media Lot 2","","","","","",{"$f":"IF(I231=\"\",\"\",LOOKUP(I231,$A$3:$A$22,$C$3:$C$22))","v":""},"","","",""]
[{"$nulls":3},"","","","","","","","","",""]
[{"$nulls":3},"","","","","","","","","",""]
[{"$nulls":3},"","","","","","","","","",""]
[{"$nulls":3},"","","","","","","","","",""]
[{"$nulls":3},"","","","","","","","","",""]
[{"$nulls":3},"","","","","","","","","",""]
[{"$nulls":3},"","","","","","","","","",""]
[{"$nulls":3},"","","","","","","","","",""]
[{"$nulls":3},"","","","","","","","","",""]
[{"$nulls":3},"","","","","",{"$f":"IF(I241=\"\",\"\",LOOKUP(I241,$A$3:$A$22,$C$3:$C$22))","v":""},"","","",""]
[{"$nulls":3},"","","","","","","","","",""]
[{"$nulls":3},{"$f":"IF(D243=\"\",\"\",LOOKUP(D243,$A$3:$A$22,$C$3:$C$22))","v":""},"","","","","","","","",""]
[{"$nulls":3},"","","","","","","","","",""]
[{"$nulls":3},"","","","","","","","","",""]
[{"$nulls":3},"","","","","","","","","",""]
[{"$nulls":3},"","","","","","","","","",""]
[{"$nulls":3},"","","","","","","","","",""]
[{"$nulls":3},"","","","","","","","","",""]
[{"$nulls":3},"","","","","","","","","",""]
[{"$nulls":3},"","","","","",{"$f":"IF(I251=\"\",\"\",LOOKUP(I251,$A$3:$A$22,$C$3:$C$22))","v":""},"","","",""]
[{"$nulls":3},"","","","","","","","","",""]
[{"$nulls":3},"","","","","","","","","",""]
[{"$nulls":3},"","","","","","","","","",""]
[{"$nulls":3},"","","","","","","","","",""]
[{"$nulls":3},"","","","","","","","","",""]
[{"$nulls":3},"","","","","","","","","",""]
[{"$nulls":3},"","","","","","","","","",""]
[{"$nulls":3},{"$f":"IF(D259=\"\",\"\",LOOKUP(D259,$A$3:$A$22,$C$3:$C$22))","v":""},"","","","","","","","",""]
[{"$nulls":3},"","","","","","","","","",""]
[{"$nulls":3},"","","","","",{"$f":"IF(I261=\"\",\"\",LOOKUP(I261,$A$3:$A$22,$C$3:$C$22))","v":""},"","","",""]
[{"$nulls":3},"","","","","","","","","",""]
[{"$nulls":3},"","","","","","","","","",""]
[{"$nulls":3},"","","","","","","","","",""]
[{"$nulls":3},"","","","","","","","","",""]
[{"$nulls":3},"","","","","","","","","",""]
[{"$nulls":3},"","","","","","","","","",""]
[{"$nulls":3},"","","","","","","","","",""]
[{"$nulls":3},"","","","","","","","","",""]
[{"$nulls":3},"","","","","","","","","",""]
[null,null,"Media Lot 3","","","","","",{"$f":"IF(I271=\"\",\"\",LOOKUP(I271,$A$3:$A$22,$C$3:$C$22))","v":""},"","","",""]
[{"$nulls":3},"","","","","","","","","",""]
[{"$nulls":3},"","","","","","","","","",""]
[{"$nulls":3},"","","","","","","","","",""]
[{"$nulls":3},{"$f":"IF(D275=\"\",\"\",LOOKUP(D275,$A$3:$A$22,$C$3:$C$22))","v":""},"","","","","","","","",""]
[{"$nulls":3},"","","","","","","","","",""]
[{"$nulls":3},"","","","","","","","","",""]
[{"$nulls":3},"","","","","","","","","",""]
[{"$nulls":3},"","","","","","","","","",""]
[{"$nulls":3},"","","","","","","","","",""]
[{"$nulls":3},"","","","","",{"$f":"IF(I281=\"\",\"\",LOOKUP(I281,$A$3:$A$22,$C$3:$C$22))","v":""},"","","",""]
[{"$nulls":3},"","","","","","","","","",""]
[{"$nulls":3},"","","","","","","","","",""]
[{"$nulls":3},"","","","","","","","","",""]
[{"$nulls":3},"","","","","","","","","",""]
[{"$nulls":3},"","","","","","","","","",""]
[{"$nulls":3},"","","","","","","","","",""]
[{"$nulls":3},"","","","","","","","","",""]
[{"$nulls":3},"","","","","","","","","",""]
[{"$nulls":3},"","","","","","","","","",""]
[{"$nulls":3},{"$f":"IF(D291=\"\",\"\",LOOKUP(D291,$A$3:$A$22,$C$3:$C$22))","v":""},"","","","",{"$f":"IF(I291=\"\",\"\",LOOKUP(I291,$A$3:$A$22,$C$3:$C$22))","v":""},"","","",""]
[{"$nulls":3},"","","","","","","","","",""]
[{"$nulls":3},"","","","","","","","","",""]
[{"$nulls":3},"","","","","","","","","",""]
[{"$nulls":3},"","","","","","","","","",""]
[{"$nulls":3},"","","","","","","","","",""]
[{"$nulls":3},"","","","","","","","","",""]
[{"$nulls":3},"","","","","","","","","",""]
[{"$nulls":3},"","","","","","","","","",""]
[{"$nulls":3},"","","","","","","","","",""]
[{"$nulls":3},"","","","","",{"$f":"IF(I301=\"\",\"\",LOOKUP(I301,$A$3:$A$22,$C$3:$C$22))","v":""},"","","",""]
[{"$nulls":3},"","","","","","","","","",""]
[{"$nulls":3},"","","","","","","","","",""]
[{"$nulls":3},"","","","","","","","","",""]
[{"$nulls":3},"","","","","","","","","",""]
[{"$nulls":3},"","","","","","","","","",""]
[{"$nulls":3},{"$f":"IF(D307=\"\",\"\",LOOKUP(D307,$A$3:$A$22,$C$3:$C$22))","v":""},"","","","","","","","",""]
[{"$nulls":3},"","","","","","","","","",""]
[{"$nulls":3},"","","","","","","","","",""]
[{"$nulls":3},"","","","","","","","","",""]
[]
[null,null,"Raw Data Entry","Lab 1","Lab 2","Lab 3","Lab 4","Lab 5","Lab 6","Lab 7","Lab 8","Lab 9","Lab 10"]
[null,null,"Media Lot 1"]
{"$rows_empty":9}
[null,"Media Lot 2"]
{"$rows_empty":29}
[null,null,"Media Lot 2"]
{"$rows_empty":39}
[null,null,"Media Lot 3"]

{"sheet":"Strain 3 ","index":8,"n_rows":271,"n_cols":16,"rows_kept":271,"merged":[[0,4,0,6]]}
[{"$f":"'Range Summary'!D2","v":"QC3"},{"$f":"'Range Summary'!A2","v":"Test agent"},null,null,"Go to Raw Data Entry area"]
["MIC","Midpoint MIC","Mid Log2MIC","Lab 1","Lab 2","Lab 3","Lab 4","Lab 5","Lab 6","Lab 7","Lab 8","Lab 9","Lab 10","All labs","Norm"]
[{"v":1E-3,"d":"0.001"},{"$f":"2^C3","v":{"v":6.9053396600248776E-4,"d":"0.000691"}},-10.5,{"$f":"IF(COUNTIF(D69:D188,-10.5)=0,\"\",COUNTIF(D69:D188,-10.5))","v":""},{"$f":"IF(COUNTIF(E69:E188,-10.5)=0,\"\",COUNTIF(E69:E188,-10.5))","v":""},{"$f":"IF(COUNTIF(F69:F188,-10.5)=0,\"\",COUNTIF(F69:F188,-10.5))","v":""},"","",{"$f":"IF(COUNTIF(I69:I188,-10.5)=0,\"\",COUNTIF(I69:I188,-10.5))","v":""},{"$f":"IF(COUNTIF(J69:J188,-10.5)=0,\"\",COUNTIF(J69:J188,-10.5))","v":""},"","","",{"$f":"SUM(D3:M3)","v":0},{"$f":"IF(D69=\"\",0,ROUND(N$33*NORMDIST(C3+0.5,N$34,N$36,TRUE),0))","v":0}]
[{"v":2E-3,"d":"0.002"},{"$f":"2^C4","v":{"v":1.3810679320049757E-3,"d":"0.001381"}},-9.5,{"$f":"IF(COUNTIF(D69:D188,-9.5)=0,\"\",COUNTIF(D69:D188,-9.5))","v":""},{"$f":"IF(COUNTIF(E69:E188,-9.5)=0,\"\",COUNTIF(E69:E188,-9.5))","v":""},{"$f":"IF(COUNTIF(F69:F188,-9.5)=0,\"\",COUNTIF(F69:F188,-9.5))","v":""},"","",{"$f":"IF(COUNTIF(I69:I188,-9.5)=0,\"\",COUNTIF(I69:I188,-9.5))","v":""},{"$f":"IF(COUNTIF(J69:J188,-9.5)=0,\"\",COUNTIF(J69:J188,-9.5))","v":""},"","","",0,{"$f":"IF(D69=\"\",0,ROUND(N$33*NORMDIST(C4+0.5,N$34,N$36,TRUE),0)-SUM(O2:O$3))","v":0}]
[0.004,{"v":2.7621358640099515E-3,"d":"0.002762"},-8.5,{"$f":"IF(COUNTIF(D69:D188,-8.5)=0,\"\",COUNTIF(D69:D188,-8.5))","v":""},{"$f":"IF(COUNTIF(E69:E188,-8.5)=0,\"\",COUNTIF(E69:E188,-8.5))","v":""},{"$f":"IF(COUNTIF(F69:F188,-8.5)=0,\"\",COUNTIF(F69:F188,-8.5))","v":""},"","",{"$f":"IF(COUNTIF(I69:I188,-8.5)=0,\"\",COUNTIF(I69:I188,-8.5))","v":""},{"$f":"IF(COUNTIF(J69:J188,-8.5)=0,\"\",COUNTIF(J69:J188,-8.5))","v":""},"","","",0,{"$f":"IF(D69=\"\",0,ROUND(N$33*NORMDIST(C5+0.5,N$34,N$36,TRUE),0)-SUM(O$3:O3))","v":0}]
[0.008,{"v":0.005524271728019904,"d":"0.005524"},-7.5,{"$f":"IF(COUNTIF(D69:D188,-7.5)=0,\"\",COUNTIF(D69:D188,-7.5))","v":""},{"$f":"IF(COUNTIF(E69:E188,-7.5)=0,\"\",COUNTIF(E69:E188,-7.5))","v":""},{"$f":"IF(COUNTIF(F69:F188,-7.5)=0,\"\",COUNTIF(F69:F188,-7.5))","v":""},"","",{"$f":"IF(COUNTIF(I69:I188,-7.5)=0,\"\",COUNTIF(I69:I188,-7.5))","v":""},{"$f":"IF(COUNTIF(J69:J188,-7.5)=0,\"\",COUNTIF(J69:J188,-7.5))","v":""},"","","",{"$f":"SUM(D6:M6)","v":0},{"$f":"IF(D69=\"\",0,ROUND(N$33*NORMDIST(C6+0.5,N$34,N$36,TRUE),0)-SUM(O$3:O5))","v":0}]
[0.016,{"v":0.011048543456039808,"d":"0.011049"},-6.5,{"$f":"IF(COUNTIF(D69:D188,-6.5)=0,\"\",COUNTIF(D69:D188,-6.5))","v":""},{"$f":"IF(COUNTIF(E69:E188,-6.5)=0,\"\",COUNTIF(E69:E188,-6.5))","v":""},{"$f":"IF(COUNTIF(F69:F188,-6.5)=0,\"\",COUNTIF(F69:F188,-6.5))","v":""},"","",{"$f":"IF(COUNTIF(I69:I188,-6.5)=0,\"\",COUNTIF(I69:I188,-6.5))","v":""},{"$f":"IF(COUNTIF(J69:J188,-6.5)=0,\"\",COUNTIF(J69:J188,-6.5))","v":""},"","","",0,{"$f":"IF(D69=\"\",0,ROUND(N$33*NORMDIST(C7+0.5,N$34,N$36,TRUE),0)-SUM(O$3:O6))","v":0}]
[0.03,{"v":0.022097086912079608,"d":"0.022097"},-5.5,{"$f":"IF(COUNTIF(D69:D188,-5.5)=0,\"\",COUNTIF(D69:D188,-5.5))","v":""},{"$f":"IF(COUNTIF(E69:E188,-5.5)=0,\"\",COUNTIF(E69:E188,-5.5))","v":""},{"$f":"IF(COUNTIF(F69:F188,-5.5)=0,\"\",COUNTIF(F69:F188,-5.5))","v":""},"","",{"$f":"IF(COUNTIF(I69:I188,-5.5)=0,\"\",COUNTIF(I69:I188,-5.5))","v":""},{"$f":"IF(COUNTIF(J69:J188,-5.5)=0,\"\",COUNTIF(J69:J188,-5.5))","v":""},"","","",0,{"$f":"IF(D69=\"\",0,ROUND(N$33*NORMDIST(C8+0.5,N$34,N$36,TRUE),0)-SUM(O$3:O7))","v":0}]
[0.06,{"v":0.04419417382415922,"d":"0.044194"},-4.5,{"$f":"IF(COUNTIF(D69:D188,-4.5)=0,\"\",COUNTIF(D69:D188,-4.5))","v":""},{"$f":"IF(COUNTIF(E69:E188,-4.5)=0,\"\",COUNTIF(E69:E188,-4.5))","v":""},{"$f":"IF(COUNTIF(F69:F188,-4.5)=0,\"\",COUNTIF(F69:F188,-4.5))","v":""},"","",{"$f":"IF(COUNTIF(I69:I188,-4.5)=0,\"\",COUNTIF(I69:I188,-4.5))","v":""},{"$f":"IF(COUNTIF(J69:J188,-4.5)=0,\"\",COUNTIF(J69:J188,-4.5))","v":""},"","","",0,{"$f":"IF(D69=\"\",0,ROUND(N$33*NORMDIST(C9+0.5,N$34,N$36,TRUE),0)-SUM(O$3:O8))","v":0}]
[0.13,{"v":0.08838834764831845,"d":"0.088388"},-3.5,{"$f":"IF(COUNTIF(D69:D188,-3.5)=0,\"\",COUNTIF(D69:D188,-3.5))","v":""},{"$f":"IF(COUNTIF(E69:E188,-3.5)=0,\"\",COUNTIF(E69:E188,-3.5))","v":""},{"$f":"IF(COUNTIF(F69:F188,-3.5)=0,\"\",COUNTIF(F69:F188,-3.5))","v":""},"","",{"$f":"IF(COUNTIF(I69:I188,-3.5)=0,\"\",COUNTIF(I69:I188,-3.5))","v":""},{"$f":"IF(COUNTIF(J69:J188,-3.5)=0,\"\",COUNTIF(J69:J188,-3.5))","v":""},"","","",0,{"$f":"IF(D69=\"\",0,ROUND(N$33*NORMDIST(C10+0.5,N$34,N$36,TRUE),0)-SUM(O$3:O9))","v":0}]
[0.25,{"v":0.17677669529663687,"d":"0.176777"},-2.5,{"$f":"IF(COUNTIF(D69:D188,-2.5)=0,\"\",COUNTIF(D69:D188,-2.5))","v":""},{"$f":"IF(COUNTIF(E69:E188,-2.5)=0,\"\",COUNTIF(E69:E188,-2.5))","v":""},{"$f":"IF(COUNTIF(F69:F188,-2.5)=0,\"\",COUNTIF(F69:F188,-2.5))","v":""},"","",{"$f":"IF(COUNTIF(I69:I188,-2.5)=0,\"\",COUNTIF(I69:I188,-2.5))","v":""},{"$f":"IF(COUNTIF(J69:J188,-2.5)=0,\"\",COUNTIF(J69:J188,-2.5))","v":""},"","","",0,{"$f":"IF(D69=\"\",0,ROUND(N$33*NORMDIST(C11+0.5,N$34,N$36,TRUE),0)-SUM(O$3:O10))","v":0}]
[0.5,{"v":0.3535533905932738,"d":"0.353553"},-1.5,{"$f":"IF(COUNTIF(D69:D188,-1.5)=0,\"\",COUNTIF(D69:D188,-1.5))","v":""},{"$f":"IF(COUNTIF(E69:E188,-1.5)=0,\"\",COUNTIF(E69:E188,-1.5))","v":""},{"$f":"IF(COUNTIF(F69:F188,-1.5)=0,\"\",COUNTIF(F69:F188,-1.5))","v":""},"","",{"$f":"IF(COUNTIF(I69:I188,-1.5)=0,\"\",COUNTIF(I69:I188,-1.5))","v":""},{"$f":"IF(COUNTIF(J69:J188,-1.5)=0,\"\",COUNTIF(J69:J188,-1.5))","v":""},"","","",0,{"$f":"IF(D69=\"\",0,ROUND(N$33*NORMDIST(C12+0.5,N$34,N$36,TRUE),0)-SUM(O$3:O11))","v":0}]
[1,{"v":0.7071067811865475,"d":"0.707107"},-0.5,{"$f":"IF(COUNTIF(D69:D188,-0.5)=0,\"\",COUNTIF(D69:D188,-0.5))","v":""},{"$f":"IF(COUNTIF(E69:E188,-0.5)=0,\"\",COUNTIF(E69:E188,-0.5))","v":""},{"$f":"IF(COUNTIF(F69:F188,-0.5)=0,\"\",COUNTIF(F69:F188,-0.5))","v":""},"","",{"$f":"IF(COUNTIF(I69:I188,-0.5)=0,\"\",COUNTIF(I69:I188,-0.5))","v":""},{"$f":"IF(COUNTIF(J69:J188,-0.5)=0,\"\",COUNTIF(J69:J188,-0.5))","v":""},"","","",0,{"$f":"IF(D69=\"\",0,ROUND(N$33*NORMDIST(C13+0.5,N$34,N$36,TRUE),0)-SUM(O$3:O12))","v":0}]
[2,{"v":1.4142135623730951,"d":"1.414214"},0.5,{"$f":"IF(COUNTIF(D69:D188,0.5)=0,\"\",COUNTIF(D69:D188,0.5))","v":""},{"$f":"IF(COUNTIF(E69:E188,0.5)=0,\"\",COUNTIF(E69:E188,0.5))","v":""},{"$f":"IF(COUNTIF(F69:F188,0.5)=0,\"\",COUNTIF(F69:F188,0.5))","v":""},"","",{"$f":"IF(COUNTIF(I69:I188,0.5)=0,\"\",COUNTIF(I69:I188,0.5))","v":""},{"$f":"IF(COUNTIF(J69:J188,0.5)=0,\"\",COUNTIF(J69:J188,0.5))","v":""},"","","",0,{"$f":"IF(D69=\"\",0,ROUND(N$33*NORMDIST(C14+0.5,N$34,N$36,TRUE),0)-SUM(O$3:O13))","v":0}]
[4,{"v":2.82842712474619,"d":"2.828427"},1.5,{"$f":"IF(COUNTIF(D69:D188,1.5)=0,\"\",COUNTIF(D69:D188,1.5))","v":""},{"$f":"IF(COUNTIF(E69:E188,1.5)=0,\"\",COUNTIF(E69:E188,1.5))","v":""},{"$f":"IF(COUNTIF(F69:F188,1.5)=0,\"\",COUNTIF(F69:F188,1.5))","v":""},"","",{"$f":"IF(COUNTIF(I69:I188,1.5)=0,\"\",COUNTIF(I69:I188,1.5))","v":""},{"$f":"IF(COUNTIF(J69:J188,1.5)=0,\"\",COUNTIF(J69:J188,1.5))","v":""},"","","",0,{"$f":"IF(D69=\"\",0,ROUND(N$33*NORMDIST(C15+0.5,N$34,N$36,TRUE),0)-SUM(O$3:O14))","v":0}]
[8,{"v":5.656854249492381,"d":"5.656854"},2.5,{"$f":"IF(COUNTIF(D69:D188,2.5)=0,\"\",COUNTIF(D69:D188,2.5))","v":""},{"$f":"IF(COUNTIF(E69:E188,2.5)=0,\"\",COUNTIF(E69:E188,2.5))","v":""},{"$f":"IF(COUNTIF(F69:F188,2.5)=0,\"\",COUNTIF(F69:F188,2.5))","v":""},"","",{"$f":"IF(COUNTIF(I69:I188,2.5)=0,\"\",COUNTIF(I69:I188,2.5))","v":""},{"$f":"IF(COUNTIF(J69:J188,2.5)=0,\"\",COUNTIF(J69:J188,2.5))","v":""},"","","",0,{"$f":"IF(D69=\"\",0,ROUND(N$33*NORMDIST(C16+0.5,N$34,N$36,TRUE),0)-SUM(O$3:O15))","v":0}]
[16,{"v":11.31370849898476,"d":"11.313708"},3.5,{"$f":"IF(COUNTIF(D69:D188,3.5)=0,\"\",COUNTIF(D69:D188,3.5))","v":""},{"$f":"IF(COUNTIF(E69:E188,3.5)=0,\"\",COUNTIF(E69:E188,3.5))","v":""},{"$f":"IF(COUNTIF(F69:F188,3.5)=0,\"\",COUNTIF(F69:F188,3.5))","v":""},"","",{"$f":"IF(COUNTIF(I69:I188,3.5)=0,\"\",COUNTIF(I69:I188,3.5))","v":""},{"$f":"IF(COUNTIF(J69:J188,3.5)=0,\"\",COUNTIF(J69:J188,3.5))","v":""},"","","",0,{"$f":"IF(D69=\"\",0,ROUND(N$33*NORMDIST(C17+0.5,N$34,N$36,TRUE),0)-SUM(O$3:O16))","v":0}]
[32,{"v":22.62741699796952,"d":"22.627417"},4.5,{"$f":"IF(COUNTIF(D69:D188,4.5)=0,\"\",COUNTIF(D69:D188,4.5))","v":""},{"$f":"IF(COUNTIF(E69:E188,4.5)=0,\"\",COUNTIF(E69:E188,4.5))","v":""},{"$f":"IF(COUNTIF(F69:F188,4.5)=0,\"\",COUNTIF(F69:F188,4.5))","v":""},"","",{"$f":"IF(COUNTIF(I69:I188,4.5)=0,\"\",COUNTIF(I69:I188,4.5))","v":""},{"$f":"IF(COUNTIF(J69:J188,4.5)=0,\"\",COUNTIF(J69:J188,4.5))","v":""},"","","",0,{"$f":"IF(D69=\"\",0,ROUND(N$33*NORMDIST(C18+0.5,N$34,N$36,TRUE),0)-SUM(O$3:O17))","v":0}]
[64,{"v":45.254833995939045,"d":"45.254834"},5.5,{"$f":"IF(COUNTIF(D69:D188,5.5)=0,\"\",COUNTIF(D69:D188,5.5))","v":""},{"$f":"IF(COUNTIF(E69:E188,5.5)=0,\"\",COUNTIF(E69:E188,5.5))","v":""},{"$f":"IF(COUNTIF(F69:F188,5.5)=0,\"\",COUNTIF(F69:F188,5.5))","v":""},"","",{"$f":"IF(COUNTIF(I69:I188,5.5)=0,\"\",COUNTIF(I69:I188,5.5))","v":""},{"$f":"IF(COUNTIF(J69:J188,5.5)=0,\"\",COUNTIF(J69:J188,5.5))","v":""},"","","",0,{"$f":"IF(D69=\"\",0,ROUND(N$33*NORMDIST(C19+0.5,N$34,N$36,TRUE),0)-SUM(O$3:O18))","v":0}]
[128,{"v":90.50966799187806,"d":"90.509668"},6.5,{"$f":"IF(COUNTIF(D69:D188,6.5)=0,\"\",COUNTIF(D69:D188,6.5))","v":""},{"$f":"IF(COUNTIF(E69:E188,6.5)=0,\"\",COUNTIF(E69:E188,6.5))","v":""},{"$f":"IF(COUNTIF(F69:F188,6.5)=0,\"\",COUNTIF(F69:F188,6.5))","v":""},"","",{"$f":"IF(COUNTIF(I69:I188,6.5)=0,\"\",COUNTIF(I69:I188,6.5))","v":""},{"$f":"IF(COUNTIF(J69:J188,6.5)=0,\"\",COUNTIF(J69:J188,6.5))","v":""},"","","",0,{"$f":"IF(D69=\"\",0,ROUND(N$33*NORMDIST(C20+0.5,N$34,N$36,TRUE),0)-SUM(O$3:O19))","v":0}]
[256,{"v":181.01933598375612,"d":"181.019336"},7.5,{"$f":"IF(COUNTIF(D69:D188,7.5)=0,\"\",COUNTIF(D69:D188,7.5))","v":""},{"$f":"IF(COUNTIF(E69:E188,7.5)=0,\"\",COUNTIF(E69:E188,7.5))","v":""},{"$f":"IF(COUNTIF(F69:F188,7.5)=0,\"\",COUNTIF(F69:F188,7.5))","v":""},"","",{"$f":"IF(COUNTIF(I69:I188,7.5)=0,\"\",COUNTIF(I69:I188,7.5))","v":""},{"$f":"IF(COUNTIF(J69:J188,7.5)=0,\"\",COUNTIF(J69:J188,7.5))","v":""},"","","",0,{"$f":"IF(D69=\"\",0,ROUND(N$33*NORMDIST(C21+0.5,N$34,N$36,TRUE),0)-SUM(O$3:O20))","v":0}]
[512,{"v":362.0386719675123,"d":"362.038672"},8.5,{"$f":"IF(COUNTIF(D69:D188,8.5)=0,\"\",COUNTIF(D69:D188,8.5))","v":""},{"$f":"IF(COUNTIF(E69:E188,8.5)=0,\"\",COUNTIF(E69:E188,8.5))","v":""},{"$f":"IF(COUNTIF(F69:F188,8.5)=0,\"\",COUNTIF(F69:F188,8.5))","v":""},"","",{"$f":"IF(COUNTIF(I69:I188,8.5)=0,\"\",COUNTIF(I69:I188,8.5))","v":""},{"$f":"IF(COUNTIF(J69:J188,8.5)=0,\"\",COUNTIF(J69:J188,8.5))","v":""},"","","",0,{"$f":"IF(D69=\"\",0,ROUND(N$33*NORMDIST(C22+0.5,N$34,N$36,TRUE),0)-SUM(O$3:O21))","v":0}]
[null,null,"Central Tendancy Stats","Lab 1","Lab 2","Lab 3","Lab 4","Lab 5","Lab 6","Lab 7","Lab 8","Lab 9","Lab 10","All labs","Control","Limits"]
[null,null,"Mean",{"$f":"IF(COUNT(D69:D188)=0,\"\",AVERAGE(D69:D188))","v":""},"","","","",{"$f":"IF(COUNT(I69:I188)=0,\"\",AVERAGE(I69:I188))","v":""},{"$f":"IF(COUNT(J69:J188)=0,\"\",AVERAGE(J69:J188))","v":""},"","","",{"$f":"IF(D69=\"\",\"\",AVERAGE(D69:M188))","v":""},{"$f":"IF(D69=\"\",\"\",ROUND(NORMINV(0.05,N34,N36),3))","v":""},{"$f":"IF(D69=\"\",\"\",ROUND(NORMINV(0.95,N34,N36),3))","v":""}]
["Calculated QC Range",null,"Median",{"$f":"IF(COUNT(D69:D188)=0,\"\",MEDIAN(D69:D188))","v":""},"","","","",{"$f":"IF(COUNT(I69:I188)=0,\"\",MEDIAN(I69:I188))","v":""},{"$f":"IF(COUNT(J69:J188)=0,\"\",MEDIAN(J69:J188))","v":""},"","","",{"$f":"IF(D69=\"\",\"\",MEDIAN(D69:M188))","v":""},{"$f":"IF(D69=\"\",\"\",ROUND(N51,3))","v":""},{"$f":"IF(D69=\"\",\"\",ROUND(N52,3))","v":""}]
[{"$f":"IF(N33=0,\"\",ROUND(2*N39,3)&\" to \"&ROUND(N40,3))","v":""},null,"Mode",{"$f":"IF(COUNT(D69:D188)=0,\"\",MODE(D69:D188))","v":""},"","","","",{"$f":"IF(COUNT(I69:I188)=0,\"\",MODE(I69:I188))","v":""},{"$f":"IF(COUNT(J69:J188)=0,\"\",MODE(J69:J188))","v":""},"","","",{"$f":"IF(D69=\"\",\"\",MODE(D69:M188))","v":""},{"$f":"IF(D69=\"\",\"\",N26-1)","v":""},{"$f":"IF(D69=\"\",\"\",N26+1)","v":""}]
["Dilution Range",null,null,"(Converted back to MIC)",{"$nulls":10},"Control","Limits"]
[{"$f":"IF(N33=0,\"\",LN(N40/N39)/LN(2))","v":""},null,"Mean",{"$f":"IF(COUNT(D69:D188)=0,\"\",2^(AVERAGE(D69:D188)+0.5))","v":""},"","","","",{"$f":"IF(COUNT(I69:I188)=0,\"\",2^(AVERAGE(I69:I188)+0.5))","v":""},{"$f":"IF(COUNT(J69:J188)=0,\"\",2^(AVERAGE(J69:J188)+0.5))","v":""},"","","",{"$f":"IF(D69=\"\",\"\",2^(AVERAGE(D69:M188)+0.5))","v":""},{"$f":"IF(D69=\"\",\"\",2^O24)","v":""},{"$f":"IF(D69=\"\",\"\",2^P24)","v":""}]
["% Obs. Captured",null,"Median",{"$f":"IF(COUNT(D69:D188)=0,\"\",2^(MEDIAN(D69:D188)+0.5))","v":""},"","","","",{"$f":"IF(COUNT(I69:I188)=0,\"\",2^(MEDIAN(I69:I188)+0.5))","v":""},{"$f":"IF(COUNT(J69:J188)=0,\"\",2^(MEDIAN(J69:J188)+0.5))","v":""},"","","",{"$f":"IF(D69=\"\",\"\",2^(MEDIAN(D69:M188)+0.5))","v":""},{"$f":"IF(D69=\"\",\"\",2^O25)","v":""},{"$f":"IF(D69=\"\",\"\",2^P25)","v":""}]
[{"$f":"IF(N33=0,\"\",((COUNTIF(D69:M188,\"<\"&LN(N40)/LN(2))-COUNTIF(D69:M188,\"<\"&LN(N39)/LN(2)))/N$33))","v":""},null,"Mode",{"$f":"IF(COUNT(D69:D188)=0,\"\",2^(MODE(D69:D188)+0.5))","v":""},"","","","",{"$f":"IF(COUNT(I69:I188)=0,\"\",2^(MODE(I69:I188)+0.5))","v":""},{"$f":"IF(COUNT(J69:J188)=0,\"\",2^(MODE(J69:J188)+0.5))","v":""},"","","",{"$f":"IF(D69=\"\",\"\",2^(MODE(D69:M188)+0.5))","v":""},{"$f":"IF(D69=\"\",\"\",2^O26)","v":""},{"$f":"IF(D69=\"\",\"\",2^P26)","v":""}]
["Prob'ty Outside Range"]
[{"$f":"IF(N33=0,\"\",N41+N42)","v":""},null,"Conventional Stats","Lab 1","Lab 2","Lab 3","Lab 4","Lab 5","Lab 6","Lab 7","Lab 8","Lab 9","Lab 10","All labs","Interlab"]
[null,null,"N",{"$f":"IF(COUNT(D69:D188)=0,\"\",COUNT(D69:D188))","v":""},"","","","",{"$f":"IF(COUNT(I69:I188)=0,\"\",COUNT(I69:I188))","v":""},{"$f":"IF(COUNT(J69:J188)=0,\"\",COUNT(J69:J188))","v":""},"","","",{"$f":"COUNT(D69:M188)","v":0},"CV"]
["CLSI QC Range",null,"GeoMean MIC (log2)",{"$f":"IF(COUNT(D69:D188)=0,\"\",AVERAGE(D69:D188))","v":""},"","","","",{"$f":"IF(COUNT(I69:I188)=0,\"\",AVERAGE(I69:I188))","v":""},{"$f":"IF(COUNT(J69:J188)=0,\"\",AVERAGE(J69:J188))","v":""},"","","",{"$f":"IF(D69=\"\",\"\",AVERAGE(D69:M188))","v":""},{"$f":"IF(D69=\"\",\"\",ABS(STDEVA(D34:M34)/N34))","v":""}]
[null,null,"GeoMean MIC",{"$f":"IF(COUNT(D69:D188)=0,\"\",2^D34)","v":""},"","","","",{"$f":"IF(COUNT(I69:I188)=0,\"\",2^I34)","v":""},{"$f":"IF(COUNT(J69:J188)=0,\"\",2^J34)","v":""},"","","",{"$f":"IF(D69=\"\",\"\",2^N34)","v":""}]
[null,null,"GeoSD (log2)",{"$f":"IF(COUNT(D69:D188)=0,\"\",STDEV(D69:D188))","v":""},"","","","",{"$f":"IF(COUNT(I69:I188)=0,\"\",STDEV(I69:I188))","v":""},{"$f":"IF(COUNT(J69:J188)=0,\"\",STDEV(J69:J188))","v":""},"","","",{"$f":"IF(D69=\"\",\"\",STDEV(D69:M188))","v":""}]
[{"$f":"IF(A35=\"\",\"\",ROUND(2^(A35+0.5),3)&\" to \"&ROUND(2^(A36+0.5),3))","v":""},null,"95% Lower Bound",{"$f":"IF(COUNT(D69:D188)=0,\"\",IF(D33=0,\"\",2^((NORMINV(0.025,D34,D36)))))","v":""},"","","","",{"$f":"IF(COUNT(I69:I188)=0,\"\",IF(I33=0,\"\",2^((NORMINV(0.025,I34,I36)))))","v":""},{"$f":"IF(COUNT(J69:J188)=0,\"\",IF(J33=0,\"\",2^((NORMINV(0.025,J34,J36)))))","v":""},"","","",{"$f":"IF(N33=0,\"\",2^((NORMINV(0.025,N34,N36))))","v":""}]
["Dilution Range",null,"95% Upper Bound",{"$f":"IF(COUNT(D69:D188)=0,\"\",IF(D33=0,\"\",2^(NORMINV(0.975,D34,D36))))","v":""},"","","","",{"$f":"IF(COUNT(I69:I188)=0,\"\",IF(I33=0,\"\",2^(NORMINV(0.975,I34,I36))))","v":""},{"$f":"IF(COUNT(J69:J188)=0,\"\",IF(J33=0,\"\",2^(NORMINV(0.975,J34,J36))))","v":""},"","","",{"$f":"IF(N33=0,\"\",2^(NORMINV(0.975,N34,N36)))","v":""}]
[{"$f":"IF(A35=\"\",\"\",A36-A35+1)","v":""},null,"Lower Bound Rounded Down",{"$f":"IF(COUNT(D69:D188)=0,\"\",IF(D33=0,\"\",2^(INT((NORMINV(0.025,D34,D36))))))","v":""},"","","","",{"$f":"IF(COUNT(I69:I188)=0,\"\",IF(I33=0,\"\",2^(INT((NORMINV(0.025,I34,I36))))))","v":""},{"$f":"IF(COUNT(J69:J188)=0,\"\",IF(J33=0,\"\",2^(INT((NORMINV(0.025,J34,J36))))))","v":""},"","","",{"$f":"IF(N33=0,\"\",2^(INT((NORMINV(0.025,N34,N36)))))","v":""}]
["CLSI% Obs. captured",null,"Upper Bound Rounded Up",{"$f":"IF(COUNT(D69:D188)=0,\"\",IF(D33=0,\"\",2^(INT((NORMINV(0.975,D34,D36)))+1)))","v":""},"","","","",{"$f":"IF(COUNT(I69:I188)=0,\"\",IF(I33=0,\"\",2^(INT((NORMINV(0.975,I34,I36)))+1)))","v":""},{"$f":"IF(COUNT(J69:J188)=0,\"\",IF(J33=0,\"\",2^(INT((NORMINV(0.975,J34,J36)))+1)))","v":""},"","","",{"$f":"IF(N33=0,\"\",2^(INT((NORMINV(0.975,N34,N36)))+1))","v":""}]
[{"$f":"IF(A35=0,\"\",(COUNTIF(D69:M188,\"<\"&A36+1)-COUNTIF(D69:M188,\"<\"&A35))/N$33)","v":""},null,"Probability of <=Lower Bound",{"$f":"IF(COUNT(D69:D188)=0,\"\",NORMDIST(LOG(D39)/LOG(2),D34,D36,TRUE))","v":""},"","","","",{"$f":"IF(COUNT(I69:I188)=0,\"\",NORMDIST(LOG(I39)/LOG(2),I34,I36,TRUE))","v":""},{"$f":"IF(COUNT(J69:J188)=0,\"\",NORMDIST(LOG(J39)/LOG(2),J34,J36,TRUE))","v":""},"","","",{"$f":"IF(D69=\"\",\"\",NORMDIST(LOG(N39)/LOG(2),N34,N36,TRUE))","v":""}]
[null,null,"Probability of >Upper Bound",{"$f":"IF(COUNT(D69:D188)=0,\"\",1-NORMDIST(LOG(D40)/LOG(2),D34,D36,TRUE))","v":""},"","","","",{"$f":"IF(COUNT(I69:I188)=0,\"\",1-NORMDIST(LOG(I40)/LOG(2),I34,I36,TRUE))","v":""},{"$f":"IF(COUNT(J69:J188)=0,\"\",1-NORMDIST(LOG(J40)/LOG(2),J34,J36,TRUE))","v":""},"","","",{"$f":"IF(D69=\"\",\"\",1-NORMDIST(LOG(N40)/LOG(2),N34,N36,TRUE))","v":""}]
[null,null,"New Range",{"$f":"IF(COUNT(D69:D188)=0,\"\",1-D41-D42)","v":""},"","","","",{"$f":"IF(COUNT(I69:I188)=0,\"\",1-I41-I42)","v":""},{"$f":"IF(COUNT(J69:J188)=0,\"\",1-J41-J42)","v":""},"","","",{"$f":"IF(D69=\"\",\"\",1-N41-N42)","v":""}]
[]
[null,null,"Order Stats","Lab 1","Lab 2","Lab 3","Lab 4","Lab 5","Lab 6","Lab 7","Lab 8","Lab 9","Lab 10","All labs","Interlab"]
[null,null,"25th %ile",{"$f":"IF(COUNT(D69:D188)=0,\"\",QUARTILE(D69:D188,1))","v":""},"","","","",{"$f":"IF(COUNT(I69:I188)=0,\"\",QUARTILE(I69:I188,1))","v":""},{"$f":"IF(COUNT(J69:J188)=0,\"\",QUARTILE(J69:J188,1))","v":""},"","","",{"$f":"IF(D69=\"\",\"\",QUARTILE(D69:M188,1))","v":""},"CV"]
[null,null,"75th %ile",{"$f":"IF(COUNT(D69:D188)=0,\"\",QUARTILE(D69:D188,3))","v":""},"","","","",{"$f":"IF(COUNT(I69:I188)=0,\"\",QUARTILE(I69:I188,3))","v":""},{"$f":"IF(COUNT(J69:J188)=0,\"\",QUARTILE(J69:J188,3))","v":""},"","","",{"$f":"IF(D69=\"\",\"\",QUARTILE(D69:M188,3))","v":""},{"$f":"IF(D69=\"\",\"\",ABS(N48/N25))","v":""}]
[null,null,"Interquartile Range",{"$f":"IF(COUNT(D69:D188)=0,\"\",IF(D47-D46=0,1,D47-D46))","v":""},"","","","",{"$f":"IF(COUNT(I69:I188)=0,\"\",IF(I47-I46=0,1,I47-I46))","v":""},{"$f":"IF(COUNT(J69:J188)=0,\"\",IF(J47-J46=0,1,J47-J46))","v":""},"","","",{"$f":"IF(D69=\"\",\"\",IF(N47-N46=0,1,N47-N46))","v":""}]
[null,null,"Minimum",{"$f":"IF(COUNT(D69:D188)=0,\"\",MIN(D69:D188))","v":""},"","","","",{"$f":"IF(COUNT(I69:I188)=0,\"\",MIN(I69:I188))","v":""},{"$f":"IF(COUNT(J69:J188)=0,\"\",MIN(J69:J188))","v":""},"","","",{"$f":"IF(D69=\"\",\"\",MIN(D69:M188))","v":""}]
[null,null,"Maximum",{"$f":"IF(COUNT(D69:D188)=0,\"\",MAX(D69:D188))","v":""},"","","","",{"$f":"IF(COUNT(I69:I188)=0,\"\",MAX(I69:I188))","v":""},{"$f":"IF(COUNT(J69:J188)=0,\"\",MAX(J69:J188))","v":""},"","","",{"$f":"IF(D69=\"\",\"\",MAX(D69:M188))","v":""}]
[null,null,"Lower Inner Fence",{"$f":"IF(COUNT(D69:D188)=0,\"\",D$46-1.5*D$48)","v":""},"","","","",{"$f":"IF(COUNT(I69:I188)=0,\"\",I$46-1.5*I$48)","v":""},{"$f":"IF(COUNT(J69:J188)=0,\"\",J$46-1.5*J$48)","v":""},"","","",{"$f":"IF(D69=\"\",\"\",N$46-1.5*N$48)","v":""}]
[null,null,"Upper Inner Fence",{"$f":"IF(COUNT(D69:D188)=0,\"\",D$47+1.5*D$48)","v":""},"","","","",{"$f":"IF(COUNT(I69:I188)=0,\"\",I$47+1.5*I$48)","v":""},{"$f":"IF(COUNT(J69:J188)=0,\"\",J$47+1.5*J$48)","v":""},"","","",{"$f":"IF(D69=\"\",\"\",N$47+1.5*N$48)","v":""}]
[null,null,"Lower Outer Fence",{"$f":"IF(COUNT(D69:D188)=0,\"\",D$46-3*D$48)","v":""},"","","","",{"$f":"IF(COUNT(I69:I188)=0,\"\",I$46-3*I$48)","v":""},{"$f":"IF(COUNT(J69:J188)=0,\"\",J$46-3*J$48)","v":""},"","","",{"$f":"IF(D69=\"\",\"\",N$46-3*N$48)","v":""}]
[null,null,"Upper Outer Fence",{"$f":"IF(COUNT(D69:D188)=0,\"\",D$47+3*D$48)","v":""},"","","","",{"$f":"IF(COUNT(I69:I188)=0,\"\",I$47+3*I$48)","v":""},{"$f":"IF(COUNT(J69:J188)=0,\"\",J$47+3*J$48)","v":""},"","","",{"$f":"IF(D69=\"\",\"\",N$47+3*N$48)","v":""}]
[null,null,"Lower Near Outliers",{"$f":"IF(COUNT(D69:D188)=0,\"\",COUNTIF(D69:D188,\"<\"&D51))","v":""},"","","","",{"$f":"IF(COUNT(I69:I188)=0,\"\",COUNTIF(I69:I188,\"<\"&I51))","v":""},{"$f":"IF(COUNT(J69:J188)=0,\"\",COUNTIF(J69:J188,\"<\"&J51))","v":""},"","","",{"$f":"IF(D69=\"\",\"\",COUNTIF(D69:M188,\"<\"&N51)-N57)","v":""}]
[null,null,"Upper Near Outliers",{"$f":"IF(COUNT(D69:D188)=0,\"\",COUNTIF(D69:D188,\">\"&D52))","v":""},"","","","",{"$f":"IF(COUNT(I69:I188)=0,\"\",COUNTIF(I69:I188,\">\"&I52))","v":""},{"$f":"IF(COUNT(J69:J188)=0,\"\",COUNTIF(J69:J188,\">\"&J52))","v":""},"","","",{"$f":"IF(D69=\"\",\"\",COUNTIF(D69:M188,\">\"&N52)-N58)","v":""}]
[null,null,"Lower Extreme Outliers",{"$f":"IF(COUNT(D69:D188)=0,\"\",COUNTIF(D69:D188,\"<\"&D53))","v":""},"","","","",{"$f":"IF(COUNT(I69:I188)=0,\"\",COUNTIF(I69:I188,\"<\"&I53))","v":""},{"$f":"IF(COUNT(J69:J188)=0,\"\",COUNTIF(J69:J188,\"<\"&J53))","v":""},"","","",{"$f":"IF(D69=\"\",\"\",COUNTIF(D69:M188,\"<\"&N53))","v":""}]
[null,null,"Upper Extreme Outliers",{"$f":"IF(COUNT(D69:D188)=0,\"\",COUNTIF(D69:D188,\">\"&D54))","v":""},"","","","",{"$f":"IF(COUNT(I69:I188)=0,\"\",COUNTIF(I69:I188,\">\"&I54))","v":""},{"$f":"IF(COUNT(J69:J188)=0,\"\",COUNTIF(J69:J188,\">\"&J54))","v":""},"","","",{"$f":"IF(D69=\"\",\"\",COUNTIF(D69:M188,\">\"&N54))","v":""}]
[]
[null,null,"Chart Control Limits","Lab 1","Lab 2","Lab 3","Lab 4","Lab 5","Lab 6","Lab 7","Lab 8","Lab 9","Lab 10"]
[null,"Mean","Lower CL",{"$f":"$O$24","v":""},{"$f":"$O$24","v":""},"","","","","","","",""]
[null,null,"Upper CL",{"$f":"$P$24","v":""},{"$f":"$P$24","v":""},"","","","","","","",""]
[null,"Median","Lower CL",{"$f":"$O$25","v":""},{"$f":"$O$25","v":""},"","","","","","","",""]
[null,null,"Upper CL",{"$f":"$P$25","v":""},{"$f":"$P$25","v":""},"","","","","","","",""]
[null,"Mode","Lower CL",{"$f":"$O$26","v":""},{"$f":"$O$26","v":""},"","","","","","","",""]
[null,null,"Upper CL",{"$f":"$P$26","v":""},{"$f":"$P$26","v":""},"","","","","","","",""]
[]
[null,null,"Log2 Converted Raw Data","Lab 1","Lab 2","Lab 3","Lab 4","Lab 5","Lab 6","Lab 7","Lab 8","Lab 9","Lab 10","Control","Limits"]
[null,null,"Media Lot 1",{"$f":"IF(D191=\"\",\"\",LOOKUP(D191,$A$3:$A$22,$C$3:$C$22))","v":""},"","","","",{"$f":"IF(I191=\"\",\"\",LOOKUP(I191,$A$3:$A$22,$C$3:$C$22))","v":""},"","","","",{"$f":"IF(D69=\"\",\"\",LN($N$39)/LN(2))","v":""},{"$f":"IF(D69=\"\",\"\",LN($N$40)/LN(2)-0.5)","v":""}]
[{"$nulls":3},"","","","","","","","","",""]
[{"$nulls":3},"","","","","","","","","",""]
[{"$nulls":3},"","","","","","","","","",""]
[{"$nulls":3},{"$f":"IF(D195=\"\",\"\",LOOKUP(D195,$A$3:$A$22,$C$3:$C$22))","v":""},"","","","","","","","",""]
[{"$nulls":3},"","","","","","","","","",""]
[{"$nulls":3},"","","","","","","","","",""]
[{"$nulls":3},"","","","","","","","","",""]
[{"$nulls":3},"","","","","","","","","",""]
[{"$nulls":3},"","","","","","","","","",""]
[{"$nulls":3},{"$f":"IF(D201=\"\",\"\",LOOKUP(D201,$A$3:$A$22,$C$3:$C$22))","v":""},"","","","",{"$f":"IF(I201=\"\",\"\",LOOKUP(I201,$A$3:$A$22,$C$3:$C$22))","v":""},"","","",""]
[{"$nulls":3},"","","","","","","","","",""]
[{"$nulls":3},{"$f":"IF(D203=\"\",\"\",LOOKUP(D203,$A$3:$A$22,$C$3:$C$22))","v":""},"","","","","","","","",""]
[{"$nulls":3},"","","","","","","","","",""]
[{"$nulls":3},"","","","","","","","","",""]
[{"$nulls":3},"","","","","","","","","",""]
[{"$nulls":3},"","","","","","","","","",""]
[{"$nulls":3},"","","","","","","","","",""]
[{"$nulls":3},"","","","","","","","","",""]
[{"$nulls":3},"","","","","","","","","",""]
[{"$nulls":3},{"$f":"IF(D211=\"\",\"\",LOOKUP(D211,$A$3:$A$22,$C$3:$C$22))","v":""},"","","","",{"$f":"IF(I211=\"\",\"\",LOOKUP(I211,$A$3:$A$22,$C$3:$C$22))","v":""},"","","",""]
[{"$nulls":3},"","","","","","","","","",""]
[{"$nulls":3},"","","","","","","","","",""]
[{"$nulls":3},"","","","","","","","","",""]
[{"$nulls":3},"","","","","","","","","",""]
[{"$nulls":3},"","","","","","","","","",""]
[{"$nulls":3},"","","","","","","","","",""]
[{"$nulls":3},"","","","","","","","","",""]
[{"$nulls":3},"","","","","","","","","",""]
[{"$nulls":3},"","","","","","","","","",""]
[{"$nulls":3},"","","","","",{"$f":"IF(I221=\"\",\"\",LOOKUP(I221,$A$3:$A$22,$C$3:$C$22))","v":""},"","","",""]
[{"$nulls":3},"","","","","","","","","",""]
[{"$nulls":3},"","","","","","","","","",""]
[{"$nulls":3},"","","","","","","","","",""]
[{"$nulls":3},"","","","","","","","","",""]
[{"$nulls":3},"","","","","","","","","",""]
[{"$nulls":3},{"$f":"IF(D227=\"\",\"\",LOOKUP(D227,$A$3:$A$22,$C$3:$C$22))","v":""},"","","","","","","","",""]
[{"$nulls":3},"","","","","","","","","",""]
[{"$nulls":3},"","","","","","","","","",""]
[{"$nulls":3},"","","","","","","","","",""]
[null,null,"Media Lot 2","","","","","",{"$f":"IF(I231=\"\",\"\",LOOKUP(I231,$A$3:$A$22,$C$3:$C$22))","v":""},"","","",""]
[{"$nulls":3},"","","","","","","","","",""]
[{"$nulls":3},"","","","","","","","","",""]
[{"$nulls":3},"","","","","","","","","",""]
[{"$nulls":3},"","","","","","","","","",""]
[{"$nulls":3},"","","","","","","","","",""]
[{"$nulls":3},"","","","","","","","","",""]
[{"$nulls":3},"","","","","","","","","",""]
[{"$nulls":3},"","","","","","","","","",""]
[{"$nulls":3},"","","","","","","","","",""]
[{"$nulls":3},"","","","","",{"$f":"IF(I241=\"\",\"\",LOOKUP(I241,$A$3:$A$22,$C$3:$C$22))","v":""},"","","",""]
[{"$nulls":3},"","","","","","","","","",""]
[{"$nulls":3},{"$f":"IF(D243=\"\",\"\",LOOKUP(D243,$A$3:$A$22,$C$3:$C$22))","v":""},"","","","","","","","",""]
[{"$nulls":3},"","","","","","","","","",""]
[{"$nulls":3},"","","","","","","","","",""]
[{"$nulls":3},"","","","","","","","","",""]
[{"$nulls":3},"","","","","","","","","",""]
[{"$nulls":3},"","","","","","","","","",""]
[{"$nulls":3},"","","","","","","","","",""]
[{"$nulls":3},"","","","","","","","","",""]
[{"$nulls":3},"","","","","",{"$f":"IF(I251=\"\",\"\",LOOKUP(I251,$A$3:$A$22,$C$3:$C$22))","v":""},"","","",""]
[{"$nulls":3},"","","","","","","","","",""]
[{"$nulls":3},"","","","","","","","","",""]
[{"$nulls":3},"","","","","","","","","",""]
[{"$nulls":3},"","","","","","","","","",""]
[{"$nulls":3},"","","","","","","","","",""]
[{"$nulls":3},"","","","","","","","","",""]
[{"$nulls":3},"","","","","","","","","",""]
[{"$nulls":3},{"$f":"IF(D259=\"\",\"\",LOOKUP(D259,$A$3:$A$22,$C$3:$C$22))","v":""},"","","","","","","","",""]
[{"$nulls":3},"","","","","","","","","",""]
[{"$nulls":3},"","","","","",{"$f":"IF(I261=\"\",\"\",LOOKUP(I261,$A$3:$A$22,$C$3:$C$22))","v":""},"","","",""]
[{"$nulls":3},"","","","","","","","","",""]
[{"$nulls":3},"","","","","","","","","",""]
[{"$nulls":3},"","","","","","","","","",""]
[{"$nulls":3},"","","","","","","","","",""]
[{"$nulls":3},"","","","","","","","","",""]
[{"$nulls":3},"","","","","","","","","",""]
[{"$nulls":3},"","","","","","","","","",""]
[{"$nulls":3},"","","","","","","","","",""]
[{"$nulls":3},"","","","","","","","","",""]
[null,null,"Media Lot 3","","","","","",{"$f":"IF(I271=\"\",\"\",LOOKUP(I271,$A$3:$A$22,$C$3:$C$22))","v":""},"","","",""]
[{"$nulls":3},"","","","","","","","","",""]
[{"$nulls":3},"","","","","","","","","",""]
[{"$nulls":3},"","","","","","","","","",""]
[{"$nulls":3},{"$f":"IF(D275=\"\",\"\",LOOKUP(D275,$A$3:$A$22,$C$3:$C$22))","v":""},"","","","","","","","",""]
[{"$nulls":3},"","","","","","","","","",""]
[{"$nulls":3},"","","","","","","","","",""]
[{"$nulls":3},"","","","","","","","","",""]
[{"$nulls":3},"","","","","","","","","",""]
[{"$nulls":3},"","","","","","","","","",""]
[{"$nulls":3},"","","","","",{"$f":"IF(I281=\"\",\"\",LOOKUP(I281,$A$3:$A$22,$C$3:$C$22))","v":""},"","","",""]
[{"$nulls":3},"","","","","","","","","",""]
[{"$nulls":3},"","","","","","","","","",""]
[{"$nulls":3},"","","","","","","","","",""]
[{"$nulls":3},"","","","","","","","","",""]
[{"$nulls":3},"","","","","","","","","",""]
[{"$nulls":3},"","","","","","","","","",""]
[{"$nulls":3},"","","","","","","","","",""]
[{"$nulls":3},"","","","","","","","","",""]
[{"$nulls":3},"","","","","","","","","",""]
[{"$nulls":3},{"$f":"IF(D291=\"\",\"\",LOOKUP(D291,$A$3:$A$22,$C$3:$C$22))","v":""},"","","","",{"$f":"IF(I291=\"\",\"\",LOOKUP(I291,$A$3:$A$22,$C$3:$C$22))","v":""},"","","",""]
[{"$nulls":3},"","","","","","","","","",""]
[{"$nulls":3},"","","","","","","","","",""]
[{"$nulls":3},"","","","","","","","","",""]
[{"$nulls":3},"","","","","","","","","",""]
[{"$nulls":3},"","","","","","","","","",""]
[{"$nulls":3},"","","","","","","","","",""]
[{"$nulls":3},"","","","","","","","","",""]
[{"$nulls":3},"","","","","","","","","",""]
[{"$nulls":3},"","","","","","","","","",""]
[{"$nulls":3},"","","","","",{"$f":"IF(I301=\"\",\"\",LOOKUP(I301,$A$3:$A$22,$C$3:$C$22))","v":""},"","","",""]
[{"$nulls":3},"","","","","","","","","",""]
[{"$nulls":3},"","","","","","","","","",""]
[{"$nulls":3},"","","","","","","","","",""]
[{"$nulls":3},"","","","","","","","","",""]
[{"$nulls":3},"","","","","","","","","",""]
[{"$nulls":3},{"$f":"IF(D307=\"\",\"\",LOOKUP(D307,$A$3:$A$22,$C$3:$C$22))","v":""},"","","","","","","","",""]
[{"$nulls":3},"","","","","","","","","",""]
[{"$nulls":3},"","","","","","","","","",""]
[{"$nulls":3},"","","","","","","","","",""]
[]
[null,null,"Raw Data Entry","Lab 1","Lab 2","Lab 3","Lab 4","Lab 5","Lab 6","Lab 7","Lab 8","Lab 9","Lab 10"]
[null,null,"Media Lot 1"]
{"$rows_empty":39}
[null,null,"Media Lot 2"]
{"$rows_empty":39}
[null,null,"Media Lot 3"]

{"sheet":"Strain 3 control","index":9,"n_rows":271,"n_cols":16,"rows_kept":271,"merged":[[0,4,0,6]]}
[{"$f":"'Range Summary'!D2","v":"QC3"},{"$f":"'Range Summary'!B17","v":"Control"},"Control",null,"Go to Raw Data Entry area"]
["MIC","Midpoint MIC","Mid Log2MIC","Lab 1","Lab 2","Lab 3","Lab 4","Lab 5","Lab 6","Lab 7","Lab 8","Lab 9","Lab 10","All labs","Norm"]
[{"v":1E-3,"d":"0.001"},{"$f":"2^C3","v":{"v":6.9053396600248776E-4,"d":"0.000691"}},-10.5,{"$f":"IF(COUNTIF(D69:D188,-10.5)=0,\"\",COUNTIF(D69:D188,-10.5))","v":""},{"$f":"IF(COUNTIF(E69:E188,-10.5)=0,\"\",COUNTIF(E69:E188,-10.5))","v":""},{"$f":"IF(COUNTIF(F69:F188,-10.5)=0,\"\",COUNTIF(F69:F188,-10.5))","v":""},"","",{"$f":"IF(COUNTIF(I69:I188,-10.5)=0,\"\",COUNTIF(I69:I188,-10.5))","v":""},{"$f":"IF(COUNTIF(J69:J188,-10.5)=0,\"\",COUNTIF(J69:J188,-10.5))","v":""},"","","",{"$f":"SUM(D3:M3)","v":0},{"$f":"IF(D69=\"\",0,ROUND(N$33*NORMDIST(C3+0.5,N$34,N$36,TRUE),0))","v":0}]
[{"v":2E-3,"d":"0.002"},{"$f":"2^C4","v":{"v":1.3810679320049757E-3,"d":"0.001381"}},-9.5,{"$f":"IF(COUNTIF(D69:D188,-9.5)=0,\"\",COUNTIF(D69:D188,-9.5))","v":""},{"$f":"IF(COUNTIF(E69:E188,-9.5)=0,\"\",COUNTIF(E69:E188,-9.5))","v":""},{"$f":"IF(COUNTIF(F69:F188,-9.5)=0,\"\",COUNTIF(F69:F188,-9.5))","v":""},"","",{"$f":"IF(COUNTIF(I69:I188,-9.5)=0,\"\",COUNTIF(I69:I188,-9.5))","v":""},{"$f":"IF(COUNTIF(J69:J188,-9.5)=0,\"\",COUNTIF(J69:J188,-9.5))","v":""},"","","",0,{"$f":"IF(D69=\"\",0,ROUND(N$33*NORMDIST(C4+0.5,N$34,N$36,TRUE),0)-SUM(O2:O$3))","v":0}]
[0.004,{"v":2.7621358640099515E-3,"d":"0.002762"},-8.5,{"$f":"IF(COUNTIF(D69:D188,-8.5)=0,\"\",COUNTIF(D69:D188,-8.5))","v":""},{"$f":"IF(COUNTIF(E69:E188,-8.5)=0,\"\",COUNTIF(E69:E188,-8.5))","v":""},{"$f":"IF(COUNTIF(F69:F188,-8.5)=0,\"\",COUNTIF(F69:F188,-8.5))","v":""},"","",{"$f":"IF(COUNTIF(I69:I188,-8.5)=0,\"\",COUNTIF(I69:I188,-8.5))","v":""},{"$f":"IF(COUNTIF(J69:J188,-8.5)=0,\"\",COUNTIF(J69:J188,-8.5))","v":""},"","","",0,{"$f":"IF(D69=\"\",0,ROUND(N$33*NORMDIST(C5+0.5,N$34,N$36,TRUE),0)-SUM(O$3:O3))","v":0}]
[0.008,{"v":0.005524271728019904,"d":"0.005524"},-7.5,{"$f":"IF(COUNTIF(D69:D188,-7.5)=0,\"\",COUNTIF(D69:D188,-7.5))","v":""},{"$f":"IF(COUNTIF(E69:E188,-7.5)=0,\"\",COUNTIF(E69:E188,-7.5))","v":""},{"$f":"IF(COUNTIF(F69:F188,-7.5)=0,\"\",COUNTIF(F69:F188,-7.5))","v":""},"","",{"$f":"IF(COUNTIF(I69:I188,-7.5)=0,\"\",COUNTIF(I69:I188,-7.5))","v":""},{"$f":"IF(COUNTIF(J69:J188,-7.5)=0,\"\",COUNTIF(J69:J188,-7.5))","v":""},"","","",{"$f":"SUM(D6:M6)","v":0},{"$f":"IF(D69=\"\",0,ROUND(N$33*NORMDIST(C6+0.5,N$34,N$36,TRUE),0)-SUM(O$3:O5))","v":0}]
[0.016,{"v":0.011048543456039808,"d":"0.011049"},-6.5,{"$f":"IF(COUNTIF(D69:D188,-6.5)=0,\"\",COUNTIF(D69:D188,-6.5))","v":""},{"$f":"IF(COUNTIF(E69:E188,-6.5)=0,\"\",COUNTIF(E69:E188,-6.5))","v":""},{"$f":"IF(COUNTIF(F69:F188,-6.5)=0,\"\",COUNTIF(F69:F188,-6.5))","v":""},"","",{"$f":"IF(COUNTIF(I69:I188,-6.5)=0,\"\",COUNTIF(I69:I188,-6.5))","v":""},{"$f":"IF(COUNTIF(J69:J188,-6.5)=0,\"\",COUNTIF(J69:J188,-6.5))","v":""},"","","",0,{"$f":"IF(D69=\"\",0,ROUND(N$33*NORMDIST(C7+0.5,N$34,N$36,TRUE),0)-SUM(O$3:O6))","v":0}]
[0.03,{"v":0.022097086912079608,"d":"0.022097"},-5.5,{"$f":"IF(COUNTIF(D69:D188,-5.5)=0,\"\",COUNTIF(D69:D188,-5.5))","v":""},{"$f":"IF(COUNTIF(E69:E188,-5.5)=0,\"\",COUNTIF(E69:E188,-5.5))","v":""},{"$f":"IF(COUNTIF(F69:F188,-5.5)=0,\"\",COUNTIF(F69:F188,-5.5))","v":""},"","",{"$f":"IF(COUNTIF(I69:I188,-5.5)=0,\"\",COUNTIF(I69:I188,-5.5))","v":""},{"$f":"IF(COUNTIF(J69:J188,-5.5)=0,\"\",COUNTIF(J69:J188,-5.5))","v":""},"","","",0,{"$f":"IF(D69=\"\",0,ROUND(N$33*NORMDIST(C8+0.5,N$34,N$36,TRUE),0)-SUM(O$3:O7))","v":0}]
[0.06,{"v":0.04419417382415922,"d":"0.044194"},-4.5,{"$f":"IF(COUNTIF(D69:D188,-4.5)=0,\"\",COUNTIF(D69:D188,-4.5))","v":""},{"$f":"IF(COUNTIF(E69:E188,-4.5)=0,\"\",COUNTIF(E69:E188,-4.5))","v":""},{"$f":"IF(COUNTIF(F69:F188,-4.5)=0,\"\",COUNTIF(F69:F188,-4.5))","v":""},"","",{"$f":"IF(COUNTIF(I69:I188,-4.5)=0,\"\",COUNTIF(I69:I188,-4.5))","v":""},{"$f":"IF(COUNTIF(J69:J188,-4.5)=0,\"\",COUNTIF(J69:J188,-4.5))","v":""},"","","",0,{"$f":"IF(D69=\"\",0,ROUND(N$33*NORMDIST(C9+0.5,N$34,N$36,TRUE),0)-SUM(O$3:O8))","v":0}]
[0.13,{"v":0.08838834764831845,"d":"0.088388"},-3.5,{"$f":"IF(COUNTIF(D69:D188,-3.5)=0,\"\",COUNTIF(D69:D188,-3.5))","v":""},{"$f":"IF(COUNTIF(E69:E188,-3.5)=0,\"\",COUNTIF(E69:E188,-3.5))","v":""},{"$f":"IF(COUNTIF(F69:F188,-3.5)=0,\"\",COUNTIF(F69:F188,-3.5))","v":""},"","",{"$f":"IF(COUNTIF(I69:I188,-3.5)=0,\"\",COUNTIF(I69:I188,-3.5))","v":""},{"$f":"IF(COUNTIF(J69:J188,-3.5)=0,\"\",COUNTIF(J69:J188,-3.5))","v":""},"","","",0,{"$f":"IF(D69=\"\",0,ROUND(N$33*NORMDIST(C10+0.5,N$34,N$36,TRUE),0)-SUM(O$3:O9))","v":0}]
[0.25,{"v":0.17677669529663687,"d":"0.176777"},-2.5,{"$f":"IF(COUNTIF(D69:D188,-2.5)=0,\"\",COUNTIF(D69:D188,-2.5))","v":""},{"$f":"IF(COUNTIF(E69:E188,-2.5)=0,\"\",COUNTIF(E69:E188,-2.5))","v":""},{"$f":"IF(COUNTIF(F69:F188,-2.5)=0,\"\",COUNTIF(F69:F188,-2.5))","v":""},"","",{"$f":"IF(COUNTIF(I69:I188,-2.5)=0,\"\",COUNTIF(I69:I188,-2.5))","v":""},{"$f":"IF(COUNTIF(J69:J188,-2.5)=0,\"\",COUNTIF(J69:J188,-2.5))","v":""},"","","",0,{"$f":"IF(D69=\"\",0,ROUND(N$33*NORMDIST(C11+0.5,N$34,N$36,TRUE),0)-SUM(O$3:O10))","v":0}]
[0.5,{"v":0.3535533905932738,"d":"0.353553"},-1.5,{"$f":"IF(COUNTIF(D69:D188,-1.5)=0,\"\",COUNTIF(D69:D188,-1.5))","v":""},{"$f":"IF(COUNTIF(E69:E188,-1.5)=0,\"\",COUNTIF(E69:E188,-1.5))","v":""},{"$f":"IF(COUNTIF(F69:F188,-1.5)=0,\"\",COUNTIF(F69:F188,-1.5))","v":""},"","",{"$f":"IF(COUNTIF(I69:I188,-1.5)=0,\"\",COUNTIF(I69:I188,-1.5))","v":""},{"$f":"IF(COUNTIF(J69:J188,-1.5)=0,\"\",COUNTIF(J69:J188,-1.5))","v":""},"","","",0,{"$f":"IF(D69=\"\",0,ROUND(N$33*NORMDIST(C12+0.5,N$34,N$36,TRUE),0)-SUM(O$3:O11))","v":0}]
[1,{"v":0.7071067811865475,"d":"0.707107"},-0.5,{"$f":"IF(COUNTIF(D69:D188,-0.5)=0,\"\",COUNTIF(D69:D188,-0.5))","v":""},{"$f":"IF(COUNTIF(E69:E188,-0.5)=0,\"\",COUNTIF(E69:E188,-0.5))","v":""},{"$f":"IF(COUNTIF(F69:F188,-0.5)=0,\"\",COUNTIF(F69:F188,-0.5))","v":""},"","",{"$f":"IF(COUNTIF(I69:I188,-0.5)=0,\"\",COUNTIF(I69:I188,-0.5))","v":""},{"$f":"IF(COUNTIF(J69:J188,-0.5)=0,\"\",COUNTIF(J69:J188,-0.5))","v":""},"","","",0,{"$f":"IF(D69=\"\",0,ROUND(N$33*NORMDIST(C13+0.5,N$34,N$36,TRUE),0)-SUM(O$3:O12))","v":0}]
[2,{"v":1.4142135623730951,"d":"1.414214"},0.5,{"$f":"IF(COUNTIF(D69:D188,0.5)=0,\"\",COUNTIF(D69:D188,0.5))","v":""},{"$f":"IF(COUNTIF(E69:E188,0.5)=0,\"\",COUNTIF(E69:E188,0.5))","v":""},{"$f":"IF(COUNTIF(F69:F188,0.5)=0,\"\",COUNTIF(F69:F188,0.5))","v":""},"","",{"$f":"IF(COUNTIF(I69:I188,0.5)=0,\"\",COUNTIF(I69:I188,0.5))","v":""},{"$f":"IF(COUNTIF(J69:J188,0.5)=0,\"\",COUNTIF(J69:J188,0.5))","v":""},"","","",0,{"$f":"IF(D69=\"\",0,ROUND(N$33*NORMDIST(C14+0.5,N$34,N$36,TRUE),0)-SUM(O$3:O13))","v":0}]
[4,{"v":2.82842712474619,"d":"2.828427"},1.5,{"$f":"IF(COUNTIF(D69:D188,1.5)=0,\"\",COUNTIF(D69:D188,1.5))","v":""},{"$f":"IF(COUNTIF(E69:E188,1.5)=0,\"\",COUNTIF(E69:E188,1.5))","v":""},{"$f":"IF(COUNTIF(F69:F188,1.5)=0,\"\",COUNTIF(F69:F188,1.5))","v":""},"","",{"$f":"IF(COUNTIF(I69:I188,1.5)=0,\"\",COUNTIF(I69:I188,1.5))","v":""},{"$f":"IF(COUNTIF(J69:J188,1.5)=0,\"\",COUNTIF(J69:J188,1.5))","v":""},"","","",0,{"$f":"IF(D69=\"\",0,ROUND(N$33*NORMDIST(C15+0.5,N$34,N$36,TRUE),0)-SUM(O$3:O14))","v":0}]
[8,{"v":5.656854249492381,"d":"5.656854"},2.5,{"$f":"IF(COUNTIF(D69:D188,2.5)=0,\"\",COUNTIF(D69:D188,2.5))","v":""},{"$f":"IF(COUNTIF(E69:E188,2.5)=0,\"\",COUNTIF(E69:E188,2.5))","v":""},{"$f":"IF(COUNTIF(F69:F188,2.5)=0,\"\",COUNTIF(F69:F188,2.5))","v":""},"","",{"$f":"IF(COUNTIF(I69:I188,2.5)=0,\"\",COUNTIF(I69:I188,2.5))","v":""},{"$f":"IF(COUNTIF(J69:J188,2.5)=0,\"\",COUNTIF(J69:J188,2.5))","v":""},"","","",0,{"$f":"IF(D69=\"\",0,ROUND(N$33*NORMDIST(C16+0.5,N$34,N$36,TRUE),0)-SUM(O$3:O15))","v":0}]
[16,{"v":11.31370849898476,"d":"11.313708"},3.5,{"$f":"IF(COUNTIF(D69:D188,3.5)=0,\"\",COUNTIF(D69:D188,3.5))","v":""},{"$f":"IF(COUNTIF(E69:E188,3.5)=0,\"\",COUNTIF(E69:E188,3.5))","v":""},{"$f":"IF(COUNTIF(F69:F188,3.5)=0,\"\",COUNTIF(F69:F188,3.5))","v":""},"","",{"$f":"IF(COUNTIF(I69:I188,3.5)=0,\"\",COUNTIF(I69:I188,3.5))","v":""},{"$f":"IF(COUNTIF(J69:J188,3.5)=0,\"\",COUNTIF(J69:J188,3.5))","v":""},"","","",0,{"$f":"IF(D69=\"\",0,ROUND(N$33*NORMDIST(C17+0.5,N$34,N$36,TRUE),0)-SUM(O$3:O16))","v":0}]
[32,{"v":22.62741699796952,"d":"22.627417"},4.5,{"$f":"IF(COUNTIF(D69:D188,4.5)=0,\"\",COUNTIF(D69:D188,4.5))","v":""},{"$f":"IF(COUNTIF(E69:E188,4.5)=0,\"\",COUNTIF(E69:E188,4.5))","v":""},{"$f":"IF(COUNTIF(F69:F188,4.5)=0,\"\",COUNTIF(F69:F188,4.5))","v":""},"","",{"$f":"IF(COUNTIF(I69:I188,4.5)=0,\"\",COUNTIF(I69:I188,4.5))","v":""},{"$f":"IF(COUNTIF(J69:J188,4.5)=0,\"\",COUNTIF(J69:J188,4.5))","v":""},"","","",0,{"$f":"IF(D69=\"\",0,ROUND(N$33*NORMDIST(C18+0.5,N$34,N$36,TRUE),0)-SUM(O$3:O17))","v":0}]
[64,{"v":45.254833995939045,"d":"45.254834"},5.5,{"$f":"IF(COUNTIF(D69:D188,5.5)=0,\"\",COUNTIF(D69:D188,5.5))","v":""},{"$f":"IF(COUNTIF(E69:E188,5.5)=0,\"\",COUNTIF(E69:E188,5.5))","v":""},{"$f":"IF(COUNTIF(F69:F188,5.5)=0,\"\",COUNTIF(F69:F188,5.5))","v":""},"","",{"$f":"IF(COUNTIF(I69:I188,5.5)=0,\"\",COUNTIF(I69:I188,5.5))","v":""},{"$f":"IF(COUNTIF(J69:J188,5.5)=0,\"\",COUNTIF(J69:J188,5.5))","v":""},"","","",0,{"$f":"IF(D69=\"\",0,ROUND(N$33*NORMDIST(C19+0.5,N$34,N$36,TRUE),0)-SUM(O$3:O18))","v":0}]
[128,{"v":90.50966799187806,"d":"90.509668"},6.5,{"$f":"IF(COUNTIF(D69:D188,6.5)=0,\"\",COUNTIF(D69:D188,6.5))","v":""},{"$f":"IF(COUNTIF(E69:E188,6.5)=0,\"\",COUNTIF(E69:E188,6.5))","v":""},{"$f":"IF(COUNTIF(F69:F188,6.5)=0,\"\",COUNTIF(F69:F188,6.5))","v":""},"","",{"$f":"IF(COUNTIF(I69:I188,6.5)=0,\"\",COUNTIF(I69:I188,6.5))","v":""},{"$f":"IF(COUNTIF(J69:J188,6.5)=0,\"\",COUNTIF(J69:J188,6.5))","v":""},"","","",0,{"$f":"IF(D69=\"\",0,ROUND(N$33*NORMDIST(C20+0.5,N$34,N$36,TRUE),0)-SUM(O$3:O19))","v":0}]
[256,{"v":181.01933598375612,"d":"181.019336"},7.5,{"$f":"IF(COUNTIF(D69:D188,7.5)=0,\"\",COUNTIF(D69:D188,7.5))","v":""},{"$f":"IF(COUNTIF(E69:E188,7.5)=0,\"\",COUNTIF(E69:E188,7.5))","v":""},{"$f":"IF(COUNTIF(F69:F188,7.5)=0,\"\",COUNTIF(F69:F188,7.5))","v":""},"","",{"$f":"IF(COUNTIF(I69:I188,7.5)=0,\"\",COUNTIF(I69:I188,7.5))","v":""},{"$f":"IF(COUNTIF(J69:J188,7.5)=0,\"\",COUNTIF(J69:J188,7.5))","v":""},"","","",0,{"$f":"IF(D69=\"\",0,ROUND(N$33*NORMDIST(C21+0.5,N$34,N$36,TRUE),0)-SUM(O$3:O20))","v":0}]
[512,{"v":362.0386719675123,"d":"362.038672"},8.5,{"$f":"IF(COUNTIF(D69:D188,8.5)=0,\"\",COUNTIF(D69:D188,8.5))","v":""},{"$f":"IF(COUNTIF(E69:E188,8.5)=0,\"\",COUNTIF(E69:E188,8.5))","v":""},{"$f":"IF(COUNTIF(F69:F188,8.5)=0,\"\",COUNTIF(F69:F188,8.5))","v":""},"","",{"$f":"IF(COUNTIF(I69:I188,8.5)=0,\"\",COUNTIF(I69:I188,8.5))","v":""},{"$f":"IF(COUNTIF(J69:J188,8.5)=0,\"\",COUNTIF(J69:J188,8.5))","v":""},"","","",0,{"$f":"IF(D69=\"\",0,ROUND(N$33*NORMDIST(C22+0.5,N$34,N$36,TRUE),0)-SUM(O$3:O21))","v":0}]
[null,null,"Central Tendancy Stats","Lab 1","Lab 2","Lab 3","Lab 4","Lab 5","Lab 6","Lab 7","Lab 8","Lab 9","Lab 10","All labs","Control","Limits"]
[null,null,"Mean",{"$f":"IF(COUNT(D69:D188)=0,\"\",AVERAGE(D69:D188))","v":""},"","","","",{"$f":"IF(COUNT(I69:I188)=0,\"\",AVERAGE(I69:I188))","v":""},{"$f":"IF(COUNT(J69:J188)=0,\"\",AVERAGE(J69:J188))","v":""},"","","",{"$f":"IF(D69=\"\",\"\",AVERAGE(D69:M188))","v":""},{"$f":"IF(D69=\"\",\"\",ROUND(NORMINV(0.05,N34,N36),3))","v":""},{"$f":"IF(D69=\"\",\"\",ROUND(NORMINV(0.95,N34,N36),3))","v":""}]
["Calculated QC Range",null,"Median",{"$f":"IF(COUNT(D69:D188)=0,\"\",MEDIAN(D69:D188))","v":""},"","","","",{"$f":"IF(COUNT(I69:I188)=0,\"\",MEDIAN(I69:I188))","v":""},{"$f":"IF(COUNT(J69:J188)=0,\"\",MEDIAN(J69:J188))","v":""},"","","",{"$f":"IF(D69=\"\",\"\",MEDIAN(D69:M188))","v":""},{"$f":"IF(D69=\"\",\"\",ROUND(N51,3))","v":""},{"$f":"IF(D69=\"\",\"\",ROUND(N52,3))","v":""}]
[{"$f":"IF(N33=0,\"\",ROUND(2*N39,3)&\" to \"&ROUND(N40,3))","v":""},null,"Mode",{"$f":"IF(COUNT(D69:D188)=0,\"\",MODE(D69:D188))","v":""},"","","","",{"$f":"IF(COUNT(I69:I188)=0,\"\",MODE(I69:I188))","v":""},{"$f":"IF(COUNT(J69:J188)=0,\"\",MODE(J69:J188))","v":""},"","","",{"$f":"IF(D69=\"\",\"\",MODE(D69:M188))","v":""},{"$f":"IF(D69=\"\",\"\",N26-1)","v":""},{"$f":"IF(D69=\"\",\"\",N26+1)","v":""}]
["Dilution Range",null,null,"(Converted back to MIC)",{"$nulls":10},"Control","Limits"]
[{"$f":"IF(N33=0,\"\",LN(N40/N39)/LN(2))","v":""},null,"Mean",{"$f":"IF(COUNT(D69:D188)=0,\"\",2^(AVERAGE(D69:D188)+0.5))","v":""},"","","","",{"$f":"IF(COUNT(I69:I188)=0,\"\",2^(AVERAGE(I69:I188)+0.5))","v":""},{"$f":"IF(COUNT(J69:J188)=0,\"\",2^(AVERAGE(J69:J188)+0.5))","v":""},"","","",{"$f":"IF(D69=\"\",\"\",2^(AVERAGE(D69:M188)+0.5))","v":""},{"$f":"IF(D69=\"\",\"\",2^O24)","v":""},{"$f":"IF(D69=\"\",\"\",2^P24)","v":""}]
["% Obs. Captured",null,"Median",{"$f":"IF(COUNT(D69:D188)=0,\"\",2^(MEDIAN(D69:D188)+0.5))","v":""},"","","","",{"$f":"IF(COUNT(I69:I188)=0,\"\",2^(MEDIAN(I69:I188)+0.5))","v":""},{"$f":"IF(COUNT(J69:J188)=0,\"\",2^(MEDIAN(J69:J188)+0.5))","v":""},"","","",{"$f":"IF(D69=\"\",\"\",2^(MEDIAN(D69:M188)+0.5))","v":""},{"$f":"IF(D69=\"\",\"\",2^O25)","v":""},{"$f":"IF(D69=\"\",\"\",2^P25)","v":""}]
[{"$f":"IF(N33=0,\"\",((COUNTIF(D69:M188,\"<\"&LN(N40)/LN(2))-COUNTIF(D69:M188,\"<\"&LN(N39)/LN(2)))/N$33))","v":""},null,"Mode",{"$f":"IF(COUNT(D69:D188)=0,\"\",2^(MODE(D69:D188)+0.5))","v":""},"","","","",{"$f":"IF(COUNT(I69:I188)=0,\"\",2^(MODE(I69:I188)+0.5))","v":""},{"$f":"IF(COUNT(J69:J188)=0,\"\",2^(MODE(J69:J188)+0.5))","v":""},"","","",{"$f":"IF(D69=\"\",\"\",2^(MODE(D69:M188)+0.5))","v":""},{"$f":"IF(D69=\"\",\"\",2^O26)","v":""},{"$f":"IF(D69=\"\",\"\",2^P26)","v":""}]
["Prob'ty Outside Range"]
[{"$f":"IF(N33=0,\"\",N41+N42)","v":""},null,"Conventional Stats","Lab 1","Lab 2","Lab 3","Lab 4","Lab 5","Lab 6","Lab 7","Lab 8","Lab 9","Lab 10","All labs","Interlab"]
[null,null,"N",{"$f":"IF(COUNT(D69:D188)=0,\"\",COUNT(D69:D188))","v":""},"","","","",{"$f":"IF(COUNT(I69:I188)=0,\"\",COUNT(I69:I188))","v":""},{"$f":"IF(COUNT(J69:J188)=0,\"\",COUNT(J69:J188))","v":""},"","","",{"$f":"COUNT(D69:M188)","v":0},"CV"]
["CLSI QC Range",null,"GeoMean MIC (log2)",{"$f":"IF(COUNT(D69:D188)=0,\"\",AVERAGE(D69:D188))","v":""},"","","","",{"$f":"IF(COUNT(I69:I188)=0,\"\",AVERAGE(I69:I188))","v":""},{"$f":"IF(COUNT(J69:J188)=0,\"\",AVERAGE(J69:J188))","v":""},"","","",{"$f":"IF(D69=\"\",\"\",AVERAGE(D69:M188))","v":""},{"$f":"IF(D69=\"\",\"\",ABS(STDEVA(D34:M34)/N34))","v":""}]
[null,null,"GeoMean MIC",{"$f":"IF(COUNT(D69:D188)=0,\"\",2^D34)","v":""},"","","","",{"$f":"IF(COUNT(I69:I188)=0,\"\",2^I34)","v":""},{"$f":"IF(COUNT(J69:J188)=0,\"\",2^J34)","v":""},"","","",{"$f":"IF(D69=\"\",\"\",2^N34)","v":""}]
[null,null,"GeoSD (log2)",{"$f":"IF(COUNT(D69:D188)=0,\"\",STDEV(D69:D188))","v":""},"","","","",{"$f":"IF(COUNT(I69:I188)=0,\"\",STDEV(I69:I188))","v":""},{"$f":"IF(COUNT(J69:J188)=0,\"\",STDEV(J69:J188))","v":""},"","","",{"$f":"IF(D69=\"\",\"\",STDEV(D69:M188))","v":""}]
[{"$f":"IF(A35=\"\",\"\",ROUND(2^(A35+0.5),3)&\" to \"&ROUND(2^(A36+0.5),3))","v":""},null,"95% Lower Bound",{"$f":"IF(COUNT(D69:D188)=0,\"\",IF(D33=0,\"\",2^((NORMINV(0.025,D34,D36)))))","v":""},"","","","",{"$f":"IF(COUNT(I69:I188)=0,\"\",IF(I33=0,\"\",2^((NORMINV(0.025,I34,I36)))))","v":""},{"$f":"IF(COUNT(J69:J188)=0,\"\",IF(J33=0,\"\",2^((NORMINV(0.025,J34,J36)))))","v":""},"","","",{"$f":"IF(N33=0,\"\",2^((NORMINV(0.025,N34,N36))))","v":""}]
["Dilution Range",null,"95% Upper Bound",{"$f":"IF(COUNT(D69:D188)=0,\"\",IF(D33=0,\"\",2^(NORMINV(0.975,D34,D36))))","v":""},"","","","",{"$f":"IF(COUNT(I69:I188)=0,\"\",IF(I33=0,\"\",2^(NORMINV(0.975,I34,I36))))","v":""},{"$f":"IF(COUNT(J69:J188)=0,\"\",IF(J33=0,\"\",2^(NORMINV(0.975,J34,J36))))","v":""},"","","",{"$f":"IF(N33=0,\"\",2^(NORMINV(0.975,N34,N36)))","v":""}]
[{"$f":"IF(A35=\"\",\"\",A36-A35+1)","v":""},null,"Lower Bound Rounded Down",{"$f":"IF(COUNT(D69:D188)=0,\"\",IF(D33=0,\"\",2^(INT((NORMINV(0.025,D34,D36))))))","v":""},"","","","",{"$f":"IF(COUNT(I69:I188)=0,\"\",IF(I33=0,\"\",2^(INT((NORMINV(0.025,I34,I36))))))","v":""},{"$f":"IF(COUNT(J69:J188)=0,\"\",IF(J33=0,\"\",2^(INT((NORMINV(0.025,J34,J36))))))","v":""},"","","",{"$f":"IF(N33=0,\"\",2^(INT((NORMINV(0.025,N34,N36)))))","v":""}]
["CLSI% Obs. captured",null,"Upper Bound Rounded Up",{"$f":"IF(COUNT(D69:D188)=0,\"\",IF(D33=0,\"\",2^(INT((NORMINV(0.975,D34,D36)))+1)))","v":""},"","","","",{"$f":"IF(COUNT(I69:I188)=0,\"\",IF(I33=0,\"\",2^(INT((NORMINV(0.975,I34,I36)))+1)))","v":""},{"$f":"IF(COUNT(J69:J188)=0,\"\",IF(J33=0,\"\",2^(INT((NORMINV(0.975,J34,J36)))+1)))","v":""},"","","",{"$f":"IF(N33=0,\"\",2^(INT((NORMINV(0.975,N34,N36)))+1))","v":""}]
[{"$f":"IF(A35=0,\"\",(COUNTIF(D69:M188,\"<\"&A36+1)-COUNTIF(D69:M188,\"<\"&A35))/N$33)","v":""},null,"Probability of <=Lower Bound",{"$f":"IF(COUNT(D69:D188)=0,\"\",NORMDIST(LOG(D39)/LOG(2),D34,D36,TRUE))","v":""},"","","","",{"$f":"IF(COUNT(I69:I188)=0,\"\",NORMDIST(LOG(I39)/LOG(2),I34,I36,TRUE))","v":""},{"$f":"IF(COUNT(J69:J188)=0,\"\",NORMDIST(LOG(J39)/LOG(2),J34,J36,TRUE))","v":""},"","","",{"$f":"IF(D69=\"\",\"\",NORMDIST(LOG(N39)/LOG(2),N34,N36,TRUE))","v":""}]
[null,null,"Probability of >Upper Bound",{"$f":"IF(COUNT(D69:D188)=0,\"\",1-NORMDIST(LOG(D40)/LOG(2),D34,D36,TRUE))","v":""},"","","","",{"$f":"IF(COUNT(I69:I188)=0,\"\",1-NORMDIST(LOG(I40)/LOG(2),I34,I36,TRUE))","v":""},{"$f":"IF(COUNT(J69:J188)=0,\"\",1-NORMDIST(LOG(J40)/LOG(2),J34,J36,TRUE))","v":""},"","","",{"$f":"IF(D69=\"\",\"\",1-NORMDIST(LOG(N40)/LOG(2),N34,N36,TRUE))","v":""}]
[null,null,"New Range",{"$f":"IF(COUNT(D69:D188)=0,\"\",1-D41-D42)","v":""},"","","","",{"$f":"IF(COUNT(I69:I188)=0,\"\",1-I41-I42)","v":""},{"$f":"IF(COUNT(J69:J188)=0,\"\",1-J41-J42)","v":""},"","","",{"$f":"IF(D69=\"\",\"\",1-N41-N42)","v":""}]
[]
[null,null,"Order Stats","Lab 1","Lab 2","Lab 3","Lab 4","Lab 5","Lab 6","Lab 7","Lab 8","Lab 9","Lab 10","All labs","Interlab"]
[null,null,"25th %ile",{"$f":"IF(COUNT(D69:D188)=0,\"\",QUARTILE(D69:D188,1))","v":""},"","","","",{"$f":"IF(COUNT(I69:I188)=0,\"\",QUARTILE(I69:I188,1))","v":""},{"$f":"IF(COUNT(J69:J188)=0,\"\",QUARTILE(J69:J188,1))","v":""},"","","",{"$f":"IF(D69=\"\",\"\",QUARTILE(D69:M188,1))","v":""},"CV"]
[null,null,"75th %ile",{"$f":"IF(COUNT(D69:D188)=0,\"\",QUARTILE(D69:D188,3))","v":""},"","","","",{"$f":"IF(COUNT(I69:I188)=0,\"\",QUARTILE(I69:I188,3))","v":""},{"$f":"IF(COUNT(J69:J188)=0,\"\",QUARTILE(J69:J188,3))","v":""},"","","",{"$f":"IF(D69=\"\",\"\",QUARTILE(D69:M188,3))","v":""},{"$f":"IF(D69=\"\",\"\",ABS(N48/N25))","v":""}]
[null,null,"Interquartile Range",{"$f":"IF(COUNT(D69:D188)=0,\"\",IF(D47-D46=0,1,D47-D46))","v":""},"","","","",{"$f":"IF(COUNT(I69:I188)=0,\"\",IF(I47-I46=0,1,I47-I46))","v":""},{"$f":"IF(COUNT(J69:J188)=0,\"\",IF(J47-J46=0,1,J47-J46))","v":""},"","","",{"$f":"IF(D69=\"\",\"\",IF(N47-N46=0,1,N47-N46))","v":""}]
[null,null,"Minimum",{"$f":"IF(COUNT(D69:D188)=0,\"\",MIN(D69:D188))","v":""},"","","","",{"$f":"IF(COUNT(I69:I188)=0,\"\",MIN(I69:I188))","v":""},{"$f":"IF(COUNT(J69:J188)=0,\"\",MIN(J69:J188))","v":""},"","","",{"$f":"IF(D69=\"\",\"\",MIN(D69:M188))","v":""}]
[null,null,"Maximum",{"$f":"IF(COUNT(D69:D188)=0,\"\",MAX(D69:D188))","v":""},"","","","",{"$f":"IF(COUNT(I69:I188)=0,\"\",MAX(I69:I188))","v":""},{"$f":"IF(COUNT(J69:J188)=0,\"\",MAX(J69:J188))","v":""},"","","",{"$f":"IF(D69=\"\",\"\",MAX(D69:M188))","v":""}]
[null,null,"Lower Inner Fence",{"$f":"IF(COUNT(D69:D188)=0,\"\",D$46-1.5*D$48)","v":""},"","","","",{"$f":"IF(COUNT(I69:I188)=0,\"\",I$46-1.5*I$48)","v":""},{"$f":"IF(COUNT(J69:J188)=0,\"\",J$46-1.5*J$48)","v":""},"","","",{"$f":"IF(D69=\"\",\"\",N$46-1.5*N$48)","v":""}]
[null,null,"Upper Inner Fence",{"$f":"IF(COUNT(D69:D188)=0,\"\",D$47+1.5*D$48)","v":""},"","","","",{"$f":"IF(COUNT(I69:I188)=0,\"\",I$47+1.5*I$48)","v":""},{"$f":"IF(COUNT(J69:J188)=0,\"\",J$47+1.5*J$48)","v":""},"","","",{"$f":"IF(D69=\"\",\"\",N$47+1.5*N$48)","v":""}]
[null,null,"Lower Outer Fence",{"$f":"IF(COUNT(D69:D188)=0,\"\",D$46-3*D$48)","v":""},"","","","",{"$f":"IF(COUNT(I69:I188)=0,\"\",I$46-3*I$48)","v":""},{"$f":"IF(COUNT(J69:J188)=0,\"\",J$46-3*J$48)","v":""},"","","",{"$f":"IF(D69=\"\",\"\",N$46-3*N$48)","v":""}]
[null,null,"Upper Outer Fence",{"$f":"IF(COUNT(D69:D188)=0,\"\",D$47+3*D$48)","v":""},"","","","",{"$f":"IF(COUNT(I69:I188)=0,\"\",I$47+3*I$48)","v":""},{"$f":"IF(COUNT(J69:J188)=0,\"\",J$47+3*J$48)","v":""},"","","",{"$f":"IF(D69=\"\",\"\",N$47+3*N$48)","v":""}]
[null,null,"Lower Near Outliers",{"$f":"IF(COUNT(D69:D188)=0,\"\",COUNTIF(D69:D188,\"<\"&D51))","v":""},"","","","",{"$f":"IF(COUNT(I69:I188)=0,\"\",COUNTIF(I69:I188,\"<\"&I51))","v":""},{"$f":"IF(COUNT(J69:J188)=0,\"\",COUNTIF(J69:J188,\"<\"&J51))","v":""},"","","",{"$f":"IF(D69=\"\",\"\",COUNTIF(D69:M188,\"<\"&N51)-N57)","v":""}]
[null,null,"Upper Near Outliers",{"$f":"IF(COUNT(D69:D188)=0,\"\",COUNTIF(D69:D188,\">\"&D52))","v":""},"","","","",{"$f":"IF(COUNT(I69:I188)=0,\"\",COUNTIF(I69:I188,\">\"&I52))","v":""},{"$f":"IF(COUNT(J69:J188)=0,\"\",COUNTIF(J69:J188,\">\"&J52))","v":""},"","","",{"$f":"IF(D69=\"\",\"\",COUNTIF(D69:M188,\">\"&N52)-N58)","v":""}]
[null,null,"Lower Extreme Outliers",{"$f":"IF(COUNT(D69:D188)=0,\"\",COUNTIF(D69:D188,\"<\"&D53))","v":""},"","","","",{"$f":"IF(COUNT(I69:I188)=0,\"\",COUNTIF(I69:I188,\"<\"&I53))","v":""},{"$f":"IF(COUNT(J69:J188)=0,\"\",COUNTIF(J69:J188,\"<\"&J53))","v":""},"","","",{"$f":"IF(D69=\"\",\"\",COUNTIF(D69:M188,\"<\"&N53))","v":""}]
[null,null,"Upper Extreme Outliers",{"$f":"IF(COUNT(D69:D188)=0,\"\",COUNTIF(D69:D188,\">\"&D54))","v":""},"","","","",{"$f":"IF(COUNT(I69:I188)=0,\"\",COUNTIF(I69:I188,\">\"&I54))","v":""},{"$f":"IF(COUNT(J69:J188)=0,\"\",COUNTIF(J69:J188,\">\"&J54))","v":""},"","","",{"$f":"IF(D69=\"\",\"\",COUNTIF(D69:M188,\">\"&N54))","v":""}]
[]
[null,null,"Chart Control Limits","Lab 1","Lab 2","Lab 3","Lab 4","Lab 5","Lab 6","Lab 7","Lab 8","Lab 9","Lab 10"]
[null,"Mean","Lower CL",{"$f":"$O$24","v":""},{"$f":"$O$24","v":""},"","","","","","","",""]
[null,null,"Upper CL",{"$f":"$P$24","v":""},{"$f":"$P$24","v":""},"","","","","","","",""]
[null,"Median","Lower CL",{"$f":"$O$25","v":""},{"$f":"$O$25","v":""},"","","","","","","",""]
[null,null,"Upper CL",{"$f":"$P$25","v":""},{"$f":"$P$25","v":""},"","","","","","","",""]
[null,"Mode","Lower CL",{"$f":"$O$26","v":""},{"$f":"$O$26","v":""},"","","","","","","",""]
[null,null,"Upper CL",{"$f":"$P$26","v":""},{"$f":"$P$26","v":""},"","","","","","","",""]
[]
[null,null,"Log2 Converted Raw Data","Lab 1","Lab 2","Lab 3","Lab 4","Lab 5","Lab 6","Lab 7","Lab 8","Lab 9","Lab 10","Control","Limits"]
[null,null,"Media Lot 1",{"$f":"IF(D191=\"\",\"\",LOOKUP(D191,$A$3:$A$22,$C$3:$C$22))","v":""},"","","","",{"$f":"IF(I191=\"\",\"\",LOOKUP(I191,$A$3:$A$22,$C$3:$C$22))","v":""},"","","","",{"$f":"IF(D69=\"\",\"\",LN($N$39)/LN(2))","v":""},{"$f":"IF(D69=\"\",\"\",LN($N$40)/LN(2)-0.5)","v":""}]
[{"$nulls":3},"","","","","","","","","",""]
[{"$nulls":3},"","","","","","","","","",""]
[{"$nulls":3},"","","","","","","","","",""]
[{"$nulls":3},{"$f":"IF(D195=\"\",\"\",LOOKUP(D195,$A$3:$A$22,$C$3:$C$22))","v":""},"","","","","","","","",""]
[{"$nulls":3},"","","","","","","","","",""]
[{"$nulls":3},"","","","","","","","","",""]
[{"$nulls":3},"","","","","","","","","",""]
[{"$nulls":3},"","","","","","","","","",""]
[{"$nulls":3},"","","","","","","","","",""]
[{"$nulls":3},{"$f":"IF(D201=\"\",\"\",LOOKUP(D201,$A$3:$A$22,$C$3:$C$22))","v":""},"","","","",{"$f":"IF(I201=\"\",\"\",LOOKUP(I201,$A$3:$A$22,$C$3:$C$22))","v":""},"","","",""]
[{"$nulls":3},"","","","","","","","","",""]
[{"$nulls":3},{"$f":"IF(D203=\"\",\"\",LOOKUP(D203,$A$3:$A$22,$C$3:$C$22))","v":""},"","","","","","","","",""]
[{"$nulls":3},"","","","","","","","","",""]
[{"$nulls":3},"","","","","","","","","",""]
[{"$nulls":3},"","","","","","","","","",""]
[{"$nulls":3},"","","","","","","","","",""]
[{"$nulls":3},"","","","","","","","","",""]
[{"$nulls":3},"","","","","","","","","",""]
[{"$nulls":3},"","","","","","","","","",""]
[{"$nulls":3},{"$f":"IF(D211=\"\",\"\",LOOKUP(D211,$A$3:$A$22,$C$3:$C$22))","v":""},"","","","",{"$f":"IF(I211=\"\",\"\",LOOKUP(I211,$A$3:$A$22,$C$3:$C$22))","v":""},"","","",""]
[{"$nulls":3},"","","","","","","","","",""]
[{"$nulls":3},"","","","","","","","","",""]
[{"$nulls":3},"","","","","","","","","",""]
[{"$nulls":3},"","","","","","","","","",""]
[{"$nulls":3},"","","","","","","","","",""]
[{"$nulls":3},"","","","","","","","","",""]
[{"$nulls":3},"","","","","","","","","",""]
[{"$nulls":3},"","","","","","","","","",""]
[{"$nulls":3},"","","","","","","","","",""]
[{"$nulls":3},"","","","","",{"$f":"IF(I221=\"\",\"\",LOOKUP(I221,$A$3:$A$22,$C$3:$C$22))","v":""},"","","",""]
[{"$nulls":3},"","","","","","","","","",""]
[{"$nulls":3},"","","","","","","","","",""]
[{"$nulls":3},"","","","","","","","","",""]
[{"$nulls":3},"","","","","","","","","",""]
[{"$nulls":3},"","","","","","","","","",""]
[{"$nulls":3},{"$f":"IF(D227=\"\",\"\",LOOKUP(D227,$A$3:$A$22,$C$3:$C$22))","v":""},"","","","","","","","",""]
[{"$nulls":3},"","","","","","","","","",""]
[{"$nulls":3},"","","","","","","","","",""]
[{"$nulls":3},"","","","","","","","","",""]
[null,null,"Media Lot 2","","","","","",{"$f":"IF(I231=\"\",\"\",LOOKUP(I231,$A$3:$A$22,$C$3:$C$22))","v":""},"","","",""]
[{"$nulls":3},"","","","","","","","","",""]
[{"$nulls":3},"","","","","","","","","",""]
[{"$nulls":3},"","","","","","","","","",""]
[{"$nulls":3},"","","","","","","","","",""]
[{"$nulls":3},"","","","","","","","","",""]
[{"$nulls":3},"","","","","","","","","",""]
[{"$nulls":3},"","","","","","","","","",""]
[{"$nulls":3},"","","","","","","","","",""]
[{"$nulls":3},"","","","","","","","","",""]
[{"$nulls":3},"","","","","",{"$f":"IF(I241=\"\",\"\",LOOKUP(I241,$A$3:$A$22,$C$3:$C$22))","v":""},"","","",""]
[{"$nulls":3},"","","","","","","","","",""]
[{"$nulls":3},{"$f":"IF(D243=\"\",\"\",LOOKUP(D243,$A$3:$A$22,$C$3:$C$22))","v":""},"","","","","","","","",""]
[{"$nulls":3},"","","","","","","","","",""]
[{"$nulls":3},"","","","","","","","","",""]
[{"$nulls":3},"","","","","","","","","",""]
[{"$nulls":3},"","","","","","","","","",""]
[{"$nulls":3},"","","","","","","","","",""]
[{"$nulls":3},"","","","","","","","","",""]
[{"$nulls":3},"","","","","","","","","",""]
[{"$nulls":3},"","","","","",{"$f":"IF(I251=\"\",\"\",LOOKUP(I251,$A$3:$A$22,$C$3:$C$22))","v":""},"","","",""]
[{"$nulls":3},"","","","","","","","","",""]
[{"$nulls":3},"","","","","","","","","",""]
[{"$nulls":3},"","","","","","","","","",""]
[{"$nulls":3},"","","","","","","","","",""]
[{"$nulls":3},"","","","","","","","","",""]
[{"$nulls":3},"","","","","","","","","",""]
[{"$nulls":3},"","","","","","","","","",""]
[{"$nulls":3},{"$f":"IF(D259=\"\",\"\",LOOKUP(D259,$A$3:$A$22,$C$3:$C$22))","v":""},"","","","","","","","",""]
[{"$nulls":3},"","","","","","","","","",""]
[{"$nulls":3},"","","","","",{"$f":"IF(I261=\"\",\"\",LOOKUP(I261,$A$3:$A$22,$C$3:$C$22))","v":""},"","","",""]
[{"$nulls":3},"","","","","","","","","",""]
[{"$nulls":3},"","","","","","","","","",""]
[{"$nulls":3},"","","","","","","","","",""]
[{"$nulls":3},"","","","","","","","","",""]
[{"$nulls":3},"","","","","","","","","",""]
[{"$nulls":3},"","","","","","","","","",""]
[{"$nulls":3},"","","","","","","","","",""]
[{"$nulls":3},"","","","","","","","","",""]
[{"$nulls":3},"","","","","","","","","",""]
[null,null,"Media Lot 3","","","","","",{"$f":"IF(I271=\"\",\"\",LOOKUP(I271,$A$3:$A$22,$C$3:$C$22))","v":""},"","","",""]
[{"$nulls":3},"","","","","","","","","",""]
[{"$nulls":3},"","","","","","","","","",""]
[{"$nulls":3},"","","","","","","","","",""]
[{"$nulls":3},{"$f":"IF(D275=\"\",\"\",LOOKUP(D275,$A$3:$A$22,$C$3:$C$22))","v":""},"","","","","","","","",""]
[{"$nulls":3},"","","","","","","","","",""]
[{"$nulls":3},"","","","","","","","","",""]
[{"$nulls":3},"","","","","","","","","",""]
[{"$nulls":3},"","","","","","","","","",""]
[{"$nulls":3},"","","","","","","","","",""]
[{"$nulls":3},"","","","","",{"$f":"IF(I281=\"\",\"\",LOOKUP(I281,$A$3:$A$22,$C$3:$C$22))","v":""},"","","",""]
[{"$nulls":3},"","","","","","","","","",""]
[{"$nulls":3},"","","","","","","","","",""]
[{"$nulls":3},"","","","","","","","","",""]
[{"$nulls":3},"","","","","","","","","",""]
[{"$nulls":3},"","","","","","","","","",""]
[{"$nulls":3},"","","","","","","","","",""]
[{"$nulls":3},"","","","","","","","","",""]
[{"$nulls":3},"","","","","","","","","",""]
[{"$nulls":3},"","","","","","","","","",""]
[{"$nulls":3},{"$f":"IF(D291=\"\",\"\",LOOKUP(D291,$A$3:$A$22,$C$3:$C$22))","v":""},"","","","",{"$f":"IF(I291=\"\",\"\",LOOKUP(I291,$A$3:$A$22,$C$3:$C$22))","v":""},"","","",""]
[{"$nulls":3},"","","","","","","","","",""]
[{"$nulls":3},"","","","","","","","","",""]
[{"$nulls":3},"","","","","","","","","",""]
[{"$nulls":3},"","","","","","","","","",""]
[{"$nulls":3},"","","","","","","","","",""]
[{"$nulls":3},"","","","","","","","","",""]
[{"$nulls":3},"","","","","","","","","",""]
[{"$nulls":3},"","","","","","","","","",""]
[{"$nulls":3},"","","","","","","","","",""]
[{"$nulls":3},"","","","","",{"$f":"IF(I301=\"\",\"\",LOOKUP(I301,$A$3:$A$22,$C$3:$C$22))","v":""},"","","",""]
[{"$nulls":3},"","","","","","","","","",""]
[{"$nulls":3},"","","","","","","","","",""]
[{"$nulls":3},"","","","","","","","","",""]
[{"$nulls":3},"","","","","","","","","",""]
[{"$nulls":3},"","","","","","","","","",""]
[{"$nulls":3},{"$f":"IF(D307=\"\",\"\",LOOKUP(D307,$A$3:$A$22,$C$3:$C$22))","v":""},"","","","","","","","",""]
[{"$nulls":3},"","","","","","","","","",""]
[{"$nulls":3},"","","","","","","","","",""]
[{"$nulls":3},"","","","","","","","","",""]
[]
[null,null,"Raw Data Entry","Lab 1","Lab 2","Lab 3","Lab 4","Lab 5","Lab 6","Lab 7","Lab 8","Lab 9","Lab 10"]
[null,null,"Media Lot 1"]
{"$rows_empty":39}
[null,null,"Media Lot 2"]
{"$rows_empty":39}
[null,null,"Media Lot 3"]

{"sheet":"Strain 4","index":10,"n_rows":271,"n_cols":16,"rows_kept":271,"merged":[[0,4,0,6]]}
[{"$f":"'Range Summary'!E2","v":"QC4"},{"$f":"'Range Summary'!A2","v":"Test agent"},null,null,"Go to Raw Data Entry area"]
["MIC","Midpoint MIC","Mid Log2MIC","Lab 1","Lab 2","Lab 3","Lab 4","Lab 5","Lab 6","Lab 7","Lab 8","Lab 9","Lab 10","All labs","Norm"]
[{"v":1E-3,"d":"0.001"},{"$f":"2^C3","v":{"v":6.9053396600248776E-4,"d":"0.000691"}},-10.5,{"$f":"IF(COUNTIF(D69:D188,-10.5)=0,\"\",COUNTIF(D69:D188,-10.5))","v":""},"","","","","","","","","",{"$f":"SUM(D3:M3)","v":0},{"$f":"IF(D69=\"\",0,ROUND(N$33*NORMDIST(C3+0.5,N$34,N$36,TRUE),0))","v":0}]
[{"v":2E-3,"d":"0.002"},{"v":1.3810679320049757E-3,"d":"0.001381"},-9.5,{"$f":"IF(COUNTIF(D69:D188,-9.5)=0,\"\",COUNTIF(D69:D188,-9.5))","v":""},"","","","","","","","","",0,{"$f":"IF(D69=\"\",0,ROUND(N$33*NORMDIST(C4+0.5,N$34,N$36,TRUE),0)-SUM(O2:O$3))","v":0}]
[0.004,{"v":2.7621358640099515E-3,"d":"0.002762"},-8.5,{"$f":"IF(COUNTIF(D69:D188,-8.5)=0,\"\",COUNTIF(D69:D188,-8.5))","v":""},"","","","","","","","","",0,{"$f":"IF(D69=\"\",0,ROUND(N$33*NORMDIST(C5+0.5,N$34,N$36,TRUE),0)-SUM(O$3:O3))","v":0}]
[0.008,{"v":0.005524271728019904,"d":"0.005524"},-7.5,{"$f":"IF(COUNTIF(D69:D188,-7.5)=0,\"\",COUNTIF(D69:D188,-7.5))","v":""},"","","","","","","","","",0,{"$f":"IF(D69=\"\",0,ROUND(N$33*NORMDIST(C6+0.5,N$34,N$36,TRUE),0)-SUM(O$3:O5))","v":0}]
[0.016,{"v":0.011048543456039808,"d":"0.011049"},-6.5,{"$f":"IF(COUNTIF(D69:D188,-6.5)=0,\"\",COUNTIF(D69:D188,-6.5))","v":""},"","","","","","","","","",0,{"$f":"IF(D69=\"\",0,ROUND(N$33*NORMDIST(C7+0.5,N$34,N$36,TRUE),0)-SUM(O$3:O6))","v":0}]
[0.03,{"v":0.022097086912079608,"d":"0.022097"},-5.5,{"$f":"IF(COUNTIF(D69:D188,-5.5)=0,\"\",COUNTIF(D69:D188,-5.5))","v":""},"","","","","","","","","",0,{"$f":"IF(D69=\"\",0,ROUND(N$33*NORMDIST(C8+0.5,N$34,N$36,TRUE),0)-SUM(O$3:O7))","v":0}]
[0.06,{"v":0.04419417382415922,"d":"0.044194"},-4.5,{"$f":"IF(COUNTIF(D69:D188,-4.5)=0,\"\",COUNTIF(D69:D188,-4.5))","v":""},"","","","","","","","","",0,{"$f":"IF(D69=\"\",0,ROUND(N$33*NORMDIST(C9+0.5,N$34,N$36,TRUE),0)-SUM(O$3:O8))","v":0}]
[0.13,{"v":0.08838834764831845,"d":"0.088388"},-3.5,{"$f":"IF(COUNTIF(D69:D188,-3.5)=0,\"\",COUNTIF(D69:D188,-3.5))","v":""},"","","","","","","","","",0,{"$f":"IF(D69=\"\",0,ROUND(N$33*NORMDIST(C10+0.5,N$34,N$36,TRUE),0)-SUM(O$3:O9))","v":0}]
[0.25,{"v":0.17677669529663687,"d":"0.176777"},-2.5,{"$f":"IF(COUNTIF(D69:D188,-2.5)=0,\"\",COUNTIF(D69:D188,-2.5))","v":""},"","","","","","","","","",0,{"$f":"IF(D69=\"\",0,ROUND(N$33*NORMDIST(C11+0.5,N$34,N$36,TRUE),0)-SUM(O$3:O10))","v":0}]
[0.5,{"v":0.3535533905932738,"d":"0.353553"},-1.5,{"$f":"IF(COUNTIF(D69:D188,-1.5)=0,\"\",COUNTIF(D69:D188,-1.5))","v":""},"","","","","","","","","",0,{"$f":"IF(D69=\"\",0,ROUND(N$33*NORMDIST(C12+0.5,N$34,N$36,TRUE),0)-SUM(O$3:O11))","v":0}]
[1,{"v":0.7071067811865475,"d":"0.707107"},-0.5,{"$f":"IF(COUNTIF(D69:D188,-0.5)=0,\"\",COUNTIF(D69:D188,-0.5))","v":""},"","","","","","","","","",0,{"$f":"IF(D69=\"\",0,ROUND(N$33*NORMDIST(C13+0.5,N$34,N$36,TRUE),0)-SUM(O$3:O12))","v":0}]
[2,{"v":1.4142135623730951,"d":"1.414214"},0.5,{"$f":"IF(COUNTIF(D69:D188,0.5)=0,\"\",COUNTIF(D69:D188,0.5))","v":""},"","","","","","","","","",0,{"$f":"IF(D69=\"\",0,ROUND(N$33*NORMDIST(C14+0.5,N$34,N$36,TRUE),0)-SUM(O$3:O13))","v":0}]
[4,{"v":2.82842712474619,"d":"2.828427"},1.5,{"$f":"IF(COUNTIF(D69:D188,1.5)=0,\"\",COUNTIF(D69:D188,1.5))","v":""},"","","","","","","","","",0,{"$f":"IF(D69=\"\",0,ROUND(N$33*NORMDIST(C15+0.5,N$34,N$36,TRUE),0)-SUM(O$3:O14))","v":0}]
[8,{"v":5.656854249492381,"d":"5.656854"},2.5,{"$f":"IF(COUNTIF(D69:D188,2.5)=0,\"\",COUNTIF(D69:D188,2.5))","v":""},"","","","","","","","","",0,{"$f":"IF(D69=\"\",0,ROUND(N$33*NORMDIST(C16+0.5,N$34,N$36,TRUE),0)-SUM(O$3:O15))","v":0}]
[16,{"v":11.31370849898476,"d":"11.313708"},3.5,{"$f":"IF(COUNTIF(D69:D188,3.5)=0,\"\",COUNTIF(D69:D188,3.5))","v":""},"","","","","","","","","",0,{"$f":"IF(D69=\"\",0,ROUND(N$33*NORMDIST(C17+0.5,N$34,N$36,TRUE),0)-SUM(O$3:O16))","v":0}]
[32,{"v":22.62741699796952,"d":"22.627417"},4.5,{"$f":"IF(COUNTIF(D69:D188,4.5)=0,\"\",COUNTIF(D69:D188,4.5))","v":""},"","","","","","","","","",0,{"$f":"IF(D69=\"\",0,ROUND(N$33*NORMDIST(C18+0.5,N$34,N$36,TRUE),0)-SUM(O$3:O17))","v":0}]
[64,{"v":45.254833995939045,"d":"45.254834"},5.5,{"$f":"IF(COUNTIF(D69:D188,5.5)=0,\"\",COUNTIF(D69:D188,5.5))","v":""},"","","","","","","","","",0,{"$f":"IF(D69=\"\",0,ROUND(N$33*NORMDIST(C19+0.5,N$34,N$36,TRUE),0)-SUM(O$3:O18))","v":0}]
[128,{"v":90.50966799187806,"d":"90.509668"},6.5,{"$f":"IF(COUNTIF(D69:D188,6.5)=0,\"\",COUNTIF(D69:D188,6.5))","v":""},"","","","","","","","","",0,{"$f":"IF(D69=\"\",0,ROUND(N$33*NORMDIST(C20+0.5,N$34,N$36,TRUE),0)-SUM(O$3:O19))","v":0}]
[256,{"v":181.01933598375612,"d":"181.019336"},7.5,{"$f":"IF(COUNTIF(D69:D188,7.5)=0,\"\",COUNTIF(D69:D188,7.5))","v":""},"","","","","","","","","",0,{"$f":"IF(D69=\"\",0,ROUND(N$33*NORMDIST(C21+0.5,N$34,N$36,TRUE),0)-SUM(O$3:O20))","v":0}]
[512,{"v":362.0386719675123,"d":"362.038672"},8.5,{"$f":"IF(COUNTIF(D69:D188,8.5)=0,\"\",COUNTIF(D69:D188,8.5))","v":""},"","","","","","","","","",0,{"$f":"IF(D69=\"\",0,ROUND(N$33*NORMDIST(C22+0.5,N$34,N$36,TRUE),0)-SUM(O$3:O21))","v":0}]
[null,null,"Central Tendancy Stats","Lab 1","Lab 2","Lab 3","Lab 4","Lab 5","Lab 6","Lab 7","Lab 8","Lab 9","Lab 10","All labs","Control","Limits"]
[null,null,"Mean",{"$f":"IF(COUNT(D69:D188)=0,\"\",AVERAGE(D69:D188))","v":""},"","","","","","","","","",{"$f":"IF(D69=\"\",\"\",AVERAGE(D69:M188))","v":""},{"$f":"IF(D69=\"\",\"\",ROUND(NORMINV(0.05,N34,N36),3))","v":""},{"$f":"IF(D69=\"\",\"\",ROUND(NORMINV(0.95,N34,N36),3))","v":""}]
["Calculated QC Range",null,"Median",{"$f":"IF(COUNT(D69:D188)=0,\"\",MEDIAN(D69:D188))","v":""},"","","","","","","","","",{"$f":"IF(D69=\"\",\"\",MEDIAN(D69:M188))","v":""},{"$f":"IF(D69=\"\",\"\",ROUND(N51,3))","v":""},{"$f":"IF(D69=\"\",\"\",ROUND(N52,3))","v":""}]
[{"$f":"IF(N33=0,\"\",ROUND(2*N39,3)&\" to \"&ROUND(N40,3))","v":""},null,"Mode",{"$f":"IF(COUNT(D69:D188)=0,\"\",MODE(D69:D188))","v":""},"","","","","","","","","",{"$f":"IF(D69=\"\",\"\",MODE(D69:M188))","v":""},{"$f":"IF(D69=\"\",\"\",N26-1)","v":""},{"$f":"IF(D69=\"\",\"\",N26+1)","v":""}]
["Dilution Range",null,null,"(Converted back to MIC)",{"$nulls":10},"Control","Limits"]
[{"$f":"IF(N33=0,\"\",LN(N40/N39)/LN(2))","v":""},null,"Mean",{"$f":"IF(COUNT(D69:D188)=0,\"\",2^(AVERAGE(D69:D188)+0.5))","v":""},"","","","","","","","","",{"$f":"IF(D69=\"\",\"\",2^(AVERAGE(D69:M188)+0.5))","v":""},{"$f":"IF(D69=\"\",\"\",2^O24)","v":""},{"$f":"IF(D69=\"\",\"\",2^P24)","v":""}]
["% Obs. Captured",null,"Median",{"$f":"IF(COUNT(D69:D188)=0,\"\",2^(MEDIAN(D69:D188)+0.5))","v":""},"","","","","","","","","",{"$f":"IF(D69=\"\",\"\",2^(MEDIAN(D69:M188)+0.5))","v":""},{"$f":"IF(D69=\"\",\"\",2^O25)","v":""},{"$f":"IF(D69=\"\",\"\",2^P25)","v":""}]
[{"$f":"IF(N33=0,\"\",((COUNTIF(D69:M188,\"<\"&LN(N40)/LN(2))-COUNTIF(D69:M188,\"<\"&LN(N39)/LN(2)))/N$33))","v":""},null,"Mode",{"$f":"IF(COUNT(D69:D188)=0,\"\",2^(MODE(D69:D188)+0.5))","v":""},"","","","","","","","","",{"$f":"IF(D69=\"\",\"\",2^(MODE(D69:M188)+0.5))","v":""},{"$f":"IF(D69=\"\",\"\",2^O26)","v":""},{"$f":"IF(D69=\"\",\"\",2^P26)","v":""}]
["Prob'ty Outside Range"]
[{"$f":"IF(N33=0,\"\",N41+N42)","v":""},null,"Conventional Stats","Lab 1","Lab 2","Lab 3","Lab 4","Lab 5","Lab 6","Lab 7","Lab 8","Lab 9","Lab 10","All labs","Interlab"]
[null,null,"N",{"$f":"IF(COUNT(D69:D188)=0,\"\",COUNT(D69:D188))","v":""},"","","","","","","","","",{"$f":"COUNT(D69:M188)","v":0},"CV"]
["CLSI QC Range",null,"GeoMean MIC (log2)",{"$f":"IF(COUNT(D69:D188)=0,\"\",AVERAGE(D69:D188))","v":""},"","","","","","","","","",{"$f":"IF(D69=\"\",\"\",AVERAGE(D69:M188))","v":""},{"$f":"IF(D69=\"\",\"\",ABS(STDEVA(D34:M34)/N34))","v":""}]
[null,null,"GeoMean MIC",{"$f":"IF(COUNT(D69:D188)=0,\"\",2^D34)","v":""},"","","","","","","","","",{"$f":"IF(D69=\"\",\"\",2^N34)","v":""}]
[null,null,"GeoSD (log2)",{"$f":"IF(COUNT(D69:D188)=0,\"\",STDEV(D69:D188))","v":""},"","","","","","","","","",{"$f":"IF(D69=\"\",\"\",STDEV(D69:M188))","v":""}]
[{"$f":"IF(A35=\"\",\"\",ROUND(2^(A35+0.5),3)&\" to \"&ROUND(2^(A36+0.5),3))","v":""},null,"95% Lower Bound",{"$f":"IF(COUNT(D69:D188)=0,\"\",IF(D33=0,\"\",2^((NORMINV(0.025,D34,D36)))))","v":""},"","","","","","","","","",{"$f":"IF(N33=0,\"\",2^((NORMINV(0.025,N34,N36))))","v":""}]
["Dilution Range",null,"95% Upper Bound",{"$f":"IF(COUNT(D69:D188)=0,\"\",IF(D33=0,\"\",2^(NORMINV(0.975,D34,D36))))","v":""},"","","","","","","","","",{"$f":"IF(N33=0,\"\",2^(NORMINV(0.975,N34,N36)))","v":""}]
[{"$f":"IF(A35=\"\",\"\",A36-A35+1)","v":""},null,"Lower Bound Rounded Down",{"$f":"IF(COUNT(D69:D188)=0,\"\",IF(D33=0,\"\",2^(INT((NORMINV(0.025,D34,D36))))))","v":""},"","","","","","","","","",{"$f":"IF(N33=0,\"\",2^(INT((NORMINV(0.025,N34,N36)))))","v":""}]
["CLSI% Obs. captured",null,"Upper Bound Rounded Up",{"$f":"IF(COUNT(D69:D188)=0,\"\",IF(D33=0,\"\",2^(INT((NORMINV(0.975,D34,D36)))+1)))","v":""},"","","","","","","","","",{"$f":"IF(N33=0,\"\",2^(INT((NORMINV(0.975,N34,N36)))+1))","v":""}]
[{"$f":"IF(A35=0,\"\",(COUNTIF(D69:M188,\"<\"&A36+1)-COUNTIF(D69:M188,\"<\"&A35))/N$33)","v":""},null,"Probability of <=Lower Bound",{"$f":"IF(COUNT(D69:D188)=0,\"\",NORMDIST(LOG(D39)/LOG(2),D34,D36,TRUE))","v":""},"","","","","","","","","",{"$f":"IF(D69=\"\",\"\",NORMDIST(LOG(N39)/LOG(2),N34,N36,TRUE))","v":""}]
[null,null,"Probability of >Upper Bound",{"$f":"IF(COUNT(D69:D188)=0,\"\",1-NORMDIST(LOG(D40)/LOG(2),D34,D36,TRUE))","v":""},"","","","","","","","","",{"$f":"IF(D69=\"\",\"\",1-NORMDIST(LOG(N40)/LOG(2),N34,N36,TRUE))","v":""}]
[null,null,"New Range",{"$f":"IF(COUNT(D69:D188)=0,\"\",1-D41-D42)","v":""},"","","","","","","","","",{"$f":"IF(D69=\"\",\"\",1-N41-N42)","v":""}]
[]
[null,null,"Order Stats","Lab 1","Lab 2","Lab 3","Lab 4","Lab 5","Lab 6","Lab 7","Lab 8","Lab 9","Lab 10","All labs","Interlab"]
[null,null,"25th %ile",{"$f":"IF(COUNT(D69:D188)=0,\"\",QUARTILE(D69:D188,1))","v":""},"","","","","","","","","",{"$f":"IF(D69=\"\",\"\",QUARTILE(D69:M188,1))","v":""},"CV"]
[null,null,"75th %ile",{"$f":"IF(COUNT(D69:D188)=0,\"\",QUARTILE(D69:D188,3))","v":""},"","","","","","","","","",{"$f":"IF(D69=\"\",\"\",QUARTILE(D69:M188,3))","v":""},{"$f":"IF(D69=\"\",\"\",ABS(N48/N25))","v":""}]
[null,null,"Interquartile Range",{"$f":"IF(COUNT(D69:D188)=0,\"\",IF(D47-D46=0,1,D47-D46))","v":""},"","","","","","","","","",{"$f":"IF(D69=\"\",\"\",IF(N47-N46=0,1,N47-N46))","v":""}]
[null,null,"Minimum",{"$f":"IF(COUNT(D69:D188)=0,\"\",MIN(D69:D188))","v":""},"","","","","","","","","",{"$f":"IF(D69=\"\",\"\",MIN(D69:M188))","v":""}]
[null,null,"Maximum",{"$f":"IF(COUNT(D69:D188)=0,\"\",MAX(D69:D188))","v":""},"","","","","","","","","",{"$f":"IF(D69=\"\",\"\",MAX(D69:M188))","v":""}]
[null,null,"Lower Inner Fence",{"$f":"IF(COUNT(D69:D188)=0,\"\",D$46-1.5*D$48)","v":""},"","","","","","","","","",{"$f":"IF(D69=\"\",\"\",N$46-1.5*N$48)","v":""}]
[null,null,"Upper Inner Fence",{"$f":"IF(COUNT(D69:D188)=0,\"\",D$47+1.5*D$48)","v":""},"","","","","","","","","",{"$f":"IF(D69=\"\",\"\",N$47+1.5*N$48)","v":""}]
[null,null,"Lower Outer Fence",{"$f":"IF(COUNT(D69:D188)=0,\"\",D$46-3*D$48)","v":""},"","","","","","","","","",{"$f":"IF(D69=\"\",\"\",N$46-3*N$48)","v":""}]
[null,null,"Upper Outer Fence",{"$f":"IF(COUNT(D69:D188)=0,\"\",D$47+3*D$48)","v":""},"","","","","","","","","",{"$f":"IF(D69=\"\",\"\",N$47+3*N$48)","v":""}]
[null,null,"Lower Near Outliers",{"$f":"IF(COUNT(D69:D188)=0,\"\",COUNTIF(D69:D188,\"<\"&D51))","v":""},"","","","","","","","","",{"$f":"IF(D69=\"\",\"\",COUNTIF(D69:M188,\"<\"&N51)-N57)","v":""}]
[null,null,"Upper Near Outliers",{"$f":"IF(COUNT(D69:D188)=0,\"\",COUNTIF(D69:D188,\">\"&D52))","v":""},"","","","","","","","","",{"$f":"IF(D69=\"\",\"\",COUNTIF(D69:M188,\">\"&N52)-N58)","v":""}]
[null,null,"Lower Extreme Outliers",{"$f":"IF(COUNT(D69:D188)=0,\"\",COUNTIF(D69:D188,\"<\"&D53))","v":""},"","","","","","","","","",{"$f":"IF(D69=\"\",\"\",COUNTIF(D69:M188,\"<\"&N53))","v":""}]
[null,null,"Upper Extreme Outliers",{"$f":"IF(COUNT(D69:D188)=0,\"\",COUNTIF(D69:D188,\">\"&D54))","v":""},"","","","","","","","","",{"$f":"IF(D69=\"\",\"\",COUNTIF(D69:M188,\">\"&N54))","v":""}]
[]
[null,null,"Chart Control Limits","Lab 1","Lab 2","Lab 3","Lab 4","Lab 5","Lab 6","Lab 7","Lab 8","Lab 9","Lab 10"]
[null,"Mean","Lower CL",{"$f":"$O$24","v":""},"","","","","","","","",""]
[null,null,"Upper CL",{"$f":"$P$24","v":""},"","","","","","","","",""]
[null,"Median","Lower CL",{"$f":"$O$25","v":""},"","","","","","","","",""]
[null,null,"Upper CL",{"$f":"$P$25","v":""},"","","","","","","","",""]
[null,"Mode","Lower CL",{"$f":"$O$26","v":""},"","","","","","","","",""]
[null,null,"Upper CL",{"$f":"$P$26","v":""},"","","","","","","","",""]
[]
[null,null,"Log2 Converted Raw Data","Lab 1","Lab 2","Lab 3","Lab 4","Lab 5","Lab 6","Lab 7","Lab 8","Lab 9","Lab 10","Control","Limits"]
[null,null,"Media Lot 1",{"$f":"IF(D191=\"\",\"\",LOOKUP(D191,$A$3:$A$22,$C$3:$C$22))","v":""},"","","","","","","","","",{"$f":"IF(D69=\"\",\"\",LN($N$39)/LN(2))","v":""},{"$f":"IF(D69=\"\",\"\",LN($N$40)/LN(2)-0.5)","v":""}]
[{"$nulls":3},{"$f":"IF(D192=\"\",\"\",LOOKUP(D192,$A$3:$A$22,$C$3:$C$22))","v":""},"","","","","","","","",""]
[{"$nulls":3},{"$f":"IF(D193=\"\",\"\",LOOKUP(D193,$A$3:$A$22,$C$3:$C$22))","v":""},"","","","","","","","",""]
[{"$nulls":3},{"$f":"IF(D194=\"\",\"\",LOOKUP(D194,$A$3:$A$22,$C$3:$C$22))","v":""},"","","","","","","","",""]
[{"$nulls":3},{"$f":"IF(D195=\"\",\"\",LOOKUP(D195,$A$3:$A$22,$C$3:$C$22))","v":""},"","","","","","","","",""]
[{"$nulls":3},{"$f":"IF(D196=\"\",\"\",LOOKUP(D196,$A$3:$A$22,$C$3:$C$22))","v":""},"","","","","","","","",""]
[{"$nulls":3},{"$f":"IF(D197=\"\",\"\",LOOKUP(D197,$A$3:$A$22,$C$3:$C$22))","v":""},"","","","","","","","",""]
[{"$nulls":3},{"$f":"IF(D198=\"\",\"\",LOOKUP(D198,$A$3:$A$22,$C$3:$C$22))","v":""},"","","","","","","","",""]
[{"$nulls":3},{"$f":"IF(D199=\"\",\"\",LOOKUP(D199,$A$3:$A$22,$C$3:$C$22))","v":""},"","","","","","","","",""]
[{"$nulls":3},{"$f":"IF(D200=\"\",\"\",LOOKUP(D200,$A$3:$A$22,$C$3:$C$22))","v":""},"","","","","","","","",""]
[{"$nulls":3},{"$f":"IF(D201=\"\",\"\",LOOKUP(D201,$A$3:$A$22,$C$3:$C$22))","v":""},"","","","","","","","",""]
[{"$nulls":3},{"$f":"IF(D202=\"\",\"\",LOOKUP(D202,$A$3:$A$22,$C$3:$C$22))","v":""},"","","","","","","","",""]
[{"$nulls":3},{"$f":"IF(D203=\"\",\"\",LOOKUP(D203,$A$3:$A$22,$C$3:$C$22))","v":""},"","","","","","","","",""]
[{"$nulls":3},{"$f":"IF(D204=\"\",\"\",LOOKUP(D204,$A$3:$A$22,$C$3:$C$22))","v":""},"","","","","","","","",""]
[{"$nulls":3},{"$f":"IF(D205=\"\",\"\",LOOKUP(D205,$A$3:$A$22,$C$3:$C$22))","v":""},"","","","","","","","",""]
[{"$nulls":3},{"$f":"IF(D206=\"\",\"\",LOOKUP(D206,$A$3:$A$22,$C$3:$C$22))","v":""},"","","","","","","","",""]
[{"$nulls":3},{"$f":"IF(D207=\"\",\"\",LOOKUP(D207,$A$3:$A$22,$C$3:$C$22))","v":""},"","","","","","","","",""]
[{"$nulls":3},{"$f":"IF(D208=\"\",\"\",LOOKUP(D208,$A$3:$A$22,$C$3:$C$22))","v":""},"","","","","","","","",""]
[{"$nulls":3},{"$f":"IF(D209=\"\",\"\",LOOKUP(D209,$A$3:$A$22,$C$3:$C$22))","v":""},"","","","","","","","",""]
[{"$nulls":3},{"$f":"IF(D210=\"\",\"\",LOOKUP(D210,$A$3:$A$22,$C$3:$C$22))","v":""},"","","","","","","","",""]
[{"$nulls":3},{"$f":"IF(D211=\"\",\"\",LOOKUP(D211,$A$3:$A$22,$C$3:$C$22))","v":""},"","","","","","","","",""]
[{"$nulls":3},{"$f":"IF(D212=\"\",\"\",LOOKUP(D212,$A$3:$A$22,$C$3:$C$22))","v":""},"","","","","","","","",""]
[{"$nulls":3},{"$f":"IF(D213=\"\",\"\",LOOKUP(D213,$A$3:$A$22,$C$3:$C$22))","v":""},"","","","","","","","",""]
[{"$nulls":3},{"$f":"IF(D214=\"\",\"\",LOOKUP(D214,$A$3:$A$22,$C$3:$C$22))","v":""},"","","","","","","","",""]
[{"$nulls":3},{"$f":"IF(D215=\"\",\"\",LOOKUP(D215,$A$3:$A$22,$C$3:$C$22))","v":""},"","","","","","","","",""]
[{"$nulls":3},{"$f":"IF(D216=\"\",\"\",LOOKUP(D216,$A$3:$A$22,$C$3:$C$22))","v":""},"","","","","","","","",""]
[{"$nulls":3},{"$f":"IF(D217=\"\",\"\",LOOKUP(D217,$A$3:$A$22,$C$3:$C$22))","v":""},"","","","","","","","",""]
[{"$nulls":3},{"$f":"IF(D218=\"\",\"\",LOOKUP(D218,$A$3:$A$22,$C$3:$C$22))","v":""},"","","","","","","","",""]
[{"$nulls":3},{"$f":"IF(D219=\"\",\"\",LOOKUP(D219,$A$3:$A$22,$C$3:$C$22))","v":""},"","","","","","","","",""]
[{"$nulls":3},{"$f":"IF(D220=\"\",\"\",LOOKUP(D220,$A$3:$A$22,$C$3:$C$22))","v":""},"","","","","","","","",""]
[{"$nulls":3},{"$f":"IF(D221=\"\",\"\",LOOKUP(D221,$A$3:$A$22,$C$3:$C$22))","v":""},"","","","","","","","",""]
[{"$nulls":3},{"$f":"IF(D222=\"\",\"\",LOOKUP(D222,$A$3:$A$22,$C$3:$C$22))","v":""},"","","","","","","","",""]
[{"$nulls":3},{"$f":"IF(D223=\"\",\"\",LOOKUP(D223,$A$3:$A$22,$C$3:$C$22))","v":""},"","","","","","","","",""]
[{"$nulls":3},{"$f":"IF(D224=\"\",\"\",LOOKUP(D224,$A$3:$A$22,$C$3:$C$22))","v":""},"","","","","","","","",""]
[{"$nulls":3},{"$f":"IF(D225=\"\",\"\",LOOKUP(D225,$A$3:$A$22,$C$3:$C$22))","v":""},"","","","","","","","",""]
[{"$nulls":3},{"$f":"IF(D226=\"\",\"\",LOOKUP(D226,$A$3:$A$22,$C$3:$C$22))","v":""},"","","","","","","","",""]
[{"$nulls":3},{"$f":"IF(D227=\"\",\"\",LOOKUP(D227,$A$3:$A$22,$C$3:$C$22))","v":""},"","","","","","","","",""]
[{"$nulls":3},{"$f":"IF(D228=\"\",\"\",LOOKUP(D228,$A$3:$A$22,$C$3:$C$22))","v":""},"","","","","","","","",""]
[{"$nulls":3},{"$f":"IF(D229=\"\",\"\",LOOKUP(D229,$A$3:$A$22,$C$3:$C$22))","v":""},"","","","","","","","",""]
[{"$nulls":3},{"$f":"IF(D230=\"\",\"\",LOOKUP(D230,$A$3:$A$22,$C$3:$C$22))","v":""},"","","","","","","","",""]
[null,null,"Media Lot 2",{"$f":"IF(D231=\"\",\"\",LOOKUP(D231,$A$3:$A$22,$C$3:$C$22))","v":""},"","","","","","","","",""]
[{"$nulls":3},{"$f":"IF(D232=\"\",\"\",LOOKUP(D232,$A$3:$A$22,$C$3:$C$22))","v":""},"","","","","","","","",""]
[{"$nulls":3},{"$f":"IF(D233=\"\",\"\",LOOKUP(D233,$A$3:$A$22,$C$3:$C$22))","v":""},"","","","","","","","",""]
[{"$nulls":3},{"$f":"IF(D234=\"\",\"\",LOOKUP(D234,$A$3:$A$22,$C$3:$C$22))","v":""},"","","","","","","","",""]
[{"$nulls":3},{"$f":"IF(D235=\"\",\"\",LOOKUP(D235,$A$3:$A$22,$C$3:$C$22))","v":""},"","","","","","","","",""]
[{"$nulls":3},{"$f":"IF(D236=\"\",\"\",LOOKUP(D236,$A$3:$A$22,$C$3:$C$22))","v":""},"","","","","","","","",""]
[{"$nulls":3},{"$f":"IF(D237=\"\",\"\",LOOKUP(D237,$A$3:$A$22,$C$3:$C$22))","v":""},"","","","","","","","",""]
[{"$nulls":3},{"$f":"IF(D238=\"\",\"\",LOOKUP(D238,$A$3:$A$22,$C$3:$C$22))","v":""},"","","","","","","","",""]
[{"$nulls":3},{"$f":"IF(D239=\"\",\"\",LOOKUP(D239,$A$3:$A$22,$C$3:$C$22))","v":""},"","","","","","","","",""]
[{"$nulls":3},{"$f":"IF(D240=\"\",\"\",LOOKUP(D240,$A$3:$A$22,$C$3:$C$22))","v":""},"","","","","","","","",""]
[{"$nulls":3},{"$f":"IF(D241=\"\",\"\",LOOKUP(D241,$A$3:$A$22,$C$3:$C$22))","v":""},"","","","","","","","",""]
[{"$nulls":3},{"$f":"IF(D242=\"\",\"\",LOOKUP(D242,$A$3:$A$22,$C$3:$C$22))","v":""},"","","","","","","","",""]
[{"$nulls":3},{"$f":"IF(D243=\"\",\"\",LOOKUP(D243,$A$3:$A$22,$C$3:$C$22))","v":""},"","","","","","","","",""]
[{"$nulls":3},{"$f":"IF(D244=\"\",\"\",LOOKUP(D244,$A$3:$A$22,$C$3:$C$22))","v":""},"","","","","","","","",""]
[{"$nulls":3},{"$f":"IF(D245=\"\",\"\",LOOKUP(D245,$A$3:$A$22,$C$3:$C$22))","v":""},"","","","","","","","",""]
[{"$nulls":3},{"$f":"IF(D246=\"\",\"\",LOOKUP(D246,$A$3:$A$22,$C$3:$C$22))","v":""},"","","","","","","","",""]
[{"$nulls":3},{"$f":"IF(D247=\"\",\"\",LOOKUP(D247,$A$3:$A$22,$C$3:$C$22))","v":""},"","","","","","","","",""]
[{"$nulls":3},{"$f":"IF(D248=\"\",\"\",LOOKUP(D248,$A$3:$A$22,$C$3:$C$22))","v":""},"","","","","","","","",""]
[{"$nulls":3},{"$f":"IF(D249=\"\",\"\",LOOKUP(D249,$A$3:$A$22,$C$3:$C$22))","v":""},"","","","","","","","",""]
[{"$nulls":3},{"$f":"IF(D250=\"\",\"\",LOOKUP(D250,$A$3:$A$22,$C$3:$C$22))","v":""},"","","","","","","","",""]
[{"$nulls":3},{"$f":"IF(D251=\"\",\"\",LOOKUP(D251,$A$3:$A$22,$C$3:$C$22))","v":""},"","","","","","","","",""]
[{"$nulls":3},{"$f":"IF(D252=\"\",\"\",LOOKUP(D252,$A$3:$A$22,$C$3:$C$22))","v":""},"","","","","","","","",""]
[{"$nulls":3},{"$f":"IF(D253=\"\",\"\",LOOKUP(D253,$A$3:$A$22,$C$3:$C$22))","v":""},"","","","","","","","",""]
[{"$nulls":3},{"$f":"IF(D254=\"\",\"\",LOOKUP(D254,$A$3:$A$22,$C$3:$C$22))","v":""},"","","","","","","","",""]
[{"$nulls":3},{"$f":"IF(D255=\"\",\"\",LOOKUP(D255,$A$3:$A$22,$C$3:$C$22))","v":""},"","","","","","","","",""]
[{"$nulls":3},{"$f":"IF(D256=\"\",\"\",LOOKUP(D256,$A$3:$A$22,$C$3:$C$22))","v":""},"","","","","","","","",""]
[{"$nulls":3},{"$f":"IF(D257=\"\",\"\",LOOKUP(D257,$A$3:$A$22,$C$3:$C$22))","v":""},"","","","","","","","",""]
[{"$nulls":3},{"$f":"IF(D258=\"\",\"\",LOOKUP(D258,$A$3:$A$22,$C$3:$C$22))","v":""},"","","","","","","","",""]
[{"$nulls":3},{"$f":"IF(D259=\"\",\"\",LOOKUP(D259,$A$3:$A$22,$C$3:$C$22))","v":""},"","","","","","","","",""]
[{"$nulls":3},{"$f":"IF(D260=\"\",\"\",LOOKUP(D260,$A$3:$A$22,$C$3:$C$22))","v":""},"","","","","","","","",""]
[{"$nulls":3},{"$f":"IF(D261=\"\",\"\",LOOKUP(D261,$A$3:$A$22,$C$3:$C$22))","v":""},"","","","","","","","",""]
[{"$nulls":3},{"$f":"IF(D262=\"\",\"\",LOOKUP(D262,$A$3:$A$22,$C$3:$C$22))","v":""},"","","","","","","","",""]
[{"$nulls":3},{"$f":"IF(D263=\"\",\"\",LOOKUP(D263,$A$3:$A$22,$C$3:$C$22))","v":""},"","","","","","","","",""]
[{"$nulls":3},{"$f":"IF(D264=\"\",\"\",LOOKUP(D264,$A$3:$A$22,$C$3:$C$22))","v":""},"","","","","","","","",""]
[{"$nulls":3},{"$f":"IF(D265=\"\",\"\",LOOKUP(D265,$A$3:$A$22,$C$3:$C$22))","v":""},"","","","","","","","",""]
[{"$nulls":3},{"$f":"IF(D266=\"\",\"\",LOOKUP(D266,$A$3:$A$22,$C$3:$C$22))","v":""},"","","","","","","","",""]
[{"$nulls":3},{"$f":"IF(D267=\"\",\"\",LOOKUP(D267,$A$3:$A$22,$C$3:$C$22))","v":""},"","","","","","","","",""]
[{"$nulls":3},{"$f":"IF(D268=\"\",\"\",LOOKUP(D268,$A$3:$A$22,$C$3:$C$22))","v":""},"","","","","","","","",""]
[{"$nulls":3},{"$f":"IF(D269=\"\",\"\",LOOKUP(D269,$A$3:$A$22,$C$3:$C$22))","v":""},"","","","","","","","",""]
[{"$nulls":3},{"$f":"IF(D270=\"\",\"\",LOOKUP(D270,$A$3:$A$22,$C$3:$C$22))","v":""},"","","","","","","","",""]
[null,null,"Media Lot 3",{"$f":"IF(D271=\"\",\"\",LOOKUP(D271,$A$3:$A$22,$C$3:$C$22))","v":""},"","","","","","","","",""]
[{"$nulls":3},{"$f":"IF(D272=\"\",\"\",LOOKUP(D272,$A$3:$A$22,$C$3:$C$22))","v":""},"","","","","","","","",""]
[{"$nulls":3},{"$f":"IF(D273=\"\",\"\",LOOKUP(D273,$A$3:$A$22,$C$3:$C$22))","v":""},"","","","","","","","",""]
[{"$nulls":3},{"$f":"IF(D274=\"\",\"\",LOOKUP(D274,$A$3:$A$22,$C$3:$C$22))","v":""},"","","","","","","","",""]
[{"$nulls":3},{"$f":"IF(D275=\"\",\"\",LOOKUP(D275,$A$3:$A$22,$C$3:$C$22))","v":""},"","","","","","","","",""]
[{"$nulls":3},{"$f":"IF(D276=\"\",\"\",LOOKUP(D276,$A$3:$A$22,$C$3:$C$22))","v":""},"","","","","","","","",""]
[{"$nulls":3},{"$f":"IF(D277=\"\",\"\",LOOKUP(D277,$A$3:$A$22,$C$3:$C$22))","v":""},"","","","","","","","",""]
[{"$nulls":3},{"$f":"IF(D278=\"\",\"\",LOOKUP(D278,$A$3:$A$22,$C$3:$C$22))","v":""},"","","","","","","","",""]
[{"$nulls":3},{"$f":"IF(D279=\"\",\"\",LOOKUP(D279,$A$3:$A$22,$C$3:$C$22))","v":""},"","","","","","","","",""]
[{"$nulls":3},{"$f":"IF(D280=\"\",\"\",LOOKUP(D280,$A$3:$A$22,$C$3:$C$22))","v":""},"","","","","","","","",""]
[{"$nulls":3},{"$f":"IF(D281=\"\",\"\",LOOKUP(D281,$A$3:$A$22,$C$3:$C$22))","v":""},"","","","","","","","",""]
[{"$nulls":3},{"$f":"IF(D282=\"\",\"\",LOOKUP(D282,$A$3:$A$22,$C$3:$C$22))","v":""},"","","","","","","","",""]
[{"$nulls":3},{"$f":"IF(D283=\"\",\"\",LOOKUP(D283,$A$3:$A$22,$C$3:$C$22))","v":""},"","","","","","","","",""]
[{"$nulls":3},{"$f":"IF(D284=\"\",\"\",LOOKUP(D284,$A$3:$A$22,$C$3:$C$22))","v":""},"","","","","","","","",""]
[{"$nulls":3},{"$f":"IF(D285=\"\",\"\",LOOKUP(D285,$A$3:$A$22,$C$3:$C$22))","v":""},"","","","","","","","",""]
[{"$nulls":3},{"$f":"IF(D286=\"\",\"\",LOOKUP(D286,$A$3:$A$22,$C$3:$C$22))","v":""},"","","","","","","","",""]
[{"$nulls":3},{"$f":"IF(D287=\"\",\"\",LOOKUP(D287,$A$3:$A$22,$C$3:$C$22))","v":""},"","","","","","","","",""]
[{"$nulls":3},{"$f":"IF(D288=\"\",\"\",LOOKUP(D288,$A$3:$A$22,$C$3:$C$22))","v":""},"","","","","","","","",""]
[{"$nulls":3},{"$f":"IF(D289=\"\",\"\",LOOKUP(D289,$A$3:$A$22,$C$3:$C$22))","v":""},"","","","","","","","",""]
[{"$nulls":3},{"$f":"IF(D290=\"\",\"\",LOOKUP(D290,$A$3:$A$22,$C$3:$C$22))","v":""},"","","","","","","","",""]
[{"$nulls":3},{"$f":"IF(D291=\"\",\"\",LOOKUP(D291,$A$3:$A$22,$C$3:$C$22))","v":""},"","","","","","","","",""]
[{"$nulls":3},{"$f":"IF(D292=\"\",\"\",LOOKUP(D292,$A$3:$A$22,$C$3:$C$22))","v":""},"","","","","","","","",""]
[{"$nulls":3},{"$f":"IF(D293=\"\",\"\",LOOKUP(D293,$A$3:$A$22,$C$3:$C$22))","v":""},"","","","","","","","",""]
[{"$nulls":3},{"$f":"IF(D294=\"\",\"\",LOOKUP(D294,$A$3:$A$22,$C$3:$C$22))","v":""},"","","","","","","","",""]
[{"$nulls":3},{"$f":"IF(D295=\"\",\"\",LOOKUP(D295,$A$3:$A$22,$C$3:$C$22))","v":""},"","","","","","","","",""]
[{"$nulls":3},{"$f":"IF(D296=\"\",\"\",LOOKUP(D296,$A$3:$A$22,$C$3:$C$22))","v":""},"","","","","","","","",""]
[{"$nulls":3},{"$f":"IF(D297=\"\",\"\",LOOKUP(D297,$A$3:$A$22,$C$3:$C$22))","v":""},"","","","","","","","",""]
[{"$nulls":3},{"$f":"IF(D298=\"\",\"\",LOOKUP(D298,$A$3:$A$22,$C$3:$C$22))","v":""},"","","","","","","","",""]
[{"$nulls":3},{"$f":"IF(D299=\"\",\"\",LOOKUP(D299,$A$3:$A$22,$C$3:$C$22))","v":""},"","","","","","","","",""]
[{"$nulls":3},{"$f":"IF(D300=\"\",\"\",LOOKUP(D300,$A$3:$A$22,$C$3:$C$22))","v":""},"","","","","","","","",""]
[{"$nulls":3},{"$f":"IF(D301=\"\",\"\",LOOKUP(D301,$A$3:$A$22,$C$3:$C$22))","v":""},"","","","","","","","",""]
[{"$nulls":3},{"$f":"IF(D302=\"\",\"\",LOOKUP(D302,$A$3:$A$22,$C$3:$C$22))","v":""},"","","","","","","","",""]
[{"$nulls":3},{"$f":"IF(D303=\"\",\"\",LOOKUP(D303,$A$3:$A$22,$C$3:$C$22))","v":""},"","","","","","","","",""]
[{"$nulls":3},{"$f":"IF(D304=\"\",\"\",LOOKUP(D304,$A$3:$A$22,$C$3:$C$22))","v":""},"","","","","","","","",""]
[{"$nulls":3},{"$f":"IF(D305=\"\",\"\",LOOKUP(D305,$A$3:$A$22,$C$3:$C$22))","v":""},"","","","","","","","",""]
[{"$nulls":3},{"$f":"IF(D306=\"\",\"\",LOOKUP(D306,$A$3:$A$22,$C$3:$C$22))","v":""},"","","","","","","","",""]
[{"$nulls":3},{"$f":"IF(D307=\"\",\"\",LOOKUP(D307,$A$3:$A$22,$C$3:$C$22))","v":""},"","","","","","","","",""]
[{"$nulls":3},{"$f":"IF(D308=\"\",\"\",LOOKUP(D308,$A$3:$A$22,$C$3:$C$22))","v":""},"","","","","","","","",""]
[{"$nulls":3},{"$f":"IF(D309=\"\",\"\",LOOKUP(D309,$A$3:$A$22,$C$3:$C$22))","v":""},"","","","","","","","",""]
[{"$nulls":3},{"$f":"IF(D310=\"\",\"\",LOOKUP(D310,$A$3:$A$22,$C$3:$C$22))","v":""},"","","","","","","","",""]
[]
[null,null,"Raw Data Entry","Lab 1","Lab 2","Lab 3","Lab 4","Lab 5","Lab 6","Lab 7","Lab 8","Lab 9","Lab 10"]
[null,null,"Media Lot 1"]
{"$rows_empty":39}
[null,null,"Media Lot 2"]
{"$rows_empty":39}
[null,null,"Media Lot 3"]

{"sheet":"Strain 4 control","index":11,"n_rows":271,"n_cols":16,"rows_kept":271,"merged":[[0,4,0,6]]}
[{"$f":"'Range Summary'!E2","v":"QC4"},{"$f":"'Range Summary'!B17","v":"Control"},"Control",null,"Go to Raw Data Entry area"]
["MIC","Midpoint MIC","Mid Log2MIC","Lab 1","Lab 2","Lab 3","Lab 4","Lab 5","Lab 6","Lab 7","Lab 8","Lab 9","Lab 10","All labs","Norm"]
[{"v":1E-3,"d":"0.001"},{"$f":"2^C3","v":{"v":6.9053396600248776E-4,"d":"0.000691"}},-10.5,{"$f":"IF(COUNTIF(D69:D188,-10.5)=0,\"\",COUNTIF(D69:D188,-10.5))","v":""},{"$f":"IF(COUNTIF(E69:E188,-10.5)=0,\"\",COUNTIF(E69:E188,-10.5))","v":""},{"$f":"IF(COUNTIF(F69:F188,-10.5)=0,\"\",COUNTIF(F69:F188,-10.5))","v":""},"","",{"$f":"IF(COUNTIF(I69:I188,-10.5)=0,\"\",COUNTIF(I69:I188,-10.5))","v":""},{"$f":"IF(COUNTIF(J69:J188,-10.5)=0,\"\",COUNTIF(J69:J188,-10.5))","v":""},"","","",{"$f":"SUM(D3:M3)","v":0},{"$f":"IF(D69=\"\",0,ROUND(N$33*NORMDIST(C3+0.5,N$34,N$36,TRUE),0))","v":0}]
[{"v":2E-3,"d":"0.002"},{"$f":"2^C4","v":{"v":1.3810679320049757E-3,"d":"0.001381"}},-9.5,{"$f":"IF(COUNTIF(D69:D188,-9.5)=0,\"\",COUNTIF(D69:D188,-9.5))","v":""},{"$f":"IF(COUNTIF(E69:E188,-9.5)=0,\"\",COUNTIF(E69:E188,-9.5))","v":""},{"$f":"IF(COUNTIF(F69:F188,-9.5)=0,\"\",COUNTIF(F69:F188,-9.5))","v":""},"","",{"$f":"IF(COUNTIF(I69:I188,-9.5)=0,\"\",COUNTIF(I69:I188,-9.5))","v":""},{"$f":"IF(COUNTIF(J69:J188,-9.5)=0,\"\",COUNTIF(J69:J188,-9.5))","v":""},"","","",0,{"$f":"IF(D69=\"\",0,ROUND(N$33*NORMDIST(C4+0.5,N$34,N$36,TRUE),0)-SUM(O2:O$3))","v":0}]
[0.004,{"v":2.7621358640099515E-3,"d":"0.002762"},-8.5,{"$f":"IF(COUNTIF(D69:D188,-8.5)=0,\"\",COUNTIF(D69:D188,-8.5))","v":""},{"$f":"IF(COUNTIF(E69:E188,-8.5)=0,\"\",COUNTIF(E69:E188,-8.5))","v":""},{"$f":"IF(COUNTIF(F69:F188,-8.5)=0,\"\",COUNTIF(F69:F188,-8.5))","v":""},"","",{"$f":"IF(COUNTIF(I69:I188,-8.5)=0,\"\",COUNTIF(I69:I188,-8.5))","v":""},{"$f":"IF(COUNTIF(J69:J188,-8.5)=0,\"\",COUNTIF(J69:J188,-8.5))","v":""},"","","",0,{"$f":"IF(D69=\"\",0,ROUND(N$33*NORMDIST(C5+0.5,N$34,N$36,TRUE),0)-SUM(O$3:O3))","v":0}]
[0.008,{"v":0.005524271728019904,"d":"0.005524"},-7.5,{"$f":"IF(COUNTIF(D69:D188,-7.5)=0,\"\",COUNTIF(D69:D188,-7.5))","v":""},{"$f":"IF(COUNTIF(E69:E188,-7.5)=0,\"\",COUNTIF(E69:E188,-7.5))","v":""},{"$f":"IF(COUNTIF(F69:F188,-7.5)=0,\"\",COUNTIF(F69:F188,-7.5))","v":""},"","",{"$f":"IF(COUNTIF(I69:I188,-7.5)=0,\"\",COUNTIF(I69:I188,-7.5))","v":""},{"$f":"IF(COUNTIF(J69:J188,-7.5)=0,\"\",COUNTIF(J69:J188,-7.5))","v":""},"","","",{"$f":"SUM(D6:M6)","v":0},{"$f":"IF(D69=\"\",0,ROUND(N$33*NORMDIST(C6+0.5,N$34,N$36,TRUE),0)-SUM(O$3:O5))","v":0}]
[0.016,{"v":0.011048543456039808,"d":"0.011049"},-6.5,{"$f":"IF(COUNTIF(D69:D188,-6.5)=0,\"\",COUNTIF(D69:D188,-6.5))","v":""},{"$f":"IF(COUNTIF(E69:E188,-6.5)=0,\"\",COUNTIF(E69:E188,-6.5))","v":""},{"$f":"IF(COUNTIF(F69:F188,-6.5)=0,\"\",COUNTIF(F69:F188,-6.5))","v":""},"","",{"$f":"IF(COUNTIF(I69:I188,-6.5)=0,\"\",COUNTIF(I69:I188,-6.5))","v":""},{"$f":"IF(COUNTIF(J69:J188,-6.5)=0,\"\",COUNTIF(J69:J188,-6.5))","v":""},"","","",0,{"$f":"IF(D69=\"\",0,ROUND(N$33*NORMDIST(C7+0.5,N$34,N$36,TRUE),0)-SUM(O$3:O6))","v":0}]
[0.03,{"v":0.022097086912079608,"d":"0.022097"},-5.5,{"$f":"IF(COUNTIF(D69:D188,-5.5)=0,\"\",COUNTIF(D69:D188,-5.5))","v":""},{"$f":"IF(COUNTIF(E69:E188,-5.5)=0,\"\",COUNTIF(E69:E188,-5.5))","v":""},{"$f":"IF(COUNTIF(F69:F188,-5.5)=0,\"\",COUNTIF(F69:F188,-5.5))","v":""},"","",{"$f":"IF(COUNTIF(I69:I188,-5.5)=0,\"\",COUNTIF(I69:I188,-5.5))","v":""},{"$f":"IF(COUNTIF(J69:J188,-5.5)=0,\"\",COUNTIF(J69:J188,-5.5))","v":""},"","","",0,{"$f":"IF(D69=\"\",0,ROUND(N$33*NORMDIST(C8+0.5,N$34,N$36,TRUE),0)-SUM(O$3:O7))","v":0}]
[0.06,{"v":0.04419417382415922,"d":"0.044194"},-4.5,{"$f":"IF(COUNTIF(D69:D188,-4.5)=0,\"\",COUNTIF(D69:D188,-4.5))","v":""},{"$f":"IF(COUNTIF(E69:E188,-4.5)=0,\"\",COUNTIF(E69:E188,-4.5))","v":""},{"$f":"IF(COUNTIF(F69:F188,-4.5)=0,\"\",COUNTIF(F69:F188,-4.5))","v":""},"","",{"$f":"IF(COUNTIF(I69:I188,-4.5)=0,\"\",COUNTIF(I69:I188,-4.5))","v":""},{"$f":"IF(COUNTIF(J69:J188,-4.5)=0,\"\",COUNTIF(J69:J188,-4.5))","v":""},"","","",0,{"$f":"IF(D69=\"\",0,ROUND(N$33*NORMDIST(C9+0.5,N$34,N$36,TRUE),0)-SUM(O$3:O8))","v":0}]
[0.13,{"v":0.08838834764831845,"d":"0.088388"},-3.5,{"$f":"IF(COUNTIF(D69:D188,-3.5)=0,\"\",COUNTIF(D69:D188,-3.5))","v":""},{"$f":"IF(COUNTIF(E69:E188,-3.5)=0,\"\",COUNTIF(E69:E188,-3.5))","v":""},{"$f":"IF(COUNTIF(F69:F188,-3.5)=0,\"\",COUNTIF(F69:F188,-3.5))","v":""},"","",{"$f":"IF(COUNTIF(I69:I188,-3.5)=0,\"\",COUNTIF(I69:I188,-3.5))","v":""},{"$f":"IF(COUNTIF(J69:J188,-3.5)=0,\"\",COUNTIF(J69:J188,-3.5))","v":""},"","","",0,{"$f":"IF(D69=\"\",0,ROUND(N$33*NORMDIST(C10+0.5,N$34,N$36,TRUE),0)-SUM(O$3:O9))","v":0}]
[0.25,{"v":0.17677669529663687,"d":"0.176777"},-2.5,{"$f":"IF(COUNTIF(D69:D188,-2.5)=0,\"\",COUNTIF(D69:D188,-2.5))","v":""},{"$f":"IF(COUNTIF(E69:E188,-2.5)=0,\"\",COUNTIF(E69:E188,-2.5))","v":""},{"$f":"IF(COUNTIF(F69:F188,-2.5)=0,\"\",COUNTIF(F69:F188,-2.5))","v":""},"","",{"$f":"IF(COUNTIF(I69:I188,-2.5)=0,\"\",COUNTIF(I69:I188,-2.5))","v":""},{"$f":"IF(COUNTIF(J69:J188,-2.5)=0,\"\",COUNTIF(J69:J188,-2.5))","v":""},"","","",0,{"$f":"IF(D69=\"\",0,ROUND(N$33*NORMDIST(C11+0.5,N$34,N$36,TRUE),0)-SUM(O$3:O10))","v":0}]
[0.5,{"v":0.3535533905932738,"d":"0.353553"},-1.5,{"$f":"IF(COUNTIF(D69:D188,-1.5)=0,\"\",COUNTIF(D69:D188,-1.5))","v":""},{"$f":"IF(COUNTIF(E69:E188,-1.5)=0,\"\",COUNTIF(E69:E188,-1.5))","v":""},{"$f":"IF(COUNTIF(F69:F188,-1.5)=0,\"\",COUNTIF(F69:F188,-1.5))","v":""},"","",{"$f":"IF(COUNTIF(I69:I188,-1.5)=0,\"\",COUNTIF(I69:I188,-1.5))","v":""},{"$f":"IF(COUNTIF(J69:J188,-1.5)=0,\"\",COUNTIF(J69:J188,-1.5))","v":""},"","","",0,{"$f":"IF(D69=\"\",0,ROUND(N$33*NORMDIST(C12+0.5,N$34,N$36,TRUE),0)-SUM(O$3:O11))","v":0}]
[1,{"v":0.7071067811865475,"d":"0.707107"},-0.5,{"$f":"IF(COUNTIF(D69:D188,-0.5)=0,\"\",COUNTIF(D69:D188,-0.5))","v":""},{"$f":"IF(COUNTIF(E69:E188,-0.5)=0,\"\",COUNTIF(E69:E188,-0.5))","v":""},{"$f":"IF(COUNTIF(F69:F188,-0.5)=0,\"\",COUNTIF(F69:F188,-0.5))","v":""},"","",{"$f":"IF(COUNTIF(I69:I188,-0.5)=0,\"\",COUNTIF(I69:I188,-0.5))","v":""},{"$f":"IF(COUNTIF(J69:J188,-0.5)=0,\"\",COUNTIF(J69:J188,-0.5))","v":""},"","","",0,{"$f":"IF(D69=\"\",0,ROUND(N$33*NORMDIST(C13+0.5,N$34,N$36,TRUE),0)-SUM(O$3:O12))","v":0}]
[2,{"v":1.4142135623730951,"d":"1.414214"},0.5,{"$f":"IF(COUNTIF(D69:D188,0.5)=0,\"\",COUNTIF(D69:D188,0.5))","v":""},{"$f":"IF(COUNTIF(E69:E188,0.5)=0,\"\",COUNTIF(E69:E188,0.5))","v":""},{"$f":"IF(COUNTIF(F69:F188,0.5)=0,\"\",COUNTIF(F69:F188,0.5))","v":""},"","",{"$f":"IF(COUNTIF(I69:I188,0.5)=0,\"\",COUNTIF(I69:I188,0.5))","v":""},{"$f":"IF(COUNTIF(J69:J188,0.5)=0,\"\",COUNTIF(J69:J188,0.5))","v":""},"","","",0,{"$f":"IF(D69=\"\",0,ROUND(N$33*NORMDIST(C14+0.5,N$34,N$36,TRUE),0)-SUM(O$3:O13))","v":0}]
[4,{"v":2.82842712474619,"d":"2.828427"},1.5,{"$f":"IF(COUNTIF(D69:D188,1.5)=0,\"\",COUNTIF(D69:D188,1.5))","v":""},{"$f":"IF(COUNTIF(E69:E188,1.5)=0,\"\",COUNTIF(E69:E188,1.5))","v":""},{"$f":"IF(COUNTIF(F69:F188,1.5)=0,\"\",COUNTIF(F69:F188,1.5))","v":""},"","",{"$f":"IF(COUNTIF(I69:I188,1.5)=0,\"\",COUNTIF(I69:I188,1.5))","v":""},{"$f":"IF(COUNTIF(J69:J188,1.5)=0,\"\",COUNTIF(J69:J188,1.5))","v":""},"","","",0,{"$f":"IF(D69=\"\",0,ROUND(N$33*NORMDIST(C15+0.5,N$34,N$36,TRUE),0)-SUM(O$3:O14))","v":0}]
[8,{"v":5.656854249492381,"d":"5.656854"},2.5,{"$f":"IF(COUNTIF(D69:D188,2.5)=0,\"\",COUNTIF(D69:D188,2.5))","v":""},{"$f":"IF(COUNTIF(E69:E188,2.5)=0,\"\",COUNTIF(E69:E188,2.5))","v":""},{"$f":"IF(COUNTIF(F69:F188,2.5)=0,\"\",COUNTIF(F69:F188,2.5))","v":""},"","",{"$f":"IF(COUNTIF(I69:I188,2.5)=0,\"\",COUNTIF(I69:I188,2.5))","v":""},{"$f":"IF(COUNTIF(J69:J188,2.5)=0,\"\",COUNTIF(J69:J188,2.5))","v":""},"","","",0,{"$f":"IF(D69=\"\",0,ROUND(N$33*NORMDIST(C16+0.5,N$34,N$36,TRUE),0)-SUM(O$3:O15))","v":0}]
[16,{"v":11.31370849898476,"d":"11.313708"},3.5,{"$f":"IF(COUNTIF(D69:D188,3.5)=0,\"\",COUNTIF(D69:D188,3.5))","v":""},{"$f":"IF(COUNTIF(E69:E188,3.5)=0,\"\",COUNTIF(E69:E188,3.5))","v":""},{"$f":"IF(COUNTIF(F69:F188,3.5)=0,\"\",COUNTIF(F69:F188,3.5))","v":""},"","",{"$f":"IF(COUNTIF(I69:I188,3.5)=0,\"\",COUNTIF(I69:I188,3.5))","v":""},{"$f":"IF(COUNTIF(J69:J188,3.5)=0,\"\",COUNTIF(J69:J188,3.5))","v":""},"","","",0,{"$f":"IF(D69=\"\",0,ROUND(N$33*NORMDIST(C17+0.5,N$34,N$36,TRUE),0)-SUM(O$3:O16))","v":0}]
[32,{"v":22.62741699796952,"d":"22.627417"},4.5,{"$f":"IF(COUNTIF(D69:D188,4.5)=0,\"\",COUNTIF(D69:D188,4.5))","v":""},{"$f":"IF(COUNTIF(E69:E188,4.5)=0,\"\",COUNTIF(E69:E188,4.5))","v":""},{"$f":"IF(COUNTIF(F69:F188,4.5)=0,\"\",COUNTIF(F69:F188,4.5))","v":""},"","",{"$f":"IF(COUNTIF(I69:I188,4.5)=0,\"\",COUNTIF(I69:I188,4.5))","v":""},{"$f":"IF(COUNTIF(J69:J188,4.5)=0,\"\",COUNTIF(J69:J188,4.5))","v":""},"","","",0,{"$f":"IF(D69=\"\",0,ROUND(N$33*NORMDIST(C18+0.5,N$34,N$36,TRUE),0)-SUM(O$3:O17))","v":0}]
[64,{"v":45.254833995939045,"d":"45.254834"},5.5,{"$f":"IF(COUNTIF(D69:D188,5.5)=0,\"\",COUNTIF(D69:D188,5.5))","v":""},{"$f":"IF(COUNTIF(E69:E188,5.5)=0,\"\",COUNTIF(E69:E188,5.5))","v":""},{"$f":"IF(COUNTIF(F69:F188,5.5)=0,\"\",COUNTIF(F69:F188,5.5))","v":""},"","",{"$f":"IF(COUNTIF(I69:I188,5.5)=0,\"\",COUNTIF(I69:I188,5.5))","v":""},{"$f":"IF(COUNTIF(J69:J188,5.5)=0,\"\",COUNTIF(J69:J188,5.5))","v":""},"","","",0,{"$f":"IF(D69=\"\",0,ROUND(N$33*NORMDIST(C19+0.5,N$34,N$36,TRUE),0)-SUM(O$3:O18))","v":0}]
[128,{"v":90.50966799187806,"d":"90.509668"},6.5,{"$f":"IF(COUNTIF(D69:D188,6.5)=0,\"\",COUNTIF(D69:D188,6.5))","v":""},{"$f":"IF(COUNTIF(E69:E188,6.5)=0,\"\",COUNTIF(E69:E188,6.5))","v":""},{"$f":"IF(COUNTIF(F69:F188,6.5)=0,\"\",COUNTIF(F69:F188,6.5))","v":""},"","",{"$f":"IF(COUNTIF(I69:I188,6.5)=0,\"\",COUNTIF(I69:I188,6.5))","v":""},{"$f":"IF(COUNTIF(J69:J188,6.5)=0,\"\",COUNTIF(J69:J188,6.5))","v":""},"","","",0,{"$f":"IF(D69=\"\",0,ROUND(N$33*NORMDIST(C20+0.5,N$34,N$36,TRUE),0)-SUM(O$3:O19))","v":0}]
[256,{"v":181.01933598375612,"d":"181.019336"},7.5,{"$f":"IF(COUNTIF(D69:D188,7.5)=0,\"\",COUNTIF(D69:D188,7.5))","v":""},{"$f":"IF(COUNTIF(E69:E188,7.5)=0,\"\",COUNTIF(E69:E188,7.5))","v":""},{"$f":"IF(COUNTIF(F69:F188,7.5)=0,\"\",COUNTIF(F69:F188,7.5))","v":""},"","",{"$f":"IF(COUNTIF(I69:I188,7.5)=0,\"\",COUNTIF(I69:I188,7.5))","v":""},{"$f":"IF(COUNTIF(J69:J188,7.5)=0,\"\",COUNTIF(J69:J188,7.5))","v":""},"","","",0,{"$f":"IF(D69=\"\",0,ROUND(N$33*NORMDIST(C21+0.5,N$34,N$36,TRUE),0)-SUM(O$3:O20))","v":0}]
[512,{"v":362.0386719675123,"d":"362.038672"},8.5,{"$f":"IF(COUNTIF(D69:D188,8.5)=0,\"\",COUNTIF(D69:D188,8.5))","v":""},{"$f":"IF(COUNTIF(E69:E188,8.5)=0,\"\",COUNTIF(E69:E188,8.5))","v":""},{"$f":"IF(COUNTIF(F69:F188,8.5)=0,\"\",COUNTIF(F69:F188,8.5))","v":""},"","",{"$f":"IF(COUNTIF(I69:I188,8.5)=0,\"\",COUNTIF(I69:I188,8.5))","v":""},{"$f":"IF(COUNTIF(J69:J188,8.5)=0,\"\",COUNTIF(J69:J188,8.5))","v":""},"","","",0,{"$f":"IF(D69=\"\",0,ROUND(N$33*NORMDIST(C22+0.5,N$34,N$36,TRUE),0)-SUM(O$3:O21))","v":0}]
[null,null,"Central Tendancy Stats","Lab 1","Lab 2","Lab 3","Lab 4","Lab 5","Lab 6","Lab 7","Lab 8","Lab 9","Lab 10","All labs","Control","Limits"]
[null,null,"Mean",{"$f":"IF(COUNT(D69:D188)=0,\"\",AVERAGE(D69:D188))","v":""},"","","","",{"$f":"IF(COUNT(I69:I188)=0,\"\",AVERAGE(I69:I188))","v":""},{"$f":"IF(COUNT(J69:J188)=0,\"\",AVERAGE(J69:J188))","v":""},"","","",{"$f":"IF(D69=\"\",\"\",AVERAGE(D69:M188))","v":""},{"$f":"IF(D69=\"\",\"\",ROUND(NORMINV(0.05,N34,N36),3))","v":""},{"$f":"IF(D69=\"\",\"\",ROUND(NORMINV(0.95,N34,N36),3))","v":""}]
["Calculated QC Range",null,"Median",{"$f":"IF(COUNT(D69:D188)=0,\"\",MEDIAN(D69:D188))","v":""},"","","","",{"$f":"IF(COUNT(I69:I188)=0,\"\",MEDIAN(I69:I188))","v":""},{"$f":"IF(COUNT(J69:J188)=0,\"\",MEDIAN(J69:J188))","v":""},"","","",{"$f":"IF(D69=\"\",\"\",MEDIAN(D69:M188))","v":""},{"$f":"IF(D69=\"\",\"\",ROUND(N51,3))","v":""},{"$f":"IF(D69=\"\",\"\",ROUND(N52,3))","v":""}]
[{"$f":"IF(N33=0,\"\",ROUND(2*N39,3)&\" to \"&ROUND(N40,3))","v":""},null,"Mode",{"$f":"IF(COUNT(D69:D188)=0,\"\",MODE(D69:D188))","v":""},"","","","",{"$f":"IF(COUNT(I69:I188)=0,\"\",MODE(I69:I188))","v":""},{"$f":"IF(COUNT(J69:J188)=0,\"\",MODE(J69:J188))","v":""},"","","",{"$f":"IF(D69=\"\",\"\",MODE(D69:M188))","v":""},{"$f":"IF(D69=\"\",\"\",N26-1)","v":""},{"$f":"IF(D69=\"\",\"\",N26+1)","v":""}]
["Dilution Range",null,null,"(Converted back to MIC)",{"$nulls":10},"Control","Limits"]
[{"$f":"IF(N33=0,\"\",LN(N40/N39)/LN(2))","v":""},null,"Mean",{"$f":"IF(COUNT(D69:D188)=0,\"\",2^(AVERAGE(D69:D188)+0.5))","v":""},"","","","",{"$f":"IF(COUNT(I69:I188)=0,\"\",2^(AVERAGE(I69:I188)+0.5))","v":""},{"$f":"IF(COUNT(J69:J188)=0,\"\",2^(AVERAGE(J69:J188)+0.5))","v":""},"","","",{"$f":"IF(D69=\"\",\"\",2^(AVERAGE(D69:M188)+0.5))","v":""},{"$f":"IF(D69=\"\",\"\",2^O24)","v":""},{"$f":"IF(D69=\"\",\"\",2^P24)","v":""}]
["% Obs. Captured",null,"Median",{"$f":"IF(COUNT(D69:D188)=0,\"\",2^(MEDIAN(D69:D188)+0.5))","v":""},"","","","",{"$f":"IF(COUNT(I69:I188)=0,\"\",2^(MEDIAN(I69:I188)+0.5))","v":""},{"$f":"IF(COUNT(J69:J188)=0,\"\",2^(MEDIAN(J69:J188)+0.5))","v":""},"","","",{"$f":"IF(D69=\"\",\"\",2^(MEDIAN(D69:M188)+0.5))","v":""},{"$f":"IF(D69=\"\",\"\",2^O25)","v":""},{"$f":"IF(D69=\"\",\"\",2^P25)","v":""}]
[{"$f":"IF(N33=0,\"\",((COUNTIF(D69:M188,\"<\"&LN(N40)/LN(2))-COUNTIF(D69:M188,\"<\"&LN(N39)/LN(2)))/N$33))","v":""},null,"Mode",{"$f":"IF(COUNT(D69:D188)=0,\"\",2^(MODE(D69:D188)+0.5))","v":""},"","","","",{"$f":"IF(COUNT(I69:I188)=0,\"\",2^(MODE(I69:I188)+0.5))","v":""},{"$f":"IF(COUNT(J69:J188)=0,\"\",2^(MODE(J69:J188)+0.5))","v":""},"","","",{"$f":"IF(D69=\"\",\"\",2^(MODE(D69:M188)+0.5))","v":""},{"$f":"IF(D69=\"\",\"\",2^O26)","v":""},{"$f":"IF(D69=\"\",\"\",2^P26)","v":""}]
["Prob'ty Outside Range"]
[{"$f":"IF(N33=0,\"\",N41+N42)","v":""},null,"Conventional Stats","Lab 1","Lab 2","Lab 3","Lab 4","Lab 5","Lab 6","Lab 7","Lab 8","Lab 9","Lab 10","All labs","Interlab"]
[null,null,"N",{"$f":"IF(COUNT(D69:D188)=0,\"\",COUNT(D69:D188))","v":""},"","","","",{"$f":"IF(COUNT(I69:I188)=0,\"\",COUNT(I69:I188))","v":""},{"$f":"IF(COUNT(J69:J188)=0,\"\",COUNT(J69:J188))","v":""},"","","",{"$f":"COUNT(D69:M188)","v":0},"CV"]
["CLSI QC Range",null,"GeoMean MIC (log2)",{"$f":"IF(COUNT(D69:D188)=0,\"\",AVERAGE(D69:D188))","v":""},"","","","",{"$f":"IF(COUNT(I69:I188)=0,\"\",AVERAGE(I69:I188))","v":""},{"$f":"IF(COUNT(J69:J188)=0,\"\",AVERAGE(J69:J188))","v":""},"","","",{"$f":"IF(D69=\"\",\"\",AVERAGE(D69:M188))","v":""},{"$f":"IF(D69=\"\",\"\",ABS(STDEVA(D34:M34)/N34))","v":""}]
[null,null,"GeoMean MIC",{"$f":"IF(COUNT(D69:D188)=0,\"\",2^D34)","v":""},"","","","",{"$f":"IF(COUNT(I69:I188)=0,\"\",2^I34)","v":""},{"$f":"IF(COUNT(J69:J188)=0,\"\",2^J34)","v":""},"","","",{"$f":"IF(D69=\"\",\"\",2^N34)","v":""}]
[null,null,"GeoSD (log2)",{"$f":"IF(COUNT(D69:D188)=0,\"\",STDEV(D69:D188))","v":""},"","","","",{"$f":"IF(COUNT(I69:I188)=0,\"\",STDEV(I69:I188))","v":""},{"$f":"IF(COUNT(J69:J188)=0,\"\",STDEV(J69:J188))","v":""},"","","",{"$f":"IF(D69=\"\",\"\",STDEV(D69:M188))","v":""}]
[{"$f":"IF(A35=\"\",\"\",ROUND(2^(A35+0.5),3)&\" to \"&ROUND(2^(A36+0.5),3))","v":""},null,"95% Lower Bound",{"$f":"IF(COUNT(D69:D188)=0,\"\",IF(D33=0,\"\",2^((NORMINV(0.025,D34,D36)))))","v":""},"","","","",{"$f":"IF(COUNT(I69:I188)=0,\"\",IF(I33=0,\"\",2^((NORMINV(0.025,I34,I36)))))","v":""},{"$f":"IF(COUNT(J69:J188)=0,\"\",IF(J33=0,\"\",2^((NORMINV(0.025,J34,J36)))))","v":""},"","","",{"$f":"IF(N33=0,\"\",2^((NORMINV(0.025,N34,N36))))","v":""}]
["Dilution Range",null,"95% Upper Bound",{"$f":"IF(COUNT(D69:D188)=0,\"\",IF(D33=0,\"\",2^(NORMINV(0.975,D34,D36))))","v":""},"","","","",{"$f":"IF(COUNT(I69:I188)=0,\"\",IF(I33=0,\"\",2^(NORMINV(0.975,I34,I36))))","v":""},{"$f":"IF(COUNT(J69:J188)=0,\"\",IF(J33=0,\"\",2^(NORMINV(0.975,J34,J36))))","v":""},"","","",{"$f":"IF(N33=0,\"\",2^(NORMINV(0.975,N34,N36)))","v":""}]
[{"$f":"IF(A35=\"\",\"\",A36-A35+1)","v":""},null,"Lower Bound Rounded Down",{"$f":"IF(COUNT(D69:D188)=0,\"\",IF(D33=0,\"\",2^(INT((NORMINV(0.025,D34,D36))))))","v":""},"","","","",{"$f":"IF(COUNT(I69:I188)=0,\"\",IF(I33=0,\"\",2^(INT((NORMINV(0.025,I34,I36))))))","v":""},{"$f":"IF(COUNT(J69:J188)=0,\"\",IF(J33=0,\"\",2^(INT((NORMINV(0.025,J34,J36))))))","v":""},"","","",{"$f":"IF(N33=0,\"\",2^(INT((NORMINV(0.025,N34,N36)))))","v":""}]
["CLSI% Obs. captured",null,"Upper Bound Rounded Up",{"$f":"IF(COUNT(D69:D188)=0,\"\",IF(D33=0,\"\",2^(INT((NORMINV(0.975,D34,D36)))+1)))","v":""},"","","","",{"$f":"IF(COUNT(I69:I188)=0,\"\",IF(I33=0,\"\",2^(INT((NORMINV(0.975,I34,I36)))+1)))","v":""},{"$f":"IF(COUNT(J69:J188)=0,\"\",IF(J33=0,\"\",2^(INT((NORMINV(0.975,J34,J36)))+1)))","v":""},"","","",{"$f":"IF(N33=0,\"\",2^(INT((NORMINV(0.975,N34,N36)))+1))","v":""}]
[{"$f":"IF(A35=0,\"\",(COUNTIF(D69:M188,\"<\"&A36+1)-COUNTIF(D69:M188,\"<\"&A35))/N$33)","v":""},null,"Probability of <=Lower Bound",{"$f":"IF(COUNT(D69:D188)=0,\"\",NORMDIST(LOG(D39)/LOG(2),D34,D36,TRUE))","v":""},"","","","",{"$f":"IF(COUNT(I69:I188)=0,\"\",NORMDIST(LOG(I39)/LOG(2),I34,I36,TRUE))","v":""},{"$f":"IF(COUNT(J69:J188)=0,\"\",NORMDIST(LOG(J39)/LOG(2),J34,J36,TRUE))","v":""},"","","",{"$f":"IF(D69=\"\",\"\",NORMDIST(LOG(N39)/LOG(2),N34,N36,TRUE))","v":""}]
[null,null,"Probability of >Upper Bound",{"$f":"IF(COUNT(D69:D188)=0,\"\",1-NORMDIST(LOG(D40)/LOG(2),D34,D36,TRUE))","v":""},"","","","",{"$f":"IF(COUNT(I69:I188)=0,\"\",1-NORMDIST(LOG(I40)/LOG(2),I34,I36,TRUE))","v":""},{"$f":"IF(COUNT(J69:J188)=0,\"\",1-NORMDIST(LOG(J40)/LOG(2),J34,J36,TRUE))","v":""},"","","",{"$f":"IF(D69=\"\",\"\",1-NORMDIST(LOG(N40)/LOG(2),N34,N36,TRUE))","v":""}]
[null,null,"New Range",{"$f":"IF(COUNT(D69:D188)=0,\"\",1-D41-D42)","v":""},"","","","",{"$f":"IF(COUNT(I69:I188)=0,\"\",1-I41-I42)","v":""},{"$f":"IF(COUNT(J69:J188)=0,\"\",1-J41-J42)","v":""},"","","",{"$f":"IF(D69=\"\",\"\",1-N41-N42)","v":""}]
[]
[null,null,"Order Stats","Lab 1","Lab 2","Lab 3","Lab 4","Lab 5","Lab 6","Lab 7","Lab 8","Lab 9","Lab 10","All labs","Interlab"]
[null,null,"25th %ile",{"$f":"IF(COUNT(D69:D188)=0,\"\",QUARTILE(D69:D188,1))","v":""},"","","","",{"$f":"IF(COUNT(I69:I188)=0,\"\",QUARTILE(I69:I188,1))","v":""},{"$f":"IF(COUNT(J69:J188)=0,\"\",QUARTILE(J69:J188,1))","v":""},"","","",{"$f":"IF(D69=\"\",\"\",QUARTILE(D69:M188,1))","v":""},"CV"]
[null,null,"75th %ile",{"$f":"IF(COUNT(D69:D188)=0,\"\",QUARTILE(D69:D188,3))","v":""},"","","","",{"$f":"IF(COUNT(I69:I188)=0,\"\",QUARTILE(I69:I188,3))","v":""},{"$f":"IF(COUNT(J69:J188)=0,\"\",QUARTILE(J69:J188,3))","v":""},"","","",{"$f":"IF(D69=\"\",\"\",QUARTILE(D69:M188,3))","v":""},{"$f":"IF(D69=\"\",\"\",ABS(N48/N25))","v":""}]
[null,null,"Interquartile Range",{"$f":"IF(COUNT(D69:D188)=0,\"\",IF(D47-D46=0,1,D47-D46))","v":""},"","","","",{"$f":"IF(COUNT(I69:I188)=0,\"\",IF(I47-I46=0,1,I47-I46))","v":""},{"$f":"IF(COUNT(J69:J188)=0,\"\",IF(J47-J46=0,1,J47-J46))","v":""},"","","",{"$f":"IF(D69=\"\",\"\",IF(N47-N46=0,1,N47-N46))","v":""}]
[null,null,"Minimum",{"$f":"IF(COUNT(D69:D188)=0,\"\",MIN(D69:D188))","v":""},"","","","",{"$f":"IF(COUNT(I69:I188)=0,\"\",MIN(I69:I188))","v":""},{"$f":"IF(COUNT(J69:J188)=0,\"\",MIN(J69:J188))","v":""},"","","",{"$f":"IF(D69=\"\",\"\",MIN(D69:M188))","v":""}]
[null,null,"Maximum",{"$f":"IF(COUNT(D69:D188)=0,\"\",MAX(D69:D188))","v":""},"","","","",{"$f":"IF(COUNT(I69:I188)=0,\"\",MAX(I69:I188))","v":""},{"$f":"IF(COUNT(J69:J188)=0,\"\",MAX(J69:J188))","v":""},"","","",{"$f":"IF(D69=\"\",\"\",MAX(D69:M188))","v":""}]
[null,null,"Lower Inner Fence",{"$f":"IF(COUNT(D69:D188)=0,\"\",D$46-1.5*D$48)","v":""},"","","","",{"$f":"IF(COUNT(I69:I188)=0,\"\",I$46-1.5*I$48)","v":""},{"$f":"IF(COUNT(J69:J188)=0,\"\",J$46-1.5*J$48)","v":""},"","","",{"$f":"IF(D69=\"\",\"\",N$46-1.5*N$48)","v":""}]
[null,null,"Upper Inner Fence",{"$f":"IF(COUNT(D69:D188)=0,\"\",D$47+1.5*D$48)","v":""},"","","","",{"$f":"IF(COUNT(I69:I188)=0,\"\",I$47+1.5*I$48)","v":""},{"$f":"IF(COUNT(J69:J188)=0,\"\",J$47+1.5*J$48)","v":""},"","","",{"$f":"IF(D69=\"\",\"\",N$47+1.5*N$48)","v":""}]
[null,null,"Lower Outer Fence",{"$f":"IF(COUNT(D69:D188)=0,\"\",D$46-3*D$48)","v":""},"","","","",{"$f":"IF(COUNT(I69:I188)=0,\"\",I$46-3*I$48)","v":""},{"$f":"IF(COUNT(J69:J188)=0,\"\",J$46-3*J$48)","v":""},"","","",{"$f":"IF(D69=\"\",\"\",N$46-3*N$48)","v":""}]
[null,null,"Upper Outer Fence",{"$f":"IF(COUNT(D69:D188)=0,\"\",D$47+3*D$48)","v":""},"","","","",{"$f":"IF(COUNT(I69:I188)=0,\"\",I$47+3*I$48)","v":""},{"$f":"IF(COUNT(J69:J188)=0,\"\",J$47+3*J$48)","v":""},"","","",{"$f":"IF(D69=\"\",\"\",N$47+3*N$48)","v":""}]
[null,null,"Lower Near Outliers",{"$f":"IF(COUNT(D69:D188)=0,\"\",COUNTIF(D69:D188,\"<\"&D51))","v":""},"","","","",{"$f":"IF(COUNT(I69:I188)=0,\"\",COUNTIF(I69:I188,\"<\"&I51))","v":""},{"$f":"IF(COUNT(J69:J188)=0,\"\",COUNTIF(J69:J188,\"<\"&J51))","v":""},"","","",{"$f":"IF(D69=\"\",\"\",COUNTIF(D69:M188,\"<\"&N51)-N57)","v":""}]
[null,null,"Upper Near Outliers",{"$f":"IF(COUNT(D69:D188)=0,\"\",COUNTIF(D69:D188,\">\"&D52))","v":""},"","","","",{"$f":"IF(COUNT(I69:I188)=0,\"\",COUNTIF(I69:I188,\">\"&I52))","v":""},{"$f":"IF(COUNT(J69:J188)=0,\"\",COUNTIF(J69:J188,\">\"&J52))","v":""},"","","",{"$f":"IF(D69=\"\",\"\",COUNTIF(D69:M188,\">\"&N52)-N58)","v":""}]
[null,null,"Lower Extreme Outliers",{"$f":"IF(COUNT(D69:D188)=0,\"\",COUNTIF(D69:D188,\"<\"&D53))","v":""},"","","","",{"$f":"IF(COUNT(I69:I188)=0,\"\",COUNTIF(I69:I188,\"<\"&I53))","v":""},{"$f":"IF(COUNT(J69:J188)=0,\"\",COUNTIF(J69:J188,\"<\"&J53))","v":""},"","","",{"$f":"IF(D69=\"\",\"\",COUNTIF(D69:M188,\"<\"&N53))","v":""}]
[null,null,"Upper Extreme Outliers",{"$f":"IF(COUNT(D69:D188)=0,\"\",COUNTIF(D69:D188,\">\"&D54))","v":""},"","","","",{"$f":"IF(COUNT(I69:I188)=0,\"\",COUNTIF(I69:I188,\">\"&I54))","v":""},{"$f":"IF(COUNT(J69:J188)=0,\"\",COUNTIF(J69:J188,\">\"&J54))","v":""},"","","",{"$f":"IF(D69=\"\",\"\",COUNTIF(D69:M188,\">\"&N54))","v":""}]
[]
[null,null,"Chart Control Limits","Lab 1","Lab 2","Lab 3","Lab 4","Lab 5","Lab 6","Lab 7","Lab 8","Lab 9","Lab 10"]
[null,"Mean","Lower CL",{"$f":"$O$24","v":""},{"$f":"$O$24","v":""},"","","","","","","",""]
[null,null,"Upper CL",{"$f":"$P$24","v":""},{"$f":"$P$24","v":""},"","","","","","","",""]
[null,"Median","Lower CL",{"$f":"$O$25","v":""},{"$f":"$O$25","v":""},"","","","","","","",""]
[null,null,"Upper CL",{"$f":"$P$25","v":""},{"$f":"$P$25","v":""},"","","","","","","",""]
[null,"Mode","Lower CL",{"$f":"$O$26","v":""},{"$f":"$O$26","v":""},"","","","","","","",""]
[null,null,"Upper CL",{"$f":"$P$26","v":""},{"$f":"$P$26","v":""},"","","","","","","",""]
[]
[null,null,"Log2 Converted Raw Data","Lab 1","Lab 2","Lab 3","Lab 4","Lab 5","Lab 6","Lab 7","Lab 8","Lab 9","Lab 10","Control","Limits"]
[null,null,"Media Lot 1",{"$f":"IF(D191=\"\",\"\",LOOKUP(D191,$A$3:$A$22,$C$3:$C$22))","v":""},"","","","",{"$f":"IF(I191=\"\",\"\",LOOKUP(I191,$A$3:$A$22,$C$3:$C$22))","v":""},"","","","",{"$f":"IF(D69=\"\",\"\",LN($N$39)/LN(2))","v":""},{"$f":"IF(D69=\"\",\"\",LN($N$40)/LN(2)-0.5)","v":""}]
[{"$nulls":3},"","","","","","","","","",""]
[{"$nulls":3},"","","","","","","","","",""]
[{"$nulls":3},"","","","","","","","","",""]
[{"$nulls":3},{"$f":"IF(D195=\"\",\"\",LOOKUP(D195,$A$3:$A$22,$C$3:$C$22))","v":""},"","","","","","","","",""]
[{"$nulls":3},"","","","","","","","","",""]
[{"$nulls":3},"","","","","","","","","",""]
[{"$nulls":3},"","","","","","","","","",""]
[{"$nulls":3},"","","","","","","","","",""]
[{"$nulls":3},"","","","","","","","","",""]
[{"$nulls":3},{"$f":"IF(D201=\"\",\"\",LOOKUP(D201,$A$3:$A$22,$C$3:$C$22))","v":""},"","","","",{"$f":"IF(I201=\"\",\"\",LOOKUP(I201,$A$3:$A$22,$C$3:$C$22))","v":""},"","","",""]
[{"$nulls":3},"","","","","","","","","",""]
[{"$nulls":3},{"$f":"IF(D203=\"\",\"\",LOOKUP(D203,$A$3:$A$22,$C$3:$C$22))","v":""},"","","","","","","","",""]
[{"$nulls":3},"","","","","","","","","",""]
[{"$nulls":3},"","","","","","","","","",""]
[{"$nulls":3},"","","","","","","","","",""]
[{"$nulls":3},"","","","","","","","","",""]
[{"$nulls":3},"","","","","","","","","",""]
[{"$nulls":3},"","","","","","","","","",""]
[{"$nulls":3},"","","","","","","","","",""]
[{"$nulls":3},{"$f":"IF(D211=\"\",\"\",LOOKUP(D211,$A$3:$A$22,$C$3:$C$22))","v":""},"","","","",{"$f":"IF(I211=\"\",\"\",LOOKUP(I211,$A$3:$A$22,$C$3:$C$22))","v":""},"","","",""]
[{"$nulls":3},"","","","","","","","","",""]
[{"$nulls":3},"","","","","","","","","",""]
[{"$nulls":3},"","","","","","","","","",""]
[{"$nulls":3},"","","","","","","","","",""]
[{"$nulls":3},"","","","","","","","","",""]
[{"$nulls":3},"","","","","","","","","",""]
[{"$nulls":3},"","","","","","","","","",""]
[{"$nulls":3},"","","","","","","","","",""]
[{"$nulls":3},"","","","","","","","","",""]
[{"$nulls":3},"","","","","",{"$f":"IF(I221=\"\",\"\",LOOKUP(I221,$A$3:$A$22,$C$3:$C$22))","v":""},"","","",""]
[{"$nulls":3},"","","","","","","","","",""]
[{"$nulls":3},"","","","","","","","","",""]
[{"$nulls":3},"","","","","","","","","",""]
[{"$nulls":3},"","","","","","","","","",""]
[{"$nulls":3},"","","","","","","","","",""]
[{"$nulls":3},{"$f":"IF(D227=\"\",\"\",LOOKUP(D227,$A$3:$A$22,$C$3:$C$22))","v":""},"","","","","","","","",""]
[{"$nulls":3},"","","","","","","","","",""]
[{"$nulls":3},"","","","","","","","","",""]
[{"$nulls":3},"","","","","","","","","",""]
[null,null,"Media Lot 2","","","","","",{"$f":"IF(I231=\"\",\"\",LOOKUP(I231,$A$3:$A$22,$C$3:$C$22))","v":""},"","","",""]
[{"$nulls":3},"","","","","","","","","",""]
[{"$nulls":3},"","","","","","","","","",""]
[{"$nulls":3},"","","","","","","","","",""]
[{"$nulls":3},"","","","","","","","","",""]
[{"$nulls":3},"","","","","","","","","",""]
[{"$nulls":3},"","","","","","","","","",""]
[{"$nulls":3},"","","","","","","","","",""]
[{"$nulls":3},"","","","","","","","","",""]
[{"$nulls":3},"","","","","","","","","",""]
[{"$nulls":3},"","","","","",{"$f":"IF(I241=\"\",\"\",LOOKUP(I241,$A$3:$A$22,$C$3:$C$22))","v":""},"","","",""]
[{"$nulls":3},"","","","","","","","","",""]
[{"$nulls":3},{"$f":"IF(D243=\"\",\"\",LOOKUP(D243,$A$3:$A$22,$C$3:$C$22))","v":""},"","","","","","","","",""]
[{"$nulls":3},"","","","","","","","","",""]
[{"$nulls":3},"","","","","","","","","",""]
[{"$nulls":3},"","","","","","","","","",""]
[{"$nulls":3},"","","","","","","","","",""]
[{"$nulls":3},"","","","","","","","","",""]
[{"$nulls":3},"","","","","","","","","",""]
[{"$nulls":3},"","","","","","","","","",""]
[{"$nulls":3},"","","","","",{"$f":"IF(I251=\"\",\"\",LOOKUP(I251,$A$3:$A$22,$C$3:$C$22))","v":""},"","","",""]
[{"$nulls":3},"","","","","","","","","",""]
[{"$nulls":3},"","","","","","","","","",""]
[{"$nulls":3},"","","","","","","","","",""]
[{"$nulls":3},"","","","","","","","","",""]
[{"$nulls":3},"","","","","","","","","",""]
[{"$nulls":3},"","","","","","","","","",""]
[{"$nulls":3},"","","","","","","","","",""]
[{"$nulls":3},{"$f":"IF(D259=\"\",\"\",LOOKUP(D259,$A$3:$A$22,$C$3:$C$22))","v":""},"","","","","","","","",""]
[{"$nulls":3},"","","","","","","","","",""]
[{"$nulls":3},"","","","","",{"$f":"IF(I261=\"\",\"\",LOOKUP(I261,$A$3:$A$22,$C$3:$C$22))","v":""},"","","",""]
[{"$nulls":3},"","","","","","","","","",""]
[{"$nulls":3},"","","","","","","","","",""]
[{"$nulls":3},"","","","","","","","","",""]
[{"$nulls":3},"","","","","","","","","",""]
[{"$nulls":3},"","","","","","","","","",""]
[{"$nulls":3},"","","","","","","","","",""]
[{"$nulls":3},"","","","","","","","","",""]
[{"$nulls":3},"","","","","","","","","",""]
[{"$nulls":3},"","","","","","","","","",""]
[null,null,"Media Lot 3","","","","","",{"$f":"IF(I271=\"\",\"\",LOOKUP(I271,$A$3:$A$22,$C$3:$C$22))","v":""},"","","",""]
[{"$nulls":3},"","","","","","","","","",""]
[{"$nulls":3},"","","","","","","","","",""]
[{"$nulls":3},"","","","","","","","","",""]
[{"$nulls":3},{"$f":"IF(D275=\"\",\"\",LOOKUP(D275,$A$3:$A$22,$C$3:$C$22))","v":""},"","","","","","","","",""]
[{"$nulls":3},"","","","","","","","","",""]
[{"$nulls":3},"","","","","","","","","",""]
[{"$nulls":3},"","","","","","","","","",""]
[{"$nulls":3},"","","","","","","","","",""]
[{"$nulls":3},"","","","","","","","","",""]
[{"$nulls":3},"","","","","",{"$f":"IF(I281=\"\",\"\",LOOKUP(I281,$A$3:$A$22,$C$3:$C$22))","v":""},"","","",""]
[{"$nulls":3},"","","","","","","","","",""]
[{"$nulls":3},"","","","","","","","","",""]
[{"$nulls":3},"","","","","","","","","",""]
[{"$nulls":3},"","","","","","","","","",""]
[{"$nulls":3},"","","","","","","","","",""]
[{"$nulls":3},"","","","","","","","","",""]
[{"$nulls":3},"","","","","","","","","",""]
[{"$nulls":3},"","","","","","","","","",""]
[{"$nulls":3},"","","","","","","","","",""]
[{"$nulls":3},{"$f":"IF(D291=\"\",\"\",LOOKUP(D291,$A$3:$A$22,$C$3:$C$22))","v":""},"","","","",{"$f":"IF(I291=\"\",\"\",LOOKUP(I291,$A$3:$A$22,$C$3:$C$22))","v":""},"","","",""]
[{"$nulls":3},"","","","","","","","","",""]
[{"$nulls":3},"","","","","","","","","",""]
[{"$nulls":3},"","","","","","","","","",""]
[{"$nulls":3},"","","","","","","","","",""]
[{"$nulls":3},"","","","","","","","","",""]
[{"$nulls":3},"","","","","","","","","",""]
[{"$nulls":3},"","","","","","","","","",""]
[{"$nulls":3},"","","","","","","","","",""]
[{"$nulls":3},"","","","","","","","","",""]
[{"$nulls":3},"","","","","",{"$f":"IF(I301=\"\",\"\",LOOKUP(I301,$A$3:$A$22,$C$3:$C$22))","v":""},"","","",""]
[{"$nulls":3},"","","","","","","","","",""]
[{"$nulls":3},"","","","","","","","","",""]
[{"$nulls":3},"","","","","","","","","",""]
[{"$nulls":3},"","","","","","","","","",""]
[{"$nulls":3},"","","","","","","","","",""]
[{"$nulls":3},{"$f":"IF(D307=\"\",\"\",LOOKUP(D307,$A$3:$A$22,$C$3:$C$22))","v":""},"","","","","","","","",""]
[{"$nulls":3},"","","","","","","","","",""]
[{"$nulls":3},"","","","","","","","","",""]
[{"$nulls":3},"","","","","","","","","",""]
[]
[null,null,"Raw Data Entry","Lab 1","Lab 2","Lab 3","Lab 4","Lab 5","Lab 6","Lab 7","Lab 8","Lab 9","Lab 10"]
[null,null,"Media Lot 1"]
{"$rows_empty":39}
[null,null,"Media Lot 2"]
{"$rows_empty":39}
[null,null,"Media Lot 3"]

{"sheet":"Strain 5","index":12,"n_rows":271,"n_cols":16,"rows_kept":271,"merged":[[0,4,0,6]]}
[{"$f":"'Range Summary'!F2","v":"QC5"},{"$f":"'Range Summary'!A2","v":"Test agent"},null,null,"Go to Raw Data Entry area"]
["MIC","Midpoint MIC","Mid Log2MIC","Lab 1","Lab 2","Lab 3","Lab 4","Lab 5","Lab 6","Lab 7","Lab 8","Lab 9","Lab 10","All labs","Norm"]
[{"v":1E-3,"d":"0.001"},{"$f":"2^C3","v":{"v":6.9053396600248776E-4,"d":"0.000691"}},-10.5,{"$f":"IF(COUNTIF(D69:D188,-10.5)=0,\"\",COUNTIF(D69:D188,-10.5))","v":""},{"$f":"IF(COUNTIF(E69:E188,-10.5)=0,\"\",COUNTIF(E69:E188,-10.5))","v":""},{"$f":"IF(COUNTIF(F69:F188,-10.5)=0,\"\",COUNTIF(F69:F188,-10.5))","v":""},"","",{"$f":"IF(COUNTIF(I69:I188,-10.5)=0,\"\",COUNTIF(I69:I188,-10.5))","v":""},{"$f":"IF(COUNTIF(J69:J188,-10.5)=0,\"\",COUNTIF(J69:J188,-10.5))","v":""},"","","",{"$f":"SUM(D3:M3)","v":0},{"$f":"IF(D69=\"\",0,ROUND(N$33*NORMDIST(C3+0.5,N$34,N$36,TRUE),0))","v":0}]
[{"v":2E-3,"d":"0.002"},{"$f":"2^C4","v":{"v":1.3810679320049757E-3,"d":"0.001381"}},-9.5,{"$f":"IF(COUNTIF(D69:D188,-9.5)=0,\"\",COUNTIF(D69:D188,-9.5))","v":""},{"$f":"IF(COUNTIF(E69:E188,-9.5)=0,\"\",COUNTIF(E69:E188,-9.5))","v":""},{"$f":"IF(COUNTIF(F69:F188,-9.5)=0,\"\",COUNTIF(F69:F188,-9.5))","v":""},"","",{"$f":"IF(COUNTIF(I69:I188,-9.5)=0,\"\",COUNTIF(I69:I188,-9.5))","v":""},{"$f":"IF(COUNTIF(J69:J188,-9.5)=0,\"\",COUNTIF(J69:J188,-9.5))","v":""},"","","",0,{"$f":"IF(D69=\"\",0,ROUND(N$33*NORMDIST(C4+0.5,N$34,N$36,TRUE),0)-SUM(O2:O$3))","v":0}]
[0.004,{"v":2.7621358640099515E-3,"d":"0.002762"},-8.5,{"$f":"IF(COUNTIF(D69:D188,-8.5)=0,\"\",COUNTIF(D69:D188,-8.5))","v":""},{"$f":"IF(COUNTIF(E69:E188,-8.5)=0,\"\",COUNTIF(E69:E188,-8.5))","v":""},{"$f":"IF(COUNTIF(F69:F188,-8.5)=0,\"\",COUNTIF(F69:F188,-8.5))","v":""},"","",{"$f":"IF(COUNTIF(I69:I188,-8.5)=0,\"\",COUNTIF(I69:I188,-8.5))","v":""},{"$f":"IF(COUNTIF(J69:J188,-8.5)=0,\"\",COUNTIF(J69:J188,-8.5))","v":""},"","","",0,{"$f":"IF(D69=\"\",0,ROUND(N$33*NORMDIST(C5+0.5,N$34,N$36,TRUE),0)-SUM(O$3:O3))","v":0}]
[0.008,{"v":0.005524271728019904,"d":"0.005524"},-7.5,{"$f":"IF(COUNTIF(D69:D188,-7.5)=0,\"\",COUNTIF(D69:D188,-7.5))","v":""},{"$f":"IF(COUNTIF(E69:E188,-7.5)=0,\"\",COUNTIF(E69:E188,-7.5))","v":""},{"$f":"IF(COUNTIF(F69:F188,-7.5)=0,\"\",COUNTIF(F69:F188,-7.5))","v":""},"","",{"$f":"IF(COUNTIF(I69:I188,-7.5)=0,\"\",COUNTIF(I69:I188,-7.5))","v":""},{"$f":"IF(COUNTIF(J69:J188,-7.5)=0,\"\",COUNTIF(J69:J188,-7.5))","v":""},"","","",{"$f":"SUM(D6:M6)","v":0},{"$f":"IF(D69=\"\",0,ROUND(N$33*NORMDIST(C6+0.5,N$34,N$36,TRUE),0)-SUM(O$3:O5))","v":0}]
[0.016,{"v":0.011048543456039808,"d":"0.011049"},-6.5,{"$f":"IF(COUNTIF(D69:D188,-6.5)=0,\"\",COUNTIF(D69:D188,-6.5))","v":""},{"$f":"IF(COUNTIF(E69:E188,-6.5)=0,\"\",COUNTIF(E69:E188,-6.5))","v":""},{"$f":"IF(COUNTIF(F69:F188,-6.5)=0,\"\",COUNTIF(F69:F188,-6.5))","v":""},"","",{"$f":"IF(COUNTIF(I69:I188,-6.5)=0,\"\",COUNTIF(I69:I188,-6.5))","v":""},{"$f":"IF(COUNTIF(J69:J188,-6.5)=0,\"\",COUNTIF(J69:J188,-6.5))","v":""},"","","",0,{"$f":"IF(D69=\"\",0,ROUND(N$33*NORMDIST(C7+0.5,N$34,N$36,TRUE),0)-SUM(O$3:O6))","v":0}]
[0.03,{"v":0.022097086912079608,"d":"0.022097"},-5.5,{"$f":"IF(COUNTIF(D69:D188,-5.5)=0,\"\",COUNTIF(D69:D188,-5.5))","v":""},{"$f":"IF(COUNTIF(E69:E188,-5.5)=0,\"\",COUNTIF(E69:E188,-5.5))","v":""},{"$f":"IF(COUNTIF(F69:F188,-5.5)=0,\"\",COUNTIF(F69:F188,-5.5))","v":""},"","",{"$f":"IF(COUNTIF(I69:I188,-5.5)=0,\"\",COUNTIF(I69:I188,-5.5))","v":""},{"$f":"IF(COUNTIF(J69:J188,-5.5)=0,\"\",COUNTIF(J69:J188,-5.5))","v":""},"","","",0,{"$f":"IF(D69=\"\",0,ROUND(N$33*NORMDIST(C8+0.5,N$34,N$36,TRUE),0)-SUM(O$3:O7))","v":0}]
[0.06,{"v":0.04419417382415922,"d":"0.044194"},-4.5,{"$f":"IF(COUNTIF(D69:D188,-4.5)=0,\"\",COUNTIF(D69:D188,-4.5))","v":""},{"$f":"IF(COUNTIF(E69:E188,-4.5)=0,\"\",COUNTIF(E69:E188,-4.5))","v":""},{"$f":"IF(COUNTIF(F69:F188,-4.5)=0,\"\",COUNTIF(F69:F188,-4.5))","v":""},"","",{"$f":"IF(COUNTIF(I69:I188,-4.5)=0,\"\",COUNTIF(I69:I188,-4.5))","v":""},{"$f":"IF(COUNTIF(J69:J188,-4.5)=0,\"\",COUNTIF(J69:J188,-4.5))","v":""},"","","",0,{"$f":"IF(D69=\"\",0,ROUND(N$33*NORMDIST(C9+0.5,N$34,N$36,TRUE),0)-SUM(O$3:O8))","v":0}]
[0.13,{"v":0.08838834764831845,"d":"0.088388"},-3.5,{"$f":"IF(COUNTIF(D69:D188,-3.5)=0,\"\",COUNTIF(D69:D188,-3.5))","v":""},{"$f":"IF(COUNTIF(E69:E188,-3.5)=0,\"\",COUNTIF(E69:E188,-3.5))","v":""},{"$f":"IF(COUNTIF(F69:F188,-3.5)=0,\"\",COUNTIF(F69:F188,-3.5))","v":""},"","",{"$f":"IF(COUNTIF(I69:I188,-3.5)=0,\"\",COUNTIF(I69:I188,-3.5))","v":""},{"$f":"IF(COUNTIF(J69:J188,-3.5)=0,\"\",COUNTIF(J69:J188,-3.5))","v":""},"","","",0,{"$f":"IF(D69=\"\",0,ROUND(N$33*NORMDIST(C10+0.5,N$34,N$36,TRUE),0)-SUM(O$3:O9))","v":0}]
[0.25,{"v":0.17677669529663687,"d":"0.176777"},-2.5,{"$f":"IF(COUNTIF(D69:D188,-2.5)=0,\"\",COUNTIF(D69:D188,-2.5))","v":""},{"$f":"IF(COUNTIF(E69:E188,-2.5)=0,\"\",COUNTIF(E69:E188,-2.5))","v":""},{"$f":"IF(COUNTIF(F69:F188,-2.5)=0,\"\",COUNTIF(F69:F188,-2.5))","v":""},"","",{"$f":"IF(COUNTIF(I69:I188,-2.5)=0,\"\",COUNTIF(I69:I188,-2.5))","v":""},{"$f":"IF(COUNTIF(J69:J188,-2.5)=0,\"\",COUNTIF(J69:J188,-2.5))","v":""},"","","",0,{"$f":"IF(D69=\"\",0,ROUND(N$33*NORMDIST(C11+0.5,N$34,N$36,TRUE),0)-SUM(O$3:O10))","v":0}]
[0.5,{"v":0.3535533905932738,"d":"0.353553"},-1.5,{"$f":"IF(COUNTIF(D69:D188,-1.5)=0,\"\",COUNTIF(D69:D188,-1.5))","v":""},{"$f":"IF(COUNTIF(E69:E188,-1.5)=0,\"\",COUNTIF(E69:E188,-1.5))","v":""},{"$f":"IF(COUNTIF(F69:F188,-1.5)=0,\"\",COUNTIF(F69:F188,-1.5))","v":""},"","",{"$f":"IF(COUNTIF(I69:I188,-1.5)=0,\"\",COUNTIF(I69:I188,-1.5))","v":""},{"$f":"IF(COUNTIF(J69:J188,-1.5)=0,\"\",COUNTIF(J69:J188,-1.5))","v":""},"","","",0,{"$f":"IF(D69=\"\",0,ROUND(N$33*NORMDIST(C12+0.5,N$34,N$36,TRUE),0)-SUM(O$3:O11))","v":0}]
[1,{"v":0.7071067811865475,"d":"0.707107"},-0.5,{"$f":"IF(COUNTIF(D69:D188,-0.5)=0,\"\",COUNTIF(D69:D188,-0.5))","v":""},{"$f":"IF(COUNTIF(E69:E188,-0.5)=0,\"\",COUNTIF(E69:E188,-0.5))","v":""},{"$f":"IF(COUNTIF(F69:F188,-0.5)=0,\"\",COUNTIF(F69:F188,-0.5))","v":""},"","",{"$f":"IF(COUNTIF(I69:I188,-0.5)=0,\"\",COUNTIF(I69:I188,-0.5))","v":""},{"$f":"IF(COUNTIF(J69:J188,-0.5)=0,\"\",COUNTIF(J69:J188,-0.5))","v":""},"","","",0,{"$f":"IF(D69=\"\",0,ROUND(N$33*NORMDIST(C13+0.5,N$34,N$36,TRUE),0)-SUM(O$3:O12))","v":0}]
[2,{"v":1.4142135623730951,"d":"1.414214"},0.5,{"$f":"IF(COUNTIF(D69:D188,0.5)=0,\"\",COUNTIF(D69:D188,0.5))","v":""},{"$f":"IF(COUNTIF(E69:E188,0.5)=0,\"\",COUNTIF(E69:E188,0.5))","v":""},{"$f":"IF(COUNTIF(F69:F188,0.5)=0,\"\",COUNTIF(F69:F188,0.5))","v":""},"","",{"$f":"IF(COUNTIF(I69:I188,0.5)=0,\"\",COUNTIF(I69:I188,0.5))","v":""},{"$f":"IF(COUNTIF(J69:J188,0.5)=0,\"\",COUNTIF(J69:J188,0.5))","v":""},"","","",0,{"$f":"IF(D69=\"\",0,ROUND(N$33*NORMDIST(C14+0.5,N$34,N$36,TRUE),0)-SUM(O$3:O13))","v":0}]
[4,{"v":2.82842712474619,"d":"2.828427"},1.5,{"$f":"IF(COUNTIF(D69:D188,1.5)=0,\"\",COUNTIF(D69:D188,1.5))","v":""},{"$f":"IF(COUNTIF(E69:E188,1.5)=0,\"\",COUNTIF(E69:E188,1.5))","v":""},{"$f":"IF(COUNTIF(F69:F188,1.5)=0,\"\",COUNTIF(F69:F188,1.5))","v":""},"","",{"$f":"IF(COUNTIF(I69:I188,1.5)=0,\"\",COUNTIF(I69:I188,1.5))","v":""},{"$f":"IF(COUNTIF(J69:J188,1.5)=0,\"\",COUNTIF(J69:J188,1.5))","v":""},"","","",0,{"$f":"IF(D69=\"\",0,ROUND(N$33*NORMDIST(C15+0.5,N$34,N$36,TRUE),0)-SUM(O$3:O14))","v":0}]
[8,{"v":5.656854249492381,"d":"5.656854"},2.5,{"$f":"IF(COUNTIF(D69:D188,2.5)=0,\"\",COUNTIF(D69:D188,2.5))","v":""},{"$f":"IF(COUNTIF(E69:E188,2.5)=0,\"\",COUNTIF(E69:E188,2.5))","v":""},{"$f":"IF(COUNTIF(F69:F188,2.5)=0,\"\",COUNTIF(F69:F188,2.5))","v":""},"","",{"$f":"IF(COUNTIF(I69:I188,2.5)=0,\"\",COUNTIF(I69:I188,2.5))","v":""},{"$f":"IF(COUNTIF(J69:J188,2.5)=0,\"\",COUNTIF(J69:J188,2.5))","v":""},"","","",0,{"$f":"IF(D69=\"\",0,ROUND(N$33*NORMDIST(C16+0.5,N$34,N$36,TRUE),0)-SUM(O$3:O15))","v":0}]
[16,{"v":11.31370849898476,"d":"11.313708"},3.5,{"$f":"IF(COUNTIF(D69:D188,3.5)=0,\"\",COUNTIF(D69:D188,3.5))","v":""},{"$f":"IF(COUNTIF(E69:E188,3.5)=0,\"\",COUNTIF(E69:E188,3.5))","v":""},{"$f":"IF(COUNTIF(F69:F188,3.5)=0,\"\",COUNTIF(F69:F188,3.5))","v":""},"","",{"$f":"IF(COUNTIF(I69:I188,3.5)=0,\"\",COUNTIF(I69:I188,3.5))","v":""},{"$f":"IF(COUNTIF(J69:J188,3.5)=0,\"\",COUNTIF(J69:J188,3.5))","v":""},"","","",0,{"$f":"IF(D69=\"\",0,ROUND(N$33*NORMDIST(C17+0.5,N$34,N$36,TRUE),0)-SUM(O$3:O16))","v":0}]
[32,{"v":22.62741699796952,"d":"22.627417"},4.5,{"$f":"IF(COUNTIF(D69:D188,4.5)=0,\"\",COUNTIF(D69:D188,4.5))","v":""},{"$f":"IF(COUNTIF(E69:E188,4.5)=0,\"\",COUNTIF(E69:E188,4.5))","v":""},{"$f":"IF(COUNTIF(F69:F188,4.5)=0,\"\",COUNTIF(F69:F188,4.5))","v":""},"","",{"$f":"IF(COUNTIF(I69:I188,4.5)=0,\"\",COUNTIF(I69:I188,4.5))","v":""},{"$f":"IF(COUNTIF(J69:J188,4.5)=0,\"\",COUNTIF(J69:J188,4.5))","v":""},"","","",0,{"$f":"IF(D69=\"\",0,ROUND(N$33*NORMDIST(C18+0.5,N$34,N$36,TRUE),0)-SUM(O$3:O17))","v":0}]
[64,{"v":45.254833995939045,"d":"45.254834"},5.5,{"$f":"IF(COUNTIF(D69:D188,5.5)=0,\"\",COUNTIF(D69:D188,5.5))","v":""},{"$f":"IF(COUNTIF(E69:E188,5.5)=0,\"\",COUNTIF(E69:E188,5.5))","v":""},{"$f":"IF(COUNTIF(F69:F188,5.5)=0,\"\",COUNTIF(F69:F188,5.5))","v":""},"","",{"$f":"IF(COUNTIF(I69:I188,5.5)=0,\"\",COUNTIF(I69:I188,5.5))","v":""},{"$f":"IF(COUNTIF(J69:J188,5.5)=0,\"\",COUNTIF(J69:J188,5.5))","v":""},"","","",0,{"$f":"IF(D69=\"\",0,ROUND(N$33*NORMDIST(C19+0.5,N$34,N$36,TRUE),0)-SUM(O$3:O18))","v":0}]
[128,{"v":90.50966799187806,"d":"90.509668"},6.5,{"$f":"IF(COUNTIF(D69:D188,6.5)=0,\"\",COUNTIF(D69:D188,6.5))","v":""},{"$f":"IF(COUNTIF(E69:E188,6.5)=0,\"\",COUNTIF(E69:E188,6.5))","v":""},{"$f":"IF(COUNTIF(F69:F188,6.5)=0,\"\",COUNTIF(F69:F188,6.5))","v":""},"","",{"$f":"IF(COUNTIF(I69:I188,6.5)=0,\"\",COUNTIF(I69:I188,6.5))","v":""},{"$f":"IF(COUNTIF(J69:J188,6.5)=0,\"\",COUNTIF(J69:J188,6.5))","v":""},"","","",0,{"$f":"IF(D69=\"\",0,ROUND(N$33*NORMDIST(C20+0.5,N$34,N$36,TRUE),0)-SUM(O$3:O19))","v":0}]
[256,{"v":181.01933598375612,"d":"181.019336"},7.5,{"$f":"IF(COUNTIF(D69:D188,7.5)=0,\"\",COUNTIF(D69:D188,7.5))","v":""},{"$f":"IF(COUNTIF(E69:E188,7.5)=0,\"\",COUNTIF(E69:E188,7.5))","v":""},{"$f":"IF(COUNTIF(F69:F188,7.5)=0,\"\",COUNTIF(F69:F188,7.5))","v":""},"","",{"$f":"IF(COUNTIF(I69:I188,7.5)=0,\"\",COUNTIF(I69:I188,7.5))","v":""},{"$f":"IF(COUNTIF(J69:J188,7.5)=0,\"\",COUNTIF(J69:J188,7.5))","v":""},"","","",0,{"$f":"IF(D69=\"\",0,ROUND(N$33*NORMDIST(C21+0.5,N$34,N$36,TRUE),0)-SUM(O$3:O20))","v":0}]
[512,{"v":362.0386719675123,"d":"362.038672"},8.5,{"$f":"IF(COUNTIF(D69:D188,8.5)=0,\"\",COUNTIF(D69:D188,8.5))","v":""},{"$f":"IF(COUNTIF(E69:E188,8.5)=0,\"\",COUNTIF(E69:E188,8.5))","v":""},{"$f":"IF(COUNTIF(F69:F188,8.5)=0,\"\",COUNTIF(F69:F188,8.5))","v":""},"","",{"$f":"IF(COUNTIF(I69:I188,8.5)=0,\"\",COUNTIF(I69:I188,8.5))","v":""},{"$f":"IF(COUNTIF(J69:J188,8.5)=0,\"\",COUNTIF(J69:J188,8.5))","v":""},"","","",0,{"$f":"IF(D69=\"\",0,ROUND(N$33*NORMDIST(C22+0.5,N$34,N$36,TRUE),0)-SUM(O$3:O21))","v":0}]
[null,null,"Central Tendancy Stats","Lab 1","Lab 2","Lab 3","Lab 4","Lab 5","Lab 6","Lab 7","Lab 8","Lab 9","Lab 10","All labs","Control","Limits"]
[null,null,"Mean",{"$f":"IF(COUNT(D69:D188)=0,\"\",AVERAGE(D69:D188))","v":""},"","","","",{"$f":"IF(COUNT(I69:I188)=0,\"\",AVERAGE(I69:I188))","v":""},{"$f":"IF(COUNT(J69:J188)=0,\"\",AVERAGE(J69:J188))","v":""},"","","",{"$f":"IF(D69=\"\",\"\",AVERAGE(D69:M188))","v":""},{"$f":"IF(D69=\"\",\"\",ROUND(NORMINV(0.05,N34,N36),3))","v":""},{"$f":"IF(D69=\"\",\"\",ROUND(NORMINV(0.95,N34,N36),3))","v":""}]
["Calculated QC Range",null,"Median",{"$f":"IF(COUNT(D69:D188)=0,\"\",MEDIAN(D69:D188))","v":""},"","","","",{"$f":"IF(COUNT(I69:I188)=0,\"\",MEDIAN(I69:I188))","v":""},{"$f":"IF(COUNT(J69:J188)=0,\"\",MEDIAN(J69:J188))","v":""},"","","",{"$f":"IF(D69=\"\",\"\",MEDIAN(D69:M188))","v":""},{"$f":"IF(D69=\"\",\"\",ROUND(N51,3))","v":""},{"$f":"IF(D69=\"\",\"\",ROUND(N52,3))","v":""}]
[{"$f":"IF(N33=0,\"\",ROUND(2*N39,3)&\" to \"&ROUND(N40,3))","v":""},null,"Mode",{"$f":"IF(COUNT(D69:D188)=0,\"\",MODE(D69:D188))","v":""},"","","","",{"$f":"IF(COUNT(I69:I188)=0,\"\",MODE(I69:I188))","v":""},{"$f":"IF(COUNT(J69:J188)=0,\"\",MODE(J69:J188))","v":""},"","","",{"$f":"IF(D69=\"\",\"\",MODE(D69:M188))","v":""},{"$f":"IF(D69=\"\",\"\",N26-1)","v":""},{"$f":"IF(D69=\"\",\"\",N26+1)","v":""}]
["Dilution Range",null,null,"(Converted back to MIC)",{"$nulls":10},"Control","Limits"]
[{"$f":"IF(N33=0,\"\",LN(N40/N39)/LN(2))","v":""},null,"Mean",{"$f":"IF(COUNT(D69:D188)=0,\"\",2^(AVERAGE(D69:D188)+0.5))","v":""},"","","","",{"$f":"IF(COUNT(I69:I188)=0,\"\",2^(AVERAGE(I69:I188)+0.5))","v":""},{"$f":"IF(COUNT(J69:J188)=0,\"\",2^(AVERAGE(J69:J188)+0.5))","v":""},"","","",{"$f":"IF(D69=\"\",\"\",2^(AVERAGE(D69:M188)+0.5))","v":""},{"$f":"IF(D69=\"\",\"\",2^O24)","v":""},{"$f":"IF(D69=\"\",\"\",2^P24)","v":""}]
["% Obs. Captured",null,"Median",{"$f":"IF(COUNT(D69:D188)=0,\"\",2^(MEDIAN(D69:D188)+0.5))","v":""},"","","","",{"$f":"IF(COUNT(I69:I188)=0,\"\",2^(MEDIAN(I69:I188)+0.5))","v":""},{"$f":"IF(COUNT(J69:J188)=0,\"\",2^(MEDIAN(J69:J188)+0.5))","v":""},"","","",{"$f":"IF(D69=\"\",\"\",2^(MEDIAN(D69:M188)+0.5))","v":""},{"$f":"IF(D69=\"\",\"\",2^O25)","v":""},{"$f":"IF(D69=\"\",\"\",2^P25)","v":""}]
[{"$f":"IF(N33=0,\"\",((COUNTIF(D69:M188,\"<\"&LN(N40)/LN(2))-COUNTIF(D69:M188,\"<\"&LN(N39)/LN(2)))/N$33))","v":""},null,"Mode",{"$f":"IF(COUNT(D69:D188)=0,\"\",2^(MODE(D69:D188)+0.5))","v":""},"","","","",{"$f":"IF(COUNT(I69:I188)=0,\"\",2^(MODE(I69:I188)+0.5))","v":""},{"$f":"IF(COUNT(J69:J188)=0,\"\",2^(MODE(J69:J188)+0.5))","v":""},"","","",{"$f":"IF(D69=\"\",\"\",2^(MODE(D69:M188)+0.5))","v":""},{"$f":"IF(D69=\"\",\"\",2^O26)","v":""},{"$f":"IF(D69=\"\",\"\",2^P26)","v":""}]
["Prob'ty Outside Range"]
[{"$f":"IF(N33=0,\"\",N41+N42)","v":""},null,"Conventional Stats","Lab 1","Lab 2","Lab 3","Lab 4","Lab 5","Lab 6","Lab 7","Lab 8","Lab 9","Lab 10","All labs","Interlab"]
[null,null,"N",{"$f":"IF(COUNT(D69:D188)=0,\"\",COUNT(D69:D188))","v":""},"","","","",{"$f":"IF(COUNT(I69:I188)=0,\"\",COUNT(I69:I188))","v":""},{"$f":"IF(COUNT(J69:J188)=0,\"\",COUNT(J69:J188))","v":""},"","","",{"$f":"COUNT(D69:M188)","v":0},"CV"]
["CLSI QC Range",null,"GeoMean MIC (log2)",{"$f":"IF(COUNT(D69:D188)=0,\"\",AVERAGE(D69:D188))","v":""},"","","","",{"$f":"IF(COUNT(I69:I188)=0,\"\",AVERAGE(I69:I188))","v":""},{"$f":"IF(COUNT(J69:J188)=0,\"\",AVERAGE(J69:J188))","v":""},"","","",{"$f":"IF(D69=\"\",\"\",AVERAGE(D69:M188))","v":""},{"$f":"IF(D69=\"\",\"\",ABS(STDEVA(D34:M34)/N34))","v":""}]
[null,null,"GeoMean MIC",{"$f":"IF(COUNT(D69:D188)=0,\"\",2^D34)","v":""},"","","","",{"$f":"IF(COUNT(I69:I188)=0,\"\",2^I34)","v":""},{"$f":"IF(COUNT(J69:J188)=0,\"\",2^J34)","v":""},"","","",{"$f":"IF(D69=\"\",\"\",2^N34)","v":""}]
[null,null,"GeoSD (log2)",{"$f":"IF(COUNT(D69:D188)=0,\"\",STDEV(D69:D188))","v":""},"","","","",{"$f":"IF(COUNT(I69:I188)=0,\"\",STDEV(I69:I188))","v":""},{"$f":"IF(COUNT(J69:J188)=0,\"\",STDEV(J69:J188))","v":""},"","","",{"$f":"IF(D69=\"\",\"\",STDEV(D69:M188))","v":""}]
[{"$f":"IF(A35=\"\",\"\",ROUND(2^(A35+0.5),3)&\" to \"&ROUND(2^(A36+0.5),3))","v":""},null,"95% Lower Bound",{"$f":"IF(COUNT(D69:D188)=0,\"\",IF(D33=0,\"\",2^((NORMINV(0.025,D34,D36)))))","v":""},"","","","",{"$f":"IF(COUNT(I69:I188)=0,\"\",IF(I33=0,\"\",2^((NORMINV(0.025,I34,I36)))))","v":""},{"$f":"IF(COUNT(J69:J188)=0,\"\",IF(J33=0,\"\",2^((NORMINV(0.025,J34,J36)))))","v":""},"","","",{"$f":"IF(N33=0,\"\",2^((NORMINV(0.025,N34,N36))))","v":""}]
["Dilution Range",null,"95% Upper Bound",{"$f":"IF(COUNT(D69:D188)=0,\"\",IF(D33=0,\"\",2^(NORMINV(0.975,D34,D36))))","v":""},"","","","",{"$f":"IF(COUNT(I69:I188)=0,\"\",IF(I33=0,\"\",2^(NORMINV(0.975,I34,I36))))","v":""},{"$f":"IF(COUNT(J69:J188)=0,\"\",IF(J33=0,\"\",2^(NORMINV(0.975,J34,J36))))","v":""},"","","",{"$f":"IF(N33=0,\"\",2^(NORMINV(0.975,N34,N36)))","v":""}]
[{"$f":"IF(A35=\"\",\"\",A36-A35+1)","v":""},null,"Lower Bound Rounded Down",{"$f":"IF(COUNT(D69:D188)=0,\"\",IF(D33=0,\"\",2^(INT((NORMINV(0.025,D34,D36))))))","v":""},"","","","",{"$f":"IF(COUNT(I69:I188)=0,\"\",IF(I33=0,\"\",2^(INT((NORMINV(0.025,I34,I36))))))","v":""},{"$f":"IF(COUNT(J69:J188)=0,\"\",IF(J33=0,\"\",2^(INT((NORMINV(0.025,J34,J36))))))","v":""},"","","",{"$f":"IF(N33=0,\"\",2^(INT((NORMINV(0.025,N34,N36)))))","v":""}]
["CLSI% Obs. captured",null,"Upper Bound Rounded Up",{"$f":"IF(COUNT(D69:D188)=0,\"\",IF(D33=0,\"\",2^(INT((NORMINV(0.975,D34,D36)))+1)))","v":""},"","","","",{"$f":"IF(COUNT(I69:I188)=0,\"\",IF(I33=0,\"\",2^(INT((NORMINV(0.975,I34,I36)))+1)))","v":""},{"$f":"IF(COUNT(J69:J188)=0,\"\",IF(J33=0,\"\",2^(INT((NORMINV(0.975,J34,J36)))+1)))","v":""},"","","",{"$f":"IF(N33=0,\"\",2^(INT((NORMINV(0.975,N34,N36)))+1))","v":""}]
[{"$f":"IF(A35=0,\"\",(COUNTIF(D69:M188,\"<\"&A36+1)-COUNTIF(D69:M188,\"<\"&A35))/N$33)","v":""},null,"Probability of <=Lower Bound",{"$f":"IF(COUNT(D69:D188)=0,\"\",NORMDIST(LOG(D39)/LOG(2),D34,D36,TRUE))","v":""},"","","","",{"$f":"IF(COUNT(I69:I188)=0,\"\",NORMDIST(LOG(I39)/LOG(2),I34,I36,TRUE))","v":""},{"$f":"IF(COUNT(J69:J188)=0,\"\",NORMDIST(LOG(J39)/LOG(2),J34,J36,TRUE))","v":""},"","","",{"$f":"IF(D69=\"\",\"\",NORMDIST(LOG(N39)/LOG(2),N34,N36,TRUE))","v":""}]
[null,null,"Probability of >Upper Bound",{"$f":"IF(COUNT(D69:D188)=0,\"\",1-NORMDIST(LOG(D40)/LOG(2),D34,D36,TRUE))","v":""},"","","","",{"$f":"IF(COUNT(I69:I188)=0,\"\",1-NORMDIST(LOG(I40)/LOG(2),I34,I36,TRUE))","v":""},{"$f":"IF(COUNT(J69:J188)=0,\"\",1-NORMDIST(LOG(J40)/LOG(2),J34,J36,TRUE))","v":""},"","","",{"$f":"IF(D69=\"\",\"\",1-NORMDIST(LOG(N40)/LOG(2),N34,N36,TRUE))","v":""}]
[null,null,"New Range",{"$f":"IF(COUNT(D69:D188)=0,\"\",1-D41-D42)","v":""},"","","","",{"$f":"IF(COUNT(I69:I188)=0,\"\",1-I41-I42)","v":""},{"$f":"IF(COUNT(J69:J188)=0,\"\",1-J41-J42)","v":""},"","","",{"$f":"IF(D69=\"\",\"\",1-N41-N42)","v":""}]
[]
[null,null,"Order Stats","Lab 1","Lab 2","Lab 3","Lab 4","Lab 5","Lab 6","Lab 7","Lab 8","Lab 9","Lab 10","All labs","Interlab"]
[null,null,"25th %ile",{"$f":"IF(COUNT(D69:D188)=0,\"\",QUARTILE(D69:D188,1))","v":""},"","","","",{"$f":"IF(COUNT(I69:I188)=0,\"\",QUARTILE(I69:I188,1))","v":""},{"$f":"IF(COUNT(J69:J188)=0,\"\",QUARTILE(J69:J188,1))","v":""},"","","",{"$f":"IF(D69=\"\",\"\",QUARTILE(D69:M188,1))","v":""},"CV"]
[null,null,"75th %ile",{"$f":"IF(COUNT(D69:D188)=0,\"\",QUARTILE(D69:D188,3))","v":""},"","","","",{"$f":"IF(COUNT(I69:I188)=0,\"\",QUARTILE(I69:I188,3))","v":""},{"$f":"IF(COUNT(J69:J188)=0,\"\",QUARTILE(J69:J188,3))","v":""},"","","",{"$f":"IF(D69=\"\",\"\",QUARTILE(D69:M188,3))","v":""},{"$f":"IF(D69=\"\",\"\",ABS(N48/N25))","v":""}]
[null,null,"Interquartile Range",{"$f":"IF(COUNT(D69:D188)=0,\"\",IF(D47-D46=0,1,D47-D46))","v":""},"","","","",{"$f":"IF(COUNT(I69:I188)=0,\"\",IF(I47-I46=0,1,I47-I46))","v":""},{"$f":"IF(COUNT(J69:J188)=0,\"\",IF(J47-J46=0,1,J47-J46))","v":""},"","","",{"$f":"IF(D69=\"\",\"\",IF(N47-N46=0,1,N47-N46))","v":""}]
[null,null,"Minimum",{"$f":"IF(COUNT(D69:D188)=0,\"\",MIN(D69:D188))","v":""},"","","","",{"$f":"IF(COUNT(I69:I188)=0,\"\",MIN(I69:I188))","v":""},{"$f":"IF(COUNT(J69:J188)=0,\"\",MIN(J69:J188))","v":""},"","","",{"$f":"IF(D69=\"\",\"\",MIN(D69:M188))","v":""}]
[null,null,"Maximum",{"$f":"IF(COUNT(D69:D188)=0,\"\",MAX(D69:D188))","v":""},"","","","",{"$f":"IF(COUNT(I69:I188)=0,\"\",MAX(I69:I188))","v":""},{"$f":"IF(COUNT(J69:J188)=0,\"\",MAX(J69:J188))","v":""},"","","",{"$f":"IF(D69=\"\",\"\",MAX(D69:M188))","v":""}]
[null,null,"Lower Inner Fence",{"$f":"IF(COUNT(D69:D188)=0,\"\",D$46-1.5*D$48)","v":""},"","","","",{"$f":"IF(COUNT(I69:I188)=0,\"\",I$46-1.5*I$48)","v":""},{"$f":"IF(COUNT(J69:J188)=0,\"\",J$46-1.5*J$48)","v":""},"","","",{"$f":"IF(D69=\"\",\"\",N$46-1.5*N$48)","v":""}]
[null,null,"Upper Inner Fence",{"$f":"IF(COUNT(D69:D188)=0,\"\",D$47+1.5*D$48)","v":""},"","","","",{"$f":"IF(COUNT(I69:I188)=0,\"\",I$47+1.5*I$48)","v":""},{"$f":"IF(COUNT(J69:J188)=0,\"\",J$47+1.5*J$48)","v":""},"","","",{"$f":"IF(D69=\"\",\"\",N$47+1.5*N$48)","v":""}]
[null,null,"Lower Outer Fence",{"$f":"IF(COUNT(D69:D188)=0,\"\",D$46-3*D$48)","v":""},"","","","",{"$f":"IF(COUNT(I69:I188)=0,\"\",I$46-3*I$48)","v":""},{"$f":"IF(COUNT(J69:J188)=0,\"\",J$46-3*J$48)","v":""},"","","",{"$f":"IF(D69=\"\",\"\",N$46-3*N$48)","v":""}]
[null,null,"Upper Outer Fence",{"$f":"IF(COUNT(D69:D188)=0,\"\",D$47+3*D$48)","v":""},"","","","",{"$f":"IF(COUNT(I69:I188)=0,\"\",I$47+3*I$48)","v":""},{"$f":"IF(COUNT(J69:J188)=0,\"\",J$47+3*J$48)","v":""},"","","",{"$f":"IF(D69=\"\",\"\",N$47+3*N$48)","v":""}]
[null,null,"Lower Near Outliers",{"$f":"IF(COUNT(D69:D188)=0,\"\",COUNTIF(D69:D188,\"<\"&D51))","v":""},"","","","",{"$f":"IF(COUNT(I69:I188)=0,\"\",COUNTIF(I69:I188,\"<\"&I51))","v":""},{"$f":"IF(COUNT(J69:J188)=0,\"\",COUNTIF(J69:J188,\"<\"&J51))","v":""},"","","",{"$f":"IF(D69=\"\",\"\",COUNTIF(D69:M188,\"<\"&N51)-N57)","v":""}]
[null,null,"Upper Near Outliers",{"$f":"IF(COUNT(D69:D188)=0,\"\",COUNTIF(D69:D188,\">\"&D52))","v":""},"","","","",{"$f":"IF(COUNT(I69:I188)=0,\"\",COUNTIF(I69:I188,\">\"&I52))","v":""},{"$f":"IF(COUNT(J69:J188)=0,\"\",COUNTIF(J69:J188,\">\"&J52))","v":""},"","","",{"$f":"IF(D69=\"\",\"\",COUNTIF(D69:M188,\">\"&N52)-N58)","v":""}]
[null,null,"Lower Extreme Outliers",{"$f":"IF(COUNT(D69:D188)=0,\"\",COUNTIF(D69:D188,\"<\"&D53))","v":""},"","","","",{"$f":"IF(COUNT(I69:I188)=0,\"\",COUNTIF(I69:I188,\"<\"&I53))","v":""},{"$f":"IF(COUNT(J69:J188)=0,\"\",COUNTIF(J69:J188,\"<\"&J53))","v":""},"","","",{"$f":"IF(D69=\"\",\"\",COUNTIF(D69:M188,\"<\"&N53))","v":""}]
[null,null,"Upper Extreme Outliers",{"$f":"IF(COUNT(D69:D188)=0,\"\",COUNTIF(D69:D188,\">\"&D54))","v":""},"","","","",{"$f":"IF(COUNT(I69:I188)=0,\"\",COUNTIF(I69:I188,\">\"&I54))","v":""},{"$f":"IF(COUNT(J69:J188)=0,\"\",COUNTIF(J69:J188,\">\"&J54))","v":""},"","","",{"$f":"IF(D69=\"\",\"\",COUNTIF(D69:M188,\">\"&N54))","v":""}]
[]
[null,null,"Chart Control Limits","Lab 1","Lab 2","Lab 3","Lab 4","Lab 5","Lab 6","Lab 7","Lab 8","Lab 9","Lab 10"]
[null,"Mean","Lower CL",{"$f":"$O$24","v":""},{"$f":"$O$24","v":""},"","","","","","","",""]
[null,null,"Upper CL",{"$f":"$P$24","v":""},{"$f":"$P$24","v":""},"","","","","","","",""]
[null,"Median","Lower CL",{"$f":"$O$25","v":""},{"$f":"$O$25","v":""},"","","","","","","",""]
[null,null,"Upper CL",{"$f":"$P$25","v":""},{"$f":"$P$25","v":""},"","","","","","","",""]
[null,"Mode","Lower CL",{"$f":"$O$26","v":""},{"$f":"$O$26","v":""},"","","","","","","",""]
[null,null,"Upper CL",{"$f":"$P$26","v":""},{"$f":"$P$26","v":""},"","","","","","","",""]
[]
[null,null,"Log2 Converted Raw Data","Lab 1","Lab 2","Lab 3","Lab 4","Lab 5","Lab 6","Lab 7","Lab 8","Lab 9","Lab 10","Control","Limits"]
[null,null,"Media Lot 1",{"$f":"IF(D191=\"\",\"\",LOOKUP(D191,$A$3:$A$22,$C$3:$C$22))","v":""},"","","","",{"$f":"IF(I191=\"\",\"\",LOOKUP(I191,$A$3:$A$22,$C$3:$C$22))","v":""},"","","","",{"$f":"IF(D69=\"\",\"\",LN($N$39)/LN(2))","v":""},{"$f":"IF(D69=\"\",\"\",LN($N$40)/LN(2)-0.5)","v":""}]
[{"$nulls":3},"","","","","","","","","",""]
[{"$nulls":3},"","","","","","","","","",""]
[{"$nulls":3},"","","","","","","","","",""]
[{"$nulls":3},{"$f":"IF(D195=\"\",\"\",LOOKUP(D195,$A$3:$A$22,$C$3:$C$22))","v":""},"","","","","","","","",""]
[{"$nulls":3},"","","","","","","","","",""]
[{"$nulls":3},"","","","","","","","","",""]
[{"$nulls":3},"","","","","","","","","",""]
[{"$nulls":3},"","","","","","","","","",""]
[{"$nulls":3},"","","","","","","","","",""]
[{"$nulls":3},{"$f":"IF(D201=\"\",\"\",LOOKUP(D201,$A$3:$A$22,$C$3:$C$22))","v":""},"","","","",{"$f":"IF(I201=\"\",\"\",LOOKUP(I201,$A$3:$A$22,$C$3:$C$22))","v":""},"","","",""]
[{"$nulls":3},"","","","","","","","","",""]
[{"$nulls":3},{"$f":"IF(D203=\"\",\"\",LOOKUP(D203,$A$3:$A$22,$C$3:$C$22))","v":""},"","","","","","","","",""]
[{"$nulls":3},"","","","","","","","","",""]
[{"$nulls":3},"","","","","","","","","",""]
[{"$nulls":3},"","","","","","","","","",""]
[{"$nulls":3},"","","","","","","","","",""]
[{"$nulls":3},"","","","","","","","","",""]
[{"$nulls":3},"","","","","","","","","",""]
[{"$nulls":3},"","","","","","","","","",""]
[{"$nulls":3},{"$f":"IF(D211=\"\",\"\",LOOKUP(D211,$A$3:$A$22,$C$3:$C$22))","v":""},"","","","",{"$f":"IF(I211=\"\",\"\",LOOKUP(I211,$A$3:$A$22,$C$3:$C$22))","v":""},"","","",""]
[{"$nulls":3},"","","","","","","","","",""]
[{"$nulls":3},"","","","","","","","","",""]
[{"$nulls":3},"","","","","","","","","",""]
[{"$nulls":3},"","","","","","","","","",""]
[{"$nulls":3},"","","","","","","","","",""]
[{"$nulls":3},"","","","","","","","","",""]
[{"$nulls":3},"","","","","","","","","",""]
[{"$nulls":3},"","","","","","","","","",""]
[{"$nulls":3},"","","","","","","","","",""]
[{"$nulls":3},"","","","","",{"$f":"IF(I221=\"\",\"\",LOOKUP(I221,$A$3:$A$22,$C$3:$C$22))","v":""},"","","",""]
[{"$nulls":3},"","","","","","","","","",""]
[{"$nulls":3},"","","","","","","","","",""]
[{"$nulls":3},"","","","","","","","","",""]
[{"$nulls":3},"","","","","","","","","",""]
[{"$nulls":3},"","","","","","","","","",""]
[{"$nulls":3},{"$f":"IF(D227=\"\",\"\",LOOKUP(D227,$A$3:$A$22,$C$3:$C$22))","v":""},"","","","","","","","",""]
[{"$nulls":3},"","","","","","","","","",""]
[{"$nulls":3},"","","","","","","","","",""]
[{"$nulls":3},"","","","","","","","","",""]
[null,null,"Media Lot 2","","","","","",{"$f":"IF(I231=\"\",\"\",LOOKUP(I231,$A$3:$A$22,$C$3:$C$22))","v":""},"","","",""]
[{"$nulls":3},"","","","","","","","","",""]
[{"$nulls":3},"","","","","","","","","",""]
[{"$nulls":3},"","","","","","","","","",""]
[{"$nulls":3},"","","","","","","","","",""]
[{"$nulls":3},"","","","","","","","","",""]
[{"$nulls":3},"","","","","","","","","",""]
[{"$nulls":3},"","","","","","","","","",""]
[{"$nulls":3},"","","","","","","","","",""]
[{"$nulls":3},"","","","","","","","","",""]
[{"$nulls":3},"","","","","",{"$f":"IF(I241=\"\",\"\",LOOKUP(I241,$A$3:$A$22,$C$3:$C$22))","v":""},"","","",""]
[{"$nulls":3},"","","","","","","","","",""]
[{"$nulls":3},{"$f":"IF(D243=\"\",\"\",LOOKUP(D243,$A$3:$A$22,$C$3:$C$22))","v":""},"","","","","","","","",""]
[{"$nulls":3},"","","","","","","","","",""]
[{"$nulls":3},"","","","","","","","","",""]
[{"$nulls":3},"","","","","","","","","",""]
[{"$nulls":3},"","","","","","","","","",""]
[{"$nulls":3},"","","","","","","","","",""]
[{"$nulls":3},"","","","","","","","","",""]
[{"$nulls":3},"","","","","","","","","",""]
[{"$nulls":3},"","","","","",{"$f":"IF(I251=\"\",\"\",LOOKUP(I251,$A$3:$A$22,$C$3:$C$22))","v":""},"","","",""]
[{"$nulls":3},"","","","","","","","","",""]
[{"$nulls":3},"","","","","","","","","",""]
[{"$nulls":3},"","","","","","","","","",""]
[{"$nulls":3},"","","","","","","","","",""]
[{"$nulls":3},"","","","","","","","","",""]
[{"$nulls":3},"","","","","","","","","",""]
[{"$nulls":3},"","","","","","","","","",""]
[{"$nulls":3},{"$f":"IF(D259=\"\",\"\",LOOKUP(D259,$A$3:$A$22,$C$3:$C$22))","v":""},"","","","","","","","",""]
[{"$nulls":3},"","","","","","","","","",""]
[{"$nulls":3},"","","","","",{"$f":"IF(I261=\"\",\"\",LOOKUP(I261,$A$3:$A$22,$C$3:$C$22))","v":""},"","","",""]
[{"$nulls":3},"","","","","","","","","",""]
[{"$nulls":3},"","","","","","","","","",""]
[{"$nulls":3},"","","","","","","","","",""]
[{"$nulls":3},"","","","","","","","","",""]
[{"$nulls":3},"","","","","","","","","",""]
[{"$nulls":3},"","","","","","","","","",""]
[{"$nulls":3},"","","","","","","","","",""]
[{"$nulls":3},"","","","","","","","","",""]
[{"$nulls":3},"","","","","","","","","",""]
[null,null,"Media Lot 3","","","","","",{"$f":"IF(I271=\"\",\"\",LOOKUP(I271,$A$3:$A$22,$C$3:$C$22))","v":""},"","","",""]
[{"$nulls":3},"","","","","","","","","",""]
[{"$nulls":3},"","","","","","","","","",""]
[{"$nulls":3},"","","","","","","","","",""]
[{"$nulls":3},{"$f":"IF(D275=\"\",\"\",LOOKUP(D275,$A$3:$A$22,$C$3:$C$22))","v":""},"","","","","","","","",""]
[{"$nulls":3},"","","","","","","","","",""]
[{"$nulls":3},"","","","","","","","","",""]
[{"$nulls":3},"","","","","","","","","",""]
[{"$nulls":3},"","","","","","","","","",""]
[{"$nulls":3},"","","","","","","","","",""]
[{"$nulls":3},"","","","","",{"$f":"IF(I281=\"\",\"\",LOOKUP(I281,$A$3:$A$22,$C$3:$C$22))","v":""},"","","",""]
[{"$nulls":3},"","","","","","","","","",""]
[{"$nulls":3},"","","","","","","","","",""]
[{"$nulls":3},"","","","","","","","","",""]
[{"$nulls":3},"","","","","","","","","",""]
[{"$nulls":3},"","","","","","","","","",""]
[{"$nulls":3},"","","","","","","","","",""]
[{"$nulls":3},"","","","","","","","","",""]
[{"$nulls":3},"","","","","","","","","",""]
[{"$nulls":3},"","","","","","","","","",""]
[{"$nulls":3},{"$f":"IF(D291=\"\",\"\",LOOKUP(D291,$A$3:$A$22,$C$3:$C$22))","v":""},"","","","",{"$f":"IF(I291=\"\",\"\",LOOKUP(I291,$A$3:$A$22,$C$3:$C$22))","v":""},"","","",""]
[{"$nulls":3},"","","","","","","","","",""]
[{"$nulls":3},"","","","","","","","","",""]
[{"$nulls":3},"","","","","","","","","",""]
[{"$nulls":3},"","","","","","","","","",""]
[{"$nulls":3},"","","","","","","","","",""]
[{"$nulls":3},"","","","","","","","","",""]
[{"$nulls":3},"","","","","","","","","",""]
[{"$nulls":3},"","","","","","","","","",""]
[{"$nulls":3},"","","","","","","","","",""]
[{"$nulls":3},"","","","","",{"$f":"IF(I301=\"\",\"\",LOOKUP(I301,$A$3:$A$22,$C$3:$C$22))","v":""},"","","",""]
[{"$nulls":3},"","","","","","","","","",""]
[{"$nulls":3},"","","","","","","","","",""]
[{"$nulls":3},"","","","","","","","","",""]
[{"$nulls":3},"","","","","","","","","",""]
[{"$nulls":3},"","","","","","","","","",""]
[{"$nulls":3},{"$f":"IF(D307=\"\",\"\",LOOKUP(D307,$A$3:$A$22,$C$3:$C$22))","v":""},"","","","","","","","",""]
[{"$nulls":3},"","","","","","","","","",""]
[{"$nulls":3},"","","","","","","","","",""]
[{"$nulls":3},"","","","","","","","","",""]
[]
[null,null,"Raw Data Entry","Lab 1","Lab 2","Lab 3","Lab 4","Lab 5","Lab 6","Lab 7","Lab 8","Lab 9","Lab 10"]
[null,null,"Media Lot 1"]
{"$rows_empty":39}
[null,null,"Media Lot 2"]
{"$rows_empty":39}
[null,null,"Media Lot 3"]

{"sheet":"Strain 5 control","index":13,"n_rows":271,"n_cols":16,"rows_kept":271,"merged":[[0,4,0,6]]}
[{"$f":"'Range Summary'!F2","v":"QC5"},{"$f":"'Range Summary'!B17","v":"Control"},"Control",null,"Go to Raw Data Entry area"]
["MIC","Midpoint MIC","Mid Log2MIC","Lab 1","Lab 2","Lab 3","Lab 4","Lab 5","Lab 6","Lab 7","Lab 8","Lab 9","Lab 10","All labs","Norm"]
[{"v":1E-3,"d":"0.001"},{"$f":"2^C3","v":{"v":6.9053396600248776E-4,"d":"0.000691"}},-10.5,{"$f":"IF(COUNTIF(D69:D188,-10.5)=0,\"\",COUNTIF(D69:D188,-10.5))","v":""},{"$f":"IF(COUNTIF(E69:E188,-10.5)=0,\"\",COUNTIF(E69:E188,-10.5))","v":""},{"$f":"IF(COUNTIF(F69:F188,-10.5)=0,\"\",COUNTIF(F69:F188,-10.5))","v":""},"","",{"$f":"IF(COUNTIF(I69:I188,-10.5)=0,\"\",COUNTIF(I69:I188,-10.5))","v":""},{"$f":"IF(COUNTIF(J69:J188,-10.5)=0,\"\",COUNTIF(J69:J188,-10.5))","v":""},"","","",{"$f":"SUM(D3:M3)","v":0},{"$f":"IF(D69=\"\",0,ROUND(N$33*NORMDIST(C3+0.5,N$34,N$36,TRUE),0))","v":0}]
[{"v":2E-3,"d":"0.002"},{"$f":"2^C4","v":{"v":1.3810679320049757E-3,"d":"0.001381"}},-9.5,{"$f":"IF(COUNTIF(D69:D188,-9.5)=0,\"\",COUNTIF(D69:D188,-9.5))","v":""},{"$f":"IF(COUNTIF(E69:E188,-9.5)=0,\"\",COUNTIF(E69:E188,-9.5))","v":""},{"$f":"IF(COUNTIF(F69:F188,-9.5)=0,\"\",COUNTIF(F69:F188,-9.5))","v":""},"","",{"$f":"IF(COUNTIF(I69:I188,-9.5)=0,\"\",COUNTIF(I69:I188,-9.5))","v":""},{"$f":"IF(COUNTIF(J69:J188,-9.5)=0,\"\",COUNTIF(J69:J188,-9.5))","v":""},"","","",0,{"$f":"IF(D69=\"\",0,ROUND(N$33*NORMDIST(C4+0.5,N$34,N$36,TRUE),0)-SUM(O2:O$3))","v":0}]
[0.004,{"v":2.7621358640099515E-3,"d":"0.002762"},-8.5,{"$f":"IF(COUNTIF(D69:D188,-8.5)=0,\"\",COUNTIF(D69:D188,-8.5))","v":""},{"$f":"IF(COUNTIF(E69:E188,-8.5)=0,\"\",COUNTIF(E69:E188,-8.5))","v":""},{"$f":"IF(COUNTIF(F69:F188,-8.5)=0,\"\",COUNTIF(F69:F188,-8.5))","v":""},"","",{"$f":"IF(COUNTIF(I69:I188,-8.5)=0,\"\",COUNTIF(I69:I188,-8.5))","v":""},{"$f":"IF(COUNTIF(J69:J188,-8.5)=0,\"\",COUNTIF(J69:J188,-8.5))","v":""},"","","",0,{"$f":"IF(D69=\"\",0,ROUND(N$33*NORMDIST(C5+0.5,N$34,N$36,TRUE),0)-SUM(O$3:O3))","v":0}]
[0.008,{"v":0.005524271728019904,"d":"0.005524"},-7.5,{"$f":"IF(COUNTIF(D69:D188,-7.5)=0,\"\",COUNTIF(D69:D188,-7.5))","v":""},{"$f":"IF(COUNTIF(E69:E188,-7.5)=0,\"\",COUNTIF(E69:E188,-7.5))","v":""},{"$f":"IF(COUNTIF(F69:F188,-7.5)=0,\"\",COUNTIF(F69:F188,-7.5))","v":""},"","",{"$f":"IF(COUNTIF(I69:I188,-7.5)=0,\"\",COUNTIF(I69:I188,-7.5))","v":""},{"$f":"IF(COUNTIF(J69:J188,-7.5)=0,\"\",COUNTIF(J69:J188,-7.5))","v":""},"","","",{"$f":"SUM(D6:M6)","v":0},{"$f":"IF(D69=\"\",0,ROUND(N$33*NORMDIST(C6+0.5,N$34,N$36,TRUE),0)-SUM(O$3:O5))","v":0}]
[0.016,{"v":0.011048543456039808,"d":"0.011049"},-6.5,{"$f":"IF(COUNTIF(D69:D188,-6.5)=0,\"\",COUNTIF(D69:D188,-6.5))","v":""},{"$f":"IF(COUNTIF(E69:E188,-6.5)=0,\"\",COUNTIF(E69:E188,-6.5))","v":""},{"$f":"IF(COUNTIF(F69:F188,-6.5)=0,\"\",COUNTIF(F69:F188,-6.5))","v":""},"","",{"$f":"IF(COUNTIF(I69:I188,-6.5)=0,\"\",COUNTIF(I69:I188,-6.5))","v":""},{"$f":"IF(COUNTIF(J69:J188,-6.5)=0,\"\",COUNTIF(J69:J188,-6.5))","v":""},"","","",0,{"$f":"IF(D69=\"\",0,ROUND(N$33*NORMDIST(C7+0.5,N$34,N$36,TRUE),0)-SUM(O$3:O6))","v":0}]
[0.03,{"v":0.022097086912079608,"d":"0.022097"},-5.5,{"$f":"IF(COUNTIF(D69:D188,-5.5)=0,\"\",COUNTIF(D69:D188,-5.5))","v":""},{"$f":"IF(COUNTIF(E69:E188,-5.5)=0,\"\",COUNTIF(E69:E188,-5.5))","v":""},{"$f":"IF(COUNTIF(F69:F188,-5.5)=0,\"\",COUNTIF(F69:F188,-5.5))","v":""},"","",{"$f":"IF(COUNTIF(I69:I188,-5.5)=0,\"\",COUNTIF(I69:I188,-5.5))","v":""},{"$f":"IF(COUNTIF(J69:J188,-5.5)=0,\"\",COUNTIF(J69:J188,-5.5))","v":""},"","","",0,{"$f":"IF(D69=\"\",0,ROUND(N$33*NORMDIST(C8+0.5,N$34,N$36,TRUE),0)-SUM(O$3:O7))","v":0}]
[0.06,{"v":0.04419417382415922,"d":"0.044194"},-4.5,{"$f":"IF(COUNTIF(D69:D188,-4.5)=0,\"\",COUNTIF(D69:D188,-4.5))","v":""},{"$f":"IF(COUNTIF(E69:E188,-4.5)=0,\"\",COUNTIF(E69:E188,-4.5))","v":""},{"$f":"IF(COUNTIF(F69:F188,-4.5)=0,\"\",COUNTIF(F69:F188,-4.5))","v":""},"","",{"$f":"IF(COUNTIF(I69:I188,-4.5)=0,\"\",COUNTIF(I69:I188,-4.5))","v":""},{"$f":"IF(COUNTIF(J69:J188,-4.5)=0,\"\",COUNTIF(J69:J188,-4.5))","v":""},"","","",0,{"$f":"IF(D69=\"\",0,ROUND(N$33*NORMDIST(C9+0.5,N$34,N$36,TRUE),0)-SUM(O$3:O8))","v":0}]
[0.13,{"v":0.08838834764831845,"d":"0.088388"},-3.5,{"$f":"IF(COUNTIF(D69:D188,-3.5)=0,\"\",COUNTIF(D69:D188,-3.5))","v":""},{"$f":"IF(COUNTIF(E69:E188,-3.5)=0,\"\",COUNTIF(E69:E188,-3.5))","v":""},{"$f":"IF(COUNTIF(F69:F188,-3.5)=0,\"\",COUNTIF(F69:F188,-3.5))","v":""},"","",{"$f":"IF(COUNTIF(I69:I188,-3.5)=0,\"\",COUNTIF(I69:I188,-3.5))","v":""},{"$f":"IF(COUNTIF(J69:J188,-3.5)=0,\"\",COUNTIF(J69:J188,-3.5))","v":""},"","","",0,{"$f":"IF(D69=\"\",0,ROUND(N$33*NORMDIST(C10+0.5,N$34,N$36,TRUE),0)-SUM(O$3:O9))","v":0}]
[0.25,{"v":0.17677669529663687,"d":"0.176777"},-2.5,{"$f":"IF(COUNTIF(D69:D188,-2.5)=0,\"\",COUNTIF(D69:D188,-2.5))","v":""},{"$f":"IF(COUNTIF(E69:E188,-2.5)=0,\"\",COUNTIF(E69:E188,-2.5))","v":""},{"$f":"IF(COUNTIF(F69:F188,-2.5)=0,\"\",COUNTIF(F69:F188,-2.5))","v":""},"","",{"$f":"IF(COUNTIF(I69:I188,-2.5)=0,\"\",COUNTIF(I69:I188,-2.5))","v":""},{"$f":"IF(COUNTIF(J69:J188,-2.5)=0,\"\",COUNTIF(J69:J188,-2.5))","v":""},"","","",0,{"$f":"IF(D69=\"\",0,ROUND(N$33*NORMDIST(C11+0.5,N$34,N$36,TRUE),0)-SUM(O$3:O10))","v":0}]
[0.5,{"v":0.3535533905932738,"d":"0.353553"},-1.5,{"$f":"IF(COUNTIF(D69:D188,-1.5)=0,\"\",COUNTIF(D69:D188,-1.5))","v":""},{"$f":"IF(COUNTIF(E69:E188,-1.5)=0,\"\",COUNTIF(E69:E188,-1.5))","v":""},{"$f":"IF(COUNTIF(F69:F188,-1.5)=0,\"\",COUNTIF(F69:F188,-1.5))","v":""},"","",{"$f":"IF(COUNTIF(I69:I188,-1.5)=0,\"\",COUNTIF(I69:I188,-1.5))","v":""},{"$f":"IF(COUNTIF(J69:J188,-1.5)=0,\"\",COUNTIF(J69:J188,-1.5))","v":""},"","","",0,{"$f":"IF(D69=\"\",0,ROUND(N$33*NORMDIST(C12+0.5,N$34,N$36,TRUE),0)-SUM(O$3:O11))","v":0}]
[1,{"v":0.7071067811865475,"d":"0.707107"},-0.5,{"$f":"IF(COUNTIF(D69:D188,-0.5)=0,\"\",COUNTIF(D69:D188,-0.5))","v":""},{"$f":"IF(COUNTIF(E69:E188,-0.5)=0,\"\",COUNTIF(E69:E188,-0.5))","v":""},{"$f":"IF(COUNTIF(F69:F188,-0.5)=0,\"\",COUNTIF(F69:F188,-0.5))","v":""},"","",{"$f":"IF(COUNTIF(I69:I188,-0.5)=0,\"\",COUNTIF(I69:I188,-0.5))","v":""},{"$f":"IF(COUNTIF(J69:J188,-0.5)=0,\"\",COUNTIF(J69:J188,-0.5))","v":""},"","","",0,{"$f":"IF(D69=\"\",0,ROUND(N$33*NORMDIST(C13+0.5,N$34,N$36,TRUE),0)-SUM(O$3:O12))","v":0}]
[2,{"v":1.4142135623730951,"d":"1.414214"},0.5,{"$f":"IF(COUNTIF(D69:D188,0.5)=0,\"\",COUNTIF(D69:D188,0.5))","v":""},{"$f":"IF(COUNTIF(E69:E188,0.5)=0,\"\",COUNTIF(E69:E188,0.5))","v":""},{"$f":"IF(COUNTIF(F69:F188,0.5)=0,\"\",COUNTIF(F69:F188,0.5))","v":""},"","",{"$f":"IF(COUNTIF(I69:I188,0.5)=0,\"\",COUNTIF(I69:I188,0.5))","v":""},{"$f":"IF(COUNTIF(J69:J188,0.5)=0,\"\",COUNTIF(J69:J188,0.5))","v":""},"","","",0,{"$f":"IF(D69=\"\",0,ROUND(N$33*NORMDIST(C14+0.5,N$34,N$36,TRUE),0)-SUM(O$3:O13))","v":0}]
[4,{"v":2.82842712474619,"d":"2.828427"},1.5,{"$f":"IF(COUNTIF(D69:D188,1.5)=0,\"\",COUNTIF(D69:D188,1.5))","v":""},{"$f":"IF(COUNTIF(E69:E188,1.5)=0,\"\",COUNTIF(E69:E188,1.5))","v":""},{"$f":"IF(COUNTIF(F69:F188,1.5)=0,\"\",COUNTIF(F69:F188,1.5))","v":""},"","",{"$f":"IF(COUNTIF(I69:I188,1.5)=0,\"\",COUNTIF(I69:I188,1.5))","v":""},{"$f":"IF(COUNTIF(J69:J188,1.5)=0,\"\",COUNTIF(J69:J188,1.5))","v":""},"","","",0,{"$f":"IF(D69=\"\",0,ROUND(N$33*NORMDIST(C15+0.5,N$34,N$36,TRUE),0)-SUM(O$3:O14))","v":0}]
[8,{"v":5.656854249492381,"d":"5.656854"},2.5,{"$f":"IF(COUNTIF(D69:D188,2.5)=0,\"\",COUNTIF(D69:D188,2.5))","v":""},{"$f":"IF(COUNTIF(E69:E188,2.5)=0,\"\",COUNTIF(E69:E188,2.5))","v":""},{"$f":"IF(COUNTIF(F69:F188,2.5)=0,\"\",COUNTIF(F69:F188,2.5))","v":""},"","",{"$f":"IF(COUNTIF(I69:I188,2.5)=0,\"\",COUNTIF(I69:I188,2.5))","v":""},{"$f":"IF(COUNTIF(J69:J188,2.5)=0,\"\",COUNTIF(J69:J188,2.5))","v":""},"","","",0,{"$f":"IF(D69=\"\",0,ROUND(N$33*NORMDIST(C16+0.5,N$34,N$36,TRUE),0)-SUM(O$3:O15))","v":0}]
[16,{"v":11.31370849898476,"d":"11.313708"},3.5,{"$f":"IF(COUNTIF(D69:D188,3.5)=0,\"\",COUNTIF(D69:D188,3.5))","v":""},{"$f":"IF(COUNTIF(E69:E188,3.5)=0,\"\",COUNTIF(E69:E188,3.5))","v":""},{"$f":"IF(COUNTIF(F69:F188,3.5)=0,\"\",COUNTIF(F69:F188,3.5))","v":""},"","",{"$f":"IF(COUNTIF(I69:I188,3.5)=0,\"\",COUNTIF(I69:I188,3.5))","v":""},{"$f":"IF(COUNTIF(J69:J188,3.5)=0,\"\",COUNTIF(J69:J188,3.5))","v":""},"","","",0,{"$f":"IF(D69=\"\",0,ROUND(N$33*NORMDIST(C17+0.5,N$34,N$36,TRUE),0)-SUM(O$3:O16))","v":0}]
[32,{"v":22.62741699796952,"d":"22.627417"},4.5,{"$f":"IF(COUNTIF(D69:D188,4.5)=0,\"\",COUNTIF(D69:D188,4.5))","v":""},{"$f":"IF(COUNTIF(E69:E188,4.5)=0,\"\",COUNTIF(E69:E188,4.5))","v":""},{"$f":"IF(COUNTIF(F69:F188,4.5)=0,\"\",COUNTIF(F69:F188,4.5))","v":""},"","",{"$f":"IF(COUNTIF(I69:I188,4.5)=0,\"\",COUNTIF(I69:I188,4.5))","v":""},{"$f":"IF(COUNTIF(J69:J188,4.5)=0,\"\",COUNTIF(J69:J188,4.5))","v":""},"","","",0,{"$f":"IF(D69=\"\",0,ROUND(N$33*NORMDIST(C18+0.5,N$34,N$36,TRUE),0)-SUM(O$3:O17))","v":0}]
[64,{"v":45.254833995939045,"d":"45.254834"},5.5,{"$f":"IF(COUNTIF(D69:D188,5.5)=0,\"\",COUNTIF(D69:D188,5.5))","v":""},{"$f":"IF(COUNTIF(E69:E188,5.5)=0,\"\",COUNTIF(E69:E188,5.5))","v":""},{"$f":"IF(COUNTIF(F69:F188,5.5)=0,\"\",COUNTIF(F69:F188,5.5))","v":""},"","",{"$f":"IF(COUNTIF(I69:I188,5.5)=0,\"\",COUNTIF(I69:I188,5.5))","v":""},{"$f":"IF(COUNTIF(J69:J188,5.5)=0,\"\",COUNTIF(J69:J188,5.5))","v":""},"","","",0,{"$f":"IF(D69=\"\",0,ROUND(N$33*NORMDIST(C19+0.5,N$34,N$36,TRUE),0)-SUM(O$3:O18))","v":0}]
[128,{"v":90.50966799187806,"d":"90.509668"},6.5,{"$f":"IF(COUNTIF(D69:D188,6.5)=0,\"\",COUNTIF(D69:D188,6.5))","v":""},{"$f":"IF(COUNTIF(E69:E188,6.5)=0,\"\",COUNTIF(E69:E188,6.5))","v":""},{"$f":"IF(COUNTIF(F69:F188,6.5)=0,\"\",COUNTIF(F69:F188,6.5))","v":""},"","",{"$f":"IF(COUNTIF(I69:I188,6.5)=0,\"\",COUNTIF(I69:I188,6.5))","v":""},{"$f":"IF(COUNTIF(J69:J188,6.5)=0,\"\",COUNTIF(J69:J188,6.5))","v":""},"","","",0,{"$f":"IF(D69=\"\",0,ROUND(N$33*NORMDIST(C20+0.5,N$34,N$36,TRUE),0)-SUM(O$3:O19))","v":0}]
[256,{"v":181.01933598375612,"d":"181.019336"},7.5,{"$f":"IF(COUNTIF(D69:D188,7.5)=0,\"\",COUNTIF(D69:D188,7.5))","v":""},{"$f":"IF(COUNTIF(E69:E188,7.5)=0,\"\",COUNTIF(E69:E188,7.5))","v":""},{"$f":"IF(COUNTIF(F69:F188,7.5)=0,\"\",COUNTIF(F69:F188,7.5))","v":""},"","",{"$f":"IF(COUNTIF(I69:I188,7.5)=0,\"\",COUNTIF(I69:I188,7.5))","v":""},{"$f":"IF(COUNTIF(J69:J188,7.5)=0,\"\",COUNTIF(J69:J188,7.5))","v":""},"","","",0,{"$f":"IF(D69=\"\",0,ROUND(N$33*NORMDIST(C21+0.5,N$34,N$36,TRUE),0)-SUM(O$3:O20))","v":0}]
[512,{"v":362.0386719675123,"d":"362.038672"},8.5,{"$f":"IF(COUNTIF(D69:D188,8.5)=0,\"\",COUNTIF(D69:D188,8.5))","v":""},{"$f":"IF(COUNTIF(E69:E188,8.5)=0,\"\",COUNTIF(E69:E188,8.5))","v":""},{"$f":"IF(COUNTIF(F69:F188,8.5)=0,\"\",COUNTIF(F69:F188,8.5))","v":""},"","",{"$f":"IF(COUNTIF(I69:I188,8.5)=0,\"\",COUNTIF(I69:I188,8.5))","v":""},{"$f":"IF(COUNTIF(J69:J188,8.5)=0,\"\",COUNTIF(J69:J188,8.5))","v":""},"","","",0,{"$f":"IF(D69=\"\",0,ROUND(N$33*NORMDIST(C22+0.5,N$34,N$36,TRUE),0)-SUM(O$3:O21))","v":0}]
[null,null,"Central Tendancy Stats","Lab 1","Lab 2","Lab 3","Lab 4","Lab 5","Lab 6","Lab 7","Lab 8","Lab 9","Lab 10","All labs","Control","Limits"]
[null,null,"Mean",{"$f":"IF(COUNT(D69:D188)=0,\"\",AVERAGE(D69:D188))","v":""},"","","","",{"$f":"IF(COUNT(I69:I188)=0,\"\",AVERAGE(I69:I188))","v":""},{"$f":"IF(COUNT(J69:J188)=0,\"\",AVERAGE(J69:J188))","v":""},"","","",{"$f":"IF(D69=\"\",\"\",AVERAGE(D69:M188))","v":""},{"$f":"IF(D69=\"\",\"\",ROUND(NORMINV(0.05,N34,N36),3))","v":""},{"$f":"IF(D69=\"\",\"\",ROUND(NORMINV(0.95,N34,N36),3))","v":""}]
["Calculated QC Range",null,"Median",{"$f":"IF(COUNT(D69:D188)=0,\"\",MEDIAN(D69:D188))","v":""},"","","","",{"$f":"IF(COUNT(I69:I188)=0,\"\",MEDIAN(I69:I188))","v":""},{"$f":"IF(COUNT(J69:J188)=0,\"\",MEDIAN(J69:J188))","v":""},"","","",{"$f":"IF(D69=\"\",\"\",MEDIAN(D69:M188))","v":""},{"$f":"IF(D69=\"\",\"\",ROUND(N51,3))","v":""},{"$f":"IF(D69=\"\",\"\",ROUND(N52,3))","v":""}]
[{"$f":"IF(N33=0,\"\",ROUND(2*N39,3)&\" to \"&ROUND(N40,3))","v":""},null,"Mode",{"$f":"IF(COUNT(D69:D188)=0,\"\",MODE(D69:D188))","v":""},"","","","",{"$f":"IF(COUNT(I69:I188)=0,\"\",MODE(I69:I188))","v":""},{"$f":"IF(COUNT(J69:J188)=0,\"\",MODE(J69:J188))","v":""},"","","",{"$f":"IF(D69=\"\",\"\",MODE(D69:M188))","v":""},{"$f":"IF(D69=\"\",\"\",N26-1)","v":""},{"$f":"IF(D69=\"\",\"\",N26+1)","v":""}]
["Dilution Range",null,null,"(Converted back to MIC)",{"$nulls":10},"Control","Limits"]
[{"$f":"IF(N33=0,\"\",LN(N40/N39)/LN(2))","v":""},null,"Mean",{"$f":"IF(COUNT(D69:D188)=0,\"\",2^(AVERAGE(D69:D188)+0.5))","v":""},"","","","",{"$f":"IF(COUNT(I69:I188)=0,\"\",2^(AVERAGE(I69:I188)+0.5))","v":""},{"$f":"IF(COUNT(J69:J188)=0,\"\",2^(AVERAGE(J69:J188)+0.5))","v":""},"","","",{"$f":"IF(D69=\"\",\"\",2^(AVERAGE(D69:M188)+0.5))","v":""},{"$f":"IF(D69=\"\",\"\",2^O24)","v":""},{"$f":"IF(D69=\"\",\"\",2^P24)","v":""}]
["% Obs. Captured",null,"Median",{"$f":"IF(COUNT(D69:D188)=0,\"\",2^(MEDIAN(D69:D188)+0.5))","v":""},"","","","",{"$f":"IF(COUNT(I69:I188)=0,\"\",2^(MEDIAN(I69:I188)+0.5))","v":""},{"$f":"IF(COUNT(J69:J188)=0,\"\",2^(MEDIAN(J69:J188)+0.5))","v":""},"","","",{"$f":"IF(D69=\"\",\"\",2^(MEDIAN(D69:M188)+0.5))","v":""},{"$f":"IF(D69=\"\",\"\",2^O25)","v":""},{"$f":"IF(D69=\"\",\"\",2^P25)","v":""}]
[{"$f":"IF(N33=0,\"\",((COUNTIF(D69:M188,\"<\"&LN(N40)/LN(2))-COUNTIF(D69:M188,\"<\"&LN(N39)/LN(2)))/N$33))","v":""},null,"Mode",{"$f":"IF(COUNT(D69:D188)=0,\"\",2^(MODE(D69:D188)+0.5))","v":""},"","","","",{"$f":"IF(COUNT(I69:I188)=0,\"\",2^(MODE(I69:I188)+0.5))","v":""},{"$f":"IF(COUNT(J69:J188)=0,\"\",2^(MODE(J69:J188)+0.5))","v":""},"","","",{"$f":"IF(D69=\"\",\"\",2^(MODE(D69:M188)+0.5))","v":""},{"$f":"IF(D69=\"\",\"\",2^O26)","v":""},{"$f":"IF(D69=\"\",\"\",2^P26)","v":""}]
["Prob'ty Outside Range"]
[{"$f":"IF(N33=0,\"\",N41+N42)","v":""},null,"Conventional Stats","Lab 1","Lab 2","Lab 3","Lab 4","Lab 5","Lab 6","Lab 7","Lab 8","Lab 9","Lab 10","All labs","Interlab"]
[null,null,"N",{"$f":"IF(COUNT(D69:D188)=0,\"\",COUNT(D69:D188))","v":""},"","","","",{"$f":"IF(COUNT(I69:I188)=0,\"\",COUNT(I69:I188))","v":""},{"$f":"IF(COUNT(J69:J188)=0,\"\",COUNT(J69:J188))","v":""},"","","",{"$f":"COUNT(D69:M188)","v":0},"CV"]
["CLSI QC Range",null,"GeoMean MIC (log2)",{"$f":"IF(COUNT(D69:D188)=0,\"\",AVERAGE(D69:D188))","v":""},"","","","",{"$f":"IF(COUNT(I69:I188)=0,\"\",AVERAGE(I69:I188))","v":""},{"$f":"IF(COUNT(J69:J188)=0,\"\",AVERAGE(J69:J188))","v":""},"","","",{"$f":"IF(D69=\"\",\"\",AVERAGE(D69:M188))","v":""},{"$f":"IF(D69=\"\",\"\",ABS(STDEVA(D34:M34)/N34))","v":""}]
[null,null,"GeoMean MIC",{"$f":"IF(COUNT(D69:D188)=0,\"\",2^D34)","v":""},"","","","",{"$f":"IF(COUNT(I69:I188)=0,\"\",2^I34)","v":""},{"$f":"IF(COUNT(J69:J188)=0,\"\",2^J34)","v":""},"","","",{"$f":"IF(D69=\"\",\"\",2^N34)","v":""}]
[null,null,"GeoSD (log2)",{"$f":"IF(COUNT(D69:D188)=0,\"\",STDEV(D69:D188))","v":""},"","","","",{"$f":"IF(COUNT(I69:I188)=0,\"\",STDEV(I69:I188))","v":""},{"$f":"IF(COUNT(J69:J188)=0,\"\",STDEV(J69:J188))","v":""},"","","",{"$f":"IF(D69=\"\",\"\",STDEV(D69:M188))","v":""}]
[{"$f":"IF(A35=\"\",\"\",ROUND(2^(A35+0.5),3)&\" to \"&ROUND(2^(A36+0.5),3))","v":""},null,"95% Lower Bound",{"$f":"IF(COUNT(D69:D188)=0,\"\",IF(D33=0,\"\",2^((NORMINV(0.025,D34,D36)))))","v":""},"","","","",{"$f":"IF(COUNT(I69:I188)=0,\"\",IF(I33=0,\"\",2^((NORMINV(0.025,I34,I36)))))","v":""},{"$f":"IF(COUNT(J69:J188)=0,\"\",IF(J33=0,\"\",2^((NORMINV(0.025,J34,J36)))))","v":""},"","","",{"$f":"IF(N33=0,\"\",2^((NORMINV(0.025,N34,N36))))","v":""}]
["Dilution Range",null,"95% Upper Bound",{"$f":"IF(COUNT(D69:D188)=0,\"\",IF(D33=0,\"\",2^(NORMINV(0.975,D34,D36))))","v":""},"","","","",{"$f":"IF(COUNT(I69:I188)=0,\"\",IF(I33=0,\"\",2^(NORMINV(0.975,I34,I36))))","v":""},{"$f":"IF(COUNT(J69:J188)=0,\"\",IF(J33=0,\"\",2^(NORMINV(0.975,J34,J36))))","v":""},"","","",{"$f":"IF(N33=0,\"\",2^(NORMINV(0.975,N34,N36)))","v":""}]
[{"$f":"IF(A35=\"\",\"\",A36-A35+1)","v":""},null,"Lower Bound Rounded Down",{"$f":"IF(COUNT(D69:D188)=0,\"\",IF(D33=0,\"\",2^(INT((NORMINV(0.025,D34,D36))))))","v":""},"","","","",{"$f":"IF(COUNT(I69:I188)=0,\"\",IF(I33=0,\"\",2^(INT((NORMINV(0.025,I34,I36))))))","v":""},{"$f":"IF(COUNT(J69:J188)=0,\"\",IF(J33=0,\"\",2^(INT((NORMINV(0.025,J34,J36))))))","v":""},"","","",{"$f":"IF(N33=0,\"\",2^(INT((NORMINV(0.025,N34,N36)))))","v":""}]
["CLSI% Obs. captured",null,"Upper Bound Rounded Up",{"$f":"IF(COUNT(D69:D188)=0,\"\",IF(D33=0,\"\",2^(INT((NORMINV(0.975,D34,D36)))+1)))","v":""},"","","","",{"$f":"IF(COUNT(I69:I188)=0,\"\",IF(I33=0,\"\",2^(INT((NORMINV(0.975,I34,I36)))+1)))","v":""},{"$f":"IF(COUNT(J69:J188)=0,\"\",IF(J33=0,\"\",2^(INT((NORMINV(0.975,J34,J36)))+1)))","v":""},"","","",{"$f":"IF(N33=0,\"\",2^(INT((NORMINV(0.975,N34,N36)))+1))","v":""}]
[{"$f":"IF(A35=0,\"\",(COUNTIF(D69:M188,\"<\"&A36+1)-COUNTIF(D69:M188,\"<\"&A35))/N$33)","v":""},null,"Probability of <=Lower Bound",{"$f":"IF(COUNT(D69:D188)=0,\"\",NORMDIST(LOG(D39)/LOG(2),D34,D36,TRUE))","v":""},"","","","",{"$f":"IF(COUNT(I69:I188)=0,\"\",NORMDIST(LOG(I39)/LOG(2),I34,I36,TRUE))","v":""},{"$f":"IF(COUNT(J69:J188)=0,\"\",NORMDIST(LOG(J39)/LOG(2),J34,J36,TRUE))","v":""},"","","",{"$f":"IF(D69=\"\",\"\",NORMDIST(LOG(N39)/LOG(2),N34,N36,TRUE))","v":""}]
[null,null,"Probability of >Upper Bound",{"$f":"IF(COUNT(D69:D188)=0,\"\",1-NORMDIST(LOG(D40)/LOG(2),D34,D36,TRUE))","v":""},"","","","",{"$f":"IF(COUNT(I69:I188)=0,\"\",1-NORMDIST(LOG(I40)/LOG(2),I34,I36,TRUE))","v":""},{"$f":"IF(COUNT(J69:J188)=0,\"\",1-NORMDIST(LOG(J40)/LOG(2),J34,J36,TRUE))","v":""},"","","",{"$f":"IF(D69=\"\",\"\",1-NORMDIST(LOG(N40)/LOG(2),N34,N36,TRUE))","v":""}]
[null,null,"New Range",{"$f":"IF(COUNT(D69:D188)=0,\"\",1-D41-D42)","v":""},"","","","",{"$f":"IF(COUNT(I69:I188)=0,\"\",1-I41-I42)","v":""},{"$f":"IF(COUNT(J69:J188)=0,\"\",1-J41-J42)","v":""},"","","",{"$f":"IF(D69=\"\",\"\",1-N41-N42)","v":""}]
[]
[null,null,"Order Stats","Lab 1","Lab 2","Lab 3","Lab 4","Lab 5","Lab 6","Lab 7","Lab 8","Lab 9","Lab 10","All labs","Interlab"]
[null,null,"25th %ile",{"$f":"IF(COUNT(D69:D188)=0,\"\",QUARTILE(D69:D188,1))","v":""},"","","","",{"$f":"IF(COUNT(I69:I188)=0,\"\",QUARTILE(I69:I188,1))","v":""},{"$f":"IF(COUNT(J69:J188)=0,\"\",QUARTILE(J69:J188,1))","v":""},"","","",{"$f":"IF(D69=\"\",\"\",QUARTILE(D69:M188,1))","v":""},"CV"]
[null,null,"75th %ile",{"$f":"IF(COUNT(D69:D188)=0,\"\",QUARTILE(D69:D188,3))","v":""},"","","","",{"$f":"IF(COUNT(I69:I188)=0,\"\",QUARTILE(I69:I188,3))","v":""},{"$f":"IF(COUNT(J69:J188)=0,\"\",QUARTILE(J69:J188,3))","v":""},"","","",{"$f":"IF(D69=\"\",\"\",QUARTILE(D69:M188,3))","v":""},{"$f":"IF(D69=\"\",\"\",ABS(N48/N25))","v":""}]
[null,null,"Interquartile Range",{"$f":"IF(COUNT(D69:D188)=0,\"\",IF(D47-D46=0,1,D47-D46))","v":""},"","","","",{"$f":"IF(COUNT(I69:I188)=0,\"\",IF(I47-I46=0,1,I47-I46))","v":""},{"$f":"IF(COUNT(J69:J188)=0,\"\",IF(J47-J46=0,1,J47-J46))","v":""},"","","",{"$f":"IF(D69=\"\",\"\",IF(N47-N46=0,1,N47-N46))","v":""}]
[null,null,"Minimum",{"$f":"IF(COUNT(D69:D188)=0,\"\",MIN(D69:D188))","v":""},"","","","",{"$f":"IF(COUNT(I69:I188)=0,\"\",MIN(I69:I188))","v":""},{"$f":"IF(COUNT(J69:J188)=0,\"\",MIN(J69:J188))","v":""},"","","",{"$f":"IF(D69=\"\",\"\",MIN(D69:M188))","v":""}]
[null,null,"Maximum",{"$f":"IF(COUNT(D69:D188)=0,\"\",MAX(D69:D188))","v":""},"","","","",{"$f":"IF(COUNT(I69:I188)=0,\"\",MAX(I69:I188))","v":""},{"$f":"IF(COUNT(J69:J188)=0,\"\",MAX(J69:J188))","v":""},"","","",{"$f":"IF(D69=\"\",\"\",MAX(D69:M188))","v":""}]
[null,null,"Lower Inner Fence",{"$f":"IF(COUNT(D69:D188)=0,\"\",D$46-1.5*D$48)","v":""},"","","","",{"$f":"IF(COUNT(I69:I188)=0,\"\",I$46-1.5*I$48)","v":""},{"$f":"IF(COUNT(J69:J188)=0,\"\",J$46-1.5*J$48)","v":""},"","","",{"$f":"IF(D69=\"\",\"\",N$46-1.5*N$48)","v":""}]
[null,null,"Upper Inner Fence",{"$f":"IF(COUNT(D69:D188)=0,\"\",D$47+1.5*D$48)","v":""},"","","","",{"$f":"IF(COUNT(I69:I188)=0,\"\",I$47+1.5*I$48)","v":""},{"$f":"IF(COUNT(J69:J188)=0,\"\",J$47+1.5*J$48)","v":""},"","","",{"$f":"IF(D69=\"\",\"\",N$47+1.5*N$48)","v":""}]
[null,null,"Lower Outer Fence",{"$f":"IF(COUNT(D69:D188)=0,\"\",D$46-3*D$48)","v":""},"","","","",{"$f":"IF(COUNT(I69:I188)=0,\"\",I$46-3*I$48)","v":""},{"$f":"IF(COUNT(J69:J188)=0,\"\",J$46-3*J$48)","v":""},"","","",{"$f":"IF(D69=\"\",\"\",N$46-3*N$48)","v":""}]
[null,null,"Upper Outer Fence",{"$f":"IF(COUNT(D69:D188)=0,\"\",D$47+3*D$48)","v":""},"","","","",{"$f":"IF(COUNT(I69:I188)=0,\"\",I$47+3*I$48)","v":""},{"$f":"IF(COUNT(J69:J188)=0,\"\",J$47+3*J$48)","v":""},"","","",{"$f":"IF(D69=\"\",\"\",N$47+3*N$48)","v":""}]
[null,null,"Lower Near Outliers",{"$f":"IF(COUNT(D69:D188)=0,\"\",COUNTIF(D69:D188,\"<\"&D51))","v":""},"","","","",{"$f":"IF(COUNT(I69:I188)=0,\"\",COUNTIF(I69:I188,\"<\"&I51))","v":""},{"$f":"IF(COUNT(J69:J188)=0,\"\",COUNTIF(J69:J188,\"<\"&J51))","v":""},"","","",{"$f":"IF(D69=\"\",\"\",COUNTIF(D69:M188,\"<\"&N51)-N57)","v":""}]
[null,null,"Upper Near Outliers",{"$f":"IF(COUNT(D69:D188)=0,\"\",COUNTIF(D69:D188,\">\"&D52))","v":""},"","","","",{"$f":"IF(COUNT(I69:I188)=0,\"\",COUNTIF(I69:I188,\">\"&I52))","v":""},{"$f":"IF(COUNT(J69:J188)=0,\"\",COUNTIF(J69:J188,\">\"&J52))","v":""},"","","",{"$f":"IF(D69=\"\",\"\",COUNTIF(D69:M188,\">\"&N52)-N58)","v":""}]
[null,null,"Lower Extreme Outliers",{"$f":"IF(COUNT(D69:D188)=0,\"\",COUNTIF(D69:D188,\"<\"&D53))","v":""},"","","","",{"$f":"IF(COUNT(I69:I188)=0,\"\",COUNTIF(I69:I188,\"<\"&I53))","v":""},{"$f":"IF(COUNT(J69:J188)=0,\"\",COUNTIF(J69:J188,\"<\"&J53))","v":""},"","","",{"$f":"IF(D69=\"\",\"\",COUNTIF(D69:M188,\"<\"&N53))","v":""}]
[null,null,"Upper Extreme Outliers",{"$f":"IF(COUNT(D69:D188)=0,\"\",COUNTIF(D69:D188,\">\"&D54))","v":""},"","","","",{"$f":"IF(COUNT(I69:I188)=0,\"\",COUNTIF(I69:I188,\">\"&I54))","v":""},{"$f":"IF(COUNT(J69:J188)=0,\"\",COUNTIF(J69:J188,\">\"&J54))","v":""},"","","",{"$f":"IF(D69=\"\",\"\",COUNTIF(D69:M188,\">\"&N54))","v":""}]
[]
[null,null,"Chart Control Limits","Lab 1","Lab 2","Lab 3","Lab 4","Lab 5","Lab 6","Lab 7","Lab 8","Lab 9","Lab 10"]
[null,"Mean","Lower CL",{"$f":"$O$24","v":""},{"$f":"$O$24","v":""},"","","","","","","",""]
[null,null,"Upper CL",{"$f":"$P$24","v":""},{"$f":"$P$24","v":""},"","","","","","","",""]
[null,"Median","Lower CL",{"$f":"$O$25","v":""},{"$f":"$O$25","v":""},"","","","","","","",""]
[null,null,"Upper CL",{"$f":"$P$25","v":""},{"$f":"$P$25","v":""},"","","","","","","",""]
[null,"Mode","Lower CL",{"$f":"$O$26","v":""},{"$f":"$O$26","v":""},"","","","","","","",""]
[null,null,"Upper CL",{"$f":"$P$26","v":""},{"$f":"$P$26","v":""},"","","","","","","",""]
[]
[null,null,"Log2 Converted Raw Data","Lab 1","Lab 2","Lab 3","Lab 4","Lab 5","Lab 6","Lab 7","Lab 8","Lab 9","Lab 10","Control","Limits"]
[null,null,"Media Lot 1",{"$f":"IF(D191=\"\",\"\",LOOKUP(D191,$A$3:$A$22,$C$3:$C$22))","v":""},"","","","",{"$f":"IF(I191=\"\",\"\",LOOKUP(I191,$A$3:$A$22,$C$3:$C$22))","v":""},"","","","",{"$f":"IF(D69=\"\",\"\",LN($N$39)/LN(2))","v":""},{"$f":"IF(D69=\"\",\"\",LN($N$40)/LN(2)-0.5)","v":""}]
[{"$nulls":3},"","","","","","","","","",""]
[{"$nulls":3},"","","","","","","","","",""]
[{"$nulls":3},"","","","","","","","","",""]
[{"$nulls":3},{"$f":"IF(D195=\"\",\"\",LOOKUP(D195,$A$3:$A$22,$C$3:$C$22))","v":""},"","","","","","","","",""]
[{"$nulls":3},"","","","","","","","","",""]
[{"$nulls":3},"","","","","","","","","",""]
[{"$nulls":3},"","","","","","","","","",""]
[{"$nulls":3},"","","","","","","","","",""]
[{"$nulls":3},"","","","","","","","","",""]
[{"$nulls":3},{"$f":"IF(D201=\"\",\"\",LOOKUP(D201,$A$3:$A$22,$C$3:$C$22))","v":""},"","","","",{"$f":"IF(I201=\"\",\"\",LOOKUP(I201,$A$3:$A$22,$C$3:$C$22))","v":""},"","","",""]
[{"$nulls":3},"","","","","","","","","",""]
[{"$nulls":3},{"$f":"IF(D203=\"\",\"\",LOOKUP(D203,$A$3:$A$22,$C$3:$C$22))","v":""},"","","","","","","","",""]
[{"$nulls":3},"","","","","","","","","",""]
[{"$nulls":3},"","","","","","","","","",""]
[{"$nulls":3},"","","","","","","","","",""]
[{"$nulls":3},"","","","","","","","","",""]
[{"$nulls":3},"","","","","","","","","",""]
[{"$nulls":3},"","","","","","","","","",""]
[{"$nulls":3},"","","","","","","","","",""]
[{"$nulls":3},{"$f":"IF(D211=\"\",\"\",LOOKUP(D211,$A$3:$A$22,$C$3:$C$22))","v":""},"","","","",{"$f":"IF(I211=\"\",\"\",LOOKUP(I211,$A$3:$A$22,$C$3:$C$22))","v":""},"","","",""]
[{"$nulls":3},"","","","","","","","","",""]
[{"$nulls":3},"","","","","","","","","",""]
[{"$nulls":3},"","","","","","","","","",""]
[{"$nulls":3},"","","","","","","","","",""]
[{"$nulls":3},"","","","","","","","","",""]
[{"$nulls":3},"","","","","","","","","",""]
[{"$nulls":3},"","","","","","","","","",""]
[{"$nulls":3},"","","","","","","","","",""]
[{"$nulls":3},"","","","","","","","","",""]
[{"$nulls":3},"","","","","",{"$f":"IF(I221=\"\",\"\",LOOKUP(I221,$A$3:$A$22,$C$3:$C$22))","v":""},"","","",""]
[{"$nulls":3},"","","","","","","","","",""]
[{"$nulls":3},"","","","","","","","","",""]
[{"$nulls":3},"","","","","","","","","",""]
[{"$nulls":3},"","","","","","","","","",""]
[{"$nulls":3},"","","","","","","","","",""]
[{"$nulls":3},{"$f":"IF(D227=\"\",\"\",LOOKUP(D227,$A$3:$A$22,$C$3:$C$22))","v":""},"","","","","","","","",""]
[{"$nulls":3},"","","","","","","","","",""]
[{"$nulls":3},"","","","","","","","","",""]
[{"$nulls":3},"","","","","","","","","",""]
[null,null,"Media Lot 2","","","","","",{"$f":"IF(I231=\"\",\"\",LOOKUP(I231,$A$3:$A$22,$C$3:$C$22))","v":""},"","","",""]
[{"$nulls":3},"","","","","","","","","",""]
[{"$nulls":3},"","","","","","","","","",""]
[{"$nulls":3},"","","","","","","","","",""]
[{"$nulls":3},"","","","","","","","","",""]
[{"$nulls":3},"","","","","","","","","",""]
[{"$nulls":3},"","","","","","","","","",""]
[{"$nulls":3},"","","","","","","","","",""]
[{"$nulls":3},"","","","","","","","","",""]
[{"$nulls":3},"","","","","","","","","",""]
[{"$nulls":3},"","","","","",{"$f":"IF(I241=\"\",\"\",LOOKUP(I241,$A$3:$A$22,$C$3:$C$22))","v":""},"","","",""]
[{"$nulls":3},"","","","","","","","","",""]
[{"$nulls":3},{"$f":"IF(D243=\"\",\"\",LOOKUP(D243,$A$3:$A$22,$C$3:$C$22))","v":""},"","","","","","","","",""]
[{"$nulls":3},"","","","","","","","","",""]
[{"$nulls":3},"","","","","","","","","",""]
[{"$nulls":3},"","","","","","","","","",""]
[{"$nulls":3},"","","","","","","","","",""]
[{"$nulls":3},"","","","","","","","","",""]
[{"$nulls":3},"","","","","","","","","",""]
[{"$nulls":3},"","","","","","","","","",""]
[{"$nulls":3},"","","","","",{"$f":"IF(I251=\"\",\"\",LOOKUP(I251,$A$3:$A$22,$C$3:$C$22))","v":""},"","","",""]
[{"$nulls":3},"","","","","","","","","",""]
[{"$nulls":3},"","","","","","","","","",""]
[{"$nulls":3},"","","","","","","","","",""]
[{"$nulls":3},"","","","","","","","","",""]
[{"$nulls":3},"","","","","","","","","",""]
[{"$nulls":3},"","","","","","","","","",""]
[{"$nulls":3},"","","","","","","","","",""]
[{"$nulls":3},{"$f":"IF(D259=\"\",\"\",LOOKUP(D259,$A$3:$A$22,$C$3:$C$22))","v":""},"","","","","","","","",""]
[{"$nulls":3},"","","","","","","","","",""]
[{"$nulls":3},"","","","","",{"$f":"IF(I261=\"\",\"\",LOOKUP(I261,$A$3:$A$22,$C$3:$C$22))","v":""},"","","",""]
[{"$nulls":3},"","","","","","","","","",""]
[{"$nulls":3},"","","","","","","","","",""]
[{"$nulls":3},"","","","","","","","","",""]
[{"$nulls":3},"","","","","","","","","",""]
[{"$nulls":3},"","","","","","","","","",""]
[{"$nulls":3},"","","","","","","","","",""]
[{"$nulls":3},"","","","","","","","","",""]
[{"$nulls":3},"","","","","","","","","",""]
[{"$nulls":3},"","","","","","","","","",""]
[null,null,"Media Lot 3","","","","","",{"$f":"IF(I271=\"\",\"\",LOOKUP(I271,$A$3:$A$22,$C$3:$C$22))","v":""},"","","",""]
[{"$nulls":3},"","","","","","","","","",""]
[{"$nulls":3},"","","","","","","","","",""]
[{"$nulls":3},"","","","","","","","","",""]
[{"$nulls":3},{"$f":"IF(D275=\"\",\"\",LOOKUP(D275,$A$3:$A$22,$C$3:$C$22))","v":""},"","","","","","","","",""]
[{"$nulls":3},"","","","","","","","","",""]
[{"$nulls":3},"","","","","","","","","",""]
[{"$nulls":3},"","","","","","","","","",""]
[{"$nulls":3},"","","","","","","","","",""]
[{"$nulls":3},"","","","","","","","","",""]
[{"$nulls":3},"","","","","",{"$f":"IF(I281=\"\",\"\",LOOKUP(I281,$A$3:$A$22,$C$3:$C$22))","v":""},"","","",""]
[{"$nulls":3},"","","","","","","","","",""]
[{"$nulls":3},"","","","","","","","","",""]
[{"$nulls":3},"","","","","","","","","",""]
[{"$nulls":3},"","","","","","","","","",""]
[{"$nulls":3},"","","","","","","","","",""]
[{"$nulls":3},"","","","","","","","","",""]
[{"$nulls":3},"","","","","","","","","",""]
[{"$nulls":3},"","","","","","","","","",""]
[{"$nulls":3},"","","","","","","","","",""]
[{"$nulls":3},{"$f":"IF(D291=\"\",\"\",LOOKUP(D291,$A$3:$A$22,$C$3:$C$22))","v":""},"","","","",{"$f":"IF(I291=\"\",\"\",LOOKUP(I291,$A$3:$A$22,$C$3:$C$22))","v":""},"","","",""]
[{"$nulls":3},"","","","","","","","","",""]
[{"$nulls":3},"","","","","","","","","",""]
[{"$nulls":3},"","","","","","","","","",""]
[{"$nulls":3},"","","","","","","","","",""]
[{"$nulls":3},"","","","","","","","","",""]
[{"$nulls":3},"","","","","","","","","",""]
[{"$nulls":3},"","","","","","","","","",""]
[{"$nulls":3},"","","","","","","","","",""]
[{"$nulls":3},"","","","","","","","","",""]
[{"$nulls":3},"","","","","",{"$f":"IF(I301=\"\",\"\",LOOKUP(I301,$A$3:$A$22,$C$3:$C$22))","v":""},"","","",""]
[{"$nulls":3},"","","","","","","","","",""]
[{"$nulls":3},"","","","","","","","","",""]
[{"$nulls":3},"","","","","","","","","",""]
[{"$nulls":3},"","","","","","","","","",""]
[{"$nulls":3},"","","","","","","","","",""]
[{"$nulls":3},{"$f":"IF(D307=\"\",\"\",LOOKUP(D307,$A$3:$A$22,$C$3:$C$22))","v":""},"","","","","","","","",""]
[{"$nulls":3},"","","","","","","","","",""]
[{"$nulls":3},"","","","","","","","","",""]
[{"$nulls":3},"","","","","","","","","",""]
[]
[null,null,"Raw Data Entry","Lab 1","Lab 2","Lab 3","Lab 4","Lab 5","Lab 6","Lab 7","Lab 8","Lab 9","Lab 10"]
[null,null,"Media Lot 1"]
{"$rows_empty":39}
[null,null,"Media Lot 2"]
{"$rows_empty":39}
[null,null,"Media Lot 3"]

{"sheet":"Strain 6","index":14,"n_rows":271,"n_cols":16,"rows_kept":271,"merged":[[0,4,0,6]]}
[{"$f":"'Range Summary'!G2","v":"QC6"},{"$f":"'Range Summary'!A2","v":"Test agent"},null,null,"Go to Raw Data Entry area"]
["MIC","Midpoint MIC","Mid Log2MIC","Lab 1","Lab 2","Lab 3","Lab 4","Lab 5","Lab 6","Lab 7","Lab 8","Lab 9","Lab 10","All labs","Norm"]
[{"v":1E-3,"d":"0.001"},{"$f":"2^C3","v":{"v":6.9053396600248776E-4,"d":"0.000691"}},-10.5,{"$f":"IF(COUNTIF(D69:D188,-10.5)=0,\"\",COUNTIF(D69:D188,-10.5))","v":""},{"$f":"IF(COUNTIF(E69:E188,-10.5)=0,\"\",COUNTIF(E69:E188,-10.5))","v":""},{"$f":"IF(COUNTIF(F69:F188,-10.5)=0,\"\",COUNTIF(F69:F188,-10.5))","v":""},"","",{"$f":"IF(COUNTIF(I69:I188,-10.5)=0,\"\",COUNTIF(I69:I188,-10.5))","v":""},{"$f":"IF(COUNTIF(J69:J188,-10.5)=0,\"\",COUNTIF(J69:J188,-10.5))","v":""},"","","",{"$f":"SUM(D3:M3)","v":0},{"$f":"IF(D69=\"\",0,ROUND(N$33*NORMDIST(C3+0.5,N$34,N$36,TRUE),0))","v":0}]
[{"v":2E-3,"d":"0.002"},{"v":1.3810679320049757E-3,"d":"0.001381"},-9.5,{"$f":"IF(COUNTIF(D69:D188,-9.5)=0,\"\",COUNTIF(D69:D188,-9.5))","v":""},{"$f":"IF(COUNTIF(E69:E188,-9.5)=0,\"\",COUNTIF(E69:E188,-9.5))","v":""},{"$f":"IF(COUNTIF(F69:F188,-9.5)=0,\"\",COUNTIF(F69:F188,-9.5))","v":""},"","",{"$f":"IF(COUNTIF(I69:I188,-9.5)=0,\"\",COUNTIF(I69:I188,-9.5))","v":""},{"$f":"IF(COUNTIF(J69:J188,-9.5)=0,\"\",COUNTIF(J69:J188,-9.5))","v":""},"","","",0,{"$f":"IF(D69=\"\",0,ROUND(N$33*NORMDIST(C4+0.5,N$34,N$36,TRUE),0)-SUM(O2:O$3))","v":0}]
[0.004,{"v":2.7621358640099515E-3,"d":"0.002762"},-8.5,{"$f":"IF(COUNTIF(D69:D188,-8.5)=0,\"\",COUNTIF(D69:D188,-8.5))","v":""},{"$f":"IF(COUNTIF(E69:E188,-8.5)=0,\"\",COUNTIF(E69:E188,-8.5))","v":""},{"$f":"IF(COUNTIF(F69:F188,-8.5)=0,\"\",COUNTIF(F69:F188,-8.5))","v":""},"","",{"$f":"IF(COUNTIF(I69:I188,-8.5)=0,\"\",COUNTIF(I69:I188,-8.5))","v":""},{"$f":"IF(COUNTIF(J69:J188,-8.5)=0,\"\",COUNTIF(J69:J188,-8.5))","v":""},"","","",0,{"$f":"IF(D69=\"\",0,ROUND(N$33*NORMDIST(C5+0.5,N$34,N$36,TRUE),0)-SUM(O$3:O3))","v":0}]
[0.008,{"v":0.005524271728019904,"d":"0.005524"},-7.5,{"$f":"IF(COUNTIF(D69:D188,-7.5)=0,\"\",COUNTIF(D69:D188,-7.5))","v":""},{"$f":"IF(COUNTIF(E69:E188,-7.5)=0,\"\",COUNTIF(E69:E188,-7.5))","v":""},{"$f":"IF(COUNTIF(F69:F188,-7.5)=0,\"\",COUNTIF(F69:F188,-7.5))","v":""},"","",{"$f":"IF(COUNTIF(I69:I188,-7.5)=0,\"\",COUNTIF(I69:I188,-7.5))","v":""},{"$f":"IF(COUNTIF(J69:J188,-7.5)=0,\"\",COUNTIF(J69:J188,-7.5))","v":""},"","","",{"$f":"SUM(D6:M6)","v":0},{"$f":"IF(D69=\"\",0,ROUND(N$33*NORMDIST(C6+0.5,N$34,N$36,TRUE),0)-SUM(O$3:O5))","v":0}]
[0.016,{"v":0.011048543456039808,"d":"0.011049"},-6.5,{"$f":"IF(COUNTIF(D69:D188,-6.5)=0,\"\",COUNTIF(D69:D188,-6.5))","v":""},{"$f":"IF(COUNTIF(E69:E188,-6.5)=0,\"\",COUNTIF(E69:E188,-6.5))","v":""},{"$f":"IF(COUNTIF(F69:F188,-6.5)=0,\"\",COUNTIF(F69:F188,-6.5))","v":""},"","",{"$f":"IF(COUNTIF(I69:I188,-6.5)=0,\"\",COUNTIF(I69:I188,-6.5))","v":""},{"$f":"IF(COUNTIF(J69:J188,-6.5)=0,\"\",COUNTIF(J69:J188,-6.5))","v":""},"","","",0,{"$f":"IF(D69=\"\",0,ROUND(N$33*NORMDIST(C7+0.5,N$34,N$36,TRUE),0)-SUM(O$3:O6))","v":0}]
[0.03,{"v":0.022097086912079608,"d":"0.022097"},-5.5,{"$f":"IF(COUNTIF(D69:D188,-5.5)=0,\"\",COUNTIF(D69:D188,-5.5))","v":""},{"$f":"IF(COUNTIF(E69:E188,-5.5)=0,\"\",COUNTIF(E69:E188,-5.5))","v":""},{"$f":"IF(COUNTIF(F69:F188,-5.5)=0,\"\",COUNTIF(F69:F188,-5.5))","v":""},"","",{"$f":"IF(COUNTIF(I69:I188,-5.5)=0,\"\",COUNTIF(I69:I188,-5.5))","v":""},{"$f":"IF(COUNTIF(J69:J188,-5.5)=0,\"\",COUNTIF(J69:J188,-5.5))","v":""},"","","",0,{"$f":"IF(D69=\"\",0,ROUND(N$33*NORMDIST(C8+0.5,N$34,N$36,TRUE),0)-SUM(O$3:O7))","v":0}]
[0.06,{"v":0.04419417382415922,"d":"0.044194"},-4.5,{"$f":"IF(COUNTIF(D69:D188,-4.5)=0,\"\",COUNTIF(D69:D188,-4.5))","v":""},{"$f":"IF(COUNTIF(E69:E188,-4.5)=0,\"\",COUNTIF(E69:E188,-4.5))","v":""},{"$f":"IF(COUNTIF(F69:F188,-4.5)=0,\"\",COUNTIF(F69:F188,-4.5))","v":""},"","",{"$f":"IF(COUNTIF(I69:I188,-4.5)=0,\"\",COUNTIF(I69:I188,-4.5))","v":""},{"$f":"IF(COUNTIF(J69:J188,-4.5)=0,\"\",COUNTIF(J69:J188,-4.5))","v":""},"","","",0,{"$f":"IF(D69=\"\",0,ROUND(N$33*NORMDIST(C9+0.5,N$34,N$36,TRUE),0)-SUM(O$3:O8))","v":0}]
[0.13,{"v":0.08838834764831845,"d":"0.088388"},-3.5,{"$f":"IF(COUNTIF(D69:D188,-3.5)=0,\"\",COUNTIF(D69:D188,-3.5))","v":""},{"$f":"IF(COUNTIF(E69:E188,-3.5)=0,\"\",COUNTIF(E69:E188,-3.5))","v":""},{"$f":"IF(COUNTIF(F69:F188,-3.5)=0,\"\",COUNTIF(F69:F188,-3.5))","v":""},"","",{"$f":"IF(COUNTIF(I69:I188,-3.5)=0,\"\",COUNTIF(I69:I188,-3.5))","v":""},{"$f":"IF(COUNTIF(J69:J188,-3.5)=0,\"\",COUNTIF(J69:J188,-3.5))","v":""},"","","",0,{"$f":"IF(D69=\"\",0,ROUND(N$33*NORMDIST(C10+0.5,N$34,N$36,TRUE),0)-SUM(O$3:O9))","v":0}]
[0.25,{"v":0.17677669529663687,"d":"0.176777"},-2.5,{"$f":"IF(COUNTIF(D69:D188,-2.5)=0,\"\",COUNTIF(D69:D188,-2.5))","v":""},{"$f":"IF(COUNTIF(E69:E188,-2.5)=0,\"\",COUNTIF(E69:E188,-2.5))","v":""},{"$f":"IF(COUNTIF(F69:F188,-2.5)=0,\"\",COUNTIF(F69:F188,-2.5))","v":""},"","",{"$f":"IF(COUNTIF(I69:I188,-2.5)=0,\"\",COUNTIF(I69:I188,-2.5))","v":""},{"$f":"IF(COUNTIF(J69:J188,-2.5)=0,\"\",COUNTIF(J69:J188,-2.5))","v":""},"","","",0,{"$f":"IF(D69=\"\",0,ROUND(N$33*NORMDIST(C11+0.5,N$34,N$36,TRUE),0)-SUM(O$3:O10))","v":0}]
[0.5,{"v":0.3535533905932738,"d":"0.353553"},-1.5,{"$f":"IF(COUNTIF(D69:D188,-1.5)=0,\"\",COUNTIF(D69:D188,-1.5))","v":""},{"$f":"IF(COUNTIF(E69:E188,-1.5)=0,\"\",COUNTIF(E69:E188,-1.5))","v":""},{"$f":"IF(COUNTIF(F69:F188,-1.5)=0,\"\",COUNTIF(F69:F188,-1.5))","v":""},"","",{"$f":"IF(COUNTIF(I69:I188,-1.5)=0,\"\",COUNTIF(I69:I188,-1.5))","v":""},{"$f":"IF(COUNTIF(J69:J188,-1.5)=0,\"\",COUNTIF(J69:J188,-1.5))","v":""},"","","",0,{"$f":"IF(D69=\"\",0,ROUND(N$33*NORMDIST(C12+0.5,N$34,N$36,TRUE),0)-SUM(O$3:O11))","v":0}]
[1,{"v":0.7071067811865475,"d":"0.707107"},-0.5,{"$f":"IF(COUNTIF(D69:D188,-0.5)=0,\"\",COUNTIF(D69:D188,-0.5))","v":""},{"$f":"IF(COUNTIF(E69:E188,-0.5)=0,\"\",COUNTIF(E69:E188,-0.5))","v":""},{"$f":"IF(COUNTIF(F69:F188,-0.5)=0,\"\",COUNTIF(F69:F188,-0.5))","v":""},"","",{"$f":"IF(COUNTIF(I69:I188,-0.5)=0,\"\",COUNTIF(I69:I188,-0.5))","v":""},{"$f":"IF(COUNTIF(J69:J188,-0.5)=0,\"\",COUNTIF(J69:J188,-0.5))","v":""},"","","",0,{"$f":"IF(D69=\"\",0,ROUND(N$33*NORMDIST(C13+0.5,N$34,N$36,TRUE),0)-SUM(O$3:O12))","v":0}]
[2,{"v":1.4142135623730951,"d":"1.414214"},0.5,{"$f":"IF(COUNTIF(D69:D188,0.5)=0,\"\",COUNTIF(D69:D188,0.5))","v":""},{"$f":"IF(COUNTIF(E69:E188,0.5)=0,\"\",COUNTIF(E69:E188,0.5))","v":""},{"$f":"IF(COUNTIF(F69:F188,0.5)=0,\"\",COUNTIF(F69:F188,0.5))","v":""},"","",{"$f":"IF(COUNTIF(I69:I188,0.5)=0,\"\",COUNTIF(I69:I188,0.5))","v":""},{"$f":"IF(COUNTIF(J69:J188,0.5)=0,\"\",COUNTIF(J69:J188,0.5))","v":""},"","","",0,{"$f":"IF(D69=\"\",0,ROUND(N$33*NORMDIST(C14+0.5,N$34,N$36,TRUE),0)-SUM(O$3:O13))","v":0}]
[4,{"v":2.82842712474619,"d":"2.828427"},1.5,{"$f":"IF(COUNTIF(D69:D188,1.5)=0,\"\",COUNTIF(D69:D188,1.5))","v":""},{"$f":"IF(COUNTIF(E69:E188,1.5)=0,\"\",COUNTIF(E69:E188,1.5))","v":""},{"$f":"IF(COUNTIF(F69:F188,1.5)=0,\"\",COUNTIF(F69:F188,1.5))","v":""},"","",{"$f":"IF(COUNTIF(I69:I188,1.5)=0,\"\",COUNTIF(I69:I188,1.5))","v":""},{"$f":"IF(COUNTIF(J69:J188,1.5)=0,\"\",COUNTIF(J69:J188,1.5))","v":""},"","","",0,{"$f":"IF(D69=\"\",0,ROUND(N$33*NORMDIST(C15+0.5,N$34,N$36,TRUE),0)-SUM(O$3:O14))","v":0}]
[8,{"v":5.656854249492381,"d":"5.656854"},2.5,{"$f":"IF(COUNTIF(D69:D188,2.5)=0,\"\",COUNTIF(D69:D188,2.5))","v":""},{"$f":"IF(COUNTIF(E69:E188,2.5)=0,\"\",COUNTIF(E69:E188,2.5))","v":""},{"$f":"IF(COUNTIF(F69:F188,2.5)=0,\"\",COUNTIF(F69:F188,2.5))","v":""},"","",{"$f":"IF(COUNTIF(I69:I188,2.5)=0,\"\",COUNTIF(I69:I188,2.5))","v":""},{"$f":"IF(COUNTIF(J69:J188,2.5)=0,\"\",COUNTIF(J69:J188,2.5))","v":""},"","","",0,{"$f":"IF(D69=\"\",0,ROUND(N$33*NORMDIST(C16+0.5,N$34,N$36,TRUE),0)-SUM(O$3:O15))","v":0}]
[16,{"v":11.31370849898476,"d":"11.313708"},3.5,{"$f":"IF(COUNTIF(D69:D188,3.5)=0,\"\",COUNTIF(D69:D188,3.5))","v":""},{"$f":"IF(COUNTIF(E69:E188,3.5)=0,\"\",COUNTIF(E69:E188,3.5))","v":""},{"$f":"IF(COUNTIF(F69:F188,3.5)=0,\"\",COUNTIF(F69:F188,3.5))","v":""},"","",{"$f":"IF(COUNTIF(I69:I188,3.5)=0,\"\",COUNTIF(I69:I188,3.5))","v":""},{"$f":"IF(COUNTIF(J69:J188,3.5)=0,\"\",COUNTIF(J69:J188,3.5))","v":""},"","","",0,{"$f":"IF(D69=\"\",0,ROUND(N$33*NORMDIST(C17+0.5,N$34,N$36,TRUE),0)-SUM(O$3:O16))","v":0}]
[32,{"v":22.62741699796952,"d":"22.627417"},4.5,{"$f":"IF(COUNTIF(D69:D188,4.5)=0,\"\",COUNTIF(D69:D188,4.5))","v":""},{"$f":"IF(COUNTIF(E69:E188,4.5)=0,\"\",COUNTIF(E69:E188,4.5))","v":""},{"$f":"IF(COUNTIF(F69:F188,4.5)=0,\"\",COUNTIF(F69:F188,4.5))","v":""},"","",{"$f":"IF(COUNTIF(I69:I188,4.5)=0,\"\",COUNTIF(I69:I188,4.5))","v":""},{"$f":"IF(COUNTIF(J69:J188,4.5)=0,\"\",COUNTIF(J69:J188,4.5))","v":""},"","","",0,{"$f":"IF(D69=\"\",0,ROUND(N$33*NORMDIST(C18+0.5,N$34,N$36,TRUE),0)-SUM(O$3:O17))","v":0}]
[64,{"v":45.254833995939045,"d":"45.254834"},5.5,{"$f":"IF(COUNTIF(D69:D188,5.5)=0,\"\",COUNTIF(D69:D188,5.5))","v":""},{"$f":"IF(COUNTIF(E69:E188,5.5)=0,\"\",COUNTIF(E69:E188,5.5))","v":""},{"$f":"IF(COUNTIF(F69:F188,5.5)=0,\"\",COUNTIF(F69:F188,5.5))","v":""},"","",{"$f":"IF(COUNTIF(I69:I188,5.5)=0,\"\",COUNTIF(I69:I188,5.5))","v":""},{"$f":"IF(COUNTIF(J69:J188,5.5)=0,\"\",COUNTIF(J69:J188,5.5))","v":""},"","","",0,{"$f":"IF(D69=\"\",0,ROUND(N$33*NORMDIST(C19+0.5,N$34,N$36,TRUE),0)-SUM(O$3:O18))","v":0}]
[128,{"v":90.50966799187806,"d":"90.509668"},6.5,{"$f":"IF(COUNTIF(D69:D188,6.5)=0,\"\",COUNTIF(D69:D188,6.5))","v":""},{"$f":"IF(COUNTIF(E69:E188,6.5)=0,\"\",COUNTIF(E69:E188,6.5))","v":""},{"$f":"IF(COUNTIF(F69:F188,6.5)=0,\"\",COUNTIF(F69:F188,6.5))","v":""},"","",{"$f":"IF(COUNTIF(I69:I188,6.5)=0,\"\",COUNTIF(I69:I188,6.5))","v":""},{"$f":"IF(COUNTIF(J69:J188,6.5)=0,\"\",COUNTIF(J69:J188,6.5))","v":""},"","","",0,{"$f":"IF(D69=\"\",0,ROUND(N$33*NORMDIST(C20+0.5,N$34,N$36,TRUE),0)-SUM(O$3:O19))","v":0}]
[256,{"v":181.01933598375612,"d":"181.019336"},7.5,{"$f":"IF(COUNTIF(D69:D188,7.5)=0,\"\",COUNTIF(D69:D188,7.5))","v":""},{"$f":"IF(COUNTIF(E69:E188,7.5)=0,\"\",COUNTIF(E69:E188,7.5))","v":""},{"$f":"IF(COUNTIF(F69:F188,7.5)=0,\"\",COUNTIF(F69:F188,7.5))","v":""},"","",{"$f":"IF(COUNTIF(I69:I188,7.5)=0,\"\",COUNTIF(I69:I188,7.5))","v":""},{"$f":"IF(COUNTIF(J69:J188,7.5)=0,\"\",COUNTIF(J69:J188,7.5))","v":""},"","","",0,{"$f":"IF(D69=\"\",0,ROUND(N$33*NORMDIST(C21+0.5,N$34,N$36,TRUE),0)-SUM(O$3:O20))","v":0}]
[512,{"v":362.0386719675123,"d":"362.038672"},8.5,{"$f":"IF(COUNTIF(D69:D188,8.5)=0,\"\",COUNTIF(D69:D188,8.5))","v":""},{"$f":"IF(COUNTIF(E69:E188,8.5)=0,\"\",COUNTIF(E69:E188,8.5))","v":""},{"$f":"IF(COUNTIF(F69:F188,8.5)=0,\"\",COUNTIF(F69:F188,8.5))","v":""},"","",{"$f":"IF(COUNTIF(I69:I188,8.5)=0,\"\",COUNTIF(I69:I188,8.5))","v":""},{"$f":"IF(COUNTIF(J69:J188,8.5)=0,\"\",COUNTIF(J69:J188,8.5))","v":""},"","","",0,{"$f":"IF(D69=\"\",0,ROUND(N$33*NORMDIST(C22+0.5,N$34,N$36,TRUE),0)-SUM(O$3:O21))","v":0}]
[null,null,"Central Tendancy Stats","Lab 1","Lab 2","Lab 3","Lab 4","Lab 5","Lab 6","Lab 7","Lab 8","Lab 9","Lab 10","All labs","Control","Limits"]
[null,null,"Mean",{"$f":"IF(COUNT(D69:D188)=0,\"\",AVERAGE(D69:D188))","v":""},"","","","",{"$f":"IF(COUNT(I69:I188)=0,\"\",AVERAGE(I69:I188))","v":""},{"$f":"IF(COUNT(J69:J188)=0,\"\",AVERAGE(J69:J188))","v":""},"","","",{"$f":"IF(D69=\"\",\"\",AVERAGE(D69:M188))","v":""},{"$f":"IF(D69=\"\",\"\",ROUND(NORMINV(0.05,N34,N36),3))","v":""},{"$f":"IF(D69=\"\",\"\",ROUND(NORMINV(0.95,N34,N36),3))","v":""}]
["Calculated QC Range",null,"Median",{"$f":"IF(COUNT(D69:D188)=0,\"\",MEDIAN(D69:D188))","v":""},"","","","",{"$f":"IF(COUNT(I69:I188)=0,\"\",MEDIAN(I69:I188))","v":""},{"$f":"IF(COUNT(J69:J188)=0,\"\",MEDIAN(J69:J188))","v":""},"","","",{"$f":"IF(D69=\"\",\"\",MEDIAN(D69:M188))","v":""},{"$f":"IF(D69=\"\",\"\",ROUND(N51,3))","v":""},{"$f":"IF(D69=\"\",\"\",ROUND(N52,3))","v":""}]
[{"$f":"IF(N33=0,\"\",ROUND(2*N39,3)&\" to \"&ROUND(N40,3))","v":""},null,"Mode",{"$f":"IF(COUNT(D69:D188)=0,\"\",MODE(D69:D188))","v":""},"","","","",{"$f":"IF(COUNT(I69:I188)=0,\"\",MODE(I69:I188))","v":""},{"$f":"IF(COUNT(J69:J188)=0,\"\",MODE(J69:J188))","v":""},"","","",{"$f":"IF(D69=\"\",\"\",MODE(D69:M188))","v":""},{"$f":"IF(D69=\"\",\"\",N26-1)","v":""},{"$f":"IF(D69=\"\",\"\",N26+1)","v":""}]
["Dilution Range",null,null,"(Converted back to MIC)",{"$nulls":10},"Control","Limits"]
[{"$f":"IF(N33=0,\"\",LN(N40/N39)/LN(2))","v":""},null,"Mean",{"$f":"IF(COUNT(D69:D188)=0,\"\",2^(AVERAGE(D69:D188)+0.5))","v":""},"","","","",{"$f":"IF(COUNT(I69:I188)=0,\"\",2^(AVERAGE(I69:I188)+0.5))","v":""},{"$f":"IF(COUNT(J69:J188)=0,\"\",2^(AVERAGE(J69:J188)+0.5))","v":""},"","","",{"$f":"IF(D69=\"\",\"\",2^(AVERAGE(D69:M188)+0.5))","v":""},{"$f":"IF(D69=\"\",\"\",2^O24)","v":""},{"$f":"IF(D69=\"\",\"\",2^P24)","v":""}]
["% Obs. Captured",null,"Median",{"$f":"IF(COUNT(D69:D188)=0,\"\",2^(MEDIAN(D69:D188)+0.5))","v":""},"","","","",{"$f":"IF(COUNT(I69:I188)=0,\"\",2^(MEDIAN(I69:I188)+0.5))","v":""},{"$f":"IF(COUNT(J69:J188)=0,\"\",2^(MEDIAN(J69:J188)+0.5))","v":""},"","","",{"$f":"IF(D69=\"\",\"\",2^(MEDIAN(D69:M188)+0.5))","v":""},{"$f":"IF(D69=\"\",\"\",2^O25)","v":""},{"$f":"IF(D69=\"\",\"\",2^P25)","v":""}]
[{"$f":"IF(N33=0,\"\",((COUNTIF(D69:M188,\"<\"&LN(N40)/LN(2))-COUNTIF(D69:M188,\"<\"&LN(N39)/LN(2)))/N$33))","v":""},null,"Mode",{"$f":"IF(COUNT(D69:D188)=0,\"\",2^(MODE(D69:D188)+0.5))","v":""},"","","","",{"$f":"IF(COUNT(I69:I188)=0,\"\",2^(MODE(I69:I188)+0.5))","v":""},{"$f":"IF(COUNT(J69:J188)=0,\"\",2^(MODE(J69:J188)+0.5))","v":""},"","","",{"$f":"IF(D69=\"\",\"\",2^(MODE(D69:M188)+0.5))","v":""},{"$f":"IF(D69=\"\",\"\",2^O26)","v":""},{"$f":"IF(D69=\"\",\"\",2^P26)","v":""}]
["Prob'ty Outside Range"]
[{"$f":"IF(N33=0,\"\",N41+N42)","v":""},null,"Conventional Stats","Lab 1","Lab 2","Lab 3","Lab 4","Lab 5","Lab 6","Lab 7","Lab 8","Lab 9","Lab 10","All labs","Interlab"]
[null,null,"N",{"$f":"IF(COUNT(D69:D188)=0,\"\",COUNT(D69:D188))","v":""},"","","","",{"$f":"IF(COUNT(I69:I188)=0,\"\",COUNT(I69:I188))","v":""},{"$f":"IF(COUNT(J69:J188)=0,\"\",COUNT(J69:J188))","v":""},"","","",{"$f":"COUNT(D69:M188)","v":0},"CV"]
["CLSI QC Range",null,"GeoMean MIC (log2)",{"$f":"IF(COUNT(D69:D188)=0,\"\",AVERAGE(D69:D188))","v":""},"","","","",{"$f":"IF(COUNT(I69:I188)=0,\"\",AVERAGE(I69:I188))","v":""},{"$f":"IF(COUNT(J69:J188)=0,\"\",AVERAGE(J69:J188))","v":""},"","","",{"$f":"IF(D69=\"\",\"\",AVERAGE(D69:M188))","v":""},{"$f":"IF(D69=\"\",\"\",ABS(STDEVA(D34:M34)/N34))","v":""}]
[null,null,"GeoMean MIC",{"$f":"IF(COUNT(D69:D188)=0,\"\",2^D34)","v":""},"","","","",{"$f":"IF(COUNT(I69:I188)=0,\"\",2^I34)","v":""},{"$f":"IF(COUNT(J69:J188)=0,\"\",2^J34)","v":""},"","","",{"$f":"IF(D69=\"\",\"\",2^N34)","v":""}]
[null,null,"GeoSD (log2)",{"$f":"IF(COUNT(D69:D188)=0,\"\",STDEV(D69:D188))","v":""},"","","","",{"$f":"IF(COUNT(I69:I188)=0,\"\",STDEV(I69:I188))","v":""},{"$f":"IF(COUNT(J69:J188)=0,\"\",STDEV(J69:J188))","v":""},"","","",{"$f":"IF(D69=\"\",\"\",STDEV(D69:M188))","v":""}]
[{"$f":"IF(A35=\"\",\"\",ROUND(2^(A35+0.5),3)&\" to \"&ROUND(2^(A36+0.5),3))","v":""},null,"95% Lower Bound",{"$f":"IF(COUNT(D69:D188)=0,\"\",IF(D33=0,\"\",2^((NORMINV(0.025,D34,D36)))))","v":""},"","","","",{"$f":"IF(COUNT(I69:I188)=0,\"\",IF(I33=0,\"\",2^((NORMINV(0.025,I34,I36)))))","v":""},{"$f":"IF(COUNT(J69:J188)=0,\"\",IF(J33=0,\"\",2^((NORMINV(0.025,J34,J36)))))","v":""},"","","",{"$f":"IF(N33=0,\"\",2^((NORMINV(0.025,N34,N36))))","v":""}]
["Dilution Range",null,"95% Upper Bound",{"$f":"IF(COUNT(D69:D188)=0,\"\",IF(D33=0,\"\",2^(NORMINV(0.975,D34,D36))))","v":""},"","","","",{"$f":"IF(COUNT(I69:I188)=0,\"\",IF(I33=0,\"\",2^(NORMINV(0.975,I34,I36))))","v":""},{"$f":"IF(COUNT(J69:J188)=0,\"\",IF(J33=0,\"\",2^(NORMINV(0.975,J34,J36))))","v":""},"","","",{"$f":"IF(N33=0,\"\",2^(NORMINV(0.975,N34,N36)))","v":""}]
[{"$f":"IF(A35=\"\",\"\",A36-A35+1)","v":""},null,"Lower Bound Rounded Down",{"$f":"IF(COUNT(D69:D188)=0,\"\",IF(D33=0,\"\",2^(INT((NORMINV(0.025,D34,D36))))))","v":""},"","","","",{"$f":"IF(COUNT(I69:I188)=0,\"\",IF(I33=0,\"\",2^(INT((NORMINV(0.025,I34,I36))))))","v":""},{"$f":"IF(COUNT(J69:J188)=0,\"\",IF(J33=0,\"\",2^(INT((NORMINV(0.025,J34,J36))))))","v":""},"","","",{"$f":"IF(N33=0,\"\",2^(INT((NORMINV(0.025,N34,N36)))))","v":""}]
["CLSI% Obs. captured",null,"Upper Bound Rounded Up",{"$f":"IF(COUNT(D69:D188)=0,\"\",IF(D33=0,\"\",2^(INT((NORMINV(0.975,D34,D36)))+1)))","v":""},"","","","",{"$f":"IF(COUNT(I69:I188)=0,\"\",IF(I33=0,\"\",2^(INT((NORMINV(0.975,I34,I36)))+1)))","v":""},{"$f":"IF(COUNT(J69:J188)=0,\"\",IF(J33=0,\"\",2^(INT((NORMINV(0.975,J34,J36)))+1)))","v":""},"","","",{"$f":"IF(N33=0,\"\",2^(INT((NORMINV(0.975,N34,N36)))+1))","v":""}]
[{"$f":"IF(A35=0,\"\",(COUNTIF(D69:M188,\"<\"&A36+1)-COUNTIF(D69:M188,\"<\"&A35))/N$33)","v":""},null,"Probability of <=Lower Bound",{"$f":"IF(COUNT(D69:D188)=0,\"\",NORMDIST(LOG(D39)/LOG(2),D34,D36,TRUE))","v":""},"","","","",{"$f":"IF(COUNT(I69:I188)=0,\"\",NORMDIST(LOG(I39)/LOG(2),I34,I36,TRUE))","v":""},{"$f":"IF(COUNT(J69:J188)=0,\"\",NORMDIST(LOG(J39)/LOG(2),J34,J36,TRUE))","v":""},"","","",{"$f":"IF(D69=\"\",\"\",NORMDIST(LOG(N39)/LOG(2),N34,N36,TRUE))","v":""}]
[null,null,"Probability of >Upper Bound",{"$f":"IF(COUNT(D69:D188)=0,\"\",1-NORMDIST(LOG(D40)/LOG(2),D34,D36,TRUE))","v":""},"","","","",{"$f":"IF(COUNT(I69:I188)=0,\"\",1-NORMDIST(LOG(I40)/LOG(2),I34,I36,TRUE))","v":""},{"$f":"IF(COUNT(J69:J188)=0,\"\",1-NORMDIST(LOG(J40)/LOG(2),J34,J36,TRUE))","v":""},"","","",{"$f":"IF(D69=\"\",\"\",1-NORMDIST(LOG(N40)/LOG(2),N34,N36,TRUE))","v":""}]
[null,null,"New Range",{"$f":"IF(COUNT(D69:D188)=0,\"\",1-D41-D42)","v":""},"","","","",{"$f":"IF(COUNT(I69:I188)=0,\"\",1-I41-I42)","v":""},{"$f":"IF(COUNT(J69:J188)=0,\"\",1-J41-J42)","v":""},"","","",{"$f":"IF(D69=\"\",\"\",1-N41-N42)","v":""}]
[]
[null,null,"Order Stats","Lab 1","Lab 2","Lab 3","Lab 4","Lab 5","Lab 6","Lab 7","Lab 8","Lab 9","Lab 10","All labs","Interlab"]
[null,null,"25th %ile",{"$f":"IF(COUNT(D69:D188)=0,\"\",QUARTILE(D69:D188,1))","v":""},"","","","",{"$f":"IF(COUNT(I69:I188)=0,\"\",QUARTILE(I69:I188,1))","v":""},{"$f":"IF(COUNT(J69:J188)=0,\"\",QUARTILE(J69:J188,1))","v":""},"","","",{"$f":"IF(D69=\"\",\"\",QUARTILE(D69:M188,1))","v":""},"CV"]
[null,null,"75th %ile",{"$f":"IF(COUNT(D69:D188)=0,\"\",QUARTILE(D69:D188,3))","v":""},"","","","",{"$f":"IF(COUNT(I69:I188)=0,\"\",QUARTILE(I69:I188,3))","v":""},{"$f":"IF(COUNT(J69:J188)=0,\"\",QUARTILE(J69:J188,3))","v":""},"","","",{"$f":"IF(D69=\"\",\"\",QUARTILE(D69:M188,3))","v":""},{"$f":"IF(D69=\"\",\"\",ABS(N48/N25))","v":""}]
[null,null,"Interquartile Range",{"$f":"IF(COUNT(D69:D188)=0,\"\",IF(D47-D46=0,1,D47-D46))","v":""},"","","","",{"$f":"IF(COUNT(I69:I188)=0,\"\",IF(I47-I46=0,1,I47-I46))","v":""},{"$f":"IF(COUNT(J69:J188)=0,\"\",IF(J47-J46=0,1,J47-J46))","v":""},"","","",{"$f":"IF(D69=\"\",\"\",IF(N47-N46=0,1,N47-N46))","v":""}]
[null,null,"Minimum",{"$f":"IF(COUNT(D69:D188)=0,\"\",MIN(D69:D188))","v":""},"","","","",{"$f":"IF(COUNT(I69:I188)=0,\"\",MIN(I69:I188))","v":""},{"$f":"IF(COUNT(J69:J188)=0,\"\",MIN(J69:J188))","v":""},"","","",{"$f":"IF(D69=\"\",\"\",MIN(D69:M188))","v":""}]
[null,null,"Maximum",{"$f":"IF(COUNT(D69:D188)=0,\"\",MAX(D69:D188))","v":""},"","","","",{"$f":"IF(COUNT(I69:I188)=0,\"\",MAX(I69:I188))","v":""},{"$f":"IF(COUNT(J69:J188)=0,\"\",MAX(J69:J188))","v":""},"","","",{"$f":"IF(D69=\"\",\"\",MAX(D69:M188))","v":""}]
[null,null,"Lower Inner Fence",{"$f":"IF(COUNT(D69:D188)=0,\"\",D$46-1.5*D$48)","v":""},"","","","",{"$f":"IF(COUNT(I69:I188)=0,\"\",I$46-1.5*I$48)","v":""},{"$f":"IF(COUNT(J69:J188)=0,\"\",J$46-1.5*J$48)","v":""},"","","",{"$f":"IF(D69=\"\",\"\",N$46-1.5*N$48)","v":""}]
[null,null,"Upper Inner Fence",{"$f":"IF(COUNT(D69:D188)=0,\"\",D$47+1.5*D$48)","v":""},"","","","",{"$f":"IF(COUNT(I69:I188)=0,\"\",I$47+1.5*I$48)","v":""},{"$f":"IF(COUNT(J69:J188)=0,\"\",J$47+1.5*J$48)","v":""},"","","",{"$f":"IF(D69=\"\",\"\",N$47+1.5*N$48)","v":""}]
[null,null,"Lower Outer Fence",{"$f":"IF(COUNT(D69:D188)=0,\"\",D$46-3*D$48)","v":""},"","","","",{"$f":"IF(COUNT(I69:I188)=0,\"\",I$46-3*I$48)","v":""},{"$f":"IF(COUNT(J69:J188)=0,\"\",J$46-3*J$48)","v":""},"","","",{"$f":"IF(D69=\"\",\"\",N$46-3*N$48)","v":""}]
[null,null,"Upper Outer Fence",{"$f":"IF(COUNT(D69:D188)=0,\"\",D$47+3*D$48)","v":""},"","","","",{"$f":"IF(COUNT(I69:I188)=0,\"\",I$47+3*I$48)","v":""},{"$f":"IF(COUNT(J69:J188)=0,\"\",J$47+3*J$48)","v":""},"","","",{"$f":"IF(D69=\"\",\"\",N$47+3*N$48)","v":""}]
[null,null,"Lower Near Outliers",{"$f":"IF(COUNT(D69:D188)=0,\"\",COUNTIF(D69:D188,\"<\"&D51))","v":""},"","","","",{"$f":"IF(COUNT(I69:I188)=0,\"\",COUNTIF(I69:I188,\"<\"&I51))","v":""},{"$f":"IF(COUNT(J69:J188)=0,\"\",COUNTIF(J69:J188,\"<\"&J51))","v":""},"","","",{"$f":"IF(D69=\"\",\"\",COUNTIF(D69:M188,\"<\"&N51)-N57)","v":""}]
[null,null,"Upper Near Outliers",{"$f":"IF(COUNT(D69:D188)=0,\"\",COUNTIF(D69:D188,\">\"&D52))","v":""},"","","","",{"$f":"IF(COUNT(I69:I188)=0,\"\",COUNTIF(I69:I188,\">\"&I52))","v":""},{"$f":"IF(COUNT(J69:J188)=0,\"\",COUNTIF(J69:J188,\">\"&J52))","v":""},"","","",{"$f":"IF(D69=\"\",\"\",COUNTIF(D69:M188,\">\"&N52)-N58)","v":""}]
[null,null,"Lower Extreme Outliers",{"$f":"IF(COUNT(D69:D188)=0,\"\",COUNTIF(D69:D188,\"<\"&D53))","v":""},"","","","",{"$f":"IF(COUNT(I69:I188)=0,\"\",COUNTIF(I69:I188,\"<\"&I53))","v":""},{"$f":"IF(COUNT(J69:J188)=0,\"\",COUNTIF(J69:J188,\"<\"&J53))","v":""},"","","",{"$f":"IF(D69=\"\",\"\",COUNTIF(D69:M188,\"<\"&N53))","v":""}]
[null,null,"Upper Extreme Outliers",{"$f":"IF(COUNT(D69:D188)=0,\"\",COUNTIF(D69:D188,\">\"&D54))","v":""},"","","","",{"$f":"IF(COUNT(I69:I188)=0,\"\",COUNTIF(I69:I188,\">\"&I54))","v":""},{"$f":"IF(COUNT(J69:J188)=0,\"\",COUNTIF(J69:J188,\">\"&J54))","v":""},"","","",{"$f":"IF(D69=\"\",\"\",COUNTIF(D69:M188,\">\"&N54))","v":""}]
[]
[null,null,"Chart Control Limits","Lab 1","Lab 2","Lab 3","Lab 4","Lab 5","Lab 6","Lab 7","Lab 8","Lab 9","Lab 10"]
[null,"Mean","Lower CL",{"$f":"$O$24","v":""},{"$f":"$O$24","v":""},"","","","","","","",""]
[null,null,"Upper CL",{"$f":"$P$24","v":""},{"$f":"$P$24","v":""},"","","","","","","",""]
[null,"Median","Lower CL",{"$f":"$O$25","v":""},{"$f":"$O$25","v":""},"","","","","","","",""]
[null,null,"Upper CL",{"$f":"$P$25","v":""},{"$f":"$P$25","v":""},"","","","","","","",""]
[null,"Mode","Lower CL",{"$f":"$O$26","v":""},{"$f":"$O$26","v":""},"","","","","","","",""]
[null,null,"Upper CL",{"$f":"$P$26","v":""},{"$f":"$P$26","v":""},"","","","","","","",""]
[]
[null,null,"Log2 Converted Raw Data","Lab 1","Lab 2","Lab 3","Lab 4","Lab 5","Lab 6","Lab 7","Lab 8","Lab 9","Lab 10","Control","Limits"]
[null,null,"Media Lot 1",{"$f":"IF(D191=\"\",\"\",LOOKUP(D191,$A$3:$A$22,$C$3:$C$22))","v":""},"","","","",{"$f":"IF(I191=\"\",\"\",LOOKUP(I191,$A$3:$A$22,$C$3:$C$22))","v":""},"","","","",{"$f":"IF(D69=\"\",\"\",LN($N$39)/LN(2))","v":""},{"$f":"IF(D69=\"\",\"\",LN($N$40)/LN(2)-0.5)","v":""}]
[{"$nulls":3},"","","","","","","","","",""]
[{"$nulls":3},"","","","","","","","","",""]
[{"$nulls":3},"","","","","","","","","",""]
[{"$nulls":3},{"$f":"IF(D195=\"\",\"\",LOOKUP(D195,$A$3:$A$22,$C$3:$C$22))","v":""},"","","","","","","","",""]
[{"$nulls":3},"","","","","","","","","",""]
[{"$nulls":3},"","","","","","","","","",""]
[{"$nulls":3},"","","","","","","","","",""]
[{"$nulls":3},"","","","","","","","","",""]
[{"$nulls":3},"","","","","","","","","",""]
[{"$nulls":3},{"$f":"IF(D201=\"\",\"\",LOOKUP(D201,$A$3:$A$22,$C$3:$C$22))","v":""},"","","","",{"$f":"IF(I201=\"\",\"\",LOOKUP(I201,$A$3:$A$22,$C$3:$C$22))","v":""},"","","",""]
[{"$nulls":3},"","","","","","","","","",""]
[{"$nulls":3},{"$f":"IF(D203=\"\",\"\",LOOKUP(D203,$A$3:$A$22,$C$3:$C$22))","v":""},"","","","","","","","",""]
[{"$nulls":3},"","","","","","","","","",""]
[{"$nulls":3},"","","","","","","","","",""]
[{"$nulls":3},"","","","","","","","","",""]
[{"$nulls":3},"","","","","","","","","",""]
[{"$nulls":3},"","","","","","","","","",""]
[{"$nulls":3},"","","","","","","","","",""]
[{"$nulls":3},"","","","","","","","","",""]
[{"$nulls":3},{"$f":"IF(D211=\"\",\"\",LOOKUP(D211,$A$3:$A$22,$C$3:$C$22))","v":""},"","","","",{"$f":"IF(I211=\"\",\"\",LOOKUP(I211,$A$3:$A$22,$C$3:$C$22))","v":""},"","","",""]
[{"$nulls":3},"","","","","","","","","",""]
[{"$nulls":3},"","","","","","","","","",""]
[{"$nulls":3},"","","","","","","","","",""]
[{"$nulls":3},"","","","","","","","","",""]
[{"$nulls":3},"","","","","","","","","",""]
[{"$nulls":3},"","","","","","","","","",""]
[{"$nulls":3},"","","","","","","","","",""]
[{"$nulls":3},"","","","","","","","","",""]
[{"$nulls":3},"","","","","","","","","",""]
[{"$nulls":3},"","","","","",{"$f":"IF(I221=\"\",\"\",LOOKUP(I221,$A$3:$A$22,$C$3:$C$22))","v":""},"","","",""]
[{"$nulls":3},"","","","","","","","","",""]
[{"$nulls":3},"","","","","","","","","",""]
[{"$nulls":3},"","","","","","","","","",""]
[{"$nulls":3},"","","","","","","","","",""]
[{"$nulls":3},"","","","","","","","","",""]
[{"$nulls":3},{"$f":"IF(D227=\"\",\"\",LOOKUP(D227,$A$3:$A$22,$C$3:$C$22))","v":""},"","","","","","","","",""]
[{"$nulls":3},"","","","","","","","","",""]
[{"$nulls":3},"","","","","","","","","",""]
[{"$nulls":3},"","","","","","","","","",""]
[null,null,"Media Lot 2","","","","","",{"$f":"IF(I231=\"\",\"\",LOOKUP(I231,$A$3:$A$22,$C$3:$C$22))","v":""},"","","",""]
[{"$nulls":3},"","","","","","","","","",""]
[{"$nulls":3},"","","","","","","","","",""]
[{"$nulls":3},"","","","","","","","","",""]
[{"$nulls":3},"","","","","","","","","",""]
[{"$nulls":3},"","","","","","","","","",""]
[{"$nulls":3},"","","","","","","","","",""]
[{"$nulls":3},"","","","","","","","","",""]
[{"$nulls":3},"","","","","","","","","",""]
[{"$nulls":3},"","","","","","","","","",""]
[{"$nulls":3},"","","","","",{"$f":"IF(I241=\"\",\"\",LOOKUP(I241,$A$3:$A$22,$C$3:$C$22))","v":""},"","","",""]
[{"$nulls":3},"","","","","","","","","",""]
[{"$nulls":3},{"$f":"IF(D243=\"\",\"\",LOOKUP(D243,$A$3:$A$22,$C$3:$C$22))","v":""},"","","","","","","","",""]
[{"$nulls":3},"","","","","","","","","",""]
[{"$nulls":3},"","","","","","","","","",""]
[{"$nulls":3},"","","","","","","","","",""]
[{"$nulls":3},"","","","","","","","","",""]
[{"$nulls":3},"","","","","","","","","",""]
[{"$nulls":3},"","","","","","","","","",""]
[{"$nulls":3},"","","","","","","","","",""]
[{"$nulls":3},"","","","","",{"$f":"IF(I251=\"\",\"\",LOOKUP(I251,$A$3:$A$22,$C$3:$C$22))","v":""},"","","",""]
[{"$nulls":3},"","","","","","","","","",""]
[{"$nulls":3},"","","","","","","","","",""]
[{"$nulls":3},"","","","","","","","","",""]
[{"$nulls":3},"","","","","","","","","",""]
[{"$nulls":3},"","","","","","","","","",""]
[{"$nulls":3},"","","","","","","","","",""]
[{"$nulls":3},"","","","","","","","","",""]
[{"$nulls":3},{"$f":"IF(D259=\"\",\"\",LOOKUP(D259,$A$3:$A$22,$C$3:$C$22))","v":""},"","","","","","","","",""]
[{"$nulls":3},"","","","","","","","","",""]
[{"$nulls":3},"","","","","",{"$f":"IF(I261=\"\",\"\",LOOKUP(I261,$A$3:$A$22,$C$3:$C$22))","v":""},"","","",""]
[{"$nulls":3},"","","","","","","","","",""]
[{"$nulls":3},"","","","","","","","","",""]
[{"$nulls":3},"","","","","","","","","",""]
[{"$nulls":3},"","","","","","","","","",""]
[{"$nulls":3},"","","","","","","","","",""]
[{"$nulls":3},"","","","","","","","","",""]
[{"$nulls":3},"","","","","","","","","",""]
[{"$nulls":3},"","","","","","","","","",""]
[{"$nulls":3},"","","","","","","","","",""]
[null,null,"Media Lot 3","","","","","",{"$f":"IF(I271=\"\",\"\",LOOKUP(I271,$A$3:$A$22,$C$3:$C$22))","v":""},"","","",""]
[{"$nulls":3},"","","","","","","","","",""]
[{"$nulls":3},"","","","","","","","","",""]
[{"$nulls":3},"","","","","","","","","",""]
[{"$nulls":3},{"$f":"IF(D275=\"\",\"\",LOOKUP(D275,$A$3:$A$22,$C$3:$C$22))","v":""},"","","","","","","","",""]
[{"$nulls":3},"","","","","","","","","",""]
[{"$nulls":3},"","","","","","","","","",""]
[{"$nulls":3},"","","","","","","","","",""]
[{"$nulls":3},"","","","","","","","","",""]
[{"$nulls":3},"","","","","","","","","",""]
[{"$nulls":3},"","","","","",{"$f":"IF(I281=\"\",\"\",LOOKUP(I281,$A$3:$A$22,$C$3:$C$22))","v":""},"","","",""]
[{"$nulls":3},"","","","","","","","","",""]
[{"$nulls":3},"","","","","","","","","",""]
[{"$nulls":3},"","","","","","","","","",""]
[{"$nulls":3},"","","","","","","","","",""]
[{"$nulls":3},"","","","","","","","","",""]
[{"$nulls":3},"","","","","","","","","",""]
[{"$nulls":3},"","","","","","","","","",""]
[{"$nulls":3},"","","","","","","","","",""]
[{"$nulls":3},"","","","","","","","","",""]
[{"$nulls":3},{"$f":"IF(D291=\"\",\"\",LOOKUP(D291,$A$3:$A$22,$C$3:$C$22))","v":""},"","","","",{"$f":"IF(I291=\"\",\"\",LOOKUP(I291,$A$3:$A$22,$C$3:$C$22))","v":""},"","","",""]
[{"$nulls":3},"","","","","","","","","",""]
[{"$nulls":3},"","","","","","","","","",""]
[{"$nulls":3},"","","","","","","","","",""]
[{"$nulls":3},"","","","","","","","","",""]
[{"$nulls":3},"","","","","","","","","",""]
[{"$nulls":3},"","","","","","","","","",""]
[{"$nulls":3},"","","","","","","","","",""]
[{"$nulls":3},"","","","","","","","","",""]
[{"$nulls":3},"","","","","","","","","",""]
[{"$nulls":3},"","","","","",{"$f":"IF(I301=\"\",\"\",LOOKUP(I301,$A$3:$A$22,$C$3:$C$22))","v":""},"","","",""]
[{"$nulls":3},"","","","","","","","","",""]
[{"$nulls":3},"","","","","","","","","",""]
[{"$nulls":3},"","","","","","","","","",""]
[{"$nulls":3},"","","","","","","","","",""]
[{"$nulls":3},"","","","","","","","","",""]
[{"$nulls":3},{"$f":"IF(D307=\"\",\"\",LOOKUP(D307,$A$3:$A$22,$C$3:$C$22))","v":""},"","","","","","","","",""]
[{"$nulls":3},"","","","","","","","","",""]
[{"$nulls":3},"","","","","","","","","",""]
[{"$nulls":3},"","","","","","","","","",""]
[]
[null,null,"Raw Data Entry","Lab 1","Lab 2","Lab 3","Lab 4","Lab 5","Lab 6","Lab 7","Lab 8","Lab 9","Lab 10"]
[null,null,"Media Lot 1"]
{"$rows_empty":39}
[null,null,"Media Lot 2"]
{"$rows_empty":39}
[null,null,"Media Lot 3"]

{"sheet":"Strain 6 control","index":15,"n_rows":271,"n_cols":16,"rows_kept":271,"merged":[[0,4,0,6]]}
[{"$f":"'Range Summary'!G2","v":"QC6"},{"$f":"'Range Summary'!B17","v":"Control"},"Control",null,"Go to Raw Data Entry area"]
["MIC","Midpoint MIC","Mid Log2MIC","Lab 1","Lab 2","Lab 3","Lab 4","Lab 5","Lab 6","Lab 7","Lab 8","Lab 9","Lab 10","All labs","Norm"]
[{"v":1E-3,"d":"0.001"},{"$f":"2^C3","v":{"v":6.9053396600248776E-4,"d":"0.000691"}},-10.5,{"$f":"IF(COUNTIF(D69:D188,-10.5)=0,\"\",COUNTIF(D69:D188,-10.5))","v":""},{"$f":"IF(COUNTIF(E69:E188,-10.5)=0,\"\",COUNTIF(E69:E188,-10.5))","v":""},{"$f":"IF(COUNTIF(F69:F188,-10.5)=0,\"\",COUNTIF(F69:F188,-10.5))","v":""},"","",{"$f":"IF(COUNTIF(I69:I188,-10.5)=0,\"\",COUNTIF(I69:I188,-10.5))","v":""},{"$f":"IF(COUNTIF(J69:J188,-10.5)=0,\"\",COUNTIF(J69:J188,-10.5))","v":""},"","","",{"$f":"SUM(D3:M3)","v":0},{"$f":"IF(D69=\"\",0,ROUND(N$33*NORMDIST(C3+0.5,N$34,N$36,TRUE),0))","v":0}]
[{"v":2E-3,"d":"0.002"},{"v":1.3810679320049757E-3,"d":"0.001381"},-9.5,{"$f":"IF(COUNTIF(D69:D188,-9.5)=0,\"\",COUNTIF(D69:D188,-9.5))","v":""},{"$f":"IF(COUNTIF(E69:E188,-9.5)=0,\"\",COUNTIF(E69:E188,-9.5))","v":""},{"$f":"IF(COUNTIF(F69:F188,-9.5)=0,\"\",COUNTIF(F69:F188,-9.5))","v":""},"","",{"$f":"IF(COUNTIF(I69:I188,-9.5)=0,\"\",COUNTIF(I69:I188,-9.5))","v":""},{"$f":"IF(COUNTIF(J69:J188,-9.5)=0,\"\",COUNTIF(J69:J188,-9.5))","v":""},"","","",0,{"$f":"IF(D69=\"\",0,ROUND(N$33*NORMDIST(C4+0.5,N$34,N$36,TRUE),0)-SUM(O2:O$3))","v":0}]
[0.004,{"v":2.7621358640099515E-3,"d":"0.002762"},-8.5,{"$f":"IF(COUNTIF(D69:D188,-8.5)=0,\"\",COUNTIF(D69:D188,-8.5))","v":""},{"$f":"IF(COUNTIF(E69:E188,-8.5)=0,\"\",COUNTIF(E69:E188,-8.5))","v":""},{"$f":"IF(COUNTIF(F69:F188,-8.5)=0,\"\",COUNTIF(F69:F188,-8.5))","v":""},"","",{"$f":"IF(COUNTIF(I69:I188,-8.5)=0,\"\",COUNTIF(I69:I188,-8.5))","v":""},{"$f":"IF(COUNTIF(J69:J188,-8.5)=0,\"\",COUNTIF(J69:J188,-8.5))","v":""},"","","",0,{"$f":"IF(D69=\"\",0,ROUND(N$33*NORMDIST(C5+0.5,N$34,N$36,TRUE),0)-SUM(O$3:O3))","v":0}]
[0.008,{"v":0.005524271728019904,"d":"0.005524"},-7.5,{"$f":"IF(COUNTIF(D69:D188,-7.5)=0,\"\",COUNTIF(D69:D188,-7.5))","v":""},{"$f":"IF(COUNTIF(E69:E188,-7.5)=0,\"\",COUNTIF(E69:E188,-7.5))","v":""},{"$f":"IF(COUNTIF(F69:F188,-7.5)=0,\"\",COUNTIF(F69:F188,-7.5))","v":""},"","",{"$f":"IF(COUNTIF(I69:I188,-7.5)=0,\"\",COUNTIF(I69:I188,-7.5))","v":""},{"$f":"IF(COUNTIF(J69:J188,-7.5)=0,\"\",COUNTIF(J69:J188,-7.5))","v":""},"","","",{"$f":"SUM(D6:M6)","v":0},{"$f":"IF(D69=\"\",0,ROUND(N$33*NORMDIST(C6+0.5,N$34,N$36,TRUE),0)-SUM(O$3:O5))","v":0}]
[0.016,{"v":0.011048543456039808,"d":"0.011049"},-6.5,{"$f":"IF(COUNTIF(D69:D188,-6.5)=0,\"\",COUNTIF(D69:D188,-6.5))","v":""},{"$f":"IF(COUNTIF(E69:E188,-6.5)=0,\"\",COUNTIF(E69:E188,-6.5))","v":""},{"$f":"IF(COUNTIF(F69:F188,-6.5)=0,\"\",COUNTIF(F69:F188,-6.5))","v":""},"","",{"$f":"IF(COUNTIF(I69:I188,-6.5)=0,\"\",COUNTIF(I69:I188,-6.5))","v":""},{"$f":"IF(COUNTIF(J69:J188,-6.5)=0,\"\",COUNTIF(J69:J188,-6.5))","v":""},"","","",0,{"$f":"IF(D69=\"\",0,ROUND(N$33*NORMDIST(C7+0.5,N$34,N$36,TRUE),0)-SUM(O$3:O6))","v":0}]
[0.03,{"v":0.022097086912079608,"d":"0.022097"},-5.5,{"$f":"IF(COUNTIF(D69:D188,-5.5)=0,\"\",COUNTIF(D69:D188,-5.5))","v":""},{"$f":"IF(COUNTIF(E69:E188,-5.5)=0,\"\",COUNTIF(E69:E188,-5.5))","v":""},{"$f":"IF(COUNTIF(F69:F188,-5.5)=0,\"\",COUNTIF(F69:F188,-5.5))","v":""},"","",{"$f":"IF(COUNTIF(I69:I188,-5.5)=0,\"\",COUNTIF(I69:I188,-5.5))","v":""},{"$f":"IF(COUNTIF(J69:J188,-5.5)=0,\"\",COUNTIF(J69:J188,-5.5))","v":""},"","","",0,{"$f":"IF(D69=\"\",0,ROUND(N$33*NORMDIST(C8+0.5,N$34,N$36,TRUE),0)-SUM(O$3:O7))","v":0}]
[0.06,{"v":0.04419417382415922,"d":"0.044194"},-4.5,{"$f":"IF(COUNTIF(D69:D188,-4.5)=0,\"\",COUNTIF(D69:D188,-4.5))","v":""},{"$f":"IF(COUNTIF(E69:E188,-4.5)=0,\"\",COUNTIF(E69:E188,-4.5))","v":""},{"$f":"IF(COUNTIF(F69:F188,-4.5)=0,\"\",COUNTIF(F69:F188,-4.5))","v":""},"","",{"$f":"IF(COUNTIF(I69:I188,-4.5)=0,\"\",COUNTIF(I69:I188,-4.5))","v":""},{"$f":"IF(COUNTIF(J69:J188,-4.5)=0,\"\",COUNTIF(J69:J188,-4.5))","v":""},"","","",0,{"$f":"IF(D69=\"\",0,ROUND(N$33*NORMDIST(C9+0.5,N$34,N$36,TRUE),0)-SUM(O$3:O8))","v":0}]
[0.13,{"v":0.08838834764831845,"d":"0.088388"},-3.5,{"$f":"IF(COUNTIF(D69:D188,-3.5)=0,\"\",COUNTIF(D69:D188,-3.5))","v":""},{"$f":"IF(COUNTIF(E69:E188,-3.5)=0,\"\",COUNTIF(E69:E188,-3.5))","v":""},{"$f":"IF(COUNTIF(F69:F188,-3.5)=0,\"\",COUNTIF(F69:F188,-3.5))","v":""},"","",{"$f":"IF(COUNTIF(I69:I188,-3.5)=0,\"\",COUNTIF(I69:I188,-3.5))","v":""},{"$f":"IF(COUNTIF(J69:J188,-3.5)=0,\"\",COUNTIF(J69:J188,-3.5))","v":""},"","","",0,{"$f":"IF(D69=\"\",0,ROUND(N$33*NORMDIST(C10+0.5,N$34,N$36,TRUE),0)-SUM(O$3:O9))","v":0}]
[0.25,{"v":0.17677669529663687,"d":"0.176777"},-2.5,{"$f":"IF(COUNTIF(D69:D188,-2.5)=0,\"\",COUNTIF(D69:D188,-2.5))","v":""},{"$f":"IF(COUNTIF(E69:E188,-2.5)=0,\"\",COUNTIF(E69:E188,-2.5))","v":""},{"$f":"IF(COUNTIF(F69:F188,-2.5)=0,\"\",COUNTIF(F69:F188,-2.5))","v":""},"","",{"$f":"IF(COUNTIF(I69:I188,-2.5)=0,\"\",COUNTIF(I69:I188,-2.5))","v":""},{"$f":"IF(COUNTIF(J69:J188,-2.5)=0,\"\",COUNTIF(J69:J188,-2.5))","v":""},"","","",0,{"$f":"IF(D69=\"\",0,ROUND(N$33*NORMDIST(C11+0.5,N$34,N$36,TRUE),0)-SUM(O$3:O10))","v":0}]
[0.5,{"v":0.3535533905932738,"d":"0.353553"},-1.5,{"$f":"IF(COUNTIF(D69:D188,-1.5)=0,\"\",COUNTIF(D69:D188,-1.5))","v":""},{"$f":"IF(COUNTIF(E69:E188,-1.5)=0,\"\",COUNTIF(E69:E188,-1.5))","v":""},{"$f":"IF(COUNTIF(F69:F188,-1.5)=0,\"\",COUNTIF(F69:F188,-1.5))","v":""},"","",{"$f":"IF(COUNTIF(I69:I188,-1.5)=0,\"\",COUNTIF(I69:I188,-1.5))","v":""},{"$f":"IF(COUNTIF(J69:J188,-1.5)=0,\"\",COUNTIF(J69:J188,-1.5))","v":""},"","","",0,{"$f":"IF(D69=\"\",0,ROUND(N$33*NORMDIST(C12+0.5,N$34,N$36,TRUE),0)-SUM(O$3:O11))","v":0}]
[1,{"v":0.7071067811865475,"d":"0.707107"},-0.5,{"$f":"IF(COUNTIF(D69:D188,-0.5)=0,\"\",COUNTIF(D69:D188,-0.5))","v":""},{"$f":"IF(COUNTIF(E69:E188,-0.5)=0,\"\",COUNTIF(E69:E188,-0.5))","v":""},{"$f":"IF(COUNTIF(F69:F188,-0.5)=0,\"\",COUNTIF(F69:F188,-0.5))","v":""},"","",{"$f":"IF(COUNTIF(I69:I188,-0.5)=0,\"\",COUNTIF(I69:I188,-0.5))","v":""},{"$f":"IF(COUNTIF(J69:J188,-0.5)=0,\"\",COUNTIF(J69:J188,-0.5))","v":""},"","","",0,{"$f":"IF(D69=\"\",0,ROUND(N$33*NORMDIST(C13+0.5,N$34,N$36,TRUE),0)-SUM(O$3:O12))","v":0}]
[2,{"v":1.4142135623730951,"d":"1.414214"},0.5,{"$f":"IF(COUNTIF(D69:D188,0.5)=0,\"\",COUNTIF(D69:D188,0.5))","v":""},{"$f":"IF(COUNTIF(E69:E188,0.5)=0,\"\",COUNTIF(E69:E188,0.5))","v":""},{"$f":"IF(COUNTIF(F69:F188,0.5)=0,\"\",COUNTIF(F69:F188,0.5))","v":""},"","",{"$f":"IF(COUNTIF(I69:I188,0.5)=0,\"\",COUNTIF(I69:I188,0.5))","v":""},{"$f":"IF(COUNTIF(J69:J188,0.5)=0,\"\",COUNTIF(J69:J188,0.5))","v":""},"","","",0,{"$f":"IF(D69=\"\",0,ROUND(N$33*NORMDIST(C14+0.5,N$34,N$36,TRUE),0)-SUM(O$3:O13))","v":0}]
[4,{"v":2.82842712474619,"d":"2.828427"},1.5,{"$f":"IF(COUNTIF(D69:D188,1.5)=0,\"\",COUNTIF(D69:D188,1.5))","v":""},{"$f":"IF(COUNTIF(E69:E188,1.5)=0,\"\",COUNTIF(E69:E188,1.5))","v":""},{"$f":"IF(COUNTIF(F69:F188,1.5)=0,\"\",COUNTIF(F69:F188,1.5))","v":""},"","",{"$f":"IF(COUNTIF(I69:I188,1.5)=0,\"\",COUNTIF(I69:I188,1.5))","v":""},{"$f":"IF(COUNTIF(J69:J188,1.5)=0,\"\",COUNTIF(J69:J188,1.5))","v":""},"","","",0,{"$f":"IF(D69=\"\",0,ROUND(N$33*NORMDIST(C15+0.5,N$34,N$36,TRUE),0)-SUM(O$3:O14))","v":0}]
[8,{"v":5.656854249492381,"d":"5.656854"},2.5,{"$f":"IF(COUNTIF(D69:D188,2.5)=0,\"\",COUNTIF(D69:D188,2.5))","v":""},{"$f":"IF(COUNTIF(E69:E188,2.5)=0,\"\",COUNTIF(E69:E188,2.5))","v":""},{"$f":"IF(COUNTIF(F69:F188,2.5)=0,\"\",COUNTIF(F69:F188,2.5))","v":""},"","",{"$f":"IF(COUNTIF(I69:I188,2.5)=0,\"\",COUNTIF(I69:I188,2.5))","v":""},{"$f":"IF(COUNTIF(J69:J188,2.5)=0,\"\",COUNTIF(J69:J188,2.5))","v":""},"","","",0,{"$f":"IF(D69=\"\",0,ROUND(N$33*NORMDIST(C16+0.5,N$34,N$36,TRUE),0)-SUM(O$3:O15))","v":0}]
[16,{"v":11.31370849898476,"d":"11.313708"},3.5,{"$f":"IF(COUNTIF(D69:D188,3.5)=0,\"\",COUNTIF(D69:D188,3.5))","v":""},{"$f":"IF(COUNTIF(E69:E188,3.5)=0,\"\",COUNTIF(E69:E188,3.5))","v":""},{"$f":"IF(COUNTIF(F69:F188,3.5)=0,\"\",COUNTIF(F69:F188,3.5))","v":""},"","",{"$f":"IF(COUNTIF(I69:I188,3.5)=0,\"\",COUNTIF(I69:I188,3.5))","v":""},{"$f":"IF(COUNTIF(J69:J188,3.5)=0,\"\",COUNTIF(J69:J188,3.5))","v":""},"","","",0,{"$f":"IF(D69=\"\",0,ROUND(N$33*NORMDIST(C17+0.5,N$34,N$36,TRUE),0)-SUM(O$3:O16))","v":0}]
[32,{"v":22.62741699796952,"d":"22.627417"},4.5,{"$f":"IF(COUNTIF(D69:D188,4.5)=0,\"\",COUNTIF(D69:D188,4.5))","v":""},{"$f":"IF(COUNTIF(E69:E188,4.5)=0,\"\",COUNTIF(E69:E188,4.5))","v":""},{"$f":"IF(COUNTIF(F69:F188,4.5)=0,\"\",COUNTIF(F69:F188,4.5))","v":""},"","",{"$f":"IF(COUNTIF(I69:I188,4.5)=0,\"\",COUNTIF(I69:I188,4.5))","v":""},{"$f":"IF(COUNTIF(J69:J188,4.5)=0,\"\",COUNTIF(J69:J188,4.5))","v":""},"","","",0,{"$f":"IF(D69=\"\",0,ROUND(N$33*NORMDIST(C18+0.5,N$34,N$36,TRUE),0)-SUM(O$3:O17))","v":0}]
[64,{"v":45.254833995939045,"d":"45.254834"},5.5,{"$f":"IF(COUNTIF(D69:D188,5.5)=0,\"\",COUNTIF(D69:D188,5.5))","v":""},{"$f":"IF(COUNTIF(E69:E188,5.5)=0,\"\",COUNTIF(E69:E188,5.5))","v":""},{"$f":"IF(COUNTIF(F69:F188,5.5)=0,\"\",COUNTIF(F69:F188,5.5))","v":""},"","",{"$f":"IF(COUNTIF(I69:I188,5.5)=0,\"\",COUNTIF(I69:I188,5.5))","v":""},{"$f":"IF(COUNTIF(J69:J188,5.5)=0,\"\",COUNTIF(J69:J188,5.5))","v":""},"","","",0,{"$f":"IF(D69=\"\",0,ROUND(N$33*NORMDIST(C19+0.5,N$34,N$36,TRUE),0)-SUM(O$3:O18))","v":0}]
[128,{"v":90.50966799187806,"d":"90.509668"},6.5,{"$f":"IF(COUNTIF(D69:D188,6.5)=0,\"\",COUNTIF(D69:D188,6.5))","v":""},{"$f":"IF(COUNTIF(E69:E188,6.5)=0,\"\",COUNTIF(E69:E188,6.5))","v":""},{"$f":"IF(COUNTIF(F69:F188,6.5)=0,\"\",COUNTIF(F69:F188,6.5))","v":""},"","",{"$f":"IF(COUNTIF(I69:I188,6.5)=0,\"\",COUNTIF(I69:I188,6.5))","v":""},{"$f":"IF(COUNTIF(J69:J188,6.5)=0,\"\",COUNTIF(J69:J188,6.5))","v":""},"","","",0,{"$f":"IF(D69=\"\",0,ROUND(N$33*NORMDIST(C20+0.5,N$34,N$36,TRUE),0)-SUM(O$3:O19))","v":0}]
[256,{"v":181.01933598375612,"d":"181.019336"},7.5,{"$f":"IF(COUNTIF(D69:D188,7.5)=0,\"\",COUNTIF(D69:D188,7.5))","v":""},{"$f":"IF(COUNTIF(E69:E188,7.5)=0,\"\",COUNTIF(E69:E188,7.5))","v":""},{"$f":"IF(COUNTIF(F69:F188,7.5)=0,\"\",COUNTIF(F69:F188,7.5))","v":""},"","",{"$f":"IF(COUNTIF(I69:I188,7.5)=0,\"\",COUNTIF(I69:I188,7.5))","v":""},{"$f":"IF(COUNTIF(J69:J188,7.5)=0,\"\",COUNTIF(J69:J188,7.5))","v":""},"","","",0,{"$f":"IF(D69=\"\",0,ROUND(N$33*NORMDIST(C21+0.5,N$34,N$36,TRUE),0)-SUM(O$3:O20))","v":0}]
[512,{"v":362.0386719675123,"d":"362.038672"},8.5,{"$f":"IF(COUNTIF(D69:D188,8.5)=0,\"\",COUNTIF(D69:D188,8.5))","v":""},{"$f":"IF(COUNTIF(E69:E188,8.5)=0,\"\",COUNTIF(E69:E188,8.5))","v":""},{"$f":"IF(COUNTIF(F69:F188,8.5)=0,\"\",COUNTIF(F69:F188,8.5))","v":""},"","",{"$f":"IF(COUNTIF(I69:I188,8.5)=0,\"\",COUNTIF(I69:I188,8.5))","v":""},{"$f":"IF(COUNTIF(J69:J188,8.5)=0,\"\",COUNTIF(J69:J188,8.5))","v":""},"","","",0,{"$f":"IF(D69=\"\",0,ROUND(N$33*NORMDIST(C22+0.5,N$34,N$36,TRUE),0)-SUM(O$3:O21))","v":0}]
[null,null,"Central Tendancy Stats","Lab 1","Lab 2","Lab 3","Lab 4","Lab 5","Lab 6","Lab 7","Lab 8","Lab 9","Lab 10","All labs","Control","Limits"]
[null,null,"Mean",{"$f":"IF(COUNT(D69:D188)=0,\"\",AVERAGE(D69:D188))","v":""},"","","","",{"$f":"IF(COUNT(I69:I188)=0,\"\",AVERAGE(I69:I188))","v":""},{"$f":"IF(COUNT(J69:J188)=0,\"\",AVERAGE(J69:J188))","v":""},"","","",{"$f":"IF(D69=\"\",\"\",AVERAGE(D69:M188))","v":""},{"$f":"IF(D69=\"\",\"\",ROUND(NORMINV(0.05,N34,N36),3))","v":""},{"$f":"IF(D69=\"\",\"\",ROUND(NORMINV(0.95,N34,N36),3))","v":""}]
["Calculated QC Range",null,"Median",{"$f":"IF(COUNT(D69:D188)=0,\"\",MEDIAN(D69:D188))","v":""},"","","","",{"$f":"IF(COUNT(I69:I188)=0,\"\",MEDIAN(I69:I188))","v":""},{"$f":"IF(COUNT(J69:J188)=0,\"\",MEDIAN(J69:J188))","v":""},"","","",{"$f":"IF(D69=\"\",\"\",MEDIAN(D69:M188))","v":""},{"$f":"IF(D69=\"\",\"\",ROUND(N51,3))","v":""},{"$f":"IF(D69=\"\",\"\",ROUND(N52,3))","v":""}]
[{"$f":"IF(N33=0,\"\",ROUND(2*N39,3)&\" to \"&ROUND(N40,3))","v":""},null,"Mode",{"$f":"IF(COUNT(D69:D188)=0,\"\",MODE(D69:D188))","v":""},"","","","",{"$f":"IF(COUNT(I69:I188)=0,\"\",MODE(I69:I188))","v":""},{"$f":"IF(COUNT(J69:J188)=0,\"\",MODE(J69:J188))","v":""},"","","",{"$f":"IF(D69=\"\",\"\",MODE(D69:M188))","v":""},{"$f":"IF(D69=\"\",\"\",N26-1)","v":""},{"$f":"IF(D69=\"\",\"\",N26+1)","v":""}]
["Dilution Range",null,null,"(Converted back to MIC)",{"$nulls":10},"Control","Limits"]
[{"$f":"IF(N33=0,\"\",LN(N40/N39)/LN(2))","v":""},null,"Mean",{"$f":"IF(COUNT(D69:D188)=0,\"\",2^(AVERAGE(D69:D188)+0.5))","v":""},"","","","",{"$f":"IF(COUNT(I69:I188)=0,\"\",2^(AVERAGE(I69:I188)+0.5))","v":""},{"$f":"IF(COUNT(J69:J188)=0,\"\",2^(AVERAGE(J69:J188)+0.5))","v":""},"","","",{"$f":"IF(D69=\"\",\"\",2^(AVERAGE(D69:M188)+0.5))","v":""},{"$f":"IF(D69=\"\",\"\",2^O24)","v":""},{"$f":"IF(D69=\"\",\"\",2^P24)","v":""}]
["% Obs. Captured",null,"Median",{"$f":"IF(COUNT(D69:D188)=0,\"\",2^(MEDIAN(D69:D188)+0.5))","v":""},"","","","",{"$f":"IF(COUNT(I69:I188)=0,\"\",2^(MEDIAN(I69:I188)+0.5))","v":""},{"$f":"IF(COUNT(J69:J188)=0,\"\",2^(MEDIAN(J69:J188)+0.5))","v":""},"","","",{"$f":"IF(D69=\"\",\"\",2^(MEDIAN(D69:M188)+0.5))","v":""},{"$f":"IF(D69=\"\",\"\",2^O25)","v":""},{"$f":"IF(D69=\"\",\"\",2^P25)","v":""}]
[{"$f":"IF(N33=0,\"\",((COUNTIF(D69:M188,\"<\"&LN(N40)/LN(2))-COUNTIF(D69:M188,\"<\"&LN(N39)/LN(2)))/N$33))","v":""},null,"Mode",{"$f":"IF(COUNT(D69:D188)=0,\"\",2^(MODE(D69:D188)+0.5))","v":""},"","","","",{"$f":"IF(COUNT(I69:I188)=0,\"\",2^(MODE(I69:I188)+0.5))","v":""},{"$f":"IF(COUNT(J69:J188)=0,\"\",2^(MODE(J69:J188)+0.5))","v":""},"","","",{"$f":"IF(D69=\"\",\"\",2^(MODE(D69:M188)+0.5))","v":""},{"$f":"IF(D69=\"\",\"\",2^O26)","v":""},{"$f":"IF(D69=\"\",\"\",2^P26)","v":""}]
["Prob'ty Outside Range"]
[{"$f":"IF(N33=0,\"\",N41+N42)","v":""},null,"Conventional Stats","Lab 1","Lab 2","Lab 3","Lab 4","Lab 5","Lab 6","Lab 7","Lab 8","Lab 9","Lab 10","All labs","Interlab"]
[null,null,"N",{"$f":"IF(COUNT(D69:D188)=0,\"\",COUNT(D69:D188))","v":""},"","","","",{"$f":"IF(COUNT(I69:I188)=0,\"\",COUNT(I69:I188))","v":""},{"$f":"IF(COUNT(J69:J188)=0,\"\",COUNT(J69:J188))","v":""},"","","",{"$f":"COUNT(D69:M188)","v":0},"CV"]
["CLSI QC Range",null,"GeoMean MIC (log2)",{"$f":"IF(COUNT(D69:D188)=0,\"\",AVERAGE(D69:D188))","v":""},"","","","",{"$f":"IF(COUNT(I69:I188)=0,\"\",AVERAGE(I69:I188))","v":""},{"$f":"IF(COUNT(J69:J188)=0,\"\",AVERAGE(J69:J188))","v":""},"","","",{"$f":"IF(D69=\"\",\"\",AVERAGE(D69:M188))","v":""},{"$f":"IF(D69=\"\",\"\",ABS(STDEVA(D34:M34)/N34))","v":""}]
[null,null,"GeoMean MIC",{"$f":"IF(COUNT(D69:D188)=0,\"\",2^D34)","v":""},"","","","",{"$f":"IF(COUNT(I69:I188)=0,\"\",2^I34)","v":""},{"$f":"IF(COUNT(J69:J188)=0,\"\",2^J34)","v":""},"","","",{"$f":"IF(D69=\"\",\"\",2^N34)","v":""}]
[null,null,"GeoSD (log2)",{"$f":"IF(COUNT(D69:D188)=0,\"\",STDEV(D69:D188))","v":""},"","","","",{"$f":"IF(COUNT(I69:I188)=0,\"\",STDEV(I69:I188))","v":""},{"$f":"IF(COUNT(J69:J188)=0,\"\",STDEV(J69:J188))","v":""},"","","",{"$f":"IF(D69=\"\",\"\",STDEV(D69:M188))","v":""}]
[{"$f":"IF(A35=\"\",\"\",ROUND(2^(A35+0.5),3)&\" to \"&ROUND(2^(A36+0.5),3))","v":""},null,"95% Lower Bound",{"$f":"IF(COUNT(D69:D188)=0,\"\",IF(D33=0,\"\",2^((NORMINV(0.025,D34,D36)))))","v":""},"","","","",{"$f":"IF(COUNT(I69:I188)=0,\"\",IF(I33=0,\"\",2^((NORMINV(0.025,I34,I36)))))","v":""},{"$f":"IF(COUNT(J69:J188)=0,\"\",IF(J33=0,\"\",2^((NORMINV(0.025,J34,J36)))))","v":""},"","","",{"$f":"IF(N33=0,\"\",2^((NORMINV(0.025,N34,N36))))","v":""}]
["Dilution Range",null,"95% Upper Bound",{"$f":"IF(COUNT(D69:D188)=0,\"\",IF(D33=0,\"\",2^(NORMINV(0.975,D34,D36))))","v":""},"","","","",{"$f":"IF(COUNT(I69:I188)=0,\"\",IF(I33=0,\"\",2^(NORMINV(0.975,I34,I36))))","v":""},{"$f":"IF(COUNT(J69:J188)=0,\"\",IF(J33=0,\"\",2^(NORMINV(0.975,J34,J36))))","v":""},"","","",{"$f":"IF(N33=0,\"\",2^(NORMINV(0.975,N34,N36)))","v":""}]
[{"$f":"IF(A35=\"\",\"\",A36-A35+1)","v":""},null,"Lower Bound Rounded Down",{"$f":"IF(COUNT(D69:D188)=0,\"\",IF(D33=0,\"\",2^(INT((NORMINV(0.025,D34,D36))))))","v":""},"","","","",{"$f":"IF(COUNT(I69:I188)=0,\"\",IF(I33=0,\"\",2^(INT((NORMINV(0.025,I34,I36))))))","v":""},{"$f":"IF(COUNT(J69:J188)=0,\"\",IF(J33=0,\"\",2^(INT((NORMINV(0.025,J34,J36))))))","v":""},"","","",{"$f":"IF(N33=0,\"\",2^(INT((NORMINV(0.025,N34,N36)))))","v":""}]
["CLSI% Obs. captured",null,"Upper Bound Rounded Up",{"$f":"IF(COUNT(D69:D188)=0,\"\",IF(D33=0,\"\",2^(INT((NORMINV(0.975,D34,D36)))+1)))","v":""},"","","","",{"$f":"IF(COUNT(I69:I188)=0,\"\",IF(I33=0,\"\",2^(INT((NORMINV(0.975,I34,I36)))+1)))","v":""},{"$f":"IF(COUNT(J69:J188)=0,\"\",IF(J33=0,\"\",2^(INT((NORMINV(0.975,J34,J36)))+1)))","v":""},"","","",{"$f":"IF(N33=0,\"\",2^(INT((NORMINV(0.975,N34,N36)))+1))","v":""}]
[{"$f":"IF(A35=0,\"\",(COUNTIF(D69:M188,\"<\"&A36+1)-COUNTIF(D69:M188,\"<\"&A35))/N$33)","v":""},null,"Probability of <=Lower Bound",{"$f":"IF(COUNT(D69:D188)=0,\"\",NORMDIST(LOG(D39)/LOG(2),D34,D36,TRUE))","v":""},"","","","",{"$f":"IF(COUNT(I69:I188)=0,\"\",NORMDIST(LOG(I39)/LOG(2),I34,I36,TRUE))","v":""},{"$f":"IF(COUNT(J69:J188)=0,\"\",NORMDIST(LOG(J39)/LOG(2),J34,J36,TRUE))","v":""},"","","",{"$f":"IF(D69=\"\",\"\",NORMDIST(LOG(N39)/LOG(2),N34,N36,TRUE))","v":""}]
[null,null,"Probability of >Upper Bound",{"$f":"IF(COUNT(D69:D188)=0,\"\",1-NORMDIST(LOG(D40)/LOG(2),D34,D36,TRUE))","v":""},"","","","",{"$f":"IF(COUNT(I69:I188)=0,\"\",1-NORMDIST(LOG(I40)/LOG(2),I34,I36,TRUE))","v":""},{"$f":"IF(COUNT(J69:J188)=0,\"\",1-NORMDIST(LOG(J40)/LOG(2),J34,J36,TRUE))","v":""},"","","",{"$f":"IF(D69=\"\",\"\",1-NORMDIST(LOG(N40)/LOG(2),N34,N36,TRUE))","v":""}]
[null,null,"New Range",{"$f":"IF(COUNT(D69:D188)=0,\"\",1-D41-D42)","v":""},"","","","",{"$f":"IF(COUNT(I69:I188)=0,\"\",1-I41-I42)","v":""},{"$f":"IF(COUNT(J69:J188)=0,\"\",1-J41-J42)","v":""},"","","",{"$f":"IF(D69=\"\",\"\",1-N41-N42)","v":""}]
[]
[null,null,"Order Stats","Lab 1","Lab 2","Lab 3","Lab 4","Lab 5","Lab 6","Lab 7","Lab 8","Lab 9","Lab 10","All labs","Interlab"]
[null,null,"25th %ile",{"$f":"IF(COUNT(D69:D188)=0,\"\",QUARTILE(D69:D188,1))","v":""},"","","","",{"$f":"IF(COUNT(I69:I188)=0,\"\",QUARTILE(I69:I188,1))","v":""},{"$f":"IF(COUNT(J69:J188)=0,\"\",QUARTILE(J69:J188,1))","v":""},"","","",{"$f":"IF(D69=\"\",\"\",QUARTILE(D69:M188,1))","v":""},"CV"]
[null,null,"75th %ile",{"$f":"IF(COUNT(D69:D188)=0,\"\",QUARTILE(D69:D188,3))","v":""},"","","","",{"$f":"IF(COUNT(I69:I188)=0,\"\",QUARTILE(I69:I188,3))","v":""},{"$f":"IF(COUNT(J69:J188)=0,\"\",QUARTILE(J69:J188,3))","v":""},"","","",{"$f":"IF(D69=\"\",\"\",QUARTILE(D69:M188,3))","v":""},{"$f":"IF(D69=\"\",\"\",ABS(N48/N25))","v":""}]
[null,null,"Interquartile Range",{"$f":"IF(COUNT(D69:D188)=0,\"\",IF(D47-D46=0,1,D47-D46))","v":""},"","","","",{"$f":"IF(COUNT(I69:I188)=0,\"\",IF(I47-I46=0,1,I47-I46))","v":""},{"$f":"IF(COUNT(J69:J188)=0,\"\",IF(J47-J46=0,1,J47-J46))","v":""},"","","",{"$f":"IF(D69=\"\",\"\",IF(N47-N46=0,1,N47-N46))","v":""}]
[null,null,"Minimum",{"$f":"IF(COUNT(D69:D188)=0,\"\",MIN(D69:D188))","v":""},"","","","",{"$f":"IF(COUNT(I69:I188)=0,\"\",MIN(I69:I188))","v":""},{"$f":"IF(COUNT(J69:J188)=0,\"\",MIN(J69:J188))","v":""},"","","",{"$f":"IF(D69=\"\",\"\",MIN(D69:M188))","v":""}]
[null,null,"Maximum",{"$f":"IF(COUNT(D69:D188)=0,\"\",MAX(D69:D188))","v":""},"","","","",{"$f":"IF(COUNT(I69:I188)=0,\"\",MAX(I69:I188))","v":""},{"$f":"IF(COUNT(J69:J188)=0,\"\",MAX(J69:J188))","v":""},"","","",{"$f":"IF(D69=\"\",\"\",MAX(D69:M188))","v":""}]
[null,null,"Lower Inner Fence",{"$f":"IF(COUNT(D69:D188)=0,\"\",D$46-1.5*D$48)","v":""},"","","","",{"$f":"IF(COUNT(I69:I188)=0,\"\",I$46-1.5*I$48)","v":""},{"$f":"IF(COUNT(J69:J188)=0,\"\",J$46-1.5*J$48)","v":""},"","","",{"$f":"IF(D69=\"\",\"\",N$46-1.5*N$48)","v":""}]
[null,null,"Upper Inner Fence",{"$f":"IF(COUNT(D69:D188)=0,\"\",D$47+1.5*D$48)","v":""},"","","","",{"$f":"IF(COUNT(I69:I188)=0,\"\",I$47+1.5*I$48)","v":""},{"$f":"IF(COUNT(J69:J188)=0,\"\",J$47+1.5*J$48)","v":""},"","","",{"$f":"IF(D69=\"\",\"\",N$47+1.5*N$48)","v":""}]
[null,null,"Lower Outer Fence",{"$f":"IF(COUNT(D69:D188)=0,\"\",D$46-3*D$48)","v":""},"","","","",{"$f":"IF(COUNT(I69:I188)=0,\"\",I$46-3*I$48)","v":""},{"$f":"IF(COUNT(J69:J188)=0,\"\",J$46-3*J$48)","v":""},"","","",{"$f":"IF(D69=\"\",\"\",N$46-3*N$48)","v":""}]
[null,null,"Upper Outer Fence",{"$f":"IF(COUNT(D69:D188)=0,\"\",D$47+3*D$48)","v":""},"","","","",{"$f":"IF(COUNT(I69:I188)=0,\"\",I$47+3*I$48)","v":""},{"$f":"IF(COUNT(J69:J188)=0,\"\",J$47+3*J$48)","v":""},"","","",{"$f":"IF(D69=\"\",\"\",N$47+3*N$48)","v":""}]
[null,null,"Lower Near Outliers",{"$f":"IF(COUNT(D69:D188)=0,\"\",COUNTIF(D69:D188,\"<\"&D51))","v":""},"","","","",{"$f":"IF(COUNT(I69:I188)=0,\"\",COUNTIF(I69:I188,\"<\"&I51))","v":""},{"$f":"IF(COUNT(J69:J188)=0,\"\",COUNTIF(J69:J188,\"<\"&J51))","v":""},"","","",{"$f":"IF(D69=\"\",\"\",COUNTIF(D69:M188,\"<\"&N51)-N57)","v":""}]
[null,null,"Upper Near Outliers",{"$f":"IF(COUNT(D69:D188)=0,\"\",COUNTIF(D69:D188,\">\"&D52))","v":""},"","","","",{"$f":"IF(COUNT(I69:I188)=0,\"\",COUNTIF(I69:I188,\">\"&I52))","v":""},{"$f":"IF(COUNT(J69:J188)=0,\"\",COUNTIF(J69:J188,\">\"&J52))","v":""},"","","",{"$f":"IF(D69=\"\",\"\",COUNTIF(D69:M188,\">\"&N52)-N58)","v":""}]
[null,null,"Lower Extreme Outliers",{"$f":"IF(COUNT(D69:D188)=0,\"\",COUNTIF(D69:D188,\"<\"&D53))","v":""},"","","","",{"$f":"IF(COUNT(I69:I188)=0,\"\",COUNTIF(I69:I188,\"<\"&I53))","v":""},{"$f":"IF(COUNT(J69:J188)=0,\"\",COUNTIF(J69:J188,\"<\"&J53))","v":""},"","","",{"$f":"IF(D69=\"\",\"\",COUNTIF(D69:M188,\"<\"&N53))","v":""}]
[null,null,"Upper Extreme Outliers",{"$f":"IF(COUNT(D69:D188)=0,\"\",COUNTIF(D69:D188,\">\"&D54))","v":""},"","","","",{"$f":"IF(COUNT(I69:I188)=0,\"\",COUNTIF(I69:I188,\">\"&I54))","v":""},{"$f":"IF(COUNT(J69:J188)=0,\"\",COUNTIF(J69:J188,\">\"&J54))","v":""},"","","",{"$f":"IF(D69=\"\",\"\",COUNTIF(D69:M188,\">\"&N54))","v":""}]
[]
[null,null,"Chart Control Limits","Lab 1","Lab 2","Lab 3","Lab 4","Lab 5","Lab 6","Lab 7","Lab 8","Lab 9","Lab 10"]
[null,"Mean","Lower CL",{"$f":"$O$24","v":""},{"$f":"$O$24","v":""},"","","","","","","",""]
[null,null,"Upper CL",{"$f":"$P$24","v":""},{"$f":"$P$24","v":""},"","","","","","","",""]
[null,"Median","Lower CL",{"$f":"$O$25","v":""},{"$f":"$O$25","v":""},"","","","","","","",""]
[null,null,"Upper CL",{"$f":"$P$25","v":""},{"$f":"$P$25","v":""},"","","","","","","",""]
[null,"Mode","Lower CL",{"$f":"$O$26","v":""},{"$f":"$O$26","v":""},"","","","","","","",""]
[null,null,"Upper CL",{"$f":"$P$26","v":""},{"$f":"$P$26","v":""},"","","","","","","",""]
[]
[null,null,"Log2 Converted Raw Data","Lab 1","Lab 2","Lab 3","Lab 4","Lab 5","Lab 6","Lab 7","Lab 8","Lab 9","Lab 10","Control","Limits"]
[null,null,"Media Lot 1",{"$f":"IF(D191=\"\",\"\",LOOKUP(D191,$A$3:$A$22,$C$3:$C$22))","v":""},"","","","",{"$f":"IF(I191=\"\",\"\",LOOKUP(I191,$A$3:$A$22,$C$3:$C$22))","v":""},"","","","",{"$f":"IF(D69=\"\",\"\",LN($N$39)/LN(2))","v":""},{"$f":"IF(D69=\"\",\"\",LN($N$40)/LN(2)-0.5)","v":""}]
[{"$nulls":3},"","","","","","","","","",""]
[{"$nulls":3},"","","","","","","","","",""]
[{"$nulls":3},"","","","","","","","","",""]
[{"$nulls":3},{"$f":"IF(D195=\"\",\"\",LOOKUP(D195,$A$3:$A$22,$C$3:$C$22))","v":""},"","","","","","","","",""]
[{"$nulls":3},"","","","","","","","","",""]
[{"$nulls":3},"","","","","","","","","",""]
[{"$nulls":3},"","","","","","","","","",""]
[{"$nulls":3},"","","","","","","","","",""]
[{"$nulls":3},"","","","","","","","","",""]
[{"$nulls":3},{"$f":"IF(D201=\"\",\"\",LOOKUP(D201,$A$3:$A$22,$C$3:$C$22))","v":""},"","","","",{"$f":"IF(I201=\"\",\"\",LOOKUP(I201,$A$3:$A$22,$C$3:$C$22))","v":""},"","","",""]
[{"$nulls":3},"","","","","","","","","",""]
[{"$nulls":3},{"$f":"IF(D203=\"\",\"\",LOOKUP(D203,$A$3:$A$22,$C$3:$C$22))","v":""},"","","","","","","","",""]
[{"$nulls":3},"","","","","","","","","",""]
[{"$nulls":3},"","","","","","","","","",""]
[{"$nulls":3},"","","","","","","","","",""]
[{"$nulls":3},"","","","","","","","","",""]
[{"$nulls":3},"","","","","","","","","",""]
[{"$nulls":3},"","","","","","","","","",""]
[{"$nulls":3},"","","","","","","","","",""]
[{"$nulls":3},{"$f":"IF(D211=\"\",\"\",LOOKUP(D211,$A$3:$A$22,$C$3:$C$22))","v":""},"","","","",{"$f":"IF(I211=\"\",\"\",LOOKUP(I211,$A$3:$A$22,$C$3:$C$22))","v":""},"","","",""]
[{"$nulls":3},"","","","","","","","","",""]
[{"$nulls":3},"","","","","","","","","",""]
[{"$nulls":3},"","","","","","","","","",""]
[{"$nulls":3},"","","","","","","","","",""]
[{"$nulls":3},"","","","","","","","","",""]
[{"$nulls":3},"","","","","","","","","",""]
[{"$nulls":3},"","","","","","","","","",""]
[{"$nulls":3},"","","","","","","","","",""]
[{"$nulls":3},"","","","","","","","","",""]
[{"$nulls":3},"","","","","",{"$f":"IF(I221=\"\",\"\",LOOKUP(I221,$A$3:$A$22,$C$3:$C$22))","v":""},"","","",""]
[{"$nulls":3},"","","","","","","","","",""]
[{"$nulls":3},"","","","","","","","","",""]
[{"$nulls":3},"","","","","","","","","",""]
[{"$nulls":3},"","","","","","","","","",""]
[{"$nulls":3},"","","","","","","","","",""]
[{"$nulls":3},{"$f":"IF(D227=\"\",\"\",LOOKUP(D227,$A$3:$A$22,$C$3:$C$22))","v":""},"","","","","","","","",""]
[{"$nulls":3},"","","","","","","","","",""]
[{"$nulls":3},"","","","","","","","","",""]
[{"$nulls":3},"","","","","","","","","",""]
[null,null,"Media Lot 2","","","","","",{"$f":"IF(I231=\"\",\"\",LOOKUP(I231,$A$3:$A$22,$C$3:$C$22))","v":""},"","","",""]
[{"$nulls":3},"","","","","","","","","",""]
[{"$nulls":3},"","","","","","","","","",""]
[{"$nulls":3},"","","","","","","","","",""]
[{"$nulls":3},"","","","","","","","","",""]
[{"$nulls":3},"","","","","","","","","",""]
[{"$nulls":3},"","","","","","","","","",""]
[{"$nulls":3},"","","","","","","","","",""]
[{"$nulls":3},"","","","","","","","","",""]
[{"$nulls":3},"","","","","","","","","",""]
[{"$nulls":3},"","","","","",{"$f":"IF(I241=\"\",\"\",LOOKUP(I241,$A$3:$A$22,$C$3:$C$22))","v":""},"","","",""]
[{"$nulls":3},"","","","","","","","","",""]
[{"$nulls":3},{"$f":"IF(D243=\"\",\"\",LOOKUP(D243,$A$3:$A$22,$C$3:$C$22))","v":""},"","","","","","","","",""]
[{"$nulls":3},"","","","","","","","","",""]
[{"$nulls":3},"","","","","","","","","",""]
[{"$nulls":3},"","","","","","","","","",""]
[{"$nulls":3},"","","","","","","","","",""]
[{"$nulls":3},"","","","","","","","","",""]
[{"$nulls":3},"","","","","","","","","",""]
[{"$nulls":3},"","","","","","","","","",""]
[{"$nulls":3},"","","","","",{"$f":"IF(I251=\"\",\"\",LOOKUP(I251,$A$3:$A$22,$C$3:$C$22))","v":""},"","","",""]
[{"$nulls":3},"","","","","","","","","",""]
[{"$nulls":3},"","","","","","","","","",""]
[{"$nulls":3},"","","","","","","","","",""]
[{"$nulls":3},"","","","","","","","","",""]
[{"$nulls":3},"","","","","","","","","",""]
[{"$nulls":3},"","","","","","","","","",""]
[{"$nulls":3},"","","","","","","","","",""]
[{"$nulls":3},{"$f":"IF(D259=\"\",\"\",LOOKUP(D259,$A$3:$A$22,$C$3:$C$22))","v":""},"","","","","","","","",""]
[{"$nulls":3},"","","","","","","","","",""]
[{"$nulls":3},"","","","","",{"$f":"IF(I261=\"\",\"\",LOOKUP(I261,$A$3:$A$22,$C$3:$C$22))","v":""},"","","",""]
[{"$nulls":3},"","","","","","","","","",""]
[{"$nulls":3},"","","","","","","","","",""]
[{"$nulls":3},"","","","","","","","","",""]
[{"$nulls":3},"","","","","","","","","",""]
[{"$nulls":3},"","","","","","","","","",""]
[{"$nulls":3},"","","","","","","","","",""]
[{"$nulls":3},"","","","","","","","","",""]
[{"$nulls":3},"","","","","","","","","",""]
[{"$nulls":3},"","","","","","","","","",""]
[null,null,"Media Lot 3","","","","","",{"$f":"IF(I271=\"\",\"\",LOOKUP(I271,$A$3:$A$22,$C$3:$C$22))","v":""},"","","",""]
[{"$nulls":3},"","","","","","","","","",""]
[{"$nulls":3},"","","","","","","","","",""]
[{"$nulls":3},"","","","","","","","","",""]
[{"$nulls":3},{"$f":"IF(D275=\"\",\"\",LOOKUP(D275,$A$3:$A$22,$C$3:$C$22))","v":""},"","","","","","","","",""]
[{"$nulls":3},"","","","","","","","","",""]
[{"$nulls":3},"","","","","","","","","",""]
[{"$nulls":3},"","","","","","","","","",""]
[{"$nulls":3},"","","","","","","","","",""]
[{"$nulls":3},"","","","","","","","","",""]
[{"$nulls":3},"","","","","",{"$f":"IF(I281=\"\",\"\",LOOKUP(I281,$A$3:$A$22,$C$3:$C$22))","v":""},"","","",""]
[{"$nulls":3},"","","","","","","","","",""]
[{"$nulls":3},"","","","","","","","","",""]
[{"$nulls":3},"","","","","","","","","",""]
[{"$nulls":3},"","","","","","","","","",""]
[{"$nulls":3},"","","","","","","","","",""]
[{"$nulls":3},"","","","","","","","","",""]
[{"$nulls":3},"","","","","","","","","",""]
[{"$nulls":3},"","","","","","","","","",""]
[{"$nulls":3},"","","","","","","","","",""]
[{"$nulls":3},{"$f":"IF(D291=\"\",\"\",LOOKUP(D291,$A$3:$A$22,$C$3:$C$22))","v":""},"","","","",{"$f":"IF(I291=\"\",\"\",LOOKUP(I291,$A$3:$A$22,$C$3:$C$22))","v":""},"","","",""]
[{"$nulls":3},"","","","","","","","","",""]
[{"$nulls":3},"","","","","","","","","",""]
[{"$nulls":3},"","","","","","","","","",""]
[{"$nulls":3},"","","","","","","","","",""]
[{"$nulls":3},"","","","","","","","","",""]
[{"$nulls":3},"","","","","","","","","",""]
[{"$nulls":3},"","","","","","","","","",""]
[{"$nulls":3},"","","","","","","","","",""]
[{"$nulls":3},"","","","","","","","","",""]
[{"$nulls":3},"","","","","",{"$f":"IF(I301=\"\",\"\",LOOKUP(I301,$A$3:$A$22,$C$3:$C$22))","v":""},"","","",""]
[{"$nulls":3},"","","","","","","","","",""]
[{"$nulls":3},"","","","","","","","","",""]
[{"$nulls":3},"","","","","","","","","",""]
[{"$nulls":3},"","","","","","","","","",""]
[{"$nulls":3},"","","","","","","","","",""]
[{"$nulls":3},{"$f":"IF(D307=\"\",\"\",LOOKUP(D307,$A$3:$A$22,$C$3:$C$22))","v":""},"","","","","","","","",""]
[{"$nulls":3},"","","","","","","","","",""]
[{"$nulls":3},"","","","","","","","","",""]
[{"$nulls":3},"","","","","","","","","",""]
[]
[null,null,"Raw Data Entry","Lab 1","Lab 2","Lab 3","Lab 4","Lab 5","Lab 6","Lab 7","Lab 8","Lab 9","Lab 10"]
[null,null,"Media Lot 1"]
{"$rows_empty":39}
[null,null,"Media Lot 2"]
{"$rows_empty":39}
[null,null,"Media Lot 3"]

{"sheet":"Strain 7","index":16,"n_rows":271,"n_cols":16,"rows_kept":271,"merged":[[0,4,0,6]]}
[{"$f":"'Range Summary'!H2","v":"QC7"},{"$f":"'Range Summary'!A2","v":"Test agent"},null,null,"Go to Raw Data Entry area"]
["MIC","Midpoint MIC","Mid Log2MIC","Lab 1","Lab 2","Lab 3","Lab 4","Lab 5","Lab 6","Lab 7","Lab 8","Lab 9","Lab 10","All labs","Norm"]
[{"v":1E-3,"d":"0.001"},{"$f":"2^C3","v":{"v":6.9053396600248776E-4,"d":"0.000691"}},-10.5,{"$f":"IF(COUNTIF(D69:D188,-10.5)=0,\"\",COUNTIF(D69:D188,-10.5))","v":""},{"$f":"IF(COUNTIF(E69:E188,-10.5)=0,\"\",COUNTIF(E69:E188,-10.5))","v":""},{"$f":"IF(COUNTIF(F69:F188,-10.5)=0,\"\",COUNTIF(F69:F188,-10.5))","v":""},"","",{"$f":"IF(COUNTIF(I69:I188,-10.5)=0,\"\",COUNTIF(I69:I188,-10.5))","v":""},{"$f":"IF(COUNTIF(J69:J188,-10.5)=0,\"\",COUNTIF(J69:J188,-10.5))","v":""},"","","",{"$f":"SUM(D3:M3)","v":0},{"$f":"IF(D69=\"\",0,ROUND(N$33*NORMDIST(C3+0.5,N$34,N$36,TRUE),0))","v":0}]
[{"v":2E-3,"d":"0.002"},{"$f":"2^C4","v":{"v":1.3810679320049757E-3,"d":"0.001381"}},-9.5,{"$f":"IF(COUNTIF(D69:D188,-9.5)=0,\"\",COUNTIF(D69:D188,-9.5))","v":""},{"$f":"IF(COUNTIF(E69:E188,-9.5)=0,\"\",COUNTIF(E69:E188,-9.5))","v":""},{"$f":"IF(COUNTIF(F69:F188,-9.5)=0,\"\",COUNTIF(F69:F188,-9.5))","v":""},"","",{"$f":"IF(COUNTIF(I69:I188,-9.5)=0,\"\",COUNTIF(I69:I188,-9.5))","v":""},{"$f":"IF(COUNTIF(J69:J188,-9.5)=0,\"\",COUNTIF(J69:J188,-9.5))","v":""},"","","",0,{"$f":"IF(D69=\"\",0,ROUND(N$33*NORMDIST(C4+0.5,N$34,N$36,TRUE),0)-SUM(O2:O$3))","v":0}]
[0.004,{"v":2.7621358640099515E-3,"d":"0.002762"},-8.5,{"$f":"IF(COUNTIF(D69:D188,-8.5)=0,\"\",COUNTIF(D69:D188,-8.5))","v":""},{"$f":"IF(COUNTIF(E69:E188,-8.5)=0,\"\",COUNTIF(E69:E188,-8.5))","v":""},{"$f":"IF(COUNTIF(F69:F188,-8.5)=0,\"\",COUNTIF(F69:F188,-8.5))","v":""},"","",{"$f":"IF(COUNTIF(I69:I188,-8.5)=0,\"\",COUNTIF(I69:I188,-8.5))","v":""},{"$f":"IF(COUNTIF(J69:J188,-8.5)=0,\"\",COUNTIF(J69:J188,-8.5))","v":""},"","","",0,{"$f":"IF(D69=\"\",0,ROUND(N$33*NORMDIST(C5+0.5,N$34,N$36,TRUE),0)-SUM(O$3:O3))","v":0}]
[0.008,{"v":0.005524271728019904,"d":"0.005524"},-7.5,{"$f":"IF(COUNTIF(D69:D188,-7.5)=0,\"\",COUNTIF(D69:D188,-7.5))","v":""},{"$f":"IF(COUNTIF(E69:E188,-7.5)=0,\"\",COUNTIF(E69:E188,-7.5))","v":""},{"$f":"IF(COUNTIF(F69:F188,-7.5)=0,\"\",COUNTIF(F69:F188,-7.5))","v":""},"","",{"$f":"IF(COUNTIF(I69:I188,-7.5)=0,\"\",COUNTIF(I69:I188,-7.5))","v":""},{"$f":"IF(COUNTIF(J69:J188,-7.5)=0,\"\",COUNTIF(J69:J188,-7.5))","v":""},"","","",{"$f":"SUM(D6:M6)","v":0},{"$f":"IF(D69=\"\",0,ROUND(N$33*NORMDIST(C6+0.5,N$34,N$36,TRUE),0)-SUM(O$3:O5))","v":0}]
[0.016,{"v":0.011048543456039808,"d":"0.011049"},-6.5,{"$f":"IF(COUNTIF(D69:D188,-6.5)=0,\"\",COUNTIF(D69:D188,-6.5))","v":""},{"$f":"IF(COUNTIF(E69:E188,-6.5)=0,\"\",COUNTIF(E69:E188,-6.5))","v":""},{"$f":"IF(COUNTIF(F69:F188,-6.5)=0,\"\",COUNTIF(F69:F188,-6.5))","v":""},"","",{"$f":"IF(COUNTIF(I69:I188,-6.5)=0,\"\",COUNTIF(I69:I188,-6.5))","v":""},{"$f":"IF(COUNTIF(J69:J188,-6.5)=0,\"\",COUNTIF(J69:J188,-6.5))","v":""},"","","",0,{"$f":"IF(D69=\"\",0,ROUND(N$33*NORMDIST(C7+0.5,N$34,N$36,TRUE),0)-SUM(O$3:O6))","v":0}]
[0.03,{"v":0.022097086912079608,"d":"0.022097"},-5.5,{"$f":"IF(COUNTIF(D69:D188,-5.5)=0,\"\",COUNTIF(D69:D188,-5.5))","v":""},{"$f":"IF(COUNTIF(E69:E188,-5.5)=0,\"\",COUNTIF(E69:E188,-5.5))","v":""},{"$f":"IF(COUNTIF(F69:F188,-5.5)=0,\"\",COUNTIF(F69:F188,-5.5))","v":""},"","",{"$f":"IF(COUNTIF(I69:I188,-5.5)=0,\"\",COUNTIF(I69:I188,-5.5))","v":""},{"$f":"IF(COUNTIF(J69:J188,-5.5)=0,\"\",COUNTIF(J69:J188,-5.5))","v":""},"","","",0,{"$f":"IF(D69=\"\",0,ROUND(N$33*NORMDIST(C8+0.5,N$34,N$36,TRUE),0)-SUM(O$3:O7))","v":0}]
[0.06,{"v":0.04419417382415922,"d":"0.044194"},-4.5,{"$f":"IF(COUNTIF(D69:D188,-4.5)=0,\"\",COUNTIF(D69:D188,-4.5))","v":""},{"$f":"IF(COUNTIF(E69:E188,-4.5)=0,\"\",COUNTIF(E69:E188,-4.5))","v":""},{"$f":"IF(COUNTIF(F69:F188,-4.5)=0,\"\",COUNTIF(F69:F188,-4.5))","v":""},"","",{"$f":"IF(COUNTIF(I69:I188,-4.5)=0,\"\",COUNTIF(I69:I188,-4.5))","v":""},{"$f":"IF(COUNTIF(J69:J188,-4.5)=0,\"\",COUNTIF(J69:J188,-4.5))","v":""},"","","",0,{"$f":"IF(D69=\"\",0,ROUND(N$33*NORMDIST(C9+0.5,N$34,N$36,TRUE),0)-SUM(O$3:O8))","v":0}]
[0.13,{"v":0.08838834764831845,"d":"0.088388"},-3.5,{"$f":"IF(COUNTIF(D69:D188,-3.5)=0,\"\",COUNTIF(D69:D188,-3.5))","v":""},{"$f":"IF(COUNTIF(E69:E188,-3.5)=0,\"\",COUNTIF(E69:E188,-3.5))","v":""},{"$f":"IF(COUNTIF(F69:F188,-3.5)=0,\"\",COUNTIF(F69:F188,-3.5))","v":""},"","",{"$f":"IF(COUNTIF(I69:I188,-3.5)=0,\"\",COUNTIF(I69:I188,-3.5))","v":""},{"$f":"IF(COUNTIF(J69:J188,-3.5)=0,\"\",COUNTIF(J69:J188,-3.5))","v":""},"","","",0,{"$f":"IF(D69=\"\",0,ROUND(N$33*NORMDIST(C10+0.5,N$34,N$36,TRUE),0)-SUM(O$3:O9))","v":0}]
[0.25,{"v":0.17677669529663687,"d":"0.176777"},-2.5,{"$f":"IF(COUNTIF(D69:D188,-2.5)=0,\"\",COUNTIF(D69:D188,-2.5))","v":""},{"$f":"IF(COUNTIF(E69:E188,-2.5)=0,\"\",COUNTIF(E69:E188,-2.5))","v":""},{"$f":"IF(COUNTIF(F69:F188,-2.5)=0,\"\",COUNTIF(F69:F188,-2.5))","v":""},"","",{"$f":"IF(COUNTIF(I69:I188,-2.5)=0,\"\",COUNTIF(I69:I188,-2.5))","v":""},{"$f":"IF(COUNTIF(J69:J188,-2.5)=0,\"\",COUNTIF(J69:J188,-2.5))","v":""},"","","",0,{"$f":"IF(D69=\"\",0,ROUND(N$33*NORMDIST(C11+0.5,N$34,N$36,TRUE),0)-SUM(O$3:O10))","v":0}]
[0.5,{"v":0.3535533905932738,"d":"0.353553"},-1.5,{"$f":"IF(COUNTIF(D69:D188,-1.5)=0,\"\",COUNTIF(D69:D188,-1.5))","v":""},{"$f":"IF(COUNTIF(E69:E188,-1.5)=0,\"\",COUNTIF(E69:E188,-1.5))","v":""},{"$f":"IF(COUNTIF(F69:F188,-1.5)=0,\"\",COUNTIF(F69:F188,-1.5))","v":""},"","",{"$f":"IF(COUNTIF(I69:I188,-1.5)=0,\"\",COUNTIF(I69:I188,-1.5))","v":""},{"$f":"IF(COUNTIF(J69:J188,-1.5)=0,\"\",COUNTIF(J69:J188,-1.5))","v":""},"","","",0,{"$f":"IF(D69=\"\",0,ROUND(N$33*NORMDIST(C12+0.5,N$34,N$36,TRUE),0)-SUM(O$3:O11))","v":0}]
[1,{"v":0.7071067811865475,"d":"0.707107"},-0.5,{"$f":"IF(COUNTIF(D69:D188,-0.5)=0,\"\",COUNTIF(D69:D188,-0.5))","v":""},{"$f":"IF(COUNTIF(E69:E188,-0.5)=0,\"\",COUNTIF(E69:E188,-0.5))","v":""},{"$f":"IF(COUNTIF(F69:F188,-0.5)=0,\"\",COUNTIF(F69:F188,-0.5))","v":""},"","",{"$f":"IF(COUNTIF(I69:I188,-0.5)=0,\"\",COUNTIF(I69:I188,-0.5))","v":""},{"$f":"IF(COUNTIF(J69:J188,-0.5)=0,\"\",COUNTIF(J69:J188,-0.5))","v":""},"","","",0,{"$f":"IF(D69=\"\",0,ROUND(N$33*NORMDIST(C13+0.5,N$34,N$36,TRUE),0)-SUM(O$3:O12))","v":0}]
[2,{"v":1.4142135623730951,"d":"1.414214"},0.5,{"$f":"IF(COUNTIF(D69:D188,0.5)=0,\"\",COUNTIF(D69:D188,0.5))","v":""},{"$f":"IF(COUNTIF(E69:E188,0.5)=0,\"\",COUNTIF(E69:E188,0.5))","v":""},{"$f":"IF(COUNTIF(F69:F188,0.5)=0,\"\",COUNTIF(F69:F188,0.5))","v":""},"","",{"$f":"IF(COUNTIF(I69:I188,0.5)=0,\"\",COUNTIF(I69:I188,0.5))","v":""},{"$f":"IF(COUNTIF(J69:J188,0.5)=0,\"\",COUNTIF(J69:J188,0.5))","v":""},"","","",0,{"$f":"IF(D69=\"\",0,ROUND(N$33*NORMDIST(C14+0.5,N$34,N$36,TRUE),0)-SUM(O$3:O13))","v":0}]
[4,{"v":2.82842712474619,"d":"2.828427"},1.5,{"$f":"IF(COUNTIF(D69:D188,1.5)=0,\"\",COUNTIF(D69:D188,1.5))","v":""},{"$f":"IF(COUNTIF(E69:E188,1.5)=0,\"\",COUNTIF(E69:E188,1.5))","v":""},{"$f":"IF(COUNTIF(F69:F188,1.5)=0,\"\",COUNTIF(F69:F188,1.5))","v":""},"","",{"$f":"IF(COUNTIF(I69:I188,1.5)=0,\"\",COUNTIF(I69:I188,1.5))","v":""},{"$f":"IF(COUNTIF(J69:J188,1.5)=0,\"\",COUNTIF(J69:J188,1.5))","v":""},"","","",0,{"$f":"IF(D69=\"\",0,ROUND(N$33*NORMDIST(C15+0.5,N$34,N$36,TRUE),0)-SUM(O$3:O14))","v":0}]
[8,{"v":5.656854249492381,"d":"5.656854"},2.5,{"$f":"IF(COUNTIF(D69:D188,2.5)=0,\"\",COUNTIF(D69:D188,2.5))","v":""},{"$f":"IF(COUNTIF(E69:E188,2.5)=0,\"\",COUNTIF(E69:E188,2.5))","v":""},{"$f":"IF(COUNTIF(F69:F188,2.5)=0,\"\",COUNTIF(F69:F188,2.5))","v":""},"","",{"$f":"IF(COUNTIF(I69:I188,2.5)=0,\"\",COUNTIF(I69:I188,2.5))","v":""},{"$f":"IF(COUNTIF(J69:J188,2.5)=0,\"\",COUNTIF(J69:J188,2.5))","v":""},"","","",0,{"$f":"IF(D69=\"\",0,ROUND(N$33*NORMDIST(C16+0.5,N$34,N$36,TRUE),0)-SUM(O$3:O15))","v":0}]
[16,{"v":11.31370849898476,"d":"11.313708"},3.5,{"$f":"IF(COUNTIF(D69:D188,3.5)=0,\"\",COUNTIF(D69:D188,3.5))","v":""},{"$f":"IF(COUNTIF(E69:E188,3.5)=0,\"\",COUNTIF(E69:E188,3.5))","v":""},{"$f":"IF(COUNTIF(F69:F188,3.5)=0,\"\",COUNTIF(F69:F188,3.5))","v":""},"","",{"$f":"IF(COUNTIF(I69:I188,3.5)=0,\"\",COUNTIF(I69:I188,3.5))","v":""},{"$f":"IF(COUNTIF(J69:J188,3.5)=0,\"\",COUNTIF(J69:J188,3.5))","v":""},"","","",0,{"$f":"IF(D69=\"\",0,ROUND(N$33*NORMDIST(C17+0.5,N$34,N$36,TRUE),0)-SUM(O$3:O16))","v":0}]
[32,{"v":22.62741699796952,"d":"22.627417"},4.5,{"$f":"IF(COUNTIF(D69:D188,4.5)=0,\"\",COUNTIF(D69:D188,4.5))","v":""},{"$f":"IF(COUNTIF(E69:E188,4.5)=0,\"\",COUNTIF(E69:E188,4.5))","v":""},{"$f":"IF(COUNTIF(F69:F188,4.5)=0,\"\",COUNTIF(F69:F188,4.5))","v":""},"","",{"$f":"IF(COUNTIF(I69:I188,4.5)=0,\"\",COUNTIF(I69:I188,4.5))","v":""},{"$f":"IF(COUNTIF(J69:J188,4.5)=0,\"\",COUNTIF(J69:J188,4.5))","v":""},"","","",0,{"$f":"IF(D69=\"\",0,ROUND(N$33*NORMDIST(C18+0.5,N$34,N$36,TRUE),0)-SUM(O$3:O17))","v":0}]
[64,{"v":45.254833995939045,"d":"45.254834"},5.5,{"$f":"IF(COUNTIF(D69:D188,5.5)=0,\"\",COUNTIF(D69:D188,5.5))","v":""},{"$f":"IF(COUNTIF(E69:E188,5.5)=0,\"\",COUNTIF(E69:E188,5.5))","v":""},{"$f":"IF(COUNTIF(F69:F188,5.5)=0,\"\",COUNTIF(F69:F188,5.5))","v":""},"","",{"$f":"IF(COUNTIF(I69:I188,5.5)=0,\"\",COUNTIF(I69:I188,5.5))","v":""},{"$f":"IF(COUNTIF(J69:J188,5.5)=0,\"\",COUNTIF(J69:J188,5.5))","v":""},"","","",0,{"$f":"IF(D69=\"\",0,ROUND(N$33*NORMDIST(C19+0.5,N$34,N$36,TRUE),0)-SUM(O$3:O18))","v":0}]
[128,{"v":90.50966799187806,"d":"90.509668"},6.5,{"$f":"IF(COUNTIF(D69:D188,6.5)=0,\"\",COUNTIF(D69:D188,6.5))","v":""},{"$f":"IF(COUNTIF(E69:E188,6.5)=0,\"\",COUNTIF(E69:E188,6.5))","v":""},{"$f":"IF(COUNTIF(F69:F188,6.5)=0,\"\",COUNTIF(F69:F188,6.5))","v":""},"","",{"$f":"IF(COUNTIF(I69:I188,6.5)=0,\"\",COUNTIF(I69:I188,6.5))","v":""},{"$f":"IF(COUNTIF(J69:J188,6.5)=0,\"\",COUNTIF(J69:J188,6.5))","v":""},"","","",0,{"$f":"IF(D69=\"\",0,ROUND(N$33*NORMDIST(C20+0.5,N$34,N$36,TRUE),0)-SUM(O$3:O19))","v":0}]
[256,{"v":181.01933598375612,"d":"181.019336"},7.5,{"$f":"IF(COUNTIF(D69:D188,7.5)=0,\"\",COUNTIF(D69:D188,7.5))","v":""},{"$f":"IF(COUNTIF(E69:E188,7.5)=0,\"\",COUNTIF(E69:E188,7.5))","v":""},{"$f":"IF(COUNTIF(F69:F188,7.5)=0,\"\",COUNTIF(F69:F188,7.5))","v":""},"","",{"$f":"IF(COUNTIF(I69:I188,7.5)=0,\"\",COUNTIF(I69:I188,7.5))","v":""},{"$f":"IF(COUNTIF(J69:J188,7.5)=0,\"\",COUNTIF(J69:J188,7.5))","v":""},"","","",0,{"$f":"IF(D69=\"\",0,ROUND(N$33*NORMDIST(C21+0.5,N$34,N$36,TRUE),0)-SUM(O$3:O20))","v":0}]
[512,{"v":362.0386719675123,"d":"362.038672"},8.5,{"$f":"IF(COUNTIF(D69:D188,8.5)=0,\"\",COUNTIF(D69:D188,8.5))","v":""},{"$f":"IF(COUNTIF(E69:E188,8.5)=0,\"\",COUNTIF(E69:E188,8.5))","v":""},{"$f":"IF(COUNTIF(F69:F188,8.5)=0,\"\",COUNTIF(F69:F188,8.5))","v":""},"","",{"$f":"IF(COUNTIF(I69:I188,8.5)=0,\"\",COUNTIF(I69:I188,8.5))","v":""},{"$f":"IF(COUNTIF(J69:J188,8.5)=0,\"\",COUNTIF(J69:J188,8.5))","v":""},"","","",0,{"$f":"IF(D69=\"\",0,ROUND(N$33*NORMDIST(C22+0.5,N$34,N$36,TRUE),0)-SUM(O$3:O21))","v":0}]
[null,null,"Central Tendancy Stats","Lab 1","Lab 2","Lab 3","Lab 4","Lab 5","Lab 6","Lab 7","Lab 8","Lab 9","Lab 10","All labs","Control","Limits"]
[null,null,"Mean",{"$f":"IF(COUNT(D69:D188)=0,\"\",AVERAGE(D69:D188))","v":""},"","","","",{"$f":"IF(COUNT(I69:I188)=0,\"\",AVERAGE(I69:I188))","v":""},{"$f":"IF(COUNT(J69:J188)=0,\"\",AVERAGE(J69:J188))","v":""},"","","",{"$f":"IF(D69=\"\",\"\",AVERAGE(D69:M188))","v":""},{"$f":"IF(D69=\"\",\"\",ROUND(NORMINV(0.05,N34,N36),3))","v":""},{"$f":"IF(D69=\"\",\"\",ROUND(NORMINV(0.95,N34,N36),3))","v":""}]
["Calculated QC Range",null,"Median",{"$f":"IF(COUNT(D69:D188)=0,\"\",MEDIAN(D69:D188))","v":""},"","","","",{"$f":"IF(COUNT(I69:I188)=0,\"\",MEDIAN(I69:I188))","v":""},{"$f":"IF(COUNT(J69:J188)=0,\"\",MEDIAN(J69:J188))","v":""},"","","",{"$f":"IF(D69=\"\",\"\",MEDIAN(D69:M188))","v":""},{"$f":"IF(D69=\"\",\"\",ROUND(N51,3))","v":""},{"$f":"IF(D69=\"\",\"\",ROUND(N52,3))","v":""}]
[{"$f":"IF(N33=0,\"\",ROUND(2*N39,3)&\" to \"&ROUND(N40,3))","v":""},null,"Mode",{"$f":"IF(COUNT(D69:D188)=0,\"\",MODE(D69:D188))","v":""},"","","","",{"$f":"IF(COUNT(I69:I188)=0,\"\",MODE(I69:I188))","v":""},{"$f":"IF(COUNT(J69:J188)=0,\"\",MODE(J69:J188))","v":""},"","","",{"$f":"IF(D69=\"\",\"\",MODE(D69:M188))","v":""},{"$f":"IF(D69=\"\",\"\",N26-1)","v":""},{"$f":"IF(D69=\"\",\"\",N26+1)","v":""}]
["Dilution Range",null,null,"(Converted back to MIC)",{"$nulls":10},"Control","Limits"]
[{"$f":"IF(N33=0,\"\",LN(N40/N39)/LN(2))","v":""},null,"Mean",{"$f":"IF(COUNT(D69:D188)=0,\"\",2^(AVERAGE(D69:D188)+0.5))","v":""},"","","","",{"$f":"IF(COUNT(I69:I188)=0,\"\",2^(AVERAGE(I69:I188)+0.5))","v":""},{"$f":"IF(COUNT(J69:J188)=0,\"\",2^(AVERAGE(J69:J188)+0.5))","v":""},"","","",{"$f":"IF(D69=\"\",\"\",2^(AVERAGE(D69:M188)+0.5))","v":""},{"$f":"IF(D69=\"\",\"\",2^O24)","v":""},{"$f":"IF(D69=\"\",\"\",2^P24)","v":""}]
["% Obs. Captured",null,"Median",{"$f":"IF(COUNT(D69:D188)=0,\"\",2^(MEDIAN(D69:D188)+0.5))","v":""},"","","","",{"$f":"IF(COUNT(I69:I188)=0,\"\",2^(MEDIAN(I69:I188)+0.5))","v":""},{"$f":"IF(COUNT(J69:J188)=0,\"\",2^(MEDIAN(J69:J188)+0.5))","v":""},"","","",{"$f":"IF(D69=\"\",\"\",2^(MEDIAN(D69:M188)+0.5))","v":""},{"$f":"IF(D69=\"\",\"\",2^O25)","v":""},{"$f":"IF(D69=\"\",\"\",2^P25)","v":""}]
[{"$f":"IF(N33=0,\"\",((COUNTIF(D69:M188,\"<\"&LN(N40)/LN(2))-COUNTIF(D69:M188,\"<\"&LN(N39)/LN(2)))/N$33))","v":""},null,"Mode",{"$f":"IF(COUNT(D69:D188)=0,\"\",2^(MODE(D69:D188)+0.5))","v":""},"","","","",{"$f":"IF(COUNT(I69:I188)=0,\"\",2^(MODE(I69:I188)+0.5))","v":""},{"$f":"IF(COUNT(J69:J188)=0,\"\",2^(MODE(J69:J188)+0.5))","v":""},"","","",{"$f":"IF(D69=\"\",\"\",2^(MODE(D69:M188)+0.5))","v":""},{"$f":"IF(D69=\"\",\"\",2^O26)","v":""},{"$f":"IF(D69=\"\",\"\",2^P26)","v":""}]
["Prob'ty Outside Range"]
[{"$f":"IF(N33=0,\"\",N41+N42)","v":""},null,"Conventional Stats","Lab 1","Lab 2","Lab 3","Lab 4","Lab 5","Lab 6","Lab 7","Lab 8","Lab 9","Lab 10","All labs","Interlab"]
[null,null,"N",{"$f":"IF(COUNT(D69:D188)=0,\"\",COUNT(D69:D188))","v":""},"","","","",{"$f":"IF(COUNT(I69:I188)=0,\"\",COUNT(I69:I188))","v":""},{"$f":"IF(COUNT(J69:J188)=0,\"\",COUNT(J69:J188))","v":""},"","","",{"$f":"COUNT(D69:M188)","v":0},"CV"]
["CLSI QC Range",null,"GeoMean MIC (log2)",{"$f":"IF(COUNT(D69:D188)=0,\"\",AVERAGE(D69:D188))","v":""},"","","","",{"$f":"IF(COUNT(I69:I188)=0,\"\",AVERAGE(I69:I188))","v":""},{"$f":"IF(COUNT(J69:J188)=0,\"\",AVERAGE(J69:J188))","v":""},"","","",{"$f":"IF(D69=\"\",\"\",AVERAGE(D69:M188))","v":""},{"$f":"IF(D69=\"\",\"\",ABS(STDEVA(D34:M34)/N34))","v":""}]
[null,null,"GeoMean MIC",{"$f":"IF(COUNT(D69:D188)=0,\"\",2^D34)","v":""},"","","","",{"$f":"IF(COUNT(I69:I188)=0,\"\",2^I34)","v":""},{"$f":"IF(COUNT(J69:J188)=0,\"\",2^J34)","v":""},"","","",{"$f":"IF(D69=\"\",\"\",2^N34)","v":""}]
[null,null,"GeoSD (log2)",{"$f":"IF(COUNT(D69:D188)=0,\"\",STDEV(D69:D188))","v":""},"","","","",{"$f":"IF(COUNT(I69:I188)=0,\"\",STDEV(I69:I188))","v":""},{"$f":"IF(COUNT(J69:J188)=0,\"\",STDEV(J69:J188))","v":""},"","","",{"$f":"IF(D69=\"\",\"\",STDEV(D69:M188))","v":""}]
[{"$f":"IF(A35=\"\",\"\",ROUND(2^(A35+0.5),3)&\" to \"&ROUND(2^(A36+0.5),3))","v":""},null,"95% Lower Bound",{"$f":"IF(COUNT(D69:D188)=0,\"\",IF(D33=0,\"\",2^((NORMINV(0.025,D34,D36)))))","v":""},"","","","",{"$f":"IF(COUNT(I69:I188)=0,\"\",IF(I33=0,\"\",2^((NORMINV(0.025,I34,I36)))))","v":""},{"$f":"IF(COUNT(J69:J188)=0,\"\",IF(J33=0,\"\",2^((NORMINV(0.025,J34,J36)))))","v":""},"","","",{"$f":"IF(N33=0,\"\",2^((NORMINV(0.025,N34,N36))))","v":""}]
["Dilution Range",null,"95% Upper Bound",{"$f":"IF(COUNT(D69:D188)=0,\"\",IF(D33=0,\"\",2^(NORMINV(0.975,D34,D36))))","v":""},"","","","",{"$f":"IF(COUNT(I69:I188)=0,\"\",IF(I33=0,\"\",2^(NORMINV(0.975,I34,I36))))","v":""},{"$f":"IF(COUNT(J69:J188)=0,\"\",IF(J33=0,\"\",2^(NORMINV(0.975,J34,J36))))","v":""},"","","",{"$f":"IF(N33=0,\"\",2^(NORMINV(0.975,N34,N36)))","v":""}]
[{"$f":"IF(A35=\"\",\"\",A36-A35+1)","v":""},null,"Lower Bound Rounded Down",{"$f":"IF(COUNT(D69:D188)=0,\"\",IF(D33=0,\"\",2^(INT((NORMINV(0.025,D34,D36))))))","v":""},"","","","",{"$f":"IF(COUNT(I69:I188)=0,\"\",IF(I33=0,\"\",2^(INT((NORMINV(0.025,I34,I36))))))","v":""},{"$f":"IF(COUNT(J69:J188)=0,\"\",IF(J33=0,\"\",2^(INT((NORMINV(0.025,J34,J36))))))","v":""},"","","",{"$f":"IF(N33=0,\"\",2^(INT((NORMINV(0.025,N34,N36)))))","v":""}]
["CLSI% Obs. captured",null,"Upper Bound Rounded Up",{"$f":"IF(COUNT(D69:D188)=0,\"\",IF(D33=0,\"\",2^(INT((NORMINV(0.975,D34,D36)))+1)))","v":""},"","","","",{"$f":"IF(COUNT(I69:I188)=0,\"\",IF(I33=0,\"\",2^(INT((NORMINV(0.975,I34,I36)))+1)))","v":""},{"$f":"IF(COUNT(J69:J188)=0,\"\",IF(J33=0,\"\",2^(INT((NORMINV(0.975,J34,J36)))+1)))","v":""},"","","",{"$f":"IF(N33=0,\"\",2^(INT((NORMINV(0.975,N34,N36)))+1))","v":""}]
[{"$f":"IF(A35=0,\"\",(COUNTIF(D69:M188,\"<\"&A36+1)-COUNTIF(D69:M188,\"<\"&A35))/N$33)","v":""},null,"Probability of <=Lower Bound",{"$f":"IF(COUNT(D69:D188)=0,\"\",NORMDIST(LOG(D39)/LOG(2),D34,D36,TRUE))","v":""},"","","","",{"$f":"IF(COUNT(I69:I188)=0,\"\",NORMDIST(LOG(I39)/LOG(2),I34,I36,TRUE))","v":""},{"$f":"IF(COUNT(J69:J188)=0,\"\",NORMDIST(LOG(J39)/LOG(2),J34,J36,TRUE))","v":""},"","","",{"$f":"IF(D69=\"\",\"\",NORMDIST(LOG(N39)/LOG(2),N34,N36,TRUE))","v":""}]
[null,null,"Probability of >Upper Bound",{"$f":"IF(COUNT(D69:D188)=0,\"\",1-NORMDIST(LOG(D40)/LOG(2),D34,D36,TRUE))","v":""},"","","","",{"$f":"IF(COUNT(I69:I188)=0,\"\",1-NORMDIST(LOG(I40)/LOG(2),I34,I36,TRUE))","v":""},{"$f":"IF(COUNT(J69:J188)=0,\"\",1-NORMDIST(LOG(J40)/LOG(2),J34,J36,TRUE))","v":""},"","","",{"$f":"IF(D69=\"\",\"\",1-NORMDIST(LOG(N40)/LOG(2),N34,N36,TRUE))","v":""}]
[null,null,"New Range",{"$f":"IF(COUNT(D69:D188)=0,\"\",1-D41-D42)","v":""},"","","","",{"$f":"IF(COUNT(I69:I188)=0,\"\",1-I41-I42)","v":""},{"$f":"IF(COUNT(J69:J188)=0,\"\",1-J41-J42)","v":""},"","","",{"$f":"IF(D69=\"\",\"\",1-N41-N42)","v":""}]
[]
[null,null,"Order Stats","Lab 1","Lab 2","Lab 3","Lab 4","Lab 5","Lab 6","Lab 7","Lab 8","Lab 9","Lab 10","All labs","Interlab"]
[null,null,"25th %ile",{"$f":"IF(COUNT(D69:D188)=0,\"\",QUARTILE(D69:D188,1))","v":""},"","","","",{"$f":"IF(COUNT(I69:I188)=0,\"\",QUARTILE(I69:I188,1))","v":""},{"$f":"IF(COUNT(J69:J188)=0,\"\",QUARTILE(J69:J188,1))","v":""},"","","",{"$f":"IF(D69=\"\",\"\",QUARTILE(D69:M188,1))","v":""},"CV"]
[null,null,"75th %ile",{"$f":"IF(COUNT(D69:D188)=0,\"\",QUARTILE(D69:D188,3))","v":""},"","","","",{"$f":"IF(COUNT(I69:I188)=0,\"\",QUARTILE(I69:I188,3))","v":""},{"$f":"IF(COUNT(J69:J188)=0,\"\",QUARTILE(J69:J188,3))","v":""},"","","",{"$f":"IF(D69=\"\",\"\",QUARTILE(D69:M188,3))","v":""},{"$f":"IF(D69=\"\",\"\",ABS(N48/N25))","v":""}]
[null,null,"Interquartile Range",{"$f":"IF(COUNT(D69:D188)=0,\"\",IF(D47-D46=0,1,D47-D46))","v":""},"","","","",{"$f":"IF(COUNT(I69:I188)=0,\"\",IF(I47-I46=0,1,I47-I46))","v":""},{"$f":"IF(COUNT(J69:J188)=0,\"\",IF(J47-J46=0,1,J47-J46))","v":""},"","","",{"$f":"IF(D69=\"\",\"\",IF(N47-N46=0,1,N47-N46))","v":""}]
[null,null,"Minimum",{"$f":"IF(COUNT(D69:D188)=0,\"\",MIN(D69:D188))","v":""},"","","","",{"$f":"IF(COUNT(I69:I188)=0,\"\",MIN(I69:I188))","v":""},{"$f":"IF(COUNT(J69:J188)=0,\"\",MIN(J69:J188))","v":""},"","","",{"$f":"IF(D69=\"\",\"\",MIN(D69:M188))","v":""}]
[null,null,"Maximum",{"$f":"IF(COUNT(D69:D188)=0,\"\",MAX(D69:D188))","v":""},"","","","",{"$f":"IF(COUNT(I69:I188)=0,\"\",MAX(I69:I188))","v":""},{"$f":"IF(COUNT(J69:J188)=0,\"\",MAX(J69:J188))","v":""},"","","",{"$f":"IF(D69=\"\",\"\",MAX(D69:M188))","v":""}]
[null,null,"Lower Inner Fence",{"$f":"IF(COUNT(D69:D188)=0,\"\",D$46-1.5*D$48)","v":""},"","","","",{"$f":"IF(COUNT(I69:I188)=0,\"\",I$46-1.5*I$48)","v":""},{"$f":"IF(COUNT(J69:J188)=0,\"\",J$46-1.5*J$48)","v":""},"","","",{"$f":"IF(D69=\"\",\"\",N$46-1.5*N$48)","v":""}]
[null,null,"Upper Inner Fence",{"$f":"IF(COUNT(D69:D188)=0,\"\",D$47+1.5*D$48)","v":""},"","","","",{"$f":"IF(COUNT(I69:I188)=0,\"\",I$47+1.5*I$48)","v":""},{"$f":"IF(COUNT(J69:J188)=0,\"\",J$47+1.5*J$48)","v":""},"","","",{"$f":"IF(D69=\"\",\"\",N$47+1.5*N$48)","v":""}]
[null,null,"Lower Outer Fence",{"$f":"IF(COUNT(D69:D188)=0,\"\",D$46-3*D$48)","v":""},"","","","",{"$f":"IF(COUNT(I69:I188)=0,\"\",I$46-3*I$48)","v":""},{"$f":"IF(COUNT(J69:J188)=0,\"\",J$46-3*J$48)","v":""},"","","",{"$f":"IF(D69=\"\",\"\",N$46-3*N$48)","v":""}]
[null,null,"Upper Outer Fence",{"$f":"IF(COUNT(D69:D188)=0,\"\",D$47+3*D$48)","v":""},"","","","",{"$f":"IF(COUNT(I69:I188)=0,\"\",I$47+3*I$48)","v":""},{"$f":"IF(COUNT(J69:J188)=0,\"\",J$47+3*J$48)","v":""},"","","",{"$f":"IF(D69=\"\",\"\",N$47+3*N$48)","v":""}]
[null,null,"Lower Near Outliers",{"$f":"IF(COUNT(D69:D188)=0,\"\",COUNTIF(D69:D188,\"<\"&D51))","v":""},"","","","",{"$f":"IF(COUNT(I69:I188)=0,\"\",COUNTIF(I69:I188,\"<\"&I51))","v":""},{"$f":"IF(COUNT(J69:J188)=0,\"\",COUNTIF(J69:J188,\"<\"&J51))","v":""},"","","",{"$f":"IF(D69=\"\",\"\",COUNTIF(D69:M188,\"<\"&N51)-N57)","v":""}]
[null,null,"Upper Near Outliers",{"$f":"IF(COUNT(D69:D188)=0,\"\",COUNTIF(D69:D188,\">\"&D52))","v":""},"","","","",{"$f":"IF(COUNT(I69:I188)=0,\"\",COUNTIF(I69:I188,\">\"&I52))","v":""},{"$f":"IF(COUNT(J69:J188)=0,\"\",COUNTIF(J69:J188,\">\"&J52))","v":""},"","","",{"$f":"IF(D69=\"\",\"\",COUNTIF(D69:M188,\">\"&N52)-N58)","v":""}]
[null,null,"Lower Extreme Outliers",{"$f":"IF(COUNT(D69:D188)=0,\"\",COUNTIF(D69:D188,\"<\"&D53))","v":""},"","","","",{"$f":"IF(COUNT(I69:I188)=0,\"\",COUNTIF(I69:I188,\"<\"&I53))","v":""},{"$f":"IF(COUNT(J69:J188)=0,\"\",COUNTIF(J69:J188,\"<\"&J53))","v":""},"","","",{"$f":"IF(D69=\"\",\"\",COUNTIF(D69:M188,\"<\"&N53))","v":""}]
[null,null,"Upper Extreme Outliers",{"$f":"IF(COUNT(D69:D188)=0,\"\",COUNTIF(D69:D188,\">\"&D54))","v":""},"","","","",{"$f":"IF(COUNT(I69:I188)=0,\"\",COUNTIF(I69:I188,\">\"&I54))","v":""},{"$f":"IF(COUNT(J69:J188)=0,\"\",COUNTIF(J69:J188,\">\"&J54))","v":""},"","","",{"$f":"IF(D69=\"\",\"\",COUNTIF(D69:M188,\">\"&N54))","v":""}]
[]
[null,null,"Chart Control Limits","Lab 1","Lab 2","Lab 3","Lab 4","Lab 5","Lab 6","Lab 7","Lab 8","Lab 9","Lab 10"]
[null,"Mean","Lower CL",{"$f":"$O$24","v":""},{"$f":"$O$24","v":""},"","","","","","","",""]
[null,null,"Upper CL",{"$f":"$P$24","v":""},{"$f":"$P$24","v":""},"","","","","","","",""]
[null,"Median","Lower CL",{"$f":"$O$25","v":""},{"$f":"$O$25","v":""},"","","","","","","",""]
[null,null,"Upper CL",{"$f":"$P$25","v":""},{"$f":"$P$25","v":""},"","","","","","","",""]
[null,"Mode","Lower CL",{"$f":"$O$26","v":""},{"$f":"$O$26","v":""},"","","","","","","",""]
[null,null,"Upper CL",{"$f":"$P$26","v":""},{"$f":"$P$26","v":""},"","","","","","","",""]
[]
[null,null,"Log2 Converted Raw Data","Lab 1","Lab 2","Lab 3","Lab 4","Lab 5","Lab 6","Lab 7","Lab 8","Lab 9","Lab 10","Control","Limits"]
[null,null,"Media Lot 1",{"$f":"IF(D191=\"\",\"\",LOOKUP(D191,$A$3:$A$22,$C$3:$C$22))","v":""},"","","","",{"$f":"IF(I191=\"\",\"\",LOOKUP(I191,$A$3:$A$22,$C$3:$C$22))","v":""},"","","","",{"$f":"IF(D69=\"\",\"\",LN($N$39)/LN(2))","v":""},{"$f":"IF(D69=\"\",\"\",LN($N$40)/LN(2)-0.5)","v":""}]
[{"$nulls":3},"","","","","","","","","",""]
[{"$nulls":3},"","","","","","","","","",""]
[{"$nulls":3},"","","","","","","","","",""]
[{"$nulls":3},{"$f":"IF(D195=\"\",\"\",LOOKUP(D195,$A$3:$A$22,$C$3:$C$22))","v":""},"","","","","","","","",""]
[{"$nulls":3},"","","","","","","","","",""]
[{"$nulls":3},"","","","","","","","","",""]
[{"$nulls":3},"","","","","","","","","",""]
[{"$nulls":3},"","","","","","","","","",""]
[{"$nulls":3},"","","","","","","","","",""]
[{"$nulls":3},{"$f":"IF(D201=\"\",\"\",LOOKUP(D201,$A$3:$A$22,$C$3:$C$22))","v":""},"","","","",{"$f":"IF(I201=\"\",\"\",LOOKUP(I201,$A$3:$A$22,$C$3:$C$22))","v":""},"","","",""]
[{"$nulls":3},"","","","","","","","","",""]
[{"$nulls":3},{"$f":"IF(D203=\"\",\"\",LOOKUP(D203,$A$3:$A$22,$C$3:$C$22))","v":""},"","","","","","","","",""]
[{"$nulls":3},"","","","","","","","","",""]
[{"$nulls":3},"","","","","","","","","",""]
[{"$nulls":3},"","","","","","","","","",""]
[{"$nulls":3},"","","","","","","","","",""]
[{"$nulls":3},"","","","","","","","","",""]
[{"$nulls":3},"","","","","","","","","",""]
[{"$nulls":3},"","","","","","","","","",""]
[{"$nulls":3},{"$f":"IF(D211=\"\",\"\",LOOKUP(D211,$A$3:$A$22,$C$3:$C$22))","v":""},"","","","",{"$f":"IF(I211=\"\",\"\",LOOKUP(I211,$A$3:$A$22,$C$3:$C$22))","v":""},"","","",""]
[{"$nulls":3},"","","","","","","","","",""]
[{"$nulls":3},"","","","","","","","","",""]
[{"$nulls":3},"","","","","","","","","",""]
[{"$nulls":3},"","","","","","","","","",""]
[{"$nulls":3},"","","","","","","","","",""]
[{"$nulls":3},"","","","","","","","","",""]
[{"$nulls":3},"","","","","","","","","",""]
[{"$nulls":3},"","","","","","","","","",""]
[{"$nulls":3},"","","","","","","","","",""]
[{"$nulls":3},"","","","","",{"$f":"IF(I221=\"\",\"\",LOOKUP(I221,$A$3:$A$22,$C$3:$C$22))","v":""},"","","",""]
[{"$nulls":3},"","","","","","","","","",""]
[{"$nulls":3},"","","","","","","","","",""]
[{"$nulls":3},"","","","","","","","","",""]
[{"$nulls":3},"","","","","","","","","",""]
[{"$nulls":3},"","","","","","","","","",""]
[{"$nulls":3},{"$f":"IF(D227=\"\",\"\",LOOKUP(D227,$A$3:$A$22,$C$3:$C$22))","v":""},"","","","","","","","",""]
[{"$nulls":3},"","","","","","","","","",""]
[{"$nulls":3},"","","","","","","","","",""]
[{"$nulls":3},"","","","","","","","","",""]
[null,null,"Media Lot 2","","","","","",{"$f":"IF(I231=\"\",\"\",LOOKUP(I231,$A$3:$A$22,$C$3:$C$22))","v":""},"","","",""]
[{"$nulls":3},"","","","","","","","","",""]
[{"$nulls":3},"","","","","","","","","",""]
[{"$nulls":3},"","","","","","","","","",""]
[{"$nulls":3},"","","","","","","","","",""]
[{"$nulls":3},"","","","","","","","","",""]
[{"$nulls":3},"","","","","","","","","",""]
[{"$nulls":3},"","","","","","","","","",""]
[{"$nulls":3},"","","","","","","","","",""]
[{"$nulls":3},"","","","","","","","","",""]
[{"$nulls":3},"","","","","",{"$f":"IF(I241=\"\",\"\",LOOKUP(I241,$A$3:$A$22,$C$3:$C$22))","v":""},"","","",""]
[{"$nulls":3},"","","","","","","","","",""]
[{"$nulls":3},{"$f":"IF(D243=\"\",\"\",LOOKUP(D243,$A$3:$A$22,$C$3:$C$22))","v":""},"","","","","","","","",""]
[{"$nulls":3},"","","","","","","","","",""]
[{"$nulls":3},"","","","","","","","","",""]
[{"$nulls":3},"","","","","","","","","",""]
[{"$nulls":3},"","","","","","","","","",""]
[{"$nulls":3},"","","","","","","","","",""]
[{"$nulls":3},"","","","","","","","","",""]
[{"$nulls":3},"","","","","","","","","",""]
[{"$nulls":3},"","","","","",{"$f":"IF(I251=\"\",\"\",LOOKUP(I251,$A$3:$A$22,$C$3:$C$22))","v":""},"","","",""]
[{"$nulls":3},"","","","","","","","","",""]
[{"$nulls":3},"","","","","","","","","",""]
[{"$nulls":3},"","","","","","","","","",""]
[{"$nulls":3},"","","","","","","","","",""]
[{"$nulls":3},"","","","","","","","","",""]
[{"$nulls":3},"","","","","","","","","",""]
[{"$nulls":3},"","","","","","","","","",""]
[{"$nulls":3},{"$f":"IF(D259=\"\",\"\",LOOKUP(D259,$A$3:$A$22,$C$3:$C$22))","v":""},"","","","","","","","",""]
[{"$nulls":3},"","","","","","","","","",""]
[{"$nulls":3},"","","","","",{"$f":"IF(I261=\"\",\"\",LOOKUP(I261,$A$3:$A$22,$C$3:$C$22))","v":""},"","","",""]
[{"$nulls":3},"","","","","","","","","",""]
[{"$nulls":3},"","","","","","","","","",""]
[{"$nulls":3},"","","","","","","","","",""]
[{"$nulls":3},"","","","","","","","","",""]
[{"$nulls":3},"","","","","","","","","",""]
[{"$nulls":3},"","","","","","","","","",""]
[{"$nulls":3},"","","","","","","","","",""]
[{"$nulls":3},"","","","","","","","","",""]
[{"$nulls":3},"","","","","","","","","",""]
[null,null,"Media Lot 3","","","","","",{"$f":"IF(I271=\"\",\"\",LOOKUP(I271,$A$3:$A$22,$C$3:$C$22))","v":""},"","","",""]
[{"$nulls":3},"","","","","","","","","",""]
[{"$nulls":3},"","","","","","","","","",""]
[{"$nulls":3},"","","","","","","","","",""]
[{"$nulls":3},{"$f":"IF(D275=\"\",\"\",LOOKUP(D275,$A$3:$A$22,$C$3:$C$22))","v":""},"","","","","","","","",""]
[{"$nulls":3},"","","","","","","","","",""]
[{"$nulls":3},"","","","","","","","","",""]
[{"$nulls":3},"","","","","","","","","",""]
[{"$nulls":3},"","","","","","","","","",""]
[{"$nulls":3},"","","","","","","","","",""]
[{"$nulls":3},"","","","","",{"$f":"IF(I281=\"\",\"\",LOOKUP(I281,$A$3:$A$22,$C$3:$C$22))","v":""},"","","",""]
[{"$nulls":3},"","","","","","","","","",""]
[{"$nulls":3},"","","","","","","","","",""]
[{"$nulls":3},"","","","","","","","","",""]
[{"$nulls":3},"","","","","","","","","",""]
[{"$nulls":3},"","","","","","","","","",""]
[{"$nulls":3},"","","","","","","","","",""]
[{"$nulls":3},"","","","","","","","","",""]
[{"$nulls":3},"","","","","","","","","",""]
[{"$nulls":3},"","","","","","","","","",""]
[{"$nulls":3},{"$f":"IF(D291=\"\",\"\",LOOKUP(D291,$A$3:$A$22,$C$3:$C$22))","v":""},"","","","",{"$f":"IF(I291=\"\",\"\",LOOKUP(I291,$A$3:$A$22,$C$3:$C$22))","v":""},"","","",""]
[{"$nulls":3},"","","","","","","","","",""]
[{"$nulls":3},"","","","","","","","","",""]
[{"$nulls":3},"","","","","","","","","",""]
[{"$nulls":3},"","","","","","","","","",""]
[{"$nulls":3},"","","","","","","","","",""]
[{"$nulls":3},"","","","","","","","","",""]
[{"$nulls":3},"","","","","","","","","",""]
[{"$nulls":3},"","","","","","","","","",""]
[{"$nulls":3},"","","","","","","","","",""]
[{"$nulls":3},"","","","","",{"$f":"IF(I301=\"\",\"\",LOOKUP(I301,$A$3:$A$22,$C$3:$C$22))","v":""},"","","",""]
[{"$nulls":3},"","","","","","","","","",""]
[{"$nulls":3},"","","","","","","","","",""]
[{"$nulls":3},"","","","","","","","","",""]
[{"$nulls":3},"","","","","","","","","",""]
[{"$nulls":3},"","","","","","","","","",""]
[{"$nulls":3},{"$f":"IF(D307=\"\",\"\",LOOKUP(D307,$A$3:$A$22,$C$3:$C$22))","v":""},"","","","","","","","",""]
[{"$nulls":3},"","","","","","","","","",""]
[{"$nulls":3},"","","","","","","","","",""]
[{"$nulls":3},"","","","","","","","","",""]
[]
[null,null,"Raw Data Entry","Lab 1","Lab 2","Lab 3","Lab 4","Lab 5","Lab 6","Lab 7","Lab 8","Lab 9","Lab 10"]
[null,null,"Media Lot 1"]
{"$rows_empty":39}
[null,null,"Media Lot 2"]
{"$rows_empty":39}
[null,null,"Media Lot 3"]

{"sheet":"Strain 7 control","index":17,"n_rows":271,"n_cols":16,"rows_kept":271,"merged":[[0,4,0,6]]}
[{"$f":"'Range Summary'!H2","v":"QC7"},{"$f":"'Range Summary'!B17","v":"Control"},"Control",null,"Go to Raw Data Entry area"]
["MIC","Midpoint MIC","Mid Log2MIC","Lab 1","Lab 2","Lab 3","Lab 4","Lab 5","Lab 6","Lab 7","Lab 8","Lab 9","Lab 10","All labs","Norm"]
[{"v":1E-3,"d":"0.001"},{"$f":"2^C3","v":{"v":6.9053396600248776E-4,"d":"0.000691"}},-10.5,{"$f":"IF(COUNTIF(D69:D188,-10.5)=0,\"\",COUNTIF(D69:D188,-10.5))","v":""},{"$f":"IF(COUNTIF(E69:E188,-10.5)=0,\"\",COUNTIF(E69:E188,-10.5))","v":""},{"$f":"IF(COUNTIF(F69:F188,-10.5)=0,\"\",COUNTIF(F69:F188,-10.5))","v":""},"","",{"$f":"IF(COUNTIF(I69:I188,-10.5)=0,\"\",COUNTIF(I69:I188,-10.5))","v":""},{"$f":"IF(COUNTIF(J69:J188,-10.5)=0,\"\",COUNTIF(J69:J188,-10.5))","v":""},"","","",{"$f":"SUM(D3:M3)","v":0},{"$f":"IF(D69=\"\",0,ROUND(N$33*NORMDIST(C3+0.5,N$34,N$36,TRUE),0))","v":0}]
[{"v":2E-3,"d":"0.002"},{"$f":"2^C4","v":{"v":1.3810679320049757E-3,"d":"0.001381"}},-9.5,{"$f":"IF(COUNTIF(D69:D188,-9.5)=0,\"\",COUNTIF(D69:D188,-9.5))","v":""},{"$f":"IF(COUNTIF(E69:E188,-9.5)=0,\"\",COUNTIF(E69:E188,-9.5))","v":""},{"$f":"IF(COUNTIF(F69:F188,-9.5)=0,\"\",COUNTIF(F69:F188,-9.5))","v":""},"","",{"$f":"IF(COUNTIF(I69:I188,-9.5)=0,\"\",COUNTIF(I69:I188,-9.5))","v":""},{"$f":"IF(COUNTIF(J69:J188,-9.5)=0,\"\",COUNTIF(J69:J188,-9.5))","v":""},"","","",0,{"$f":"IF(D69=\"\",0,ROUND(N$33*NORMDIST(C4+0.5,N$34,N$36,TRUE),0)-SUM(O2:O$3))","v":0}]
[0.004,{"v":2.7621358640099515E-3,"d":"0.002762"},-8.5,{"$f":"IF(COUNTIF(D69:D188,-8.5)=0,\"\",COUNTIF(D69:D188,-8.5))","v":""},{"$f":"IF(COUNTIF(E69:E188,-8.5)=0,\"\",COUNTIF(E69:E188,-8.5))","v":""},{"$f":"IF(COUNTIF(F69:F188,-8.5)=0,\"\",COUNTIF(F69:F188,-8.5))","v":""},"","",{"$f":"IF(COUNTIF(I69:I188,-8.5)=0,\"\",COUNTIF(I69:I188,-8.5))","v":""},{"$f":"IF(COUNTIF(J69:J188,-8.5)=0,\"\",COUNTIF(J69:J188,-8.5))","v":""},"","","",0,{"$f":"IF(D69=\"\",0,ROUND(N$33*NORMDIST(C5+0.5,N$34,N$36,TRUE),0)-SUM(O$3:O3))","v":0}]
[0.008,{"v":0.005524271728019904,"d":"0.005524"},-7.5,{"$f":"IF(COUNTIF(D69:D188,-7.5)=0,\"\",COUNTIF(D69:D188,-7.5))","v":""},{"$f":"IF(COUNTIF(E69:E188,-7.5)=0,\"\",COUNTIF(E69:E188,-7.5))","v":""},{"$f":"IF(COUNTIF(F69:F188,-7.5)=0,\"\",COUNTIF(F69:F188,-7.5))","v":""},"","",{"$f":"IF(COUNTIF(I69:I188,-7.5)=0,\"\",COUNTIF(I69:I188,-7.5))","v":""},{"$f":"IF(COUNTIF(J69:J188,-7.5)=0,\"\",COUNTIF(J69:J188,-7.5))","v":""},"","","",{"$f":"SUM(D6:M6)","v":0},{"$f":"IF(D69=\"\",0,ROUND(N$33*NORMDIST(C6+0.5,N$34,N$36,TRUE),0)-SUM(O$3:O5))","v":0}]
[0.016,{"v":0.011048543456039808,"d":"0.011049"},-6.5,{"$f":"IF(COUNTIF(D69:D188,-6.5)=0,\"\",COUNTIF(D69:D188,-6.5))","v":""},{"$f":"IF(COUNTIF(E69:E188,-6.5)=0,\"\",COUNTIF(E69:E188,-6.5))","v":""},{"$f":"IF(COUNTIF(F69:F188,-6.5)=0,\"\",COUNTIF(F69:F188,-6.5))","v":""},"","",{"$f":"IF(COUNTIF(I69:I188,-6.5)=0,\"\",COUNTIF(I69:I188,-6.5))","v":""},{"$f":"IF(COUNTIF(J69:J188,-6.5)=0,\"\",COUNTIF(J69:J188,-6.5))","v":""},"","","",0,{"$f":"IF(D69=\"\",0,ROUND(N$33*NORMDIST(C7+0.5,N$34,N$36,TRUE),0)-SUM(O$3:O6))","v":0}]
[0.03,{"v":0.022097086912079608,"d":"0.022097"},-5.5,{"$f":"IF(COUNTIF(D69:D188,-5.5)=0,\"\",COUNTIF(D69:D188,-5.5))","v":""},{"$f":"IF(COUNTIF(E69:E188,-5.5)=0,\"\",COUNTIF(E69:E188,-5.5))","v":""},{"$f":"IF(COUNTIF(F69:F188,-5.5)=0,\"\",COUNTIF(F69:F188,-5.5))","v":""},"","",{"$f":"IF(COUNTIF(I69:I188,-5.5)=0,\"\",COUNTIF(I69:I188,-5.5))","v":""},{"$f":"IF(COUNTIF(J69:J188,-5.5)=0,\"\",COUNTIF(J69:J188,-5.5))","v":""},"","","",0,{"$f":"IF(D69=\"\",0,ROUND(N$33*NORMDIST(C8+0.5,N$34,N$36,TRUE),0)-SUM(O$3:O7))","v":0}]
[0.06,{"v":0.04419417382415922,"d":"0.044194"},-4.5,{"$f":"IF(COUNTIF(D69:D188,-4.5)=0,\"\",COUNTIF(D69:D188,-4.5))","v":""},{"$f":"IF(COUNTIF(E69:E188,-4.5)=0,\"\",COUNTIF(E69:E188,-4.5))","v":""},{"$f":"IF(COUNTIF(F69:F188,-4.5)=0,\"\",COUNTIF(F69:F188,-4.5))","v":""},"","",{"$f":"IF(COUNTIF(I69:I188,-4.5)=0,\"\",COUNTIF(I69:I188,-4.5))","v":""},{"$f":"IF(COUNTIF(J69:J188,-4.5)=0,\"\",COUNTIF(J69:J188,-4.5))","v":""},"","","",0,{"$f":"IF(D69=\"\",0,ROUND(N$33*NORMDIST(C9+0.5,N$34,N$36,TRUE),0)-SUM(O$3:O8))","v":0}]
[0.13,{"v":0.08838834764831845,"d":"0.088388"},-3.5,{"$f":"IF(COUNTIF(D69:D188,-3.5)=0,\"\",COUNTIF(D69:D188,-3.5))","v":""},{"$f":"IF(COUNTIF(E69:E188,-3.5)=0,\"\",COUNTIF(E69:E188,-3.5))","v":""},{"$f":"IF(COUNTIF(F69:F188,-3.5)=0,\"\",COUNTIF(F69:F188,-3.5))","v":""},"","",{"$f":"IF(COUNTIF(I69:I188,-3.5)=0,\"\",COUNTIF(I69:I188,-3.5))","v":""},{"$f":"IF(COUNTIF(J69:J188,-3.5)=0,\"\",COUNTIF(J69:J188,-3.5))","v":""},"","","",0,{"$f":"IF(D69=\"\",0,ROUND(N$33*NORMDIST(C10+0.5,N$34,N$36,TRUE),0)-SUM(O$3:O9))","v":0}]
[0.25,{"v":0.17677669529663687,"d":"0.176777"},-2.5,{"$f":"IF(COUNTIF(D69:D188,-2.5)=0,\"\",COUNTIF(D69:D188,-2.5))","v":""},{"$f":"IF(COUNTIF(E69:E188,-2.5)=0,\"\",COUNTIF(E69:E188,-2.5))","v":""},{"$f":"IF(COUNTIF(F69:F188,-2.5)=0,\"\",COUNTIF(F69:F188,-2.5))","v":""},"","",{"$f":"IF(COUNTIF(I69:I188,-2.5)=0,\"\",COUNTIF(I69:I188,-2.5))","v":""},{"$f":"IF(COUNTIF(J69:J188,-2.5)=0,\"\",COUNTIF(J69:J188,-2.5))","v":""},"","","",0,{"$f":"IF(D69=\"\",0,ROUND(N$33*NORMDIST(C11+0.5,N$34,N$36,TRUE),0)-SUM(O$3:O10))","v":0}]
[0.5,{"v":0.3535533905932738,"d":"0.353553"},-1.5,{"$f":"IF(COUNTIF(D69:D188,-1.5)=0,\"\",COUNTIF(D69:D188,-1.5))","v":""},{"$f":"IF(COUNTIF(E69:E188,-1.5)=0,\"\",COUNTIF(E69:E188,-1.5))","v":""},{"$f":"IF(COUNTIF(F69:F188,-1.5)=0,\"\",COUNTIF(F69:F188,-1.5))","v":""},"","",{"$f":"IF(COUNTIF(I69:I188,-1.5)=0,\"\",COUNTIF(I69:I188,-1.5))","v":""},{"$f":"IF(COUNTIF(J69:J188,-1.5)=0,\"\",COUNTIF(J69:J188,-1.5))","v":""},"","","",0,{"$f":"IF(D69=\"\",0,ROUND(N$33*NORMDIST(C12+0.5,N$34,N$36,TRUE),0)-SUM(O$3:O11))","v":0}]
[1,{"v":0.7071067811865475,"d":"0.707107"},-0.5,{"$f":"IF(COUNTIF(D69:D188,-0.5)=0,\"\",COUNTIF(D69:D188,-0.5))","v":""},{"$f":"IF(COUNTIF(E69:E188,-0.5)=0,\"\",COUNTIF(E69:E188,-0.5))","v":""},{"$f":"IF(COUNTIF(F69:F188,-0.5)=0,\"\",COUNTIF(F69:F188,-0.5))","v":""},"","",{"$f":"IF(COUNTIF(I69:I188,-0.5)=0,\"\",COUNTIF(I69:I188,-0.5))","v":""},{"$f":"IF(COUNTIF(J69:J188,-0.5)=0,\"\",COUNTIF(J69:J188,-0.5))","v":""},"","","",0,{"$f":"IF(D69=\"\",0,ROUND(N$33*NORMDIST(C13+0.5,N$34,N$36,TRUE),0)-SUM(O$3:O12))","v":0}]
[2,{"v":1.4142135623730951,"d":"1.414214"},0.5,{"$f":"IF(COUNTIF(D69:D188,0.5)=0,\"\",COUNTIF(D69:D188,0.5))","v":""},{"$f":"IF(COUNTIF(E69:E188,0.5)=0,\"\",COUNTIF(E69:E188,0.5))","v":""},{"$f":"IF(COUNTIF(F69:F188,0.5)=0,\"\",COUNTIF(F69:F188,0.5))","v":""},"","",{"$f":"IF(COUNTIF(I69:I188,0.5)=0,\"\",COUNTIF(I69:I188,0.5))","v":""},{"$f":"IF(COUNTIF(J69:J188,0.5)=0,\"\",COUNTIF(J69:J188,0.5))","v":""},"","","",0,{"$f":"IF(D69=\"\",0,ROUND(N$33*NORMDIST(C14+0.5,N$34,N$36,TRUE),0)-SUM(O$3:O13))","v":0}]
[4,{"v":2.82842712474619,"d":"2.828427"},1.5,{"$f":"IF(COUNTIF(D69:D188,1.5)=0,\"\",COUNTIF(D69:D188,1.5))","v":""},{"$f":"IF(COUNTIF(E69:E188,1.5)=0,\"\",COUNTIF(E69:E188,1.5))","v":""},{"$f":"IF(COUNTIF(F69:F188,1.5)=0,\"\",COUNTIF(F69:F188,1.5))","v":""},"","",{"$f":"IF(COUNTIF(I69:I188,1.5)=0,\"\",COUNTIF(I69:I188,1.5))","v":""},{"$f":"IF(COUNTIF(J69:J188,1.5)=0,\"\",COUNTIF(J69:J188,1.5))","v":""},"","","",0,{"$f":"IF(D69=\"\",0,ROUND(N$33*NORMDIST(C15+0.5,N$34,N$36,TRUE),0)-SUM(O$3:O14))","v":0}]
[8,{"v":5.656854249492381,"d":"5.656854"},2.5,{"$f":"IF(COUNTIF(D69:D188,2.5)=0,\"\",COUNTIF(D69:D188,2.5))","v":""},{"$f":"IF(COUNTIF(E69:E188,2.5)=0,\"\",COUNTIF(E69:E188,2.5))","v":""},{"$f":"IF(COUNTIF(F69:F188,2.5)=0,\"\",COUNTIF(F69:F188,2.5))","v":""},"","",{"$f":"IF(COUNTIF(I69:I188,2.5)=0,\"\",COUNTIF(I69:I188,2.5))","v":""},{"$f":"IF(COUNTIF(J69:J188,2.5)=0,\"\",COUNTIF(J69:J188,2.5))","v":""},"","","",0,{"$f":"IF(D69=\"\",0,ROUND(N$33*NORMDIST(C16+0.5,N$34,N$36,TRUE),0)-SUM(O$3:O15))","v":0}]
[16,{"v":11.31370849898476,"d":"11.313708"},3.5,{"$f":"IF(COUNTIF(D69:D188,3.5)=0,\"\",COUNTIF(D69:D188,3.5))","v":""},{"$f":"IF(COUNTIF(E69:E188,3.5)=0,\"\",COUNTIF(E69:E188,3.5))","v":""},{"$f":"IF(COUNTIF(F69:F188,3.5)=0,\"\",COUNTIF(F69:F188,3.5))","v":""},"","",{"$f":"IF(COUNTIF(I69:I188,3.5)=0,\"\",COUNTIF(I69:I188,3.5))","v":""},{"$f":"IF(COUNTIF(J69:J188,3.5)=0,\"\",COUNTIF(J69:J188,3.5))","v":""},"","","",0,{"$f":"IF(D69=\"\",0,ROUND(N$33*NORMDIST(C17+0.5,N$34,N$36,TRUE),0)-SUM(O$3:O16))","v":0}]
[32,{"v":22.62741699796952,"d":"22.627417"},4.5,{"$f":"IF(COUNTIF(D69:D188,4.5)=0,\"\",COUNTIF(D69:D188,4.5))","v":""},{"$f":"IF(COUNTIF(E69:E188,4.5)=0,\"\",COUNTIF(E69:E188,4.5))","v":""},{"$f":"IF(COUNTIF(F69:F188,4.5)=0,\"\",COUNTIF(F69:F188,4.5))","v":""},"","",{"$f":"IF(COUNTIF(I69:I188,4.5)=0,\"\",COUNTIF(I69:I188,4.5))","v":""},{"$f":"IF(COUNTIF(J69:J188,4.5)=0,\"\",COUNTIF(J69:J188,4.5))","v":""},"","","",0,{"$f":"IF(D69=\"\",0,ROUND(N$33*NORMDIST(C18+0.5,N$34,N$36,TRUE),0)-SUM(O$3:O17))","v":0}]
[64,{"v":45.254833995939045,"d":"45.254834"},5.5,{"$f":"IF(COUNTIF(D69:D188,5.5)=0,\"\",COUNTIF(D69:D188,5.5))","v":""},{"$f":"IF(COUNTIF(E69:E188,5.5)=0,\"\",COUNTIF(E69:E188,5.5))","v":""},{"$f":"IF(COUNTIF(F69:F188,5.5)=0,\"\",COUNTIF(F69:F188,5.5))","v":""},"","",{"$f":"IF(COUNTIF(I69:I188,5.5)=0,\"\",COUNTIF(I69:I188,5.5))","v":""},{"$f":"IF(COUNTIF(J69:J188,5.5)=0,\"\",COUNTIF(J69:J188,5.5))","v":""},"","","",0,{"$f":"IF(D69=\"\",0,ROUND(N$33*NORMDIST(C19+0.5,N$34,N$36,TRUE),0)-SUM(O$3:O18))","v":0}]
[128,{"v":90.50966799187806,"d":"90.509668"},6.5,{"$f":"IF(COUNTIF(D69:D188,6.5)=0,\"\",COUNTIF(D69:D188,6.5))","v":""},{"$f":"IF(COUNTIF(E69:E188,6.5)=0,\"\",COUNTIF(E69:E188,6.5))","v":""},{"$f":"IF(COUNTIF(F69:F188,6.5)=0,\"\",COUNTIF(F69:F188,6.5))","v":""},"","",{"$f":"IF(COUNTIF(I69:I188,6.5)=0,\"\",COUNTIF(I69:I188,6.5))","v":""},{"$f":"IF(COUNTIF(J69:J188,6.5)=0,\"\",COUNTIF(J69:J188,6.5))","v":""},"","","",0,{"$f":"IF(D69=\"\",0,ROUND(N$33*NORMDIST(C20+0.5,N$34,N$36,TRUE),0)-SUM(O$3:O19))","v":0}]
[256,{"v":181.01933598375612,"d":"181.019336"},7.5,{"$f":"IF(COUNTIF(D69:D188,7.5)=0,\"\",COUNTIF(D69:D188,7.5))","v":""},{"$f":"IF(COUNTIF(E69:E188,7.5)=0,\"\",COUNTIF(E69:E188,7.5))","v":""},{"$f":"IF(COUNTIF(F69:F188,7.5)=0,\"\",COUNTIF(F69:F188,7.5))","v":""},"","",{"$f":"IF(COUNTIF(I69:I188,7.5)=0,\"\",COUNTIF(I69:I188,7.5))","v":""},{"$f":"IF(COUNTIF(J69:J188,7.5)=0,\"\",COUNTIF(J69:J188,7.5))","v":""},"","","",0,{"$f":"IF(D69=\"\",0,ROUND(N$33*NORMDIST(C21+0.5,N$34,N$36,TRUE),0)-SUM(O$3:O20))","v":0}]
[512,{"v":362.0386719675123,"d":"362.038672"},8.5,{"$f":"IF(COUNTIF(D69:D188,8.5)=0,\"\",COUNTIF(D69:D188,8.5))","v":""},{"$f":"IF(COUNTIF(E69:E188,8.5)=0,\"\",COUNTIF(E69:E188,8.5))","v":""},{"$f":"IF(COUNTIF(F69:F188,8.5)=0,\"\",COUNTIF(F69:F188,8.5))","v":""},"","",{"$f":"IF(COUNTIF(I69:I188,8.5)=0,\"\",COUNTIF(I69:I188,8.5))","v":""},{"$f":"IF(COUNTIF(J69:J188,8.5)=0,\"\",COUNTIF(J69:J188,8.5))","v":""},"","","",0,{"$f":"IF(D69=\"\",0,ROUND(N$33*NORMDIST(C22+0.5,N$34,N$36,TRUE),0)-SUM(O$3:O21))","v":0}]
[null,null,"Central Tendancy Stats","Lab 1","Lab 2","Lab 3","Lab 4","Lab 5","Lab 6","Lab 7","Lab 8","Lab 9","Lab 10","All labs","Control","Limits"]
[null,null,"Mean",{"$f":"IF(COUNT(D69:D188)=0,\"\",AVERAGE(D69:D188))","v":""},"","","","",{"$f":"IF(COUNT(I69:I188)=0,\"\",AVERAGE(I69:I188))","v":""},{"$f":"IF(COUNT(J69:J188)=0,\"\",AVERAGE(J69:J188))","v":""},"","","",{"$f":"IF(D69=\"\",\"\",AVERAGE(D69:M188))","v":""},{"$f":"IF(D69=\"\",\"\",ROUND(NORMINV(0.05,N34,N36),3))","v":""},{"$f":"IF(D69=\"\",\"\",ROUND(NORMINV(0.95,N34,N36),3))","v":""}]
["Calculated QC Range",null,"Median",{"$f":"IF(COUNT(D69:D188)=0,\"\",MEDIAN(D69:D188))","v":""},"","","","",{"$f":"IF(COUNT(I69:I188)=0,\"\",MEDIAN(I69:I188))","v":""},{"$f":"IF(COUNT(J69:J188)=0,\"\",MEDIAN(J69:J188))","v":""},"","","",{"$f":"IF(D69=\"\",\"\",MEDIAN(D69:M188))","v":""},{"$f":"IF(D69=\"\",\"\",ROUND(N51,3))","v":""},{"$f":"IF(D69=\"\",\"\",ROUND(N52,3))","v":""}]
[{"$f":"IF(N33=0,\"\",ROUND(2*N39,3)&\" to \"&ROUND(N40,3))","v":""},null,"Mode",{"$f":"IF(COUNT(D69:D188)=0,\"\",MODE(D69:D188))","v":""},"","","","",{"$f":"IF(COUNT(I69:I188)=0,\"\",MODE(I69:I188))","v":""},{"$f":"IF(COUNT(J69:J188)=0,\"\",MODE(J69:J188))","v":""},"","","",{"$f":"IF(D69=\"\",\"\",MODE(D69:M188))","v":""},{"$f":"IF(D69=\"\",\"\",N26-1)","v":""},{"$f":"IF(D69=\"\",\"\",N26+1)","v":""}]
["Dilution Range",null,null,"(Converted back to MIC)",{"$nulls":10},"Control","Limits"]
[{"$f":"IF(N33=0,\"\",LN(N40/N39)/LN(2))","v":""},null,"Mean",{"$f":"IF(COUNT(D69:D188)=0,\"\",2^(AVERAGE(D69:D188)+0.5))","v":""},"","","","",{"$f":"IF(COUNT(I69:I188)=0,\"\",2^(AVERAGE(I69:I188)+0.5))","v":""},{"$f":"IF(COUNT(J69:J188)=0,\"\",2^(AVERAGE(J69:J188)+0.5))","v":""},"","","",{"$f":"IF(D69=\"\",\"\",2^(AVERAGE(D69:M188)+0.5))","v":""},{"$f":"IF(D69=\"\",\"\",2^O24)","v":""},{"$f":"IF(D69=\"\",\"\",2^P24)","v":""}]
["% Obs. Captured",null,"Median",{"$f":"IF(COUNT(D69:D188)=0,\"\",2^(MEDIAN(D69:D188)+0.5))","v":""},"","","","",{"$f":"IF(COUNT(I69:I188)=0,\"\",2^(MEDIAN(I69:I188)+0.5))","v":""},{"$f":"IF(COUNT(J69:J188)=0,\"\",2^(MEDIAN(J69:J188)+0.5))","v":""},"","","",{"$f":"IF(D69=\"\",\"\",2^(MEDIAN(D69:M188)+0.5))","v":""},{"$f":"IF(D69=\"\",\"\",2^O25)","v":""},{"$f":"IF(D69=\"\",\"\",2^P25)","v":""}]
[{"$f":"IF(N33=0,\"\",((COUNTIF(D69:M188,\"<\"&LN(N40)/LN(2))-COUNTIF(D69:M188,\"<\"&LN(N39)/LN(2)))/N$33))","v":""},null,"Mode",{"$f":"IF(COUNT(D69:D188)=0,\"\",2^(MODE(D69:D188)+0.5))","v":""},"","","","",{"$f":"IF(COUNT(I69:I188)=0,\"\",2^(MODE(I69:I188)+0.5))","v":""},{"$f":"IF(COUNT(J69:J188)=0,\"\",2^(MODE(J69:J188)+0.5))","v":""},"","","",{"$f":"IF(D69=\"\",\"\",2^(MODE(D69:M188)+0.5))","v":""},{"$f":"IF(D69=\"\",\"\",2^O26)","v":""},{"$f":"IF(D69=\"\",\"\",2^P26)","v":""}]
["Prob'ty Outside Range"]
[{"$f":"IF(N33=0,\"\",N41+N42)","v":""},null,"Conventional Stats","Lab 1","Lab 2","Lab 3","Lab 4","Lab 5","Lab 6","Lab 7","Lab 8","Lab 9","Lab 10","All labs","Interlab"]
[null,null,"N",{"$f":"IF(COUNT(D69:D188)=0,\"\",COUNT(D69:D188))","v":""},"","","","",{"$f":"IF(COUNT(I69:I188)=0,\"\",COUNT(I69:I188))","v":""},{"$f":"IF(COUNT(J69:J188)=0,\"\",COUNT(J69:J188))","v":""},"","","",{"$f":"COUNT(D69:M188)","v":0},"CV"]
["CLSI QC Range",null,"GeoMean MIC (log2)",{"$f":"IF(COUNT(D69:D188)=0,\"\",AVERAGE(D69:D188))","v":""},"","","","",{"$f":"IF(COUNT(I69:I188)=0,\"\",AVERAGE(I69:I188))","v":""},{"$f":"IF(COUNT(J69:J188)=0,\"\",AVERAGE(J69:J188))","v":""},"","","",{"$f":"IF(D69=\"\",\"\",AVERAGE(D69:M188))","v":""},{"$f":"IF(D69=\"\",\"\",ABS(STDEVA(D34:M34)/N34))","v":""}]
[null,null,"GeoMean MIC",{"$f":"IF(COUNT(D69:D188)=0,\"\",2^D34)","v":""},"","","","",{"$f":"IF(COUNT(I69:I188)=0,\"\",2^I34)","v":""},{"$f":"IF(COUNT(J69:J188)=0,\"\",2^J34)","v":""},"","","",{"$f":"IF(D69=\"\",\"\",2^N34)","v":""}]
[null,null,"GeoSD (log2)",{"$f":"IF(COUNT(D69:D188)=0,\"\",STDEV(D69:D188))","v":""},"","","","",{"$f":"IF(COUNT(I69:I188)=0,\"\",STDEV(I69:I188))","v":""},{"$f":"IF(COUNT(J69:J188)=0,\"\",STDEV(J69:J188))","v":""},"","","",{"$f":"IF(D69=\"\",\"\",STDEV(D69:M188))","v":""}]
[{"$f":"IF(A35=\"\",\"\",ROUND(2^(A35+0.5),3)&\" to \"&ROUND(2^(A36+0.5),3))","v":""},null,"95% Lower Bound",{"$f":"IF(COUNT(D69:D188)=0,\"\",IF(D33=0,\"\",2^((NORMINV(0.025,D34,D36)))))","v":""},"","","","",{"$f":"IF(COUNT(I69:I188)=0,\"\",IF(I33=0,\"\",2^((NORMINV(0.025,I34,I36)))))","v":""},{"$f":"IF(COUNT(J69:J188)=0,\"\",IF(J33=0,\"\",2^((NORMINV(0.025,J34,J36)))))","v":""},"","","",{"$f":"IF(N33=0,\"\",2^((NORMINV(0.025,N34,N36))))","v":""}]
["Dilution Range",null,"95% Upper Bound",{"$f":"IF(COUNT(D69:D188)=0,\"\",IF(D33=0,\"\",2^(NORMINV(0.975,D34,D36))))","v":""},"","","","",{"$f":"IF(COUNT(I69:I188)=0,\"\",IF(I33=0,\"\",2^(NORMINV(0.975,I34,I36))))","v":""},{"$f":"IF(COUNT(J69:J188)=0,\"\",IF(J33=0,\"\",2^(NORMINV(0.975,J34,J36))))","v":""},"","","",{"$f":"IF(N33=0,\"\",2^(NORMINV(0.975,N34,N36)))","v":""}]
[{"$f":"IF(A35=\"\",\"\",A36-A35+1)","v":""},null,"Lower Bound Rounded Down",{"$f":"IF(COUNT(D69:D188)=0,\"\",IF(D33=0,\"\",2^(INT((NORMINV(0.025,D34,D36))))))","v":""},"","","","",{"$f":"IF(COUNT(I69:I188)=0,\"\",IF(I33=0,\"\",2^(INT((NORMINV(0.025,I34,I36))))))","v":""},{"$f":"IF(COUNT(J69:J188)=0,\"\",IF(J33=0,\"\",2^(INT((NORMINV(0.025,J34,J36))))))","v":""},"","","",{"$f":"IF(N33=0,\"\",2^(INT((NORMINV(0.025,N34,N36)))))","v":""}]
["CLSI% Obs. captured",null,"Upper Bound Rounded Up",{"$f":"IF(COUNT(D69:D188)=0,\"\",IF(D33=0,\"\",2^(INT((NORMINV(0.975,D34,D36)))+1)))","v":""},"","","","",{"$f":"IF(COUNT(I69:I188)=0,\"\",IF(I33=0,\"\",2^(INT((NORMINV(0.975,I34,I36)))+1)))","v":""},{"$f":"IF(COUNT(J69:J188)=0,\"\",IF(J33=0,\"\",2^(INT((NORMINV(0.975,J34,J36)))+1)))","v":""},"","","",{"$f":"IF(N33=0,\"\",2^(INT((NORMINV(0.975,N34,N36)))+1))","v":""}]
[{"$f":"IF(A35=0,\"\",(COUNTIF(D69:M188,\"<\"&A36+1)-COUNTIF(D69:M188,\"<\"&A35))/N$33)","v":""},null,"Probability of <=Lower Bound",{"$f":"IF(COUNT(D69:D188)=0,\"\",NORMDIST(LOG(D39)/LOG(2),D34,D36,TRUE))","v":""},"","","","",{"$f":"IF(COUNT(I69:I188)=0,\"\",NORMDIST(LOG(I39)/LOG(2),I34,I36,TRUE))","v":""},{"$f":"IF(COUNT(J69:J188)=0,\"\",NORMDIST(LOG(J39)/LOG(2),J34,J36,TRUE))","v":""},"","","",{"$f":"IF(D69=\"\",\"\",NORMDIST(LOG(N39)/LOG(2),N34,N36,TRUE))","v":""}]
[null,null,"Probability of >Upper Bound",{"$f":"IF(COUNT(D69:D188)=0,\"\",1-NORMDIST(LOG(D40)/LOG(2),D34,D36,TRUE))","v":""},"","","","",{"$f":"IF(COUNT(I69:I188)=0,\"\",1-NORMDIST(LOG(I40)/LOG(2),I34,I36,TRUE))","v":""},{"$f":"IF(COUNT(J69:J188)=0,\"\",1-NORMDIST(LOG(J40)/LOG(2),J34,J36,TRUE))","v":""},"","","",{"$f":"IF(D69=\"\",\"\",1-NORMDIST(LOG(N40)/LOG(2),N34,N36,TRUE))","v":""}]
[null,null,"New Range",{"$f":"IF(COUNT(D69:D188)=0,\"\",1-D41-D42)","v":""},"","","","",{"$f":"IF(COUNT(I69:I188)=0,\"\",1-I41-I42)","v":""},{"$f":"IF(COUNT(J69:J188)=0,\"\",1-J41-J42)","v":""},"","","",{"$f":"IF(D69=\"\",\"\",1-N41-N42)","v":""}]
[]
[null,null,"Order Stats","Lab 1","Lab 2","Lab 3","Lab 4","Lab 5","Lab 6","Lab 7","Lab 8","Lab 9","Lab 10","All labs","Interlab"]
[null,null,"25th %ile",{"$f":"IF(COUNT(D69:D188)=0,\"\",QUARTILE(D69:D188,1))","v":""},"","","","",{"$f":"IF(COUNT(I69:I188)=0,\"\",QUARTILE(I69:I188,1))","v":""},{"$f":"IF(COUNT(J69:J188)=0,\"\",QUARTILE(J69:J188,1))","v":""},"","","",{"$f":"IF(D69=\"\",\"\",QUARTILE(D69:M188,1))","v":""},"CV"]
[null,null,"75th %ile",{"$f":"IF(COUNT(D69:D188)=0,\"\",QUARTILE(D69:D188,3))","v":""},"","","","",{"$f":"IF(COUNT(I69:I188)=0,\"\",QUARTILE(I69:I188,3))","v":""},{"$f":"IF(COUNT(J69:J188)=0,\"\",QUARTILE(J69:J188,3))","v":""},"","","",{"$f":"IF(D69=\"\",\"\",QUARTILE(D69:M188,3))","v":""},{"$f":"IF(D69=\"\",\"\",ABS(N48/N25))","v":""}]
[null,null,"Interquartile Range",{"$f":"IF(COUNT(D69:D188)=0,\"\",IF(D47-D46=0,1,D47-D46))","v":""},"","","","",{"$f":"IF(COUNT(I69:I188)=0,\"\",IF(I47-I46=0,1,I47-I46))","v":""},{"$f":"IF(COUNT(J69:J188)=0,\"\",IF(J47-J46=0,1,J47-J46))","v":""},"","","",{"$f":"IF(D69=\"\",\"\",IF(N47-N46=0,1,N47-N46))","v":""}]
[null,null,"Minimum",{"$f":"IF(COUNT(D69:D188)=0,\"\",MIN(D69:D188))","v":""},"","","","",{"$f":"IF(COUNT(I69:I188)=0,\"\",MIN(I69:I188))","v":""},{"$f":"IF(COUNT(J69:J188)=0,\"\",MIN(J69:J188))","v":""},"","","",{"$f":"IF(D69=\"\",\"\",MIN(D69:M188))","v":""}]
[null,null,"Maximum",{"$f":"IF(COUNT(D69:D188)=0,\"\",MAX(D69:D188))","v":""},"","","","",{"$f":"IF(COUNT(I69:I188)=0,\"\",MAX(I69:I188))","v":""},{"$f":"IF(COUNT(J69:J188)=0,\"\",MAX(J69:J188))","v":""},"","","",{"$f":"IF(D69=\"\",\"\",MAX(D69:M188))","v":""}]
[null,null,"Lower Inner Fence",{"$f":"IF(COUNT(D69:D188)=0,\"\",D$46-1.5*D$48)","v":""},"","","","",{"$f":"IF(COUNT(I69:I188)=0,\"\",I$46-1.5*I$48)","v":""},{"$f":"IF(COUNT(J69:J188)=0,\"\",J$46-1.5*J$48)","v":""},"","","",{"$f":"IF(D69=\"\",\"\",N$46-1.5*N$48)","v":""}]
[null,null,"Upper Inner Fence",{"$f":"IF(COUNT(D69:D188)=0,\"\",D$47+1.5*D$48)","v":""},"","","","",{"$f":"IF(COUNT(I69:I188)=0,\"\",I$47+1.5*I$48)","v":""},{"$f":"IF(COUNT(J69:J188)=0,\"\",J$47+1.5*J$48)","v":""},"","","",{"$f":"IF(D69=\"\",\"\",N$47+1.5*N$48)","v":""}]
[null,null,"Lower Outer Fence",{"$f":"IF(COUNT(D69:D188)=0,\"\",D$46-3*D$48)","v":""},"","","","",{"$f":"IF(COUNT(I69:I188)=0,\"\",I$46-3*I$48)","v":""},{"$f":"IF(COUNT(J69:J188)=0,\"\",J$46-3*J$48)","v":""},"","","",{"$f":"IF(D69=\"\",\"\",N$46-3*N$48)","v":""}]
[null,null,"Upper Outer Fence",{"$f":"IF(COUNT(D69:D188)=0,\"\",D$47+3*D$48)","v":""},"","","","",{"$f":"IF(COUNT(I69:I188)=0,\"\",I$47+3*I$48)","v":""},{"$f":"IF(COUNT(J69:J188)=0,\"\",J$47+3*J$48)","v":""},"","","",{"$f":"IF(D69=\"\",\"\",N$47+3*N$48)","v":""}]
[null,null,"Lower Near Outliers",{"$f":"IF(COUNT(D69:D188)=0,\"\",COUNTIF(D69:D188,\"<\"&D51))","v":""},"","","","",{"$f":"IF(COUNT(I69:I188)=0,\"\",COUNTIF(I69:I188,\"<\"&I51))","v":""},{"$f":"IF(COUNT(J69:J188)=0,\"\",COUNTIF(J69:J188,\"<\"&J51))","v":""},"","","",{"$f":"IF(D69=\"\",\"\",COUNTIF(D69:M188,\"<\"&N51)-N57)","v":""}]
[null,null,"Upper Near Outliers",{"$f":"IF(COUNT(D69:D188)=0,\"\",COUNTIF(D69:D188,\">\"&D52))","v":""},"","","","",{"$f":"IF(COUNT(I69:I188)=0,\"\",COUNTIF(I69:I188,\">\"&I52))","v":""},{"$f":"IF(COUNT(J69:J188)=0,\"\",COUNTIF(J69:J188,\">\"&J52))","v":""},"","","",{"$f":"IF(D69=\"\",\"\",COUNTIF(D69:M188,\">\"&N52)-N58)","v":""}]
[null,null,"Lower Extreme Outliers",{"$f":"IF(COUNT(D69:D188)=0,\"\",COUNTIF(D69:D188,\"<\"&D53))","v":""},"","","","",{"$f":"IF(COUNT(I69:I188)=0,\"\",COUNTIF(I69:I188,\"<\"&I53))","v":""},{"$f":"IF(COUNT(J69:J188)=0,\"\",COUNTIF(J69:J188,\"<\"&J53))","v":""},"","","",{"$f":"IF(D69=\"\",\"\",COUNTIF(D69:M188,\"<\"&N53))","v":""}]
[null,null,"Upper Extreme Outliers",{"$f":"IF(COUNT(D69:D188)=0,\"\",COUNTIF(D69:D188,\">\"&D54))","v":""},"","","","",{"$f":"IF(COUNT(I69:I188)=0,\"\",COUNTIF(I69:I188,\">\"&I54))","v":""},{"$f":"IF(COUNT(J69:J188)=0,\"\",COUNTIF(J69:J188,\">\"&J54))","v":""},"","","",{"$f":"IF(D69=\"\",\"\",COUNTIF(D69:M188,\">\"&N54))","v":""}]
[]
[null,null,"Chart Control Limits","Lab 1","Lab 2","Lab 3","Lab 4","Lab 5","Lab 6","Lab 7","Lab 8","Lab 9","Lab 10"]
[null,"Mean","Lower CL",{"$f":"$O$24","v":""},{"$f":"$O$24","v":""},"","","","","","","",""]
[null,null,"Upper CL",{"$f":"$P$24","v":""},{"$f":"$P$24","v":""},"","","","","","","",""]
[null,"Median","Lower CL",{"$f":"$O$25","v":""},{"$f":"$O$25","v":""},"","","","","","","",""]
[null,null,"Upper CL",{"$f":"$P$25","v":""},{"$f":"$P$25","v":""},"","","","","","","",""]
[null,"Mode","Lower CL",{"$f":"$O$26","v":""},{"$f":"$O$26","v":""},"","","","","","","",""]
[null,null,"Upper CL",{"$f":"$P$26","v":""},{"$f":"$P$26","v":""},"","","","","","","",""]
[]
[null,null,"Log2 Converted Raw Data","Lab 1","Lab 2","Lab 3","Lab 4","Lab 5","Lab 6","Lab 7","Lab 8","Lab 9","Lab 10","Control","Limits"]
[null,null,"Media Lot 1",{"$f":"IF(D191=\"\",\"\",LOOKUP(D191,$A$3:$A$22,$C$3:$C$22))","v":""},"","","","",{"$f":"IF(I191=\"\",\"\",LOOKUP(I191,$A$3:$A$22,$C$3:$C$22))","v":""},"","","","",{"$f":"IF(D69=\"\",\"\",LN($N$39)/LN(2))","v":""},{"$f":"IF(D69=\"\",\"\",LN($N$40)/LN(2)-0.5)","v":""}]
[{"$nulls":3},"","","","","","","","","",""]
[{"$nulls":3},"","","","","","","","","",""]
[{"$nulls":3},"","","","","","","","","",""]
[{"$nulls":3},{"$f":"IF(D195=\"\",\"\",LOOKUP(D195,$A$3:$A$22,$C$3:$C$22))","v":""},"","","","","","","","",""]
[{"$nulls":3},"","","","","","","","","",""]
[{"$nulls":3},"","","","","","","","","",""]
[{"$nulls":3},"","","","","","","","","",""]
[{"$nulls":3},"","","","","","","","","",""]
[{"$nulls":3},"","","","","","","","","",""]
[{"$nulls":3},{"$f":"IF(D201=\"\",\"\",LOOKUP(D201,$A$3:$A$22,$C$3:$C$22))","v":""},"","","","",{"$f":"IF(I201=\"\",\"\",LOOKUP(I201,$A$3:$A$22,$C$3:$C$22))","v":""},"","","",""]
[{"$nulls":3},"","","","","","","","","",""]
[{"$nulls":3},{"$f":"IF(D203=\"\",\"\",LOOKUP(D203,$A$3:$A$22,$C$3:$C$22))","v":""},"","","","","","","","",""]
[{"$nulls":3},"","","","","","","","","",""]
[{"$nulls":3},"","","","","","","","","",""]
[{"$nulls":3},"","","","","","","","","",""]
[{"$nulls":3},"","","","","","","","","",""]
[{"$nulls":3},"","","","","","","","","",""]
[{"$nulls":3},"","","","","","","","","",""]
[{"$nulls":3},"","","","","","","","","",""]
[{"$nulls":3},{"$f":"IF(D211=\"\",\"\",LOOKUP(D211,$A$3:$A$22,$C$3:$C$22))","v":""},"","","","",{"$f":"IF(I211=\"\",\"\",LOOKUP(I211,$A$3:$A$22,$C$3:$C$22))","v":""},"","","",""]
[{"$nulls":3},"","","","","","","","","",""]
[{"$nulls":3},"","","","","","","","","",""]
[{"$nulls":3},"","","","","","","","","",""]
[{"$nulls":3},"","","","","","","","","",""]
[{"$nulls":3},"","","","","","","","","",""]
[{"$nulls":3},"","","","","","","","","",""]
[{"$nulls":3},"","","","","","","","","",""]
[{"$nulls":3},"","","","","","","","","",""]
[{"$nulls":3},"","","","","","","","","",""]
[{"$nulls":3},"","","","","",{"$f":"IF(I221=\"\",\"\",LOOKUP(I221,$A$3:$A$22,$C$3:$C$22))","v":""},"","","",""]
[{"$nulls":3},"","","","","","","","","",""]
[{"$nulls":3},"","","","","","","","","",""]
[{"$nulls":3},"","","","","","","","","",""]
[{"$nulls":3},"","","","","","","","","",""]
[{"$nulls":3},"","","","","","","","","",""]
[{"$nulls":3},{"$f":"IF(D227=\"\",\"\",LOOKUP(D227,$A$3:$A$22,$C$3:$C$22))","v":""},"","","","","","","","",""]
[{"$nulls":3},"","","","","","","","","",""]
[{"$nulls":3},"","","","","","","","","",""]
[{"$nulls":3},"","","","","","","","","",""]
[null,null,"Media Lot 2","","","","","",{"$f":"IF(I231=\"\",\"\",LOOKUP(I231,$A$3:$A$22,$C$3:$C$22))","v":""},"","","",""]
[{"$nulls":3},"","","","","","","","","",""]
[{"$nulls":3},"","","","","","","","","",""]
[{"$nulls":3},"","","","","","","","","",""]
[{"$nulls":3},"","","","","","","","","",""]
[{"$nulls":3},"","","","","","","","","",""]
[{"$nulls":3},"","","","","","","","","",""]
[{"$nulls":3},"","","","","","","","","",""]
[{"$nulls":3},"","","","","","","","","",""]
[{"$nulls":3},"","","","","","","","","",""]
[{"$nulls":3},"","","","","",{"$f":"IF(I241=\"\",\"\",LOOKUP(I241,$A$3:$A$22,$C$3:$C$22))","v":""},"","","",""]
[{"$nulls":3},"","","","","","","","","",""]
[{"$nulls":3},{"$f":"IF(D243=\"\",\"\",LOOKUP(D243,$A$3:$A$22,$C$3:$C$22))","v":""},"","","","","","","","",""]
[{"$nulls":3},"","","","","","","","","",""]
[{"$nulls":3},"","","","","","","","","",""]
[{"$nulls":3},"","","","","","","","","",""]
[{"$nulls":3},"","","","","","","","","",""]
[{"$nulls":3},"","","","","","","","","",""]
[{"$nulls":3},"","","","","","","","","",""]
[{"$nulls":3},"","","","","","","","","",""]
[{"$nulls":3},"","","","","",{"$f":"IF(I251=\"\",\"\",LOOKUP(I251,$A$3:$A$22,$C$3:$C$22))","v":""},"","","",""]
[{"$nulls":3},"","","","","","","","","",""]
[{"$nulls":3},"","","","","","","","","",""]
[{"$nulls":3},"","","","","","","","","",""]
[{"$nulls":3},"","","","","","","","","",""]
[{"$nulls":3},"","","","","","","","","",""]
[{"$nulls":3},"","","","","","","","","",""]
[{"$nulls":3},"","","","","","","","","",""]
[{"$nulls":3},{"$f":"IF(D259=\"\",\"\",LOOKUP(D259,$A$3:$A$22,$C$3:$C$22))","v":""},"","","","","","","","",""]
[{"$nulls":3},"","","","","","","","","",""]
[{"$nulls":3},"","","","","",{"$f":"IF(I261=\"\",\"\",LOOKUP(I261,$A$3:$A$22,$C$3:$C$22))","v":""},"","","",""]
[{"$nulls":3},"","","","","","","","","",""]
[{"$nulls":3},"","","","","","","","","",""]
[{"$nulls":3},"","","","","","","","","",""]
[{"$nulls":3},"","","","","","","","","",""]
[{"$nulls":3},"","","","","","","","","",""]
[{"$nulls":3},"","","","","","","","","",""]
[{"$nulls":3},"","","","","","","","","",""]
[{"$nulls":3},"","","","","","","","","",""]
[{"$nulls":3},"","","","","","","","","",""]
[null,null,"Media Lot 3","","","","","",{"$f":"IF(I271=\"\",\"\",LOOKUP(I271,$A$3:$A$22,$C$3:$C$22))","v":""},"","","",""]
[{"$nulls":3},"","","","","","","","","",""]
[{"$nulls":3},"","","","","","","","","",""]
[{"$nulls":3},"","","","","","","","","",""]
[{"$nulls":3},{"$f":"IF(D275=\"\",\"\",LOOKUP(D275,$A$3:$A$22,$C$3:$C$22))","v":""},"","","","","","","","",""]
[{"$nulls":3},"","","","","","","","","",""]
[{"$nulls":3},"","","","","","","","","",""]
[{"$nulls":3},"","","","","","","","","",""]
[{"$nulls":3},"","","","","","","","","",""]
[{"$nulls":3},"","","","","","","","","",""]
[{"$nulls":3},"","","","","",{"$f":"IF(I281=\"\",\"\",LOOKUP(I281,$A$3:$A$22,$C$3:$C$22))","v":""},"","","",""]
[{"$nulls":3},"","","","","","","","","",""]
[{"$nulls":3},"","","","","","","","","",""]
[{"$nulls":3},"","","","","","","","","",""]
[{"$nulls":3},"","","","","","","","","",""]
[{"$nulls":3},"","","","","","","","","",""]
[{"$nulls":3},"","","","","","","","","",""]
[{"$nulls":3},"","","","","","","","","",""]
[{"$nulls":3},"","","","","","","","","",""]
[{"$nulls":3},"","","","","","","","","",""]
[{"$nulls":3},{"$f":"IF(D291=\"\",\"\",LOOKUP(D291,$A$3:$A$22,$C$3:$C$22))","v":""},"","","","",{"$f":"IF(I291=\"\",\"\",LOOKUP(I291,$A$3:$A$22,$C$3:$C$22))","v":""},"","","",""]
[{"$nulls":3},"","","","","","","","","",""]
[{"$nulls":3},"","","","","","","","","",""]
[{"$nulls":3},"","","","","","","","","",""]
[{"$nulls":3},"","","","","","","","","",""]
[{"$nulls":3},"","","","","","","","","",""]
[{"$nulls":3},"","","","","","","","","",""]
[{"$nulls":3},"","","","","","","","","",""]
[{"$nulls":3},"","","","","","","","","",""]
[{"$nulls":3},"","","","","","","","","",""]
[{"$nulls":3},"","","","","",{"$f":"IF(I301=\"\",\"\",LOOKUP(I301,$A$3:$A$22,$C$3:$C$22))","v":""},"","","",""]
[{"$nulls":3},"","","","","","","","","",""]
[{"$nulls":3},"","","","","","","","","",""]
[{"$nulls":3},"","","","","","","","","",""]
[{"$nulls":3},"","","","","","","","","",""]
[{"$nulls":3},"","","","","","","","","",""]
[{"$nulls":3},{"$f":"IF(D307=\"\",\"\",LOOKUP(D307,$A$3:$A$22,$C$3:$C$22))","v":""},"","","","","","","","",""]
[{"$nulls":3},"","","","","","","","","",""]
[{"$nulls":3},"","","","","","","","","",""]
[{"$nulls":3},"","","","","","","","","",""]
[]
[null,null,"Raw Data Entry","Lab 1","Lab 2","Lab 3","Lab 4","Lab 5","Lab 6","Lab 7","Lab 8","Lab 9","Lab 10"]
[null,null,"Media Lot 1"]
{"$rows_empty":39}
[null,null,"Media Lot 2"]
{"$rows_empty":39}
[null,null,"Media Lot 3"]

{"sheet":"Strain 8","index":18,"n_rows":271,"n_cols":16,"rows_kept":271,"merged":[[0,4,0,6]]}
[{"$f":"'Range Summary'!I2","v":"QC8"},{"$f":"'Range Summary'!A2","v":"Test agent"},null,null,"Go to Raw Data Entry area"]
["MIC","Midpoint MIC","Mid Log2MIC","Lab 1","Lab 2","Lab 3","Lab 4","Lab 5","Lab 6","Lab 7","Lab 8","Lab 9","Lab 10","All labs","Norm"]
[{"v":1E-3,"d":"0.001"},{"$f":"2^C3","v":{"v":6.9053396600248776E-4,"d":"0.000691"}},-10.5,{"$f":"IF(COUNTIF(D69:D188,-10.5)=0,\"\",COUNTIF(D69:D188,-10.5))","v":""},{"$f":"IF(COUNTIF(E69:E188,-10.5)=0,\"\",COUNTIF(E69:E188,-10.5))","v":""},{"$f":"IF(COUNTIF(F69:F188,-10.5)=0,\"\",COUNTIF(F69:F188,-10.5))","v":""},"","",{"$f":"IF(COUNTIF(I69:I188,-10.5)=0,\"\",COUNTIF(I69:I188,-10.5))","v":""},{"$f":"IF(COUNTIF(J69:J188,-10.5)=0,\"\",COUNTIF(J69:J188,-10.5))","v":""},"","","",{"$f":"SUM(D3:M3)","v":0},{"$f":"IF(D69=\"\",0,ROUND(N$33*NORMDIST(C3+0.5,N$34,N$36,TRUE),0))","v":0}]
[{"v":2E-3,"d":"0.002"},{"v":1.3810679320049757E-3,"d":"0.001381"},-9.5,{"$f":"IF(COUNTIF(D69:D188,-9.5)=0,\"\",COUNTIF(D69:D188,-9.5))","v":""},{"$f":"IF(COUNTIF(E69:E188,-9.5)=0,\"\",COUNTIF(E69:E188,-9.5))","v":""},{"$f":"IF(COUNTIF(F69:F188,-9.5)=0,\"\",COUNTIF(F69:F188,-9.5))","v":""},"","",{"$f":"IF(COUNTIF(I69:I188,-9.5)=0,\"\",COUNTIF(I69:I188,-9.5))","v":""},{"$f":"IF(COUNTIF(J69:J188,-9.5)=0,\"\",COUNTIF(J69:J188,-9.5))","v":""},"","","",0,{"$f":"IF(D69=\"\",0,ROUND(N$33*NORMDIST(C4+0.5,N$34,N$36,TRUE),0)-SUM(O2:O$3))","v":0}]
[0.004,{"v":2.7621358640099515E-3,"d":"0.002762"},-8.5,{"$f":"IF(COUNTIF(D69:D188,-8.5)=0,\"\",COUNTIF(D69:D188,-8.5))","v":""},{"$f":"IF(COUNTIF(E69:E188,-8.5)=0,\"\",COUNTIF(E69:E188,-8.5))","v":""},{"$f":"IF(COUNTIF(F69:F188,-8.5)=0,\"\",COUNTIF(F69:F188,-8.5))","v":""},"","",{"$f":"IF(COUNTIF(I69:I188,-8.5)=0,\"\",COUNTIF(I69:I188,-8.5))","v":""},{"$f":"IF(COUNTIF(J69:J188,-8.5)=0,\"\",COUNTIF(J69:J188,-8.5))","v":""},"","","",0,{"$f":"IF(D69=\"\",0,ROUND(N$33*NORMDIST(C5+0.5,N$34,N$36,TRUE),0)-SUM(O$3:O3))","v":0}]
[0.008,{"v":0.005524271728019904,"d":"0.005524"},-7.5,{"$f":"IF(COUNTIF(D69:D188,-7.5)=0,\"\",COUNTIF(D69:D188,-7.5))","v":""},{"$f":"IF(COUNTIF(E69:E188,-7.5)=0,\"\",COUNTIF(E69:E188,-7.5))","v":""},{"$f":"IF(COUNTIF(F69:F188,-7.5)=0,\"\",COUNTIF(F69:F188,-7.5))","v":""},"","",{"$f":"IF(COUNTIF(I69:I188,-7.5)=0,\"\",COUNTIF(I69:I188,-7.5))","v":""},{"$f":"IF(COUNTIF(J69:J188,-7.5)=0,\"\",COUNTIF(J69:J188,-7.5))","v":""},"","","",{"$f":"SUM(D6:M6)","v":0},{"$f":"IF(D69=\"\",0,ROUND(N$33*NORMDIST(C6+0.5,N$34,N$36,TRUE),0)-SUM(O$3:O5))","v":0}]
[0.016,{"v":0.011048543456039808,"d":"0.011049"},-6.5,{"$f":"IF(COUNTIF(D69:D188,-6.5)=0,\"\",COUNTIF(D69:D188,-6.5))","v":""},{"$f":"IF(COUNTIF(E69:E188,-6.5)=0,\"\",COUNTIF(E69:E188,-6.5))","v":""},{"$f":"IF(COUNTIF(F69:F188,-6.5)=0,\"\",COUNTIF(F69:F188,-6.5))","v":""},"","",{"$f":"IF(COUNTIF(I69:I188,-6.5)=0,\"\",COUNTIF(I69:I188,-6.5))","v":""},{"$f":"IF(COUNTIF(J69:J188,-6.5)=0,\"\",COUNTIF(J69:J188,-6.5))","v":""},"","","",0,{"$f":"IF(D69=\"\",0,ROUND(N$33*NORMDIST(C7+0.5,N$34,N$36,TRUE),0)-SUM(O$3:O6))","v":0}]
[0.03,{"v":0.022097086912079608,"d":"0.022097"},-5.5,{"$f":"IF(COUNTIF(D69:D188,-5.5)=0,\"\",COUNTIF(D69:D188,-5.5))","v":""},{"$f":"IF(COUNTIF(E69:E188,-5.5)=0,\"\",COUNTIF(E69:E188,-5.5))","v":""},{"$f":"IF(COUNTIF(F69:F188,-5.5)=0,\"\",COUNTIF(F69:F188,-5.5))","v":""},"","",{"$f":"IF(COUNTIF(I69:I188,-5.5)=0,\"\",COUNTIF(I69:I188,-5.5))","v":""},{"$f":"IF(COUNTIF(J69:J188,-5.5)=0,\"\",COUNTIF(J69:J188,-5.5))","v":""},"","","",0,{"$f":"IF(D69=\"\",0,ROUND(N$33*NORMDIST(C8+0.5,N$34,N$36,TRUE),0)-SUM(O$3:O7))","v":0}]
[0.06,{"v":0.04419417382415922,"d":"0.044194"},-4.5,{"$f":"IF(COUNTIF(D69:D188,-4.5)=0,\"\",COUNTIF(D69:D188,-4.5))","v":""},{"$f":"IF(COUNTIF(E69:E188,-4.5)=0,\"\",COUNTIF(E69:E188,-4.5))","v":""},{"$f":"IF(COUNTIF(F69:F188,-4.5)=0,\"\",COUNTIF(F69:F188,-4.5))","v":""},"","",{"$f":"IF(COUNTIF(I69:I188,-4.5)=0,\"\",COUNTIF(I69:I188,-4.5))","v":""},{"$f":"IF(COUNTIF(J69:J188,-4.5)=0,\"\",COUNTIF(J69:J188,-4.5))","v":""},"","","",0,{"$f":"IF(D69=\"\",0,ROUND(N$33*NORMDIST(C9+0.5,N$34,N$36,TRUE),0)-SUM(O$3:O8))","v":0}]
[0.13,{"v":0.08838834764831845,"d":"0.088388"},-3.5,{"$f":"IF(COUNTIF(D69:D188,-3.5)=0,\"\",COUNTIF(D69:D188,-3.5))","v":""},{"$f":"IF(COUNTIF(E69:E188,-3.5)=0,\"\",COUNTIF(E69:E188,-3.5))","v":""},{"$f":"IF(COUNTIF(F69:F188,-3.5)=0,\"\",COUNTIF(F69:F188,-3.5))","v":""},"","",{"$f":"IF(COUNTIF(I69:I188,-3.5)=0,\"\",COUNTIF(I69:I188,-3.5))","v":""},{"$f":"IF(COUNTIF(J69:J188,-3.5)=0,\"\",COUNTIF(J69:J188,-3.5))","v":""},"","","",0,{"$f":"IF(D69=\"\",0,ROUND(N$33*NORMDIST(C10+0.5,N$34,N$36,TRUE),0)-SUM(O$3:O9))","v":0}]
[0.25,{"v":0.17677669529663687,"d":"0.176777"},-2.5,{"$f":"IF(COUNTIF(D69:D188,-2.5)=0,\"\",COUNTIF(D69:D188,-2.5))","v":""},{"$f":"IF(COUNTIF(E69:E188,-2.5)=0,\"\",COUNTIF(E69:E188,-2.5))","v":""},{"$f":"IF(COUNTIF(F69:F188,-2.5)=0,\"\",COUNTIF(F69:F188,-2.5))","v":""},"","",{"$f":"IF(COUNTIF(I69:I188,-2.5)=0,\"\",COUNTIF(I69:I188,-2.5))","v":""},{"$f":"IF(COUNTIF(J69:J188,-2.5)=0,\"\",COUNTIF(J69:J188,-2.5))","v":""},"","","",0,{"$f":"IF(D69=\"\",0,ROUND(N$33*NORMDIST(C11+0.5,N$34,N$36,TRUE),0)-SUM(O$3:O10))","v":0}]
[0.5,{"v":0.3535533905932738,"d":"0.353553"},-1.5,{"$f":"IF(COUNTIF(D69:D188,-1.5)=0,\"\",COUNTIF(D69:D188,-1.5))","v":""},{"$f":"IF(COUNTIF(E69:E188,-1.5)=0,\"\",COUNTIF(E69:E188,-1.5))","v":""},{"$f":"IF(COUNTIF(F69:F188,-1.5)=0,\"\",COUNTIF(F69:F188,-1.5))","v":""},"","",{"$f":"IF(COUNTIF(I69:I188,-1.5)=0,\"\",COUNTIF(I69:I188,-1.5))","v":""},{"$f":"IF(COUNTIF(J69:J188,-1.5)=0,\"\",COUNTIF(J69:J188,-1.5))","v":""},"","","",0,{"$f":"IF(D69=\"\",0,ROUND(N$33*NORMDIST(C12+0.5,N$34,N$36,TRUE),0)-SUM(O$3:O11))","v":0}]
[1,{"v":0.7071067811865475,"d":"0.707107"},-0.5,{"$f":"IF(COUNTIF(D69:D188,-0.5)=0,\"\",COUNTIF(D69:D188,-0.5))","v":""},{"$f":"IF(COUNTIF(E69:E188,-0.5)=0,\"\",COUNTIF(E69:E188,-0.5))","v":""},{"$f":"IF(COUNTIF(F69:F188,-0.5)=0,\"\",COUNTIF(F69:F188,-0.5))","v":""},"","",{"$f":"IF(COUNTIF(I69:I188,-0.5)=0,\"\",COUNTIF(I69:I188,-0.5))","v":""},{"$f":"IF(COUNTIF(J69:J188,-0.5)=0,\"\",COUNTIF(J69:J188,-0.5))","v":""},"","","",0,{"$f":"IF(D69=\"\",0,ROUND(N$33*NORMDIST(C13+0.5,N$34,N$36,TRUE),0)-SUM(O$3:O12))","v":0}]
[2,{"v":1.4142135623730951,"d":"1.414214"},0.5,{"$f":"IF(COUNTIF(D69:D188,0.5)=0,\"\",COUNTIF(D69:D188,0.5))","v":""},{"$f":"IF(COUNTIF(E69:E188,0.5)=0,\"\",COUNTIF(E69:E188,0.5))","v":""},{"$f":"IF(COUNTIF(F69:F188,0.5)=0,\"\",COUNTIF(F69:F188,0.5))","v":""},"","",{"$f":"IF(COUNTIF(I69:I188,0.5)=0,\"\",COUNTIF(I69:I188,0.5))","v":""},{"$f":"IF(COUNTIF(J69:J188,0.5)=0,\"\",COUNTIF(J69:J188,0.5))","v":""},"","","",0,{"$f":"IF(D69=\"\",0,ROUND(N$33*NORMDIST(C14+0.5,N$34,N$36,TRUE),0)-SUM(O$3:O13))","v":0}]
[4,{"v":2.82842712474619,"d":"2.828427"},1.5,{"$f":"IF(COUNTIF(D69:D188,1.5)=0,\"\",COUNTIF(D69:D188,1.5))","v":""},{"$f":"IF(COUNTIF(E69:E188,1.5)=0,\"\",COUNTIF(E69:E188,1.5))","v":""},{"$f":"IF(COUNTIF(F69:F188,1.5)=0,\"\",COUNTIF(F69:F188,1.5))","v":""},"","",{"$f":"IF(COUNTIF(I69:I188,1.5)=0,\"\",COUNTIF(I69:I188,1.5))","v":""},{"$f":"IF(COUNTIF(J69:J188,1.5)=0,\"\",COUNTIF(J69:J188,1.5))","v":""},"","","",0,{"$f":"IF(D69=\"\",0,ROUND(N$33*NORMDIST(C15+0.5,N$34,N$36,TRUE),0)-SUM(O$3:O14))","v":0}]
[8,{"v":5.656854249492381,"d":"5.656854"},2.5,{"$f":"IF(COUNTIF(D69:D188,2.5)=0,\"\",COUNTIF(D69:D188,2.5))","v":""},{"$f":"IF(COUNTIF(E69:E188,2.5)=0,\"\",COUNTIF(E69:E188,2.5))","v":""},{"$f":"IF(COUNTIF(F69:F188,2.5)=0,\"\",COUNTIF(F69:F188,2.5))","v":""},"","",{"$f":"IF(COUNTIF(I69:I188,2.5)=0,\"\",COUNTIF(I69:I188,2.5))","v":""},{"$f":"IF(COUNTIF(J69:J188,2.5)=0,\"\",COUNTIF(J69:J188,2.5))","v":""},"","","",0,{"$f":"IF(D69=\"\",0,ROUND(N$33*NORMDIST(C16+0.5,N$34,N$36,TRUE),0)-SUM(O$3:O15))","v":0}]
[16,{"v":11.31370849898476,"d":"11.313708"},3.5,{"$f":"IF(COUNTIF(D69:D188,3.5)=0,\"\",COUNTIF(D69:D188,3.5))","v":""},{"$f":"IF(COUNTIF(E69:E188,3.5)=0,\"\",COUNTIF(E69:E188,3.5))","v":""},{"$f":"IF(COUNTIF(F69:F188,3.5)=0,\"\",COUNTIF(F69:F188,3.5))","v":""},"","",{"$f":"IF(COUNTIF(I69:I188,3.5)=0,\"\",COUNTIF(I69:I188,3.5))","v":""},{"$f":"IF(COUNTIF(J69:J188,3.5)=0,\"\",COUNTIF(J69:J188,3.5))","v":""},"","","",0,{"$f":"IF(D69=\"\",0,ROUND(N$33*NORMDIST(C17+0.5,N$34,N$36,TRUE),0)-SUM(O$3:O16))","v":0}]
[32,{"v":22.62741699796952,"d":"22.627417"},4.5,{"$f":"IF(COUNTIF(D69:D188,4.5)=0,\"\",COUNTIF(D69:D188,4.5))","v":""},{"$f":"IF(COUNTIF(E69:E188,4.5)=0,\"\",COUNTIF(E69:E188,4.5))","v":""},{"$f":"IF(COUNTIF(F69:F188,4.5)=0,\"\",COUNTIF(F69:F188,4.5))","v":""},"","",{"$f":"IF(COUNTIF(I69:I188,4.5)=0,\"\",COUNTIF(I69:I188,4.5))","v":""},{"$f":"IF(COUNTIF(J69:J188,4.5)=0,\"\",COUNTIF(J69:J188,4.5))","v":""},"","","",0,{"$f":"IF(D69=\"\",0,ROUND(N$33*NORMDIST(C18+0.5,N$34,N$36,TRUE),0)-SUM(O$3:O17))","v":0}]
[64,{"v":45.254833995939045,"d":"45.254834"},5.5,{"$f":"IF(COUNTIF(D69:D188,5.5)=0,\"\",COUNTIF(D69:D188,5.5))","v":""},{"$f":"IF(COUNTIF(E69:E188,5.5)=0,\"\",COUNTIF(E69:E188,5.5))","v":""},{"$f":"IF(COUNTIF(F69:F188,5.5)=0,\"\",COUNTIF(F69:F188,5.5))","v":""},"","",{"$f":"IF(COUNTIF(I69:I188,5.5)=0,\"\",COUNTIF(I69:I188,5.5))","v":""},{"$f":"IF(COUNTIF(J69:J188,5.5)=0,\"\",COUNTIF(J69:J188,5.5))","v":""},"","","",0,{"$f":"IF(D69=\"\",0,ROUND(N$33*NORMDIST(C19+0.5,N$34,N$36,TRUE),0)-SUM(O$3:O18))","v":0}]
[128,{"v":90.50966799187806,"d":"90.509668"},6.5,{"$f":"IF(COUNTIF(D69:D188,6.5)=0,\"\",COUNTIF(D69:D188,6.5))","v":""},{"$f":"IF(COUNTIF(E69:E188,6.5)=0,\"\",COUNTIF(E69:E188,6.5))","v":""},{"$f":"IF(COUNTIF(F69:F188,6.5)=0,\"\",COUNTIF(F69:F188,6.5))","v":""},"","",{"$f":"IF(COUNTIF(I69:I188,6.5)=0,\"\",COUNTIF(I69:I188,6.5))","v":""},{"$f":"IF(COUNTIF(J69:J188,6.5)=0,\"\",COUNTIF(J69:J188,6.5))","v":""},"","","",0,{"$f":"IF(D69=\"\",0,ROUND(N$33*NORMDIST(C20+0.5,N$34,N$36,TRUE),0)-SUM(O$3:O19))","v":0}]
[256,{"v":181.01933598375612,"d":"181.019336"},7.5,{"$f":"IF(COUNTIF(D69:D188,7.5)=0,\"\",COUNTIF(D69:D188,7.5))","v":""},{"$f":"IF(COUNTIF(E69:E188,7.5)=0,\"\",COUNTIF(E69:E188,7.5))","v":""},{"$f":"IF(COUNTIF(F69:F188,7.5)=0,\"\",COUNTIF(F69:F188,7.5))","v":""},"","",{"$f":"IF(COUNTIF(I69:I188,7.5)=0,\"\",COUNTIF(I69:I188,7.5))","v":""},{"$f":"IF(COUNTIF(J69:J188,7.5)=0,\"\",COUNTIF(J69:J188,7.5))","v":""},"","","",0,{"$f":"IF(D69=\"\",0,ROUND(N$33*NORMDIST(C21+0.5,N$34,N$36,TRUE),0)-SUM(O$3:O20))","v":0}]
[512,{"v":362.0386719675123,"d":"362.038672"},8.5,{"$f":"IF(COUNTIF(D69:D188,8.5)=0,\"\",COUNTIF(D69:D188,8.5))","v":""},{"$f":"IF(COUNTIF(E69:E188,8.5)=0,\"\",COUNTIF(E69:E188,8.5))","v":""},{"$f":"IF(COUNTIF(F69:F188,8.5)=0,\"\",COUNTIF(F69:F188,8.5))","v":""},"","",{"$f":"IF(COUNTIF(I69:I188,8.5)=0,\"\",COUNTIF(I69:I188,8.5))","v":""},{"$f":"IF(COUNTIF(J69:J188,8.5)=0,\"\",COUNTIF(J69:J188,8.5))","v":""},"","","",0,{"$f":"IF(D69=\"\",0,ROUND(N$33*NORMDIST(C22+0.5,N$34,N$36,TRUE),0)-SUM(O$3:O21))","v":0}]
[null,null,"Central Tendancy Stats","Lab 1","Lab 2","Lab 3","Lab 4","Lab 5","Lab 6","Lab 7","Lab 8","Lab 9","Lab 10","All labs","Control","Limits"]
[null,null,"Mean",{"$f":"IF(COUNT(D69:D188)=0,\"\",AVERAGE(D69:D188))","v":""},"","","","",{"$f":"IF(COUNT(I69:I188)=0,\"\",AVERAGE(I69:I188))","v":""},{"$f":"IF(COUNT(J69:J188)=0,\"\",AVERAGE(J69:J188))","v":""},"","","",{"$f":"IF(D69=\"\",\"\",AVERAGE(D69:M188))","v":""},{"$f":"IF(D69=\"\",\"\",ROUND(NORMINV(0.05,N34,N36),3))","v":""},{"$f":"IF(D69=\"\",\"\",ROUND(NORMINV(0.95,N34,N36),3))","v":""}]
["Calculated QC Range",null,"Median",{"$f":"IF(COUNT(D69:D188)=0,\"\",MEDIAN(D69:D188))","v":""},"","","","",{"$f":"IF(COUNT(I69:I188)=0,\"\",MEDIAN(I69:I188))","v":""},{"$f":"IF(COUNT(J69:J188)=0,\"\",MEDIAN(J69:J188))","v":""},"","","",{"$f":"IF(D69=\"\",\"\",MEDIAN(D69:M188))","v":""},{"$f":"IF(D69=\"\",\"\",ROUND(N51,3))","v":""},{"$f":"IF(D69=\"\",\"\",ROUND(N52,3))","v":""}]
[{"$f":"IF(N33=0,\"\",ROUND(2*N39,3)&\" to \"&ROUND(N40,3))","v":""},null,"Mode",{"$f":"IF(COUNT(D69:D188)=0,\"\",MODE(D69:D188))","v":""},"","","","",{"$f":"IF(COUNT(I69:I188)=0,\"\",MODE(I69:I188))","v":""},{"$f":"IF(COUNT(J69:J188)=0,\"\",MODE(J69:J188))","v":""},"","","",{"$f":"IF(D69=\"\",\"\",MODE(D69:M188))","v":""},{"$f":"IF(D69=\"\",\"\",N26-1)","v":""},{"$f":"IF(D69=\"\",\"\",N26+1)","v":""}]
["Dilution Range",null,null,"(Converted back to MIC)",{"$nulls":10},"Control","Limits"]
[{"$f":"IF(N33=0,\"\",LN(N40/N39)/LN(2))","v":""},null,"Mean",{"$f":"IF(COUNT(D69:D188)=0,\"\",2^(AVERAGE(D69:D188)+0.5))","v":""},"","","","",{"$f":"IF(COUNT(I69:I188)=0,\"\",2^(AVERAGE(I69:I188)+0.5))","v":""},{"$f":"IF(COUNT(J69:J188)=0,\"\",2^(AVERAGE(J69:J188)+0.5))","v":""},"","","",{"$f":"IF(D69=\"\",\"\",2^(AVERAGE(D69:M188)+0.5))","v":""},{"$f":"IF(D69=\"\",\"\",2^O24)","v":""},{"$f":"IF(D69=\"\",\"\",2^P24)","v":""}]
["% Obs. Captured",null,"Median",{"$f":"IF(COUNT(D69:D188)=0,\"\",2^(MEDIAN(D69:D188)+0.5))","v":""},"","","","",{"$f":"IF(COUNT(I69:I188)=0,\"\",2^(MEDIAN(I69:I188)+0.5))","v":""},{"$f":"IF(COUNT(J69:J188)=0,\"\",2^(MEDIAN(J69:J188)+0.5))","v":""},"","","",{"$f":"IF(D69=\"\",\"\",2^(MEDIAN(D69:M188)+0.5))","v":""},{"$f":"IF(D69=\"\",\"\",2^O25)","v":""},{"$f":"IF(D69=\"\",\"\",2^P25)","v":""}]
[{"$f":"IF(N33=0,\"\",((COUNTIF(D69:M188,\"<\"&LN(N40)/LN(2))-COUNTIF(D69:M188,\"<\"&LN(N39)/LN(2)))/N$33))","v":""},null,"Mode",{"$f":"IF(COUNT(D69:D188)=0,\"\",2^(MODE(D69:D188)+0.5))","v":""},"","","","",{"$f":"IF(COUNT(I69:I188)=0,\"\",2^(MODE(I69:I188)+0.5))","v":""},{"$f":"IF(COUNT(J69:J188)=0,\"\",2^(MODE(J69:J188)+0.5))","v":""},"","","",{"$f":"IF(D69=\"\",\"\",2^(MODE(D69:M188)+0.5))","v":""},{"$f":"IF(D69=\"\",\"\",2^O26)","v":""},{"$f":"IF(D69=\"\",\"\",2^P26)","v":""}]
["Prob'ty Outside Range"]
[{"$f":"IF(N33=0,\"\",N41+N42)","v":""},null,"Conventional Stats","Lab 1","Lab 2","Lab 3","Lab 4","Lab 5","Lab 6","Lab 7","Lab 8","Lab 9","Lab 10","All labs","Interlab"]
[null,null,"N",{"$f":"IF(COUNT(D69:D188)=0,\"\",COUNT(D69:D188))","v":""},"","","","",{"$f":"IF(COUNT(I69:I188)=0,\"\",COUNT(I69:I188))","v":""},{"$f":"IF(COUNT(J69:J188)=0,\"\",COUNT(J69:J188))","v":""},"","","",{"$f":"COUNT(D69:M188)","v":0},"CV"]
["CLSI QC Range",null,"GeoMean MIC (log2)",{"$f":"IF(COUNT(D69:D188)=0,\"\",AVERAGE(D69:D188))","v":""},"","","","",{"$f":"IF(COUNT(I69:I188)=0,\"\",AVERAGE(I69:I188))","v":""},{"$f":"IF(COUNT(J69:J188)=0,\"\",AVERAGE(J69:J188))","v":""},"","","",{"$f":"IF(D69=\"\",\"\",AVERAGE(D69:M188))","v":""},{"$f":"IF(D69=\"\",\"\",ABS(STDEVA(D34:M34)/N34))","v":""}]
[null,null,"GeoMean MIC",{"$f":"IF(COUNT(D69:D188)=0,\"\",2^D34)","v":""},"","","","",{"$f":"IF(COUNT(I69:I188)=0,\"\",2^I34)","v":""},{"$f":"IF(COUNT(J69:J188)=0,\"\",2^J34)","v":""},"","","",{"$f":"IF(D69=\"\",\"\",2^N34)","v":""}]
[null,null,"GeoSD (log2)",{"$f":"IF(COUNT(D69:D188)=0,\"\",STDEV(D69:D188))","v":""},"","","","",{"$f":"IF(COUNT(I69:I188)=0,\"\",STDEV(I69:I188))","v":""},{"$f":"IF(COUNT(J69:J188)=0,\"\",STDEV(J69:J188))","v":""},"","","",{"$f":"IF(D69=\"\",\"\",STDEV(D69:M188))","v":""}]
[{"$f":"IF(A35=\"\",\"\",ROUND(2^(A35+0.5),3)&\" to \"&ROUND(2^(A36+0.5),3))","v":""},null,"95% Lower Bound",{"$f":"IF(COUNT(D69:D188)=0,\"\",IF(D33=0,\"\",2^((NORMINV(0.025,D34,D36)))))","v":""},"","","","",{"$f":"IF(COUNT(I69:I188)=0,\"\",IF(I33=0,\"\",2^((NORMINV(0.025,I34,I36)))))","v":""},{"$f":"IF(COUNT(J69:J188)=0,\"\",IF(J33=0,\"\",2^((NORMINV(0.025,J34,J36)))))","v":""},"","","",{"$f":"IF(N33=0,\"\",2^((NORMINV(0.025,N34,N36))))","v":""}]
["Dilution Range",null,"95% Upper Bound",{"$f":"IF(COUNT(D69:D188)=0,\"\",IF(D33=0,\"\",2^(NORMINV(0.975,D34,D36))))","v":""},"","","","",{"$f":"IF(COUNT(I69:I188)=0,\"\",IF(I33=0,\"\",2^(NORMINV(0.975,I34,I36))))","v":""},{"$f":"IF(COUNT(J69:J188)=0,\"\",IF(J33=0,\"\",2^(NORMINV(0.975,J34,J36))))","v":""},"","","",{"$f":"IF(N33=0,\"\",2^(NORMINV(0.975,N34,N36)))","v":""}]
[{"$f":"IF(A35=\"\",\"\",A36-A35+1)","v":""},null,"Lower Bound Rounded Down",{"$f":"IF(COUNT(D69:D188)=0,\"\",IF(D33=0,\"\",2^(INT((NORMINV(0.025,D34,D36))))))","v":""},"","","","",{"$f":"IF(COUNT(I69:I188)=0,\"\",IF(I33=0,\"\",2^(INT((NORMINV(0.025,I34,I36))))))","v":""},{"$f":"IF(COUNT(J69:J188)=0,\"\",IF(J33=0,\"\",2^(INT((NORMINV(0.025,J34,J36))))))","v":""},"","","",{"$f":"IF(N33=0,\"\",2^(INT((NORMINV(0.025,N34,N36)))))","v":""}]
["CLSI% Obs. captured",null,"Upper Bound Rounded Up",{"$f":"IF(COUNT(D69:D188)=0,\"\",IF(D33=0,\"\",2^(INT((NORMINV(0.975,D34,D36)))+1)))","v":""},"","","","",{"$f":"IF(COUNT(I69:I188)=0,\"\",IF(I33=0,\"\",2^(INT((NORMINV(0.975,I34,I36)))+1)))","v":""},{"$f":"IF(COUNT(J69:J188)=0,\"\",IF(J33=0,\"\",2^(INT((NORMINV(0.975,J34,J36)))+1)))","v":""},"","","",{"$f":"IF(N33=0,\"\",2^(INT((NORMINV(0.975,N34,N36)))+1))","v":""}]
[{"$f":"IF(A35=0,\"\",(COUNTIF(D69:M188,\"<\"&A36+1)-COUNTIF(D69:M188,\"<\"&A35))/N$33)","v":""},null,"Probability of <=Lower Bound",{"$f":"IF(COUNT(D69:D188)=0,\"\",NORMDIST(LOG(D39)/LOG(2),D34,D36,TRUE))","v":""},"","","","",{"$f":"IF(COUNT(I69:I188)=0,\"\",NORMDIST(LOG(I39)/LOG(2),I34,I36,TRUE))","v":""},{"$f":"IF(COUNT(J69:J188)=0,\"\",NORMDIST(LOG(J39)/LOG(2),J34,J36,TRUE))","v":""},"","","",{"$f":"IF(D69=\"\",\"\",NORMDIST(LOG(N39)/LOG(2),N34,N36,TRUE))","v":""}]
[null,null,"Probability of >Upper Bound",{"$f":"IF(COUNT(D69:D188)=0,\"\",1-NORMDIST(LOG(D40)/LOG(2),D34,D36,TRUE))","v":""},"","","","",{"$f":"IF(COUNT(I69:I188)=0,\"\",1-NORMDIST(LOG(I40)/LOG(2),I34,I36,TRUE))","v":""},{"$f":"IF(COUNT(J69:J188)=0,\"\",1-NORMDIST(LOG(J40)/LOG(2),J34,J36,TRUE))","v":""},"","","",{"$f":"IF(D69=\"\",\"\",1-NORMDIST(LOG(N40)/LOG(2),N34,N36,TRUE))","v":""}]
[null,null,"New Range",{"$f":"IF(COUNT(D69:D188)=0,\"\",1-D41-D42)","v":""},"","","","",{"$f":"IF(COUNT(I69:I188)=0,\"\",1-I41-I42)","v":""},{"$f":"IF(COUNT(J69:J188)=0,\"\",1-J41-J42)","v":""},"","","",{"$f":"IF(D69=\"\",\"\",1-N41-N42)","v":""}]
[]
[null,null,"Order Stats","Lab 1","Lab 2","Lab 3","Lab 4","Lab 5","Lab 6","Lab 7","Lab 8","Lab 9","Lab 10","All labs","Interlab"]
[null,null,"25th %ile",{"$f":"IF(COUNT(D69:D188)=0,\"\",QUARTILE(D69:D188,1))","v":""},"","","","",{"$f":"IF(COUNT(I69:I188)=0,\"\",QUARTILE(I69:I188,1))","v":""},{"$f":"IF(COUNT(J69:J188)=0,\"\",QUARTILE(J69:J188,1))","v":""},"","","",{"$f":"IF(D69=\"\",\"\",QUARTILE(D69:M188,1))","v":""},"CV"]
[null,null,"75th %ile",{"$f":"IF(COUNT(D69:D188)=0,\"\",QUARTILE(D69:D188,3))","v":""},"","","","",{"$f":"IF(COUNT(I69:I188)=0,\"\",QUARTILE(I69:I188,3))","v":""},{"$f":"IF(COUNT(J69:J188)=0,\"\",QUARTILE(J69:J188,3))","v":""},"","","",{"$f":"IF(D69=\"\",\"\",QUARTILE(D69:M188,3))","v":""},{"$f":"IF(D69=\"\",\"\",ABS(N48/N25))","v":""}]
[null,null,"Interquartile Range",{"$f":"IF(COUNT(D69:D188)=0,\"\",IF(D47-D46=0,1,D47-D46))","v":""},"","","","",{"$f":"IF(COUNT(I69:I188)=0,\"\",IF(I47-I46=0,1,I47-I46))","v":""},{"$f":"IF(COUNT(J69:J188)=0,\"\",IF(J47-J46=0,1,J47-J46))","v":""},"","","",{"$f":"IF(D69=\"\",\"\",IF(N47-N46=0,1,N47-N46))","v":""}]
[null,null,"Minimum",{"$f":"IF(COUNT(D69:D188)=0,\"\",MIN(D69:D188))","v":""},"","","","",{"$f":"IF(COUNT(I69:I188)=0,\"\",MIN(I69:I188))","v":""},{"$f":"IF(COUNT(J69:J188)=0,\"\",MIN(J69:J188))","v":""},"","","",{"$f":"IF(D69=\"\",\"\",MIN(D69:M188))","v":""}]
[null,null,"Maximum",{"$f":"IF(COUNT(D69:D188)=0,\"\",MAX(D69:D188))","v":""},"","","","",{"$f":"IF(COUNT(I69:I188)=0,\"\",MAX(I69:I188))","v":""},{"$f":"IF(COUNT(J69:J188)=0,\"\",MAX(J69:J188))","v":""},"","","",{"$f":"IF(D69=\"\",\"\",MAX(D69:M188))","v":""}]
[null,null,"Lower Inner Fence",{"$f":"IF(COUNT(D69:D188)=0,\"\",D$46-1.5*D$48)","v":""},"","","","",{"$f":"IF(COUNT(I69:I188)=0,\"\",I$46-1.5*I$48)","v":""},{"$f":"IF(COUNT(J69:J188)=0,\"\",J$46-1.5*J$48)","v":""},"","","",{"$f":"IF(D69=\"\",\"\",N$46-1.5*N$48)","v":""}]
[null,null,"Upper Inner Fence",{"$f":"IF(COUNT(D69:D188)=0,\"\",D$47+1.5*D$48)","v":""},"","","","",{"$f":"IF(COUNT(I69:I188)=0,\"\",I$47+1.5*I$48)","v":""},{"$f":"IF(COUNT(J69:J188)=0,\"\",J$47+1.5*J$48)","v":""},"","","",{"$f":"IF(D69=\"\",\"\",N$47+1.5*N$48)","v":""}]
[null,null,"Lower Outer Fence",{"$f":"IF(COUNT(D69:D188)=0,\"\",D$46-3*D$48)","v":""},"","","","",{"$f":"IF(COUNT(I69:I188)=0,\"\",I$46-3*I$48)","v":""},{"$f":"IF(COUNT(J69:J188)=0,\"\",J$46-3*J$48)","v":""},"","","",{"$f":"IF(D69=\"\",\"\",N$46-3*N$48)","v":""}]
[null,null,"Upper Outer Fence",{"$f":"IF(COUNT(D69:D188)=0,\"\",D$47+3*D$48)","v":""},"","","","",{"$f":"IF(COUNT(I69:I188)=0,\"\",I$47+3*I$48)","v":""},{"$f":"IF(COUNT(J69:J188)=0,\"\",J$47+3*J$48)","v":""},"","","",{"$f":"IF(D69=\"\",\"\",N$47+3*N$48)","v":""}]
[null,null,"Lower Near Outliers",{"$f":"IF(COUNT(D69:D188)=0,\"\",COUNTIF(D69:D188,\"<\"&D51))","v":""},"","","","",{"$f":"IF(COUNT(I69:I188)=0,\"\",COUNTIF(I69:I188,\"<\"&I51))","v":""},{"$f":"IF(COUNT(J69:J188)=0,\"\",COUNTIF(J69:J188,\"<\"&J51))","v":""},"","","",{"$f":"IF(D69=\"\",\"\",COUNTIF(D69:M188,\"<\"&N51)-N57)","v":""}]
[null,null,"Upper Near Outliers",{"$f":"IF(COUNT(D69:D188)=0,\"\",COUNTIF(D69:D188,\">\"&D52))","v":""},"","","","",{"$f":"IF(COUNT(I69:I188)=0,\"\",COUNTIF(I69:I188,\">\"&I52))","v":""},{"$f":"IF(COUNT(J69:J188)=0,\"\",COUNTIF(J69:J188,\">\"&J52))","v":""},"","","",{"$f":"IF(D69=\"\",\"\",COUNTIF(D69:M188,\">\"&N52)-N58)","v":""}]
[null,null,"Lower Extreme Outliers",{"$f":"IF(COUNT(D69:D188)=0,\"\",COUNTIF(D69:D188,\"<\"&D53))","v":""},"","","","",{"$f":"IF(COUNT(I69:I188)=0,\"\",COUNTIF(I69:I188,\"<\"&I53))","v":""},{"$f":"IF(COUNT(J69:J188)=0,\"\",COUNTIF(J69:J188,\"<\"&J53))","v":""},"","","",{"$f":"IF(D69=\"\",\"\",COUNTIF(D69:M188,\"<\"&N53))","v":""}]
[null,null,"Upper Extreme Outliers",{"$f":"IF(COUNT(D69:D188)=0,\"\",COUNTIF(D69:D188,\">\"&D54))","v":""},"","","","",{"$f":"IF(COUNT(I69:I188)=0,\"\",COUNTIF(I69:I188,\">\"&I54))","v":""},{"$f":"IF(COUNT(J69:J188)=0,\"\",COUNTIF(J69:J188,\">\"&J54))","v":""},"","","",{"$f":"IF(D69=\"\",\"\",COUNTIF(D69:M188,\">\"&N54))","v":""}]
[]
[null,null,"Chart Control Limits","Lab 1","Lab 2","Lab 3","Lab 4","Lab 5","Lab 6","Lab 7","Lab 8","Lab 9","Lab 10"]
[null,"Mean","Lower CL",{"$f":"$O$24","v":""},{"$f":"$O$24","v":""},"","","","","","","",""]
[null,null,"Upper CL",{"$f":"$P$24","v":""},{"$f":"$P$24","v":""},"","","","","","","",""]
[null,"Median","Lower CL",{"$f":"$O$25","v":""},{"$f":"$O$25","v":""},"","","","","","","",""]
[null,null,"Upper CL",{"$f":"$P$25","v":""},{"$f":"$P$25","v":""},"","","","","","","",""]
[null,"Mode","Lower CL",{"$f":"$O$26","v":""},{"$f":"$O$26","v":""},"","","","","","","",""]
[null,null,"Upper CL",{"$f":"$P$26","v":""},{"$f":"$P$26","v":""},"","","","","","","",""]
[]
[null,null,"Log2 Converted Raw Data","Lab 1","Lab 2","Lab 3","Lab 4","Lab 5","Lab 6","Lab 7","Lab 8","Lab 9","Lab 10","Control","Limits"]
[null,null,"Media Lot 1",{"$f":"IF(D191=\"\",\"\",LOOKUP(D191,$A$3:$A$22,$C$3:$C$22))","v":""},"","","","",{"$f":"IF(I191=\"\",\"\",LOOKUP(I191,$A$3:$A$22,$C$3:$C$22))","v":""},"","","","",{"$f":"IF(D69=\"\",\"\",LN($N$39)/LN(2))","v":""},{"$f":"IF(D69=\"\",\"\",LN($N$40)/LN(2)-0.5)","v":""}]
[{"$nulls":3},"","","","","","","","","",""]
[{"$nulls":3},"","","","","","","","","",""]
[{"$nulls":3},"","","","","","","","","",""]
[{"$nulls":3},{"$f":"IF(D195=\"\",\"\",LOOKUP(D195,$A$3:$A$22,$C$3:$C$22))","v":""},"","","","","","","","",""]
[{"$nulls":3},"","","","","","","","","",""]
[{"$nulls":3},"","","","","","","","","",""]
[{"$nulls":3},"","","","","","","","","",""]
[{"$nulls":3},"","","","","","","","","",""]
[{"$nulls":3},"","","","","","","","","",""]
[{"$nulls":3},{"$f":"IF(D201=\"\",\"\",LOOKUP(D201,$A$3:$A$22,$C$3:$C$22))","v":""},"","","","",{"$f":"IF(I201=\"\",\"\",LOOKUP(I201,$A$3:$A$22,$C$3:$C$22))","v":""},"","","",""]
[{"$nulls":3},"","","","","","","","","",""]
[{"$nulls":3},{"$f":"IF(D203=\"\",\"\",LOOKUP(D203,$A$3:$A$22,$C$3:$C$22))","v":""},"","","","","","","","",""]
[{"$nulls":3},"","","","","","","","","",""]
[{"$nulls":3},"","","","","","","","","",""]
[{"$nulls":3},"","","","","","","","","",""]
[{"$nulls":3},"","","","","","","","","",""]
[{"$nulls":3},"","","","","","","","","",""]
[{"$nulls":3},"","","","","","","","","",""]
[{"$nulls":3},"","","","","","","","","",""]
[{"$nulls":3},{"$f":"IF(D211=\"\",\"\",LOOKUP(D211,$A$3:$A$22,$C$3:$C$22))","v":""},"","","","",{"$f":"IF(I211=\"\",\"\",LOOKUP(I211,$A$3:$A$22,$C$3:$C$22))","v":""},"","","",""]
[{"$nulls":3},"","","","","","","","","",""]
[{"$nulls":3},"","","","","","","","","",""]
[{"$nulls":3},"","","","","","","","","",""]
[{"$nulls":3},"","","","","","","","","",""]
[{"$nulls":3},"","","","","","","","","",""]
[{"$nulls":3},"","","","","","","","","",""]
[{"$nulls":3},"","","","","","","","","",""]
[{"$nulls":3},"","","","","","","","","",""]
[{"$nulls":3},"","","","","","","","","",""]
[{"$nulls":3},"","","","","",{"$f":"IF(I221=\"\",\"\",LOOKUP(I221,$A$3:$A$22,$C$3:$C$22))","v":""},"","","",""]
[{"$nulls":3},"","","","","","","","","",""]
[{"$nulls":3},"","","","","","","","","",""]
[{"$nulls":3},"","","","","","","","","",""]
[{"$nulls":3},"","","","","","","","","",""]
[{"$nulls":3},"","","","","","","","","",""]
[{"$nulls":3},{"$f":"IF(D227=\"\",\"\",LOOKUP(D227,$A$3:$A$22,$C$3:$C$22))","v":""},"","","","","","","","",""]
[{"$nulls":3},"","","","","","","","","",""]
[{"$nulls":3},"","","","","","","","","",""]
[{"$nulls":3},"","","","","","","","","",""]
[null,null,"Media Lot 2","","","","","",{"$f":"IF(I231=\"\",\"\",LOOKUP(I231,$A$3:$A$22,$C$3:$C$22))","v":""},"","","",""]
[{"$nulls":3},"","","","","","","","","",""]
[{"$nulls":3},"","","","","","","","","",""]
[{"$nulls":3},"","","","","","","","","",""]
[{"$nulls":3},"","","","","","","","","",""]
[{"$nulls":3},"","","","","","","","","",""]
[{"$nulls":3},"","","","","","","","","",""]
[{"$nulls":3},"","","","","","","","","",""]
[{"$nulls":3},"","","","","","","","","",""]
[{"$nulls":3},"","","","","","","","","",""]
[{"$nulls":3},"","","","","",{"$f":"IF(I241=\"\",\"\",LOOKUP(I241,$A$3:$A$22,$C$3:$C$22))","v":""},"","","",""]
[{"$nulls":3},"","","","","","","","","",""]
[{"$nulls":3},{"$f":"IF(D243=\"\",\"\",LOOKUP(D243,$A$3:$A$22,$C$3:$C$22))","v":""},"","","","","","","","",""]
[{"$nulls":3},"","","","","","","","","",""]
[{"$nulls":3},"","","","","","","","","",""]
[{"$nulls":3},"","","","","","","","","",""]
[{"$nulls":3},"","","","","","","","","",""]
[{"$nulls":3},"","","","","","","","","",""]
[{"$nulls":3},"","","","","","","","","",""]
[{"$nulls":3},"","","","","","","","","",""]
[{"$nulls":3},"","","","","",{"$f":"IF(I251=\"\",\"\",LOOKUP(I251,$A$3:$A$22,$C$3:$C$22))","v":""},"","","",""]
[{"$nulls":3},"","","","","","","","","",""]
[{"$nulls":3},"","","","","","","","","",""]
[{"$nulls":3},"","","","","","","","","",""]
[{"$nulls":3},"","","","","","","","","",""]
[{"$nulls":3},"","","","","","","","","",""]
[{"$nulls":3},"","","","","","","","","",""]
[{"$nulls":3},"","","","","","","","","",""]
[{"$nulls":3},{"$f":"IF(D259=\"\",\"\",LOOKUP(D259,$A$3:$A$22,$C$3:$C$22))","v":""},"","","","","","","","",""]
[{"$nulls":3},"","","","","","","","","",""]
[{"$nulls":3},"","","","","",{"$f":"IF(I261=\"\",\"\",LOOKUP(I261,$A$3:$A$22,$C$3:$C$22))","v":""},"","","",""]
[{"$nulls":3},"","","","","","","","","",""]
[{"$nulls":3},"","","","","","","","","",""]
[{"$nulls":3},"","","","","","","","","",""]
[{"$nulls":3},"","","","","","","","","",""]
[{"$nulls":3},"","","","","","","","","",""]
[{"$nulls":3},"","","","","","","","","",""]
[{"$nulls":3},"","","","","","","","","",""]
[{"$nulls":3},"","","","","","","","","",""]
[{"$nulls":3},"","","","","","","","","",""]
[null,null,"Media Lot 3","","","","","",{"$f":"IF(I271=\"\",\"\",LOOKUP(I271,$A$3:$A$22,$C$3:$C$22))","v":""},"","","",""]
[{"$nulls":3},"","","","","","","","","",""]
[{"$nulls":3},"","","","","","","","","",""]
[{"$nulls":3},"","","","","","","","","",""]
[{"$nulls":3},{"$f":"IF(D275=\"\",\"\",LOOKUP(D275,$A$3:$A$22,$C$3:$C$22))","v":""},"","","","","","","","",""]
[{"$nulls":3},"","","","","","","","","",""]
[{"$nulls":3},"","","","","","","","","",""]
[{"$nulls":3},"","","","","","","","","",""]
[{"$nulls":3},"","","","","","","","","",""]
[{"$nulls":3},"","","","","","","","","",""]
[{"$nulls":3},"","","","","",{"$f":"IF(I281=\"\",\"\",LOOKUP(I281,$A$3:$A$22,$C$3:$C$22))","v":""},"","","",""]
[{"$nulls":3},"","","","","","","","","",""]
[{"$nulls":3},"","","","","","","","","",""]
[{"$nulls":3},"","","","","","","","","",""]
[{"$nulls":3},"","","","","","","","","",""]
[{"$nulls":3},"","","","","","","","","",""]
[{"$nulls":3},"","","","","","","","","",""]
[{"$nulls":3},"","","","","","","","","",""]
[{"$nulls":3},"","","","","","","","","",""]
[{"$nulls":3},"","","","","","","","","",""]
[{"$nulls":3},{"$f":"IF(D291=\"\",\"\",LOOKUP(D291,$A$3:$A$22,$C$3:$C$22))","v":""},"","","","",{"$f":"IF(I291=\"\",\"\",LOOKUP(I291,$A$3:$A$22,$C$3:$C$22))","v":""},"","","",""]
[{"$nulls":3},"","","","","","","","","",""]
[{"$nulls":3},"","","","","","","","","",""]
[{"$nulls":3},"","","","","","","","","",""]
[{"$nulls":3},"","","","","","","","","",""]
[{"$nulls":3},"","","","","","","","","",""]
[{"$nulls":3},"","","","","","","","","",""]
[{"$nulls":3},"","","","","","","","","",""]
[{"$nulls":3},"","","","","","","","","",""]
[{"$nulls":3},"","","","","","","","","",""]
[{"$nulls":3},"","","","","",{"$f":"IF(I301=\"\",\"\",LOOKUP(I301,$A$3:$A$22,$C$3:$C$22))","v":""},"","","",""]
[{"$nulls":3},"","","","","","","","","",""]
[{"$nulls":3},"","","","","","","","","",""]
[{"$nulls":3},"","","","","","","","","",""]
[{"$nulls":3},"","","","","","","","","",""]
[{"$nulls":3},"","","","","","","","","",""]
[{"$nulls":3},{"$f":"IF(D307=\"\",\"\",LOOKUP(D307,$A$3:$A$22,$C$3:$C$22))","v":""},"","","","","","","","",""]
[{"$nulls":3},"","","","","","","","","",""]
[{"$nulls":3},"","","","","","","","","",""]
[{"$nulls":3},"","","","","","","","","",""]
[]
[null,null,"Raw Data Entry","Lab 1","Lab 2","Lab 3","Lab 4","Lab 5","Lab 6","Lab 7","Lab 8","Lab 9","Lab 10"]
[null,null,"Media Lot 1"]
{"$rows_empty":39}
[null,null,"Media Lot 2"]
{"$rows_empty":39}
[null,null,"Media Lot 3"]

{"sheet":"Strain 8 control","index":19,"n_rows":271,"n_cols":16,"rows_kept":271,"merged":[[0,4,0,6]]}
[{"$f":"'Range Summary'!I2","v":"QC8"},{"$f":"'Range Summary'!B17","v":"Control"},"Control",null,"Go to Raw Data Entry area"]
["MIC","Midpoint MIC","Mid Log2MIC","Lab 1","Lab 2","Lab 3","Lab 4","Lab 5","Lab 6","Lab 7","Lab 8","Lab 9","Lab 10","All labs","Norm"]
[{"v":1E-3,"d":"0.001"},{"$f":"2^C3","v":{"v":6.9053396600248776E-4,"d":"0.000691"}},-10.5,{"$f":"IF(COUNTIF(D69:D188,-10.5)=0,\"\",COUNTIF(D69:D188,-10.5))","v":""},{"$f":"IF(COUNTIF(E69:E188,-10.5)=0,\"\",COUNTIF(E69:E188,-10.5))","v":""},{"$f":"IF(COUNTIF(F69:F188,-10.5)=0,\"\",COUNTIF(F69:F188,-10.5))","v":""},"","",{"$f":"IF(COUNTIF(I69:I188,-10.5)=0,\"\",COUNTIF(I69:I188,-10.5))","v":""},{"$f":"IF(COUNTIF(J69:J188,-10.5)=0,\"\",COUNTIF(J69:J188,-10.5))","v":""},"","","",{"$f":"SUM(D3:M3)","v":0},{"$f":"IF(D69=\"\",0,ROUND(N$33*NORMDIST(C3+0.5,N$34,N$36,TRUE),0))","v":0}]
[{"v":2E-3,"d":"0.002"},{"v":1.3810679320049757E-3,"d":"0.001381"},-9.5,{"$f":"IF(COUNTIF(D69:D188,-9.5)=0,\"\",COUNTIF(D69:D188,-9.5))","v":""},{"$f":"IF(COUNTIF(E69:E188,-9.5)=0,\"\",COUNTIF(E69:E188,-9.5))","v":""},{"$f":"IF(COUNTIF(F69:F188,-9.5)=0,\"\",COUNTIF(F69:F188,-9.5))","v":""},"","",{"$f":"IF(COUNTIF(I69:I188,-9.5)=0,\"\",COUNTIF(I69:I188,-9.5))","v":""},{"$f":"IF(COUNTIF(J69:J188,-9.5)=0,\"\",COUNTIF(J69:J188,-9.5))","v":""},"","","",0,{"$f":"IF(D69=\"\",0,ROUND(N$33*NORMDIST(C4+0.5,N$34,N$36,TRUE),0)-SUM(O2:O$3))","v":0}]
[0.004,{"v":2.7621358640099515E-3,"d":"0.002762"},-8.5,{"$f":"IF(COUNTIF(D69:D188,-8.5)=0,\"\",COUNTIF(D69:D188,-8.5))","v":""},{"$f":"IF(COUNTIF(E69:E188,-8.5)=0,\"\",COUNTIF(E69:E188,-8.5))","v":""},{"$f":"IF(COUNTIF(F69:F188,-8.5)=0,\"\",COUNTIF(F69:F188,-8.5))","v":""},"","",{"$f":"IF(COUNTIF(I69:I188,-8.5)=0,\"\",COUNTIF(I69:I188,-8.5))","v":""},{"$f":"IF(COUNTIF(J69:J188,-8.5)=0,\"\",COUNTIF(J69:J188,-8.5))","v":""},"","","",0,{"$f":"IF(D69=\"\",0,ROUND(N$33*NORMDIST(C5+0.5,N$34,N$36,TRUE),0)-SUM(O$3:O3))","v":0}]
[0.008,{"v":0.005524271728019904,"d":"0.005524"},-7.5,{"$f":"IF(COUNTIF(D69:D188,-7.5)=0,\"\",COUNTIF(D69:D188,-7.5))","v":""},{"$f":"IF(COUNTIF(E69:E188,-7.5)=0,\"\",COUNTIF(E69:E188,-7.5))","v":""},{"$f":"IF(COUNTIF(F69:F188,-7.5)=0,\"\",COUNTIF(F69:F188,-7.5))","v":""},"","",{"$f":"IF(COUNTIF(I69:I188,-7.5)=0,\"\",COUNTIF(I69:I188,-7.5))","v":""},{"$f":"IF(COUNTIF(J69:J188,-7.5)=0,\"\",COUNTIF(J69:J188,-7.5))","v":""},"","","",{"$f":"SUM(D6:M6)","v":0},{"$f":"IF(D69=\"\",0,ROUND(N$33*NORMDIST(C6+0.5,N$34,N$36,TRUE),0)-SUM(O$3:O5))","v":0}]
[0.016,{"v":0.011048543456039808,"d":"0.011049"},-6.5,{"$f":"IF(COUNTIF(D69:D188,-6.5)=0,\"\",COUNTIF(D69:D188,-6.5))","v":""},{"$f":"IF(COUNTIF(E69:E188,-6.5)=0,\"\",COUNTIF(E69:E188,-6.5))","v":""},{"$f":"IF(COUNTIF(F69:F188,-6.5)=0,\"\",COUNTIF(F69:F188,-6.5))","v":""},"","",{"$f":"IF(COUNTIF(I69:I188,-6.5)=0,\"\",COUNTIF(I69:I188,-6.5))","v":""},{"$f":"IF(COUNTIF(J69:J188,-6.5)=0,\"\",COUNTIF(J69:J188,-6.5))","v":""},"","","",0,{"$f":"IF(D69=\"\",0,ROUND(N$33*NORMDIST(C7+0.5,N$34,N$36,TRUE),0)-SUM(O$3:O6))","v":0}]
[0.03,{"v":0.022097086912079608,"d":"0.022097"},-5.5,{"$f":"IF(COUNTIF(D69:D188,-5.5)=0,\"\",COUNTIF(D69:D188,-5.5))","v":""},{"$f":"IF(COUNTIF(E69:E188,-5.5)=0,\"\",COUNTIF(E69:E188,-5.5))","v":""},{"$f":"IF(COUNTIF(F69:F188,-5.5)=0,\"\",COUNTIF(F69:F188,-5.5))","v":""},"","",{"$f":"IF(COUNTIF(I69:I188,-5.5)=0,\"\",COUNTIF(I69:I188,-5.5))","v":""},{"$f":"IF(COUNTIF(J69:J188,-5.5)=0,\"\",COUNTIF(J69:J188,-5.5))","v":""},"","","",0,{"$f":"IF(D69=\"\",0,ROUND(N$33*NORMDIST(C8+0.5,N$34,N$36,TRUE),0)-SUM(O$3:O7))","v":0}]
[0.06,{"v":0.04419417382415922,"d":"0.044194"},-4.5,{"$f":"IF(COUNTIF(D69:D188,-4.5)=0,\"\",COUNTIF(D69:D188,-4.5))","v":""},{"$f":"IF(COUNTIF(E69:E188,-4.5)=0,\"\",COUNTIF(E69:E188,-4.5))","v":""},{"$f":"IF(COUNTIF(F69:F188,-4.5)=0,\"\",COUNTIF(F69:F188,-4.5))","v":""},"","",{"$f":"IF(COUNTIF(I69:I188,-4.5)=0,\"\",COUNTIF(I69:I188,-4.5))","v":""},{"$f":"IF(COUNTIF(J69:J188,-4.5)=0,\"\",COUNTIF(J69:J188,-4.5))","v":""},"","","",0,{"$f":"IF(D69=\"\",0,ROUND(N$33*NORMDIST(C9+0.5,N$34,N$36,TRUE),0)-SUM(O$3:O8))","v":0}]
[0.13,{"v":0.08838834764831845,"d":"0.088388"},-3.5,{"$f":"IF(COUNTIF(D69:D188,-3.5)=0,\"\",COUNTIF(D69:D188,-3.5))","v":""},{"$f":"IF(COUNTIF(E69:E188,-3.5)=0,\"\",COUNTIF(E69:E188,-3.5))","v":""},{"$f":"IF(COUNTIF(F69:F188,-3.5)=0,\"\",COUNTIF(F69:F188,-3.5))","v":""},"","",{"$f":"IF(COUNTIF(I69:I188,-3.5)=0,\"\",COUNTIF(I69:I188,-3.5))","v":""},{"$f":"IF(COUNTIF(J69:J188,-3.5)=0,\"\",COUNTIF(J69:J188,-3.5))","v":""},"","","",0,{"$f":"IF(D69=\"\",0,ROUND(N$33*NORMDIST(C10+0.5,N$34,N$36,TRUE),0)-SUM(O$3:O9))","v":0}]
[0.25,{"v":0.17677669529663687,"d":"0.176777"},-2.5,{"$f":"IF(COUNTIF(D69:D188,-2.5)=0,\"\",COUNTIF(D69:D188,-2.5))","v":""},{"$f":"IF(COUNTIF(E69:E188,-2.5)=0,\"\",COUNTIF(E69:E188,-2.5))","v":""},{"$f":"IF(COUNTIF(F69:F188,-2.5)=0,\"\",COUNTIF(F69:F188,-2.5))","v":""},"","",{"$f":"IF(COUNTIF(I69:I188,-2.5)=0,\"\",COUNTIF(I69:I188,-2.5))","v":""},{"$f":"IF(COUNTIF(J69:J188,-2.5)=0,\"\",COUNTIF(J69:J188,-2.5))","v":""},"","","",0,{"$f":"IF(D69=\"\",0,ROUND(N$33*NORMDIST(C11+0.5,N$34,N$36,TRUE),0)-SUM(O$3:O10))","v":0}]
[0.5,{"v":0.3535533905932738,"d":"0.353553"},-1.5,{"$f":"IF(COUNTIF(D69:D188,-1.5)=0,\"\",COUNTIF(D69:D188,-1.5))","v":""},{"$f":"IF(COUNTIF(E69:E188,-1.5)=0,\"\",COUNTIF(E69:E188,-1.5))","v":""},{"$f":"IF(COUNTIF(F69:F188,-1.5)=0,\"\",COUNTIF(F69:F188,-1.5))","v":""},"","",{"$f":"IF(COUNTIF(I69:I188,-1.5)=0,\"\",COUNTIF(I69:I188,-1.5))","v":""},{"$f":"IF(COUNTIF(J69:J188,-1.5)=0,\"\",COUNTIF(J69:J188,-1.5))","v":""},"","","",0,{"$f":"IF(D69=\"\",0,ROUND(N$33*NORMDIST(C12+0.5,N$34,N$36,TRUE),0)-SUM(O$3:O11))","v":0}]
[1,{"v":0.7071067811865475,"d":"0.707107"},-0.5,{"$f":"IF(COUNTIF(D69:D188,-0.5)=0,\"\",COUNTIF(D69:D188,-0.5))","v":""},{"$f":"IF(COUNTIF(E69:E188,-0.5)=0,\"\",COUNTIF(E69:E188,-0.5))","v":""},{"$f":"IF(COUNTIF(F69:F188,-0.5)=0,\"\",COUNTIF(F69:F188,-0.5))","v":""},"","",{"$f":"IF(COUNTIF(I69:I188,-0.5)=0,\"\",COUNTIF(I69:I188,-0.5))","v":""},{"$f":"IF(COUNTIF(J69:J188,-0.5)=0,\"\",COUNTIF(J69:J188,-0.5))","v":""},"","","",0,{"$f":"IF(D69=\"\",0,ROUND(N$33*NORMDIST(C13+0.5,N$34,N$36,TRUE),0)-SUM(O$3:O12))","v":0}]
[2,{"v":1.4142135623730951,"d":"1.414214"},0.5,{"$f":"IF(COUNTIF(D69:D188,0.5)=0,\"\",COUNTIF(D69:D188,0.5))","v":""},{"$f":"IF(COUNTIF(E69:E188,0.5)=0,\"\",COUNTIF(E69:E188,0.5))","v":""},{"$f":"IF(COUNTIF(F69:F188,0.5)=0,\"\",COUNTIF(F69:F188,0.5))","v":""},"","",{"$f":"IF(COUNTIF(I69:I188,0.5)=0,\"\",COUNTIF(I69:I188,0.5))","v":""},{"$f":"IF(COUNTIF(J69:J188,0.5)=0,\"\",COUNTIF(J69:J188,0.5))","v":""},"","","",0,{"$f":"IF(D69=\"\",0,ROUND(N$33*NORMDIST(C14+0.5,N$34,N$36,TRUE),0)-SUM(O$3:O13))","v":0}]
[4,{"v":2.82842712474619,"d":"2.828427"},1.5,{"$f":"IF(COUNTIF(D69:D188,1.5)=0,\"\",COUNTIF(D69:D188,1.5))","v":""},{"$f":"IF(COUNTIF(E69:E188,1.5)=0,\"\",COUNTIF(E69:E188,1.5))","v":""},{"$f":"IF(COUNTIF(F69:F188,1.5)=0,\"\",COUNTIF(F69:F188,1.5))","v":""},"","",{"$f":"IF(COUNTIF(I69:I188,1.5)=0,\"\",COUNTIF(I69:I188,1.5))","v":""},{"$f":"IF(COUNTIF(J69:J188,1.5)=0,\"\",COUNTIF(J69:J188,1.5))","v":""},"","","",0,{"$f":"IF(D69=\"\",0,ROUND(N$33*NORMDIST(C15+0.5,N$34,N$36,TRUE),0)-SUM(O$3:O14))","v":0}]
[8,{"v":5.656854249492381,"d":"5.656854"},2.5,{"$f":"IF(COUNTIF(D69:D188,2.5)=0,\"\",COUNTIF(D69:D188,2.5))","v":""},{"$f":"IF(COUNTIF(E69:E188,2.5)=0,\"\",COUNTIF(E69:E188,2.5))","v":""},{"$f":"IF(COUNTIF(F69:F188,2.5)=0,\"\",COUNTIF(F69:F188,2.5))","v":""},"","",{"$f":"IF(COUNTIF(I69:I188,2.5)=0,\"\",COUNTIF(I69:I188,2.5))","v":""},{"$f":"IF(COUNTIF(J69:J188,2.5)=0,\"\",COUNTIF(J69:J188,2.5))","v":""},"","","",0,{"$f":"IF(D69=\"\",0,ROUND(N$33*NORMDIST(C16+0.5,N$34,N$36,TRUE),0)-SUM(O$3:O15))","v":0}]
[16,{"v":11.31370849898476,"d":"11.313708"},3.5,{"$f":"IF(COUNTIF(D69:D188,3.5)=0,\"\",COUNTIF(D69:D188,3.5))","v":""},{"$f":"IF(COUNTIF(E69:E188,3.5)=0,\"\",COUNTIF(E69:E188,3.5))","v":""},{"$f":"IF(COUNTIF(F69:F188,3.5)=0,\"\",COUNTIF(F69:F188,3.5))","v":""},"","",{"$f":"IF(COUNTIF(I69:I188,3.5)=0,\"\",COUNTIF(I69:I188,3.5))","v":""},{"$f":"IF(COUNTIF(J69:J188,3.5)=0,\"\",COUNTIF(J69:J188,3.5))","v":""},"","","",0,{"$f":"IF(D69=\"\",0,ROUND(N$33*NORMDIST(C17+0.5,N$34,N$36,TRUE),0)-SUM(O$3:O16))","v":0}]
[32,{"v":22.62741699796952,"d":"22.627417"},4.5,{"$f":"IF(COUNTIF(D69:D188,4.5)=0,\"\",COUNTIF(D69:D188,4.5))","v":""},{"$f":"IF(COUNTIF(E69:E188,4.5)=0,\"\",COUNTIF(E69:E188,4.5))","v":""},{"$f":"IF(COUNTIF(F69:F188,4.5)=0,\"\",COUNTIF(F69:F188,4.5))","v":""},"","",{"$f":"IF(COUNTIF(I69:I188,4.5)=0,\"\",COUNTIF(I69:I188,4.5))","v":""},{"$f":"IF(COUNTIF(J69:J188,4.5)=0,\"\",COUNTIF(J69:J188,4.5))","v":""},"","","",0,{"$f":"IF(D69=\"\",0,ROUND(N$33*NORMDIST(C18+0.5,N$34,N$36,TRUE),0)-SUM(O$3:O17))","v":0}]
[64,{"v":45.254833995939045,"d":"45.254834"},5.5,{"$f":"IF(COUNTIF(D69:D188,5.5)=0,\"\",COUNTIF(D69:D188,5.5))","v":""},{"$f":"IF(COUNTIF(E69:E188,5.5)=0,\"\",COUNTIF(E69:E188,5.5))","v":""},{"$f":"IF(COUNTIF(F69:F188,5.5)=0,\"\",COUNTIF(F69:F188,5.5))","v":""},"","",{"$f":"IF(COUNTIF(I69:I188,5.5)=0,\"\",COUNTIF(I69:I188,5.5))","v":""},{"$f":"IF(COUNTIF(J69:J188,5.5)=0,\"\",COUNTIF(J69:J188,5.5))","v":""},"","","",0,{"$f":"IF(D69=\"\",0,ROUND(N$33*NORMDIST(C19+0.5,N$34,N$36,TRUE),0)-SUM(O$3:O18))","v":0}]
[128,{"v":90.50966799187806,"d":"90.509668"},6.5,{"$f":"IF(COUNTIF(D69:D188,6.5)=0,\"\",COUNTIF(D69:D188,6.5))","v":""},{"$f":"IF(COUNTIF(E69:E188,6.5)=0,\"\",COUNTIF(E69:E188,6.5))","v":""},{"$f":"IF(COUNTIF(F69:F188,6.5)=0,\"\",COUNTIF(F69:F188,6.5))","v":""},"","",{"$f":"IF(COUNTIF(I69:I188,6.5)=0,\"\",COUNTIF(I69:I188,6.5))","v":""},{"$f":"IF(COUNTIF(J69:J188,6.5)=0,\"\",COUNTIF(J69:J188,6.5))","v":""},"","","",0,{"$f":"IF(D69=\"\",0,ROUND(N$33*NORMDIST(C20+0.5,N$34,N$36,TRUE),0)-SUM(O$3:O19))","v":0}]
[256,{"v":181.01933598375612,"d":"181.019336"},7.5,{"$f":"IF(COUNTIF(D69:D188,7.5)=0,\"\",COUNTIF(D69:D188,7.5))","v":""},{"$f":"IF(COUNTIF(E69:E188,7.5)=0,\"\",COUNTIF(E69:E188,7.5))","v":""},{"$f":"IF(COUNTIF(F69:F188,7.5)=0,\"\",COUNTIF(F69:F188,7.5))","v":""},"","",{"$f":"IF(COUNTIF(I69:I188,7.5)=0,\"\",COUNTIF(I69:I188,7.5))","v":""},{"$f":"IF(COUNTIF(J69:J188,7.5)=0,\"\",COUNTIF(J69:J188,7.5))","v":""},"","","",0,{"$f":"IF(D69=\"\",0,ROUND(N$33*NORMDIST(C21+0.5,N$34,N$36,TRUE),0)-SUM(O$3:O20))","v":0}]
[512,{"v":362.0386719675123,"d":"362.038672"},8.5,{"$f":"IF(COUNTIF(D69:D188,8.5)=0,\"\",COUNTIF(D69:D188,8.5))","v":""},{"$f":"IF(COUNTIF(E69:E188,8.5)=0,\"\",COUNTIF(E69:E188,8.5))","v":""},{"$f":"IF(COUNTIF(F69:F188,8.5)=0,\"\",COUNTIF(F69:F188,8.5))","v":""},"","",{"$f":"IF(COUNTIF(I69:I188,8.5)=0,\"\",COUNTIF(I69:I188,8.5))","v":""},{"$f":"IF(COUNTIF(J69:J188,8.5)=0,\"\",COUNTIF(J69:J188,8.5))","v":""},"","","",0,{"$f":"IF(D69=\"\",0,ROUND(N$33*NORMDIST(C22+0.5,N$34,N$36,TRUE),0)-SUM(O$3:O21))","v":0}]
[null,null,"Central Tendancy Stats","Lab 1","Lab 2","Lab 3","Lab 4","Lab 5","Lab 6","Lab 7","Lab 8","Lab 9","Lab 10","All labs","Control","Limits"]
[null,null,"Mean",{"$f":"IF(COUNT(D69:D188)=0,\"\",AVERAGE(D69:D188))","v":""},"","","","",{"$f":"IF(COUNT(I69:I188)=0,\"\",AVERAGE(I69:I188))","v":""},{"$f":"IF(COUNT(J69:J188)=0,\"\",AVERAGE(J69:J188))","v":""},"","","",{"$f":"IF(D69=\"\",\"\",AVERAGE(D69:M188))","v":""},{"$f":"IF(D69=\"\",\"\",ROUND(NORMINV(0.05,N34,N36),3))","v":""},{"$f":"IF(D69=\"\",\"\",ROUND(NORMINV(0.95,N34,N36),3))","v":""}]
["Calculated QC Range",null,"Median",{"$f":"IF(COUNT(D69:D188)=0,\"\",MEDIAN(D69:D188))","v":""},"","","","",{"$f":"IF(COUNT(I69:I188)=0,\"\",MEDIAN(I69:I188))","v":""},{"$f":"IF(COUNT(J69:J188)=0,\"\",MEDIAN(J69:J188))","v":""},"","","",{"$f":"IF(D69=\"\",\"\",MEDIAN(D69:M188))","v":""},{"$f":"IF(D69=\"\",\"\",ROUND(N51,3))","v":""},{"$f":"IF(D69=\"\",\"\",ROUND(N52,3))","v":""}]
[{"$f":"IF(N33=0,\"\",ROUND(2*N39,3)&\" to \"&ROUND(N40,3))","v":""},null,"Mode",{"$f":"IF(COUNT(D69:D188)=0,\"\",MODE(D69:D188))","v":""},"","","","",{"$f":"IF(COUNT(I69:I188)=0,\"\",MODE(I69:I188))","v":""},{"$f":"IF(COUNT(J69:J188)=0,\"\",MODE(J69:J188))","v":""},"","","",{"$f":"IF(D69=\"\",\"\",MODE(D69:M188))","v":""},{"$f":"IF(D69=\"\",\"\",N26-1)","v":""},{"$f":"IF(D69=\"\",\"\",N26+1)","v":""}]
["Dilution Range",null,null,"(Converted back to MIC)",{"$nulls":10},"Control","Limits"]
[{"$f":"IF(N33=0,\"\",LN(N40/N39)/LN(2))","v":""},null,"Mean",{"$f":"IF(COUNT(D69:D188)=0,\"\",2^(AVERAGE(D69:D188)+0.5))","v":""},"","","","",{"$f":"IF(COUNT(I69:I188)=0,\"\",2^(AVERAGE(I69:I188)+0.5))","v":""},{"$f":"IF(COUNT(J69:J188)=0,\"\",2^(AVERAGE(J69:J188)+0.5))","v":""},"","","",{"$f":"IF(D69=\"\",\"\",2^(AVERAGE(D69:M188)+0.5))","v":""},{"$f":"IF(D69=\"\",\"\",2^O24)","v":""},{"$f":"IF(D69=\"\",\"\",2^P24)","v":""}]
["% Obs. Captured",null,"Median",{"$f":"IF(COUNT(D69:D188)=0,\"\",2^(MEDIAN(D69:D188)+0.5))","v":""},"","","","",{"$f":"IF(COUNT(I69:I188)=0,\"\",2^(MEDIAN(I69:I188)+0.5))","v":""},{"$f":"IF(COUNT(J69:J188)=0,\"\",2^(MEDIAN(J69:J188)+0.5))","v":""},"","","",{"$f":"IF(D69=\"\",\"\",2^(MEDIAN(D69:M188)+0.5))","v":""},{"$f":"IF(D69=\"\",\"\",2^O25)","v":""},{"$f":"IF(D69=\"\",\"\",2^P25)","v":""}]
[{"$f":"IF(N33=0,\"\",((COUNTIF(D69:M188,\"<\"&LN(N40)/LN(2))-COUNTIF(D69:M188,\"<\"&LN(N39)/LN(2)))/N$33))","v":""},null,"Mode",{"$f":"IF(COUNT(D69:D188)=0,\"\",2^(MODE(D69:D188)+0.5))","v":""},"","","","",{"$f":"IF(COUNT(I69:I188)=0,\"\",2^(MODE(I69:I188)+0.5))","v":""},{"$f":"IF(COUNT(J69:J188)=0,\"\",2^(MODE(J69:J188)+0.5))","v":""},"","","",{"$f":"IF(D69=\"\",\"\",2^(MODE(D69:M188)+0.5))","v":""},{"$f":"IF(D69=\"\",\"\",2^O26)","v":""},{"$f":"IF(D69=\"\",\"\",2^P26)","v":""}]
["Prob'ty Outside Range"]
[{"$f":"IF(N33=0,\"\",N41+N42)","v":""},null,"Conventional Stats","Lab 1","Lab 2","Lab 3","Lab 4","Lab 5","Lab 6","Lab 7","Lab 8","Lab 9","Lab 10","All labs","Interlab"]
[null,null,"N",{"$f":"IF(COUNT(D69:D188)=0,\"\",COUNT(D69:D188))","v":""},"","","","",{"$f":"IF(COUNT(I69:I188)=0,\"\",COUNT(I69:I188))","v":""},{"$f":"IF(COUNT(J69:J188)=0,\"\",COUNT(J69:J188))","v":""},"","","",{"$f":"COUNT(D69:M188)","v":0},"CV"]
["CLSI QC Range",null,"GeoMean MIC (log2)",{"$f":"IF(COUNT(D69:D188)=0,\"\",AVERAGE(D69:D188))","v":""},"","","","",{"$f":"IF(COUNT(I69:I188)=0,\"\",AVERAGE(I69:I188))","v":""},{"$f":"IF(COUNT(J69:J188)=0,\"\",AVERAGE(J69:J188))","v":""},"","","",{"$f":"IF(D69=\"\",\"\",AVERAGE(D69:M188))","v":""},{"$f":"IF(D69=\"\",\"\",ABS(STDEVA(D34:M34)/N34))","v":""}]
[null,null,"GeoMean MIC",{"$f":"IF(COUNT(D69:D188)=0,\"\",2^D34)","v":""},"","","","",{"$f":"IF(COUNT(I69:I188)=0,\"\",2^I34)","v":""},{"$f":"IF(COUNT(J69:J188)=0,\"\",2^J34)","v":""},"","","",{"$f":"IF(D69=\"\",\"\",2^N34)","v":""}]
[null,null,"GeoSD (log2)",{"$f":"IF(COUNT(D69:D188)=0,\"\",STDEV(D69:D188))","v":""},"","","","",{"$f":"IF(COUNT(I69:I188)=0,\"\",STDEV(I69:I188))","v":""},{"$f":"IF(COUNT(J69:J188)=0,\"\",STDEV(J69:J188))","v":""},"","","",{"$f":"IF(D69=\"\",\"\",STDEV(D69:M188))","v":""}]
[{"$f":"IF(A35=\"\",\"\",ROUND(2^(A35+0.5),3)&\" to \"&ROUND(2^(A36+0.5),3))","v":""},null,"95% Lower Bound",{"$f":"IF(COUNT(D69:D188)=0,\"\",IF(D33=0,\"\",2^((NORMINV(0.025,D34,D36)))))","v":""},"","","","",{"$f":"IF(COUNT(I69:I188)=0,\"\",IF(I33=0,\"\",2^((NORMINV(0.025,I34,I36)))))","v":""},{"$f":"IF(COUNT(J69:J188)=0,\"\",IF(J33=0,\"\",2^((NORMINV(0.025,J34,J36)))))","v":""},"","","",{"$f":"IF(N33=0,\"\",2^((NORMINV(0.025,N34,N36))))","v":""}]
["Dilution Range",null,"95% Upper Bound",{"$f":"IF(COUNT(D69:D188)=0,\"\",IF(D33=0,\"\",2^(NORMINV(0.975,D34,D36))))","v":""},"","","","",{"$f":"IF(COUNT(I69:I188)=0,\"\",IF(I33=0,\"\",2^(NORMINV(0.975,I34,I36))))","v":""},{"$f":"IF(COUNT(J69:J188)=0,\"\",IF(J33=0,\"\",2^(NORMINV(0.975,J34,J36))))","v":""},"","","",{"$f":"IF(N33=0,\"\",2^(NORMINV(0.975,N34,N36)))","v":""}]
[{"$f":"IF(A35=\"\",\"\",A36-A35+1)","v":""},null,"Lower Bound Rounded Down",{"$f":"IF(COUNT(D69:D188)=0,\"\",IF(D33=0,\"\",2^(INT((NORMINV(0.025,D34,D36))))))","v":""},"","","","",{"$f":"IF(COUNT(I69:I188)=0,\"\",IF(I33=0,\"\",2^(INT((NORMINV(0.025,I34,I36))))))","v":""},{"$f":"IF(COUNT(J69:J188)=0,\"\",IF(J33=0,\"\",2^(INT((NORMINV(0.025,J34,J36))))))","v":""},"","","",{"$f":"IF(N33=0,\"\",2^(INT((NORMINV(0.025,N34,N36)))))","v":""}]
["CLSI% Obs. captured",null,"Upper Bound Rounded Up",{"$f":"IF(COUNT(D69:D188)=0,\"\",IF(D33=0,\"\",2^(INT((NORMINV(0.975,D34,D36)))+1)))","v":""},"","","","",{"$f":"IF(COUNT(I69:I188)=0,\"\",IF(I33=0,\"\",2^(INT((NORMINV(0.975,I34,I36)))+1)))","v":""},{"$f":"IF(COUNT(J69:J188)=0,\"\",IF(J33=0,\"\",2^(INT((NORMINV(0.975,J34,J36)))+1)))","v":""},"","","",{"$f":"IF(N33=0,\"\",2^(INT((NORMINV(0.975,N34,N36)))+1))","v":""}]
[{"$f":"IF(A35=0,\"\",(COUNTIF(D69:M188,\"<\"&A36+1)-COUNTIF(D69:M188,\"<\"&A35))/N$33)","v":""},null,"Probability of <=Lower Bound",{"$f":"IF(COUNT(D69:D188)=0,\"\",NORMDIST(LOG(D39)/LOG(2),D34,D36,TRUE))","v":""},"","","","",{"$f":"IF(COUNT(I69:I188)=0,\"\",NORMDIST(LOG(I39)/LOG(2),I34,I36,TRUE))","v":""},{"$f":"IF(COUNT(J69:J188)=0,\"\",NORMDIST(LOG(J39)/LOG(2),J34,J36,TRUE))","v":""},"","","",{"$f":"IF(D69=\"\",\"\",NORMDIST(LOG(N39)/LOG(2),N34,N36,TRUE))","v":""}]
[null,null,"Probability of >Upper Bound",{"$f":"IF(COUNT(D69:D188)=0,\"\",1-NORMDIST(LOG(D40)/LOG(2),D34,D36,TRUE))","v":""},"","","","",{"$f":"IF(COUNT(I69:I188)=0,\"\",1-NORMDIST(LOG(I40)/LOG(2),I34,I36,TRUE))","v":""},{"$f":"IF(COUNT(J69:J188)=0,\"\",1-NORMDIST(LOG(J40)/LOG(2),J34,J36,TRUE))","v":""},"","","",{"$f":"IF(D69=\"\",\"\",1-NORMDIST(LOG(N40)/LOG(2),N34,N36,TRUE))","v":""}]
[null,null,"New Range",{"$f":"IF(COUNT(D69:D188)=0,\"\",1-D41-D42)","v":""},"","","","",{"$f":"IF(COUNT(I69:I188)=0,\"\",1-I41-I42)","v":""},{"$f":"IF(COUNT(J69:J188)=0,\"\",1-J41-J42)","v":""},"","","",{"$f":"IF(D69=\"\",\"\",1-N41-N42)","v":""}]
[]
[null,null,"Order Stats","Lab 1","Lab 2","Lab 3","Lab 4","Lab 5","Lab 6","Lab 7","Lab 8","Lab 9","Lab 10","All labs","Interlab"]
[null,null,"25th %ile",{"$f":"IF(COUNT(D69:D188)=0,\"\",QUARTILE(D69:D188,1))","v":""},"","","","",{"$f":"IF(COUNT(I69:I188)=0,\"\",QUARTILE(I69:I188,1))","v":""},{"$f":"IF(COUNT(J69:J188)=0,\"\",QUARTILE(J69:J188,1))","v":""},"","","",{"$f":"IF(D69=\"\",\"\",QUARTILE(D69:M188,1))","v":""},"CV"]
[null,null,"75th %ile",{"$f":"IF(COUNT(D69:D188)=0,\"\",QUARTILE(D69:D188,3))","v":""},"","","","",{"$f":"IF(COUNT(I69:I188)=0,\"\",QUARTILE(I69:I188,3))","v":""},{"$f":"IF(COUNT(J69:J188)=0,\"\",QUARTILE(J69:J188,3))","v":""},"","","",{"$f":"IF(D69=\"\",\"\",QUARTILE(D69:M188,3))","v":""},{"$f":"IF(D69=\"\",\"\",ABS(N48/N25))","v":""}]
[null,null,"Interquartile Range",{"$f":"IF(COUNT(D69:D188)=0,\"\",IF(D47-D46=0,1,D47-D46))","v":""},"","","","",{"$f":"IF(COUNT(I69:I188)=0,\"\",IF(I47-I46=0,1,I47-I46))","v":""},{"$f":"IF(COUNT(J69:J188)=0,\"\",IF(J47-J46=0,1,J47-J46))","v":""},"","","",{"$f":"IF(D69=\"\",\"\",IF(N47-N46=0,1,N47-N46))","v":""}]
[null,null,"Minimum",{"$f":"IF(COUNT(D69:D188)=0,\"\",MIN(D69:D188))","v":""},"","","","",{"$f":"IF(COUNT(I69:I188)=0,\"\",MIN(I69:I188))","v":""},{"$f":"IF(COUNT(J69:J188)=0,\"\",MIN(J69:J188))","v":""},"","","",{"$f":"IF(D69=\"\",\"\",MIN(D69:M188))","v":""}]
[null,null,"Maximum",{"$f":"IF(COUNT(D69:D188)=0,\"\",MAX(D69:D188))","v":""},"","","","",{"$f":"IF(COUNT(I69:I188)=0,\"\",MAX(I69:I188))","v":""},{"$f":"IF(COUNT(J69:J188)=0,\"\",MAX(J69:J188))","v":""},"","","",{"$f":"IF(D69=\"\",\"\",MAX(D69:M188))","v":""}]
[null,null,"Lower Inner Fence",{"$f":"IF(COUNT(D69:D188)=0,\"\",D$46-1.5*D$48)","v":""},"","","","",{"$f":"IF(COUNT(I69:I188)=0,\"\",I$46-1.5*I$48)","v":""},{"$f":"IF(COUNT(J69:J188)=0,\"\",J$46-1.5*J$48)","v":""},"","","",{"$f":"IF(D69=\"\",\"\",N$46-1.5*N$48)","v":""}]
[null,null,"Upper Inner Fence",{"$f":"IF(COUNT(D69:D188)=0,\"\",D$47+1.5*D$48)","v":""},"","","","",{"$f":"IF(COUNT(I69:I188)=0,\"\",I$47+1.5*I$48)","v":""},{"$f":"IF(COUNT(J69:J188)=0,\"\",J$47+1.5*J$48)","v":""},"","","",{"$f":"IF(D69=\"\",\"\",N$47+1.5*N$48)","v":""}]
[null,null,"Lower Outer Fence",{"$f":"IF(COUNT(D69:D188)=0,\"\",D$46-3*D$48)","v":""},"","","","",{"$f":"IF(COUNT(I69:I188)=0,\"\",I$46-3*I$48)","v":""},{"$f":"IF(COUNT(J69:J188)=0,\"\",J$46-3*J$48)","v":""},"","","",{"$f":"IF(D69=\"\",\"\",N$46-3*N$48)","v":""}]
[null,null,"Upper Outer Fence",{"$f":"IF(COUNT(D69:D188)=0,\"\",D$47+3*D$48)","v":""},"","","","",{"$f":"IF(COUNT(I69:I188)=0,\"\",I$47+3*I$48)","v":""},{"$f":"IF(COUNT(J69:J188)=0,\"\",J$47+3*J$48)","v":""},"","","",{"$f":"IF(D69=\"\",\"\",N$47+3*N$48)","v":""}]
[null,null,"Lower Near Outliers",{"$f":"IF(COUNT(D69:D188)=0,\"\",COUNTIF(D69:D188,\"<\"&D51))","v":""},"","","","",{"$f":"IF(COUNT(I69:I188)=0,\"\",COUNTIF(I69:I188,\"<\"&I51))","v":""},{"$f":"IF(COUNT(J69:J188)=0,\"\",COUNTIF(J69:J188,\"<\"&J51))","v":""},"","","",{"$f":"IF(D69=\"\",\"\",COUNTIF(D69:M188,\"<\"&N51)-N57)","v":""}]
[null,null,"Upper Near Outliers",{"$f":"IF(COUNT(D69:D188)=0,\"\",COUNTIF(D69:D188,\">\"&D52))","v":""},"","","","",{"$f":"IF(COUNT(I69:I188)=0,\"\",COUNTIF(I69:I188,\">\"&I52))","v":""},{"$f":"IF(COUNT(J69:J188)=0,\"\",COUNTIF(J69:J188,\">\"&J52))","v":""},"","","",{"$f":"IF(D69=\"\",\"\",COUNTIF(D69:M188,\">\"&N52)-N58)","v":""}]
[null,null,"Lower Extreme Outliers",{"$f":"IF(COUNT(D69:D188)=0,\"\",COUNTIF(D69:D188,\"<\"&D53))","v":""},"","","","",{"$f":"IF(COUNT(I69:I188)=0,\"\",COUNTIF(I69:I188,\"<\"&I53))","v":""},{"$f":"IF(COUNT(J69:J188)=0,\"\",COUNTIF(J69:J188,\"<\"&J53))","v":""},"","","",{"$f":"IF(D69=\"\",\"\",COUNTIF(D69:M188,\"<\"&N53))","v":""}]
[null,null,"Upper Extreme Outliers",{"$f":"IF(COUNT(D69:D188)=0,\"\",COUNTIF(D69:D188,\">\"&D54))","v":""},"","","","",{"$f":"IF(COUNT(I69:I188)=0,\"\",COUNTIF(I69:I188,\">\"&I54))","v":""},{"$f":"IF(COUNT(J69:J188)=0,\"\",COUNTIF(J69:J188,\">\"&J54))","v":""},"","","",{"$f":"IF(D69=\"\",\"\",COUNTIF(D69:M188,\">\"&N54))","v":""}]
[]
[null,null,"Chart Control Limits","Lab 1","Lab 2","Lab 3","Lab 4","Lab 5","Lab 6","Lab 7","Lab 8","Lab 9","Lab 10"]
[null,"Mean","Lower CL",{"$f":"$O$24","v":""},{"$f":"$O$24","v":""},"","","","","","","",""]
[null,null,"Upper CL",{"$f":"$P$24","v":""},{"$f":"$P$24","v":""},"","","","","","","",""]
[null,"Median","Lower CL",{"$f":"$O$25","v":""},{"$f":"$O$25","v":""},"","","","","","","",""]
[null,null,"Upper CL",{"$f":"$P$25","v":""},{"$f":"$P$25","v":""},"","","","","","","",""]
[null,"Mode","Lower CL",{"$f":"$O$26","v":""},{"$f":"$O$26","v":""},"","","","","","","",""]
[null,null,"Upper CL",{"$f":"$P$26","v":""},{"$f":"$P$26","v":""},"","","","","","","",""]
[]
[null,null,"Log2 Converted Raw Data","Lab 1","Lab 2","Lab 3","Lab 4","Lab 5","Lab 6","Lab 7","Lab 8","Lab 9","Lab 10","Control","Limits"]
[null,null,"Media Lot 1",{"$f":"IF(D191=\"\",\"\",LOOKUP(D191,$A$3:$A$22,$C$3:$C$22))","v":""},"","","","",{"$f":"IF(I191=\"\",\"\",LOOKUP(I191,$A$3:$A$22,$C$3:$C$22))","v":""},"","","","",{"$f":"IF(D69=\"\",\"\",LN($N$39)/LN(2))","v":""},{"$f":"IF(D69=\"\",\"\",LN($N$40)/LN(2)-0.5)","v":""}]
[{"$nulls":3},"","","","","","","","","",""]
[{"$nulls":3},"","","","","","","","","",""]
[{"$nulls":3},"","","","","","","","","",""]
[{"$nulls":3},{"$f":"IF(D195=\"\",\"\",LOOKUP(D195,$A$3:$A$22,$C$3:$C$22))","v":""},"","","","","","","","",""]
[{"$nulls":3},"","","","","","","","","",""]
[{"$nulls":3},"","","","","","","","","",""]
[{"$nulls":3},"","","","","","","","","",""]
[{"$nulls":3},"","","","","","","","","",""]
[{"$nulls":3},"","","","","","","","","",""]
[{"$nulls":3},{"$f":"IF(D201=\"\",\"\",LOOKUP(D201,$A$3:$A$22,$C$3:$C$22))","v":""},"","","","",{"$f":"IF(I201=\"\",\"\",LOOKUP(I201,$A$3:$A$22,$C$3:$C$22))","v":""},"","","",""]
[{"$nulls":3},"","","","","","","","","",""]
[{"$nulls":3},{"$f":"IF(D203=\"\",\"\",LOOKUP(D203,$A$3:$A$22,$C$3:$C$22))","v":""},"","","","","","","","",""]
[{"$nulls":3},"","","","","","","","","",""]
[{"$nulls":3},"","","","","","","","","",""]
[{"$nulls":3},"","","","","","","","","",""]
[{"$nulls":3},"","","","","","","","","",""]
[{"$nulls":3},"","","","","","","","","",""]
[{"$nulls":3},"","","","","","","","","",""]
[{"$nulls":3},"","","","","","","","","",""]
[{"$nulls":3},{"$f":"IF(D211=\"\",\"\",LOOKUP(D211,$A$3:$A$22,$C$3:$C$22))","v":""},"","","","",{"$f":"IF(I211=\"\",\"\",LOOKUP(I211,$A$3:$A$22,$C$3:$C$22))","v":""},"","","",""]
[{"$nulls":3},"","","","","","","","","",""]
[{"$nulls":3},"","","","","","","","","",""]
[{"$nulls":3},"","","","","","","","","",""]
[{"$nulls":3},"","","","","","","","","",""]
[{"$nulls":3},"","","","","","","","","",""]
[{"$nulls":3},"","","","","","","","","",""]
[{"$nulls":3},"","","","","","","","","",""]
[{"$nulls":3},"","","","","","","","","",""]
[{"$nulls":3},"","","","","","","","","",""]
[{"$nulls":3},"","","","","",{"$f":"IF(I221=\"\",\"\",LOOKUP(I221,$A$3:$A$22,$C$3:$C$22))","v":""},"","","",""]
[{"$nulls":3},"","","","","","","","","",""]
[{"$nulls":3},"","","","","","","","","",""]
[{"$nulls":3},"","","","","","","","","",""]
[{"$nulls":3},"","","","","","","","","",""]
[{"$nulls":3},"","","","","","","","","",""]
[{"$nulls":3},{"$f":"IF(D227=\"\",\"\",LOOKUP(D227,$A$3:$A$22,$C$3:$C$22))","v":""},"","","","","","","","",""]
[{"$nulls":3},"","","","","","","","","",""]
[{"$nulls":3},"","","","","","","","","",""]
[{"$nulls":3},"","","","","","","","","",""]
[null,null,"Media Lot 2","","","","","",{"$f":"IF(I231=\"\",\"\",LOOKUP(I231,$A$3:$A$22,$C$3:$C$22))","v":""},"","","",""]
[{"$nulls":3},"","","","","","","","","",""]
[{"$nulls":3},"","","","","","","","","",""]
[{"$nulls":3},"","","","","","","","","",""]
[{"$nulls":3},"","","","","","","","","",""]
[{"$nulls":3},"","","","","","","","","",""]
[{"$nulls":3},"","","","","","","","","",""]
[{"$nulls":3},"","","","","","","","","",""]
[{"$nulls":3},"","","","","","","","","",""]
[{"$nulls":3},"","","","","","","","","",""]
[{"$nulls":3},"","","","","",{"$f":"IF(I241=\"\",\"\",LOOKUP(I241,$A$3:$A$22,$C$3:$C$22))","v":""},"","","",""]
[{"$nulls":3},"","","","","","","","","",""]
[{"$nulls":3},{"$f":"IF(D243=\"\",\"\",LOOKUP(D243,$A$3:$A$22,$C$3:$C$22))","v":""},"","","","","","","","",""]
[{"$nulls":3},"","","","","","","","","",""]
[{"$nulls":3},"","","","","","","","","",""]
[{"$nulls":3},"","","","","","","","","",""]
[{"$nulls":3},"","","","","","","","","",""]
[{"$nulls":3},"","","","","","","","","",""]
[{"$nulls":3},"","","","","","","","","",""]
[{"$nulls":3},"","","","","","","","","",""]
[{"$nulls":3},"","","","","",{"$f":"IF(I251=\"\",\"\",LOOKUP(I251,$A$3:$A$22,$C$3:$C$22))","v":""},"","","",""]
[{"$nulls":3},"","","","","","","","","",""]
[{"$nulls":3},"","","","","","","","","",""]
[{"$nulls":3},"","","","","","","","","",""]
[{"$nulls":3},"","","","","","","","","",""]
[{"$nulls":3},"","","","","","","","","",""]
[{"$nulls":3},"","","","","","","","","",""]
[{"$nulls":3},"","","","","","","","","",""]
[{"$nulls":3},{"$f":"IF(D259=\"\",\"\",LOOKUP(D259,$A$3:$A$22,$C$3:$C$22))","v":""},"","","","","","","","",""]
[{"$nulls":3},"","","","","","","","","",""]
[{"$nulls":3},"","","","","",{"$f":"IF(I261=\"\",\"\",LOOKUP(I261,$A$3:$A$22,$C$3:$C$22))","v":""},"","","",""]
[{"$nulls":3},"","","","","","","","","",""]
[{"$nulls":3},"","","","","","","","","",""]
[{"$nulls":3},"","","","","","","","","",""]
[{"$nulls":3},"","","","","","","","","",""]
[{"$nulls":3},"","","","","","","","","",""]
[{"$nulls":3},"","","","","","","","","",""]
[{"$nulls":3},"","","","","","","","","",""]
[{"$nulls":3},"","","","","","","","","",""]
[{"$nulls":3},"","","","","","","","","",""]
[null,null,"Media Lot 3","","","","","",{"$f":"IF(I271=\"\",\"\",LOOKUP(I271,$A$3:$A$22,$C$3:$C$22))","v":""},"","","",""]
[{"$nulls":3},"","","","","","","","","",""]
[{"$nulls":3},"","","","","","","","","",""]
[{"$nulls":3},"","","","","","","","","",""]
[{"$nulls":3},{"$f":"IF(D275=\"\",\"\",LOOKUP(D275,$A$3:$A$22,$C$3:$C$22))","v":""},"","","","","","","","",""]
[{"$nulls":3},"","","","","","","","","",""]
[{"$nulls":3},"","","","","","","","","",""]
[{"$nulls":3},"","","","","","","","","",""]
[{"$nulls":3},"","","","","","","","","",""]
[{"$nulls":3},"","","","","","","","","",""]
[{"$nulls":3},"","","","","",{"$f":"IF(I281=\"\",\"\",LOOKUP(I281,$A$3:$A$22,$C$3:$C$22))","v":""},"","","",""]
[{"$nulls":3},"","","","","","","","","",""]
[{"$nulls":3},"","","","","","","","","",""]
[{"$nulls":3},"","","","","","","","","",""]
[{"$nulls":3},"","","","","","","","","",""]
[{"$nulls":3},"","","","","","","","","",""]
[{"$nulls":3},"","","","","","","","","",""]
[{"$nulls":3},"","","","","","","","","",""]
[{"$nulls":3},"","","","","","","","","",""]
[{"$nulls":3},"","","","","","","","","",""]
[{"$nulls":3},{"$f":"IF(D291=\"\",\"\",LOOKUP(D291,$A$3:$A$22,$C$3:$C$22))","v":""},"","","","",{"$f":"IF(I291=\"\",\"\",LOOKUP(I291,$A$3:$A$22,$C$3:$C$22))","v":""},"","","",""]
[{"$nulls":3},"","","","","","","","","",""]
[{"$nulls":3},"","","","","","","","","",""]
[{"$nulls":3},"","","","","","","","","",""]
[{"$nulls":3},"","","","","","","","","",""]
[{"$nulls":3},"","","","","","","","","",""]
[{"$nulls":3},"","","","","","","","","",""]
[{"$nulls":3},"","","","","","","","","",""]
[{"$nulls":3},"","","","","","","","","",""]
[{"$nulls":3},"","","","","","","","","",""]
[{"$nulls":3},"","","","","",{"$f":"IF(I301=\"\",\"\",LOOKUP(I301,$A$3:$A$22,$C$3:$C$22))","v":""},"","","",""]
[{"$nulls":3},"","","","","","","","","",""]
[{"$nulls":3},"","","","","","","","","",""]
[{"$nulls":3},"","","","","","","","","",""]
[{"$nulls":3},"","","","","","","","","",""]
[{"$nulls":3},"","","","","","","","","",""]
[{"$nulls":3},{"$f":"IF(D307=\"\",\"\",LOOKUP(D307,$A$3:$A$22,$C$3:$C$22))","v":""},"","","","","","","","",""]
[{"$nulls":3},"","","","","","","","","",""]
[{"$nulls":3},"","","","","","","","","",""]
[{"$nulls":3},"","","","","","","","","",""]
[]
[null,null,"Raw Data Entry","Lab 1","Lab 2","Lab 3","Lab 4","Lab 5","Lab 6","Lab 7","Lab 8","Lab 9","Lab 10"]
[null,null,"Media Lot 1"]
{"$rows_empty":39}
[null,null,"Media Lot 2"]
{"$rows_empty":39}
[null,null,"Media Lot 3"]

{"sheet":"Strain 9","index":20,"n_rows":271,"n_cols":16,"rows_kept":271,"merged":[[0,4,0,6]]}
[{"$f":"'Range Summary'!J2","v":"QC9"},{"$f":"'Range Summary'!A2","v":"Test agent"},null,null,"Go to Raw Data Entry area"]
["MIC","Midpoint MIC","Mid Log2MIC","Lab 1","Lab 2","Lab 3","Lab 4","Lab 5","Lab 6","Lab 7","Lab 8","Lab 9","Lab 10","All labs","Norm"]
[{"v":1E-3,"d":"0.001"},{"$f":"2^C3","v":{"v":6.9053396600248776E-4,"d":"0.000691"}},-10.5,{"$f":"IF(COUNTIF(D69:D188,-10.5)=0,\"\",COUNTIF(D69:D188,-10.5))","v":""},{"$f":"IF(COUNTIF(E69:E188,-10.5)=0,\"\",COUNTIF(E69:E188,-10.5))","v":""},{"$f":"IF(COUNTIF(F69:F188,-10.5)=0,\"\",COUNTIF(F69:F188,-10.5))","v":""},"","",{"$f":"IF(COUNTIF(I69:I188,-10.5)=0,\"\",COUNTIF(I69:I188,-10.5))","v":""},{"$f":"IF(COUNTIF(J69:J188,-10.5)=0,\"\",COUNTIF(J69:J188,-10.5))","v":""},"","","",{"$f":"SUM(D3:M3)","v":0},{"$f":"IF(D69=\"\",0,ROUND(N$33*NORMDIST(C3+0.5,N$34,N$36,TRUE),0))","v":0}]
[{"v":2E-3,"d":"0.002"},{"$f":"2^C4","v":{"v":1.3810679320049757E-3,"d":"0.001381"}},-9.5,{"$f":"IF(COUNTIF(D69:D188,-9.5)=0,\"\",COUNTIF(D69:D188,-9.5))","v":""},{"$f":"IF(COUNTIF(E69:E188,-9.5)=0,\"\",COUNTIF(E69:E188,-9.5))","v":""},{"$f":"IF(COUNTIF(F69:F188,-9.5)=0,\"\",COUNTIF(F69:F188,-9.5))","v":""},"","",{"$f":"IF(COUNTIF(I69:I188,-9.5)=0,\"\",COUNTIF(I69:I188,-9.5))","v":""},{"$f":"IF(COUNTIF(J69:J188,-9.5)=0,\"\",COUNTIF(J69:J188,-9.5))","v":""},"","","",0,{"$f":"IF(D69=\"\",0,ROUND(N$33*NORMDIST(C4+0.5,N$34,N$36,TRUE),0)-SUM(O2:O$3))","v":0}]
[0.004,{"v":2.7621358640099515E-3,"d":"0.002762"},-8.5,{"$f":"IF(COUNTIF(D69:D188,-8.5)=0,\"\",COUNTIF(D69:D188,-8.5))","v":""},{"$f":"IF(COUNTIF(E69:E188,-8.5)=0,\"\",COUNTIF(E69:E188,-8.5))","v":""},{"$f":"IF(COUNTIF(F69:F188,-8.5)=0,\"\",COUNTIF(F69:F188,-8.5))","v":""},"","",{"$f":"IF(COUNTIF(I69:I188,-8.5)=0,\"\",COUNTIF(I69:I188,-8.5))","v":""},{"$f":"IF(COUNTIF(J69:J188,-8.5)=0,\"\",COUNTIF(J69:J188,-8.5))","v":""},"","","",0,{"$f":"IF(D69=\"\",0,ROUND(N$33*NORMDIST(C5+0.5,N$34,N$36,TRUE),0)-SUM(O$3:O3))","v":0}]
[0.008,{"v":0.005524271728019904,"d":"0.005524"},-7.5,{"$f":"IF(COUNTIF(D69:D188,-7.5)=0,\"\",COUNTIF(D69:D188,-7.5))","v":""},{"$f":"IF(COUNTIF(E69:E188,-7.5)=0,\"\",COUNTIF(E69:E188,-7.5))","v":""},{"$f":"IF(COUNTIF(F69:F188,-7.5)=0,\"\",COUNTIF(F69:F188,-7.5))","v":""},"","",{"$f":"IF(COUNTIF(I69:I188,-7.5)=0,\"\",COUNTIF(I69:I188,-7.5))","v":""},{"$f":"IF(COUNTIF(J69:J188,-7.5)=0,\"\",COUNTIF(J69:J188,-7.5))","v":""},"","","",{"$f":"SUM(D6:M6)","v":0},{"$f":"IF(D69=\"\",0,ROUND(N$33*NORMDIST(C6+0.5,N$34,N$36,TRUE),0)-SUM(O$3:O5))","v":0}]
[0.016,{"v":0.011048543456039808,"d":"0.011049"},-6.5,{"$f":"IF(COUNTIF(D69:D188,-6.5)=0,\"\",COUNTIF(D69:D188,-6.5))","v":""},{"$f":"IF(COUNTIF(E69:E188,-6.5)=0,\"\",COUNTIF(E69:E188,-6.5))","v":""},{"$f":"IF(COUNTIF(F69:F188,-6.5)=0,\"\",COUNTIF(F69:F188,-6.5))","v":""},"","",{"$f":"IF(COUNTIF(I69:I188,-6.5)=0,\"\",COUNTIF(I69:I188,-6.5))","v":""},{"$f":"IF(COUNTIF(J69:J188,-6.5)=0,\"\",COUNTIF(J69:J188,-6.5))","v":""},"","","",0,{"$f":"IF(D69=\"\",0,ROUND(N$33*NORMDIST(C7+0.5,N$34,N$36,TRUE),0)-SUM(O$3:O6))","v":0}]
[0.03,{"v":0.022097086912079608,"d":"0.022097"},-5.5,{"$f":"IF(COUNTIF(D69:D188,-5.5)=0,\"\",COUNTIF(D69:D188,-5.5))","v":""},{"$f":"IF(COUNTIF(E69:E188,-5.5)=0,\"\",COUNTIF(E69:E188,-5.5))","v":""},{"$f":"IF(COUNTIF(F69:F188,-5.5)=0,\"\",COUNTIF(F69:F188,-5.5))","v":""},"","",{"$f":"IF(COUNTIF(I69:I188,-5.5)=0,\"\",COUNTIF(I69:I188,-5.5))","v":""},{"$f":"IF(COUNTIF(J69:J188,-5.5)=0,\"\",COUNTIF(J69:J188,-5.5))","v":""},"","","",0,{"$f":"IF(D69=\"\",0,ROUND(N$33*NORMDIST(C8+0.5,N$34,N$36,TRUE),0)-SUM(O$3:O7))","v":0}]
[0.06,{"v":0.04419417382415922,"d":"0.044194"},-4.5,{"$f":"IF(COUNTIF(D69:D188,-4.5)=0,\"\",COUNTIF(D69:D188,-4.5))","v":""},{"$f":"IF(COUNTIF(E69:E188,-4.5)=0,\"\",COUNTIF(E69:E188,-4.5))","v":""},{"$f":"IF(COUNTIF(F69:F188,-4.5)=0,\"\",COUNTIF(F69:F188,-4.5))","v":""},"","",{"$f":"IF(COUNTIF(I69:I188,-4.5)=0,\"\",COUNTIF(I69:I188,-4.5))","v":""},{"$f":"IF(COUNTIF(J69:J188,-4.5)=0,\"\",COUNTIF(J69:J188,-4.5))","v":""},"","","",0,{"$f":"IF(D69=\"\",0,ROUND(N$33*NORMDIST(C9+0.5,N$34,N$36,TRUE),0)-SUM(O$3:O8))","v":0}]
[0.13,{"v":0.08838834764831845,"d":"0.088388"},-3.5,{"$f":"IF(COUNTIF(D69:D188,-3.5)=0,\"\",COUNTIF(D69:D188,-3.5))","v":""},{"$f":"IF(COUNTIF(E69:E188,-3.5)=0,\"\",COUNTIF(E69:E188,-3.5))","v":""},{"$f":"IF(COUNTIF(F69:F188,-3.5)=0,\"\",COUNTIF(F69:F188,-3.5))","v":""},"","",{"$f":"IF(COUNTIF(I69:I188,-3.5)=0,\"\",COUNTIF(I69:I188,-3.5))","v":""},{"$f":"IF(COUNTIF(J69:J188,-3.5)=0,\"\",COUNTIF(J69:J188,-3.5))","v":""},"","","",0,{"$f":"IF(D69=\"\",0,ROUND(N$33*NORMDIST(C10+0.5,N$34,N$36,TRUE),0)-SUM(O$3:O9))","v":0}]
[0.25,{"v":0.17677669529663687,"d":"0.176777"},-2.5,{"$f":"IF(COUNTIF(D69:D188,-2.5)=0,\"\",COUNTIF(D69:D188,-2.5))","v":""},{"$f":"IF(COUNTIF(E69:E188,-2.5)=0,\"\",COUNTIF(E69:E188,-2.5))","v":""},{"$f":"IF(COUNTIF(F69:F188,-2.5)=0,\"\",COUNTIF(F69:F188,-2.5))","v":""},"","",{"$f":"IF(COUNTIF(I69:I188,-2.5)=0,\"\",COUNTIF(I69:I188,-2.5))","v":""},{"$f":"IF(COUNTIF(J69:J188,-2.5)=0,\"\",COUNTIF(J69:J188,-2.5))","v":""},"","","",0,{"$f":"IF(D69=\"\",0,ROUND(N$33*NORMDIST(C11+0.5,N$34,N$36,TRUE),0)-SUM(O$3:O10))","v":0}]
[0.5,{"v":0.3535533905932738,"d":"0.353553"},-1.5,{"$f":"IF(COUNTIF(D69:D188,-1.5)=0,\"\",COUNTIF(D69:D188,-1.5))","v":""},{"$f":"IF(COUNTIF(E69:E188,-1.5)=0,\"\",COUNTIF(E69:E188,-1.5))","v":""},{"$f":"IF(COUNTIF(F69:F188,-1.5)=0,\"\",COUNTIF(F69:F188,-1.5))","v":""},"","",{"$f":"IF(COUNTIF(I69:I188,-1.5)=0,\"\",COUNTIF(I69:I188,-1.5))","v":""},{"$f":"IF(COUNTIF(J69:J188,-1.5)=0,\"\",COUNTIF(J69:J188,-1.5))","v":""},"","","",0,{"$f":"IF(D69=\"\",0,ROUND(N$33*NORMDIST(C12+0.5,N$34,N$36,TRUE),0)-SUM(O$3:O11))","v":0}]
[1,{"v":0.7071067811865475,"d":"0.707107"},-0.5,{"$f":"IF(COUNTIF(D69:D188,-0.5)=0,\"\",COUNTIF(D69:D188,-0.5))","v":""},{"$f":"IF(COUNTIF(E69:E188,-0.5)=0,\"\",COUNTIF(E69:E188,-0.5))","v":""},{"$f":"IF(COUNTIF(F69:F188,-0.5)=0,\"\",COUNTIF(F69:F188,-0.5))","v":""},"","",{"$f":"IF(COUNTIF(I69:I188,-0.5)=0,\"\",COUNTIF(I69:I188,-0.5))","v":""},{"$f":"IF(COUNTIF(J69:J188,-0.5)=0,\"\",COUNTIF(J69:J188,-0.5))","v":""},"","","",0,{"$f":"IF(D69=\"\",0,ROUND(N$33*NORMDIST(C13+0.5,N$34,N$36,TRUE),0)-SUM(O$3:O12))","v":0}]
[2,{"v":1.4142135623730951,"d":"1.414214"},0.5,{"$f":"IF(COUNTIF(D69:D188,0.5)=0,\"\",COUNTIF(D69:D188,0.5))","v":""},{"$f":"IF(COUNTIF(E69:E188,0.5)=0,\"\",COUNTIF(E69:E188,0.5))","v":""},{"$f":"IF(COUNTIF(F69:F188,0.5)=0,\"\",COUNTIF(F69:F188,0.5))","v":""},"","",{"$f":"IF(COUNTIF(I69:I188,0.5)=0,\"\",COUNTIF(I69:I188,0.5))","v":""},{"$f":"IF(COUNTIF(J69:J188,0.5)=0,\"\",COUNTIF(J69:J188,0.5))","v":""},"","","",0,{"$f":"IF(D69=\"\",0,ROUND(N$33*NORMDIST(C14+0.5,N$34,N$36,TRUE),0)-SUM(O$3:O13))","v":0}]
[4,{"v":2.82842712474619,"d":"2.828427"},1.5,{"$f":"IF(COUNTIF(D69:D188,1.5)=0,\"\",COUNTIF(D69:D188,1.5))","v":""},{"$f":"IF(COUNTIF(E69:E188,1.5)=0,\"\",COUNTIF(E69:E188,1.5))","v":""},{"$f":"IF(COUNTIF(F69:F188,1.5)=0,\"\",COUNTIF(F69:F188,1.5))","v":""},"","",{"$f":"IF(COUNTIF(I69:I188,1.5)=0,\"\",COUNTIF(I69:I188,1.5))","v":""},{"$f":"IF(COUNTIF(J69:J188,1.5)=0,\"\",COUNTIF(J69:J188,1.5))","v":""},"","","",0,{"$f":"IF(D69=\"\",0,ROUND(N$33*NORMDIST(C15+0.5,N$34,N$36,TRUE),0)-SUM(O$3:O14))","v":0}]
[8,{"v":5.656854249492381,"d":"5.656854"},2.5,{"$f":"IF(COUNTIF(D69:D188,2.5)=0,\"\",COUNTIF(D69:D188,2.5))","v":""},{"$f":"IF(COUNTIF(E69:E188,2.5)=0,\"\",COUNTIF(E69:E188,2.5))","v":""},{"$f":"IF(COUNTIF(F69:F188,2.5)=0,\"\",COUNTIF(F69:F188,2.5))","v":""},"","",{"$f":"IF(COUNTIF(I69:I188,2.5)=0,\"\",COUNTIF(I69:I188,2.5))","v":""},{"$f":"IF(COUNTIF(J69:J188,2.5)=0,\"\",COUNTIF(J69:J188,2.5))","v":""},"","","",0,{"$f":"IF(D69=\"\",0,ROUND(N$33*NORMDIST(C16+0.5,N$34,N$36,TRUE),0)-SUM(O$3:O15))","v":0}]
[16,{"v":11.31370849898476,"d":"11.313708"},3.5,{"$f":"IF(COUNTIF(D69:D188,3.5)=0,\"\",COUNTIF(D69:D188,3.5))","v":""},{"$f":"IF(COUNTIF(E69:E188,3.5)=0,\"\",COUNTIF(E69:E188,3.5))","v":""},{"$f":"IF(COUNTIF(F69:F188,3.5)=0,\"\",COUNTIF(F69:F188,3.5))","v":""},"","",{"$f":"IF(COUNTIF(I69:I188,3.5)=0,\"\",COUNTIF(I69:I188,3.5))","v":""},{"$f":"IF(COUNTIF(J69:J188,3.5)=0,\"\",COUNTIF(J69:J188,3.5))","v":""},"","","",0,{"$f":"IF(D69=\"\",0,ROUND(N$33*NORMDIST(C17+0.5,N$34,N$36,TRUE),0)-SUM(O$3:O16))","v":0}]
[32,{"v":22.62741699796952,"d":"22.627417"},4.5,{"$f":"IF(COUNTIF(D69:D188,4.5)=0,\"\",COUNTIF(D69:D188,4.5))","v":""},{"$f":"IF(COUNTIF(E69:E188,4.5)=0,\"\",COUNTIF(E69:E188,4.5))","v":""},{"$f":"IF(COUNTIF(F69:F188,4.5)=0,\"\",COUNTIF(F69:F188,4.5))","v":""},"","",{"$f":"IF(COUNTIF(I69:I188,4.5)=0,\"\",COUNTIF(I69:I188,4.5))","v":""},{"$f":"IF(COUNTIF(J69:J188,4.5)=0,\"\",COUNTIF(J69:J188,4.5))","v":""},"","","",0,{"$f":"IF(D69=\"\",0,ROUND(N$33*NORMDIST(C18+0.5,N$34,N$36,TRUE),0)-SUM(O$3:O17))","v":0}]
[64,{"v":45.254833995939045,"d":"45.254834"},5.5,{"$f":"IF(COUNTIF(D69:D188,5.5)=0,\"\",COUNTIF(D69:D188,5.5))","v":""},{"$f":"IF(COUNTIF(E69:E188,5.5)=0,\"\",COUNTIF(E69:E188,5.5))","v":""},{"$f":"IF(COUNTIF(F69:F188,5.5)=0,\"\",COUNTIF(F69:F188,5.5))","v":""},"","",{"$f":"IF(COUNTIF(I69:I188,5.5)=0,\"\",COUNTIF(I69:I188,5.5))","v":""},{"$f":"IF(COUNTIF(J69:J188,5.5)=0,\"\",COUNTIF(J69:J188,5.5))","v":""},"","","",0,{"$f":"IF(D69=\"\",0,ROUND(N$33*NORMDIST(C19+0.5,N$34,N$36,TRUE),0)-SUM(O$3:O18))","v":0}]
[128,{"v":90.50966799187806,"d":"90.509668"},6.5,{"$f":"IF(COUNTIF(D69:D188,6.5)=0,\"\",COUNTIF(D69:D188,6.5))","v":""},{"$f":"IF(COUNTIF(E69:E188,6.5)=0,\"\",COUNTIF(E69:E188,6.5))","v":""},{"$f":"IF(COUNTIF(F69:F188,6.5)=0,\"\",COUNTIF(F69:F188,6.5))","v":""},"","",{"$f":"IF(COUNTIF(I69:I188,6.5)=0,\"\",COUNTIF(I69:I188,6.5))","v":""},{"$f":"IF(COUNTIF(J69:J188,6.5)=0,\"\",COUNTIF(J69:J188,6.5))","v":""},"","","",0,{"$f":"IF(D69=\"\",0,ROUND(N$33*NORMDIST(C20+0.5,N$34,N$36,TRUE),0)-SUM(O$3:O19))","v":0}]
[256,{"v":181.01933598375612,"d":"181.019336"},7.5,{"$f":"IF(COUNTIF(D69:D188,7.5)=0,\"\",COUNTIF(D69:D188,7.5))","v":""},{"$f":"IF(COUNTIF(E69:E188,7.5)=0,\"\",COUNTIF(E69:E188,7.5))","v":""},{"$f":"IF(COUNTIF(F69:F188,7.5)=0,\"\",COUNTIF(F69:F188,7.5))","v":""},"","",{"$f":"IF(COUNTIF(I69:I188,7.5)=0,\"\",COUNTIF(I69:I188,7.5))","v":""},{"$f":"IF(COUNTIF(J69:J188,7.5)=0,\"\",COUNTIF(J69:J188,7.5))","v":""},"","","",0,{"$f":"IF(D69=\"\",0,ROUND(N$33*NORMDIST(C21+0.5,N$34,N$36,TRUE),0)-SUM(O$3:O20))","v":0}]
[512,{"v":362.0386719675123,"d":"362.038672"},8.5,{"$f":"IF(COUNTIF(D69:D188,8.5)=0,\"\",COUNTIF(D69:D188,8.5))","v":""},{"$f":"IF(COUNTIF(E69:E188,8.5)=0,\"\",COUNTIF(E69:E188,8.5))","v":""},{"$f":"IF(COUNTIF(F69:F188,8.5)=0,\"\",COUNTIF(F69:F188,8.5))","v":""},"","",{"$f":"IF(COUNTIF(I69:I188,8.5)=0,\"\",COUNTIF(I69:I188,8.5))","v":""},{"$f":"IF(COUNTIF(J69:J188,8.5)=0,\"\",COUNTIF(J69:J188,8.5))","v":""},"","","",0,{"$f":"IF(D69=\"\",0,ROUND(N$33*NORMDIST(C22+0.5,N$34,N$36,TRUE),0)-SUM(O$3:O21))","v":0}]
[null,null,"Central Tendancy Stats","Lab 1","Lab 2","Lab 3","Lab 4","Lab 5","Lab 6","Lab 7","Lab 8","Lab 9","Lab 10","All labs","Control","Limits"]
[null,null,"Mean",{"$f":"IF(COUNT(D69:D188)=0,\"\",AVERAGE(D69:D188))","v":""},"","","","",{"$f":"IF(COUNT(I69:I188)=0,\"\",AVERAGE(I69:I188))","v":""},{"$f":"IF(COUNT(J69:J188)=0,\"\",AVERAGE(J69:J188))","v":""},"","","",{"$f":"IF(D69=\"\",\"\",AVERAGE(D69:M188))","v":""},{"$f":"IF(D69=\"\",\"\",ROUND(NORMINV(0.05,N34,N36),3))","v":""},{"$f":"IF(D69=\"\",\"\",ROUND(NORMINV(0.95,N34,N36),3))","v":""}]
["Calculated QC Range",null,"Median",{"$f":"IF(COUNT(D69:D188)=0,\"\",MEDIAN(D69:D188))","v":""},"","","","",{"$f":"IF(COUNT(I69:I188)=0,\"\",MEDIAN(I69:I188))","v":""},{"$f":"IF(COUNT(J69:J188)=0,\"\",MEDIAN(J69:J188))","v":""},"","","",{"$f":"IF(D69=\"\",\"\",MEDIAN(D69:M188))","v":""},{"$f":"IF(D69=\"\",\"\",ROUND(N51,3))","v":""},{"$f":"IF(D69=\"\",\"\",ROUND(N52,3))","v":""}]
[{"$f":"IF(N33=0,\"\",ROUND(2*N39,3)&\" to \"&ROUND(N40,3))","v":""},null,"Mode",{"$f":"IF(COUNT(D69:D188)=0,\"\",MODE(D69:D188))","v":""},"","","","",{"$f":"IF(COUNT(I69:I188)=0,\"\",MODE(I69:I188))","v":""},{"$f":"IF(COUNT(J69:J188)=0,\"\",MODE(J69:J188))","v":""},"","","",{"$f":"IF(D69=\"\",\"\",MODE(D69:M188))","v":""},{"$f":"IF(D69=\"\",\"\",N26-1)","v":""},{"$f":"IF(D69=\"\",\"\",N26+1)","v":""}]
["Dilution Range",null,null,"(Converted back to MIC)",{"$nulls":10},"Control","Limits"]
[{"$f":"IF(N33=0,\"\",LN(N40/N39)/LN(2))","v":""},null,"Mean",{"$f":"IF(COUNT(D69:D188)=0,\"\",2^(AVERAGE(D69:D188)+0.5))","v":""},"","","","",{"$f":"IF(COUNT(I69:I188)=0,\"\",2^(AVERAGE(I69:I188)+0.5))","v":""},{"$f":"IF(COUNT(J69:J188)=0,\"\",2^(AVERAGE(J69:J188)+0.5))","v":""},"","","",{"$f":"IF(D69=\"\",\"\",2^(AVERAGE(D69:M188)+0.5))","v":""},{"$f":"IF(D69=\"\",\"\",2^O24)","v":""},{"$f":"IF(D69=\"\",\"\",2^P24)","v":""}]
["% Obs. Captured",null,"Median",{"$f":"IF(COUNT(D69:D188)=0,\"\",2^(MEDIAN(D69:D188)+0.5))","v":""},"","","","",{"$f":"IF(COUNT(I69:I188)=0,\"\",2^(MEDIAN(I69:I188)+0.5))","v":""},{"$f":"IF(COUNT(J69:J188)=0,\"\",2^(MEDIAN(J69:J188)+0.5))","v":""},"","","",{"$f":"IF(D69=\"\",\"\",2^(MEDIAN(D69:M188)+0.5))","v":""},{"$f":"IF(D69=\"\",\"\",2^O25)","v":""},{"$f":"IF(D69=\"\",\"\",2^P25)","v":""}]
[{"$f":"IF(N33=0,\"\",((COUNTIF(D69:M188,\"<\"&LN(N40)/LN(2))-COUNTIF(D69:M188,\"<\"&LN(N39)/LN(2)))/N$33))","v":""},null,"Mode",{"$f":"IF(COUNT(D69:D188)=0,\"\",2^(MODE(D69:D188)+0.5))","v":""},"","","","",{"$f":"IF(COUNT(I69:I188)=0,\"\",2^(MODE(I69:I188)+0.5))","v":""},{"$f":"IF(COUNT(J69:J188)=0,\"\",2^(MODE(J69:J188)+0.5))","v":""},"","","",{"$f":"IF(D69=\"\",\"\",2^(MODE(D69:M188)+0.5))","v":""},{"$f":"IF(D69=\"\",\"\",2^O26)","v":""},{"$f":"IF(D69=\"\",\"\",2^P26)","v":""}]
["Prob'ty Outside Range"]
[{"$f":"IF(N33=0,\"\",N41+N42)","v":""},null,"Conventional Stats","Lab 1","Lab 2","Lab 3","Lab 4","Lab 5","Lab 6","Lab 7","Lab 8","Lab 9","Lab 10","All labs","Interlab"]
[null,null,"N",{"$f":"IF(COUNT(D69:D188)=0,\"\",COUNT(D69:D188))","v":""},"","","","",{"$f":"IF(COUNT(I69:I188)=0,\"\",COUNT(I69:I188))","v":""},{"$f":"IF(COUNT(J69:J188)=0,\"\",COUNT(J69:J188))","v":""},"","","",{"$f":"COUNT(D69:M188)","v":0},"CV"]
["CLSI QC Range",null,"GeoMean MIC (log2)",{"$f":"IF(COUNT(D69:D188)=0,\"\",AVERAGE(D69:D188))","v":""},"","","","",{"$f":"IF(COUNT(I69:I188)=0,\"\",AVERAGE(I69:I188))","v":""},{"$f":"IF(COUNT(J69:J188)=0,\"\",AVERAGE(J69:J188))","v":""},"","","",{"$f":"IF(D69=\"\",\"\",AVERAGE(D69:M188))","v":""},{"$f":"IF(D69=\"\",\"\",ABS(STDEVA(D34:M34)/N34))","v":""}]
[null,null,"GeoMean MIC",{"$f":"IF(COUNT(D69:D188)=0,\"\",2^D34)","v":""},"","","","",{"$f":"IF(COUNT(I69:I188)=0,\"\",2^I34)","v":""},{"$f":"IF(COUNT(J69:J188)=0,\"\",2^J34)","v":""},"","","",{"$f":"IF(D69=\"\",\"\",2^N34)","v":""}]
[null,null,"GeoSD (log2)",{"$f":"IF(COUNT(D69:D188)=0,\"\",STDEV(D69:D188))","v":""},"","","","",{"$f":"IF(COUNT(I69:I188)=0,\"\",STDEV(I69:I188))","v":""},{"$f":"IF(COUNT(J69:J188)=0,\"\",STDEV(J69:J188))","v":""},"","","",{"$f":"IF(D69=\"\",\"\",STDEV(D69:M188))","v":""}]
[{"$f":"IF(A35=\"\",\"\",ROUND(2^(A35+0.5),3)&\" to \"&ROUND(2^(A36+0.5),3))","v":""},null,"95% Lower Bound",{"$f":"IF(COUNT(D69:D188)=0,\"\",IF(D33=0,\"\",2^((NORMINV(0.025,D34,D36)))))","v":""},"","","","",{"$f":"IF(COUNT(I69:I188)=0,\"\",IF(I33=0,\"\",2^((NORMINV(0.025,I34,I36)))))","v":""},{"$f":"IF(COUNT(J69:J188)=0,\"\",IF(J33=0,\"\",2^((NORMINV(0.025,J34,J36)))))","v":""},"","","",{"$f":"IF(N33=0,\"\",2^((NORMINV(0.025,N34,N36))))","v":""}]
["Dilution Range",null,"95% Upper Bound",{"$f":"IF(COUNT(D69:D188)=0,\"\",IF(D33=0,\"\",2^(NORMINV(0.975,D34,D36))))","v":""},"","","","",{"$f":"IF(COUNT(I69:I188)=0,\"\",IF(I33=0,\"\",2^(NORMINV(0.975,I34,I36))))","v":""},{"$f":"IF(COUNT(J69:J188)=0,\"\",IF(J33=0,\"\",2^(NORMINV(0.975,J34,J36))))","v":""},"","","",{"$f":"IF(N33=0,\"\",2^(NORMINV(0.975,N34,N36)))","v":""}]
[{"$f":"IF(A35=\"\",\"\",A36-A35+1)","v":""},null,"Lower Bound Rounded Down",{"$f":"IF(COUNT(D69:D188)=0,\"\",IF(D33=0,\"\",2^(INT((NORMINV(0.025,D34,D36))))))","v":""},"","","","",{"$f":"IF(COUNT(I69:I188)=0,\"\",IF(I33=0,\"\",2^(INT((NORMINV(0.025,I34,I36))))))","v":""},{"$f":"IF(COUNT(J69:J188)=0,\"\",IF(J33=0,\"\",2^(INT((NORMINV(0.025,J34,J36))))))","v":""},"","","",{"$f":"IF(N33=0,\"\",2^(INT((NORMINV(0.025,N34,N36)))))","v":""}]
["CLSI% Obs. captured",null,"Upper Bound Rounded Up",{"$f":"IF(COUNT(D69:D188)=0,\"\",IF(D33=0,\"\",2^(INT((NORMINV(0.975,D34,D36)))+1)))","v":""},"","","","",{"$f":"IF(COUNT(I69:I188)=0,\"\",IF(I33=0,\"\",2^(INT((NORMINV(0.975,I34,I36)))+1)))","v":""},{"$f":"IF(COUNT(J69:J188)=0,\"\",IF(J33=0,\"\",2^(INT((NORMINV(0.975,J34,J36)))+1)))","v":""},"","","",{"$f":"IF(N33=0,\"\",2^(INT((NORMINV(0.975,N34,N36)))+1))","v":""}]
[{"$f":"IF(A35=0,\"\",(COUNTIF(D69:M188,\"<\"&A36+1)-COUNTIF(D69:M188,\"<\"&A35))/N$33)","v":""},null,"Probability of <=Lower Bound",{"$f":"IF(COUNT(D69:D188)=0,\"\",NORMDIST(LOG(D39)/LOG(2),D34,D36,TRUE))","v":""},"","","","",{"$f":"IF(COUNT(I69:I188)=0,\"\",NORMDIST(LOG(I39)/LOG(2),I34,I36,TRUE))","v":""},{"$f":"IF(COUNT(J69:J188)=0,\"\",NORMDIST(LOG(J39)/LOG(2),J34,J36,TRUE))","v":""},"","","",{"$f":"IF(D69=\"\",\"\",NORMDIST(LOG(N39)/LOG(2),N34,N36,TRUE))","v":""}]
[null,null,"Probability of >Upper Bound",{"$f":"IF(COUNT(D69:D188)=0,\"\",1-NORMDIST(LOG(D40)/LOG(2),D34,D36,TRUE))","v":""},"","","","",{"$f":"IF(COUNT(I69:I188)=0,\"\",1-NORMDIST(LOG(I40)/LOG(2),I34,I36,TRUE))","v":""},{"$f":"IF(COUNT(J69:J188)=0,\"\",1-NORMDIST(LOG(J40)/LOG(2),J34,J36,TRUE))","v":""},"","","",{"$f":"IF(D69=\"\",\"\",1-NORMDIST(LOG(N40)/LOG(2),N34,N36,TRUE))","v":""}]
[null,null,"New Range",{"$f":"IF(COUNT(D69:D188)=0,\"\",1-D41-D42)","v":""},"","","","",{"$f":"IF(COUNT(I69:I188)=0,\"\",1-I41-I42)","v":""},{"$f":"IF(COUNT(J69:J188)=0,\"\",1-J41-J42)","v":""},"","","",{"$f":"IF(D69=\"\",\"\",1-N41-N42)","v":""}]
[]
[null,null,"Order Stats","Lab 1","Lab 2","Lab 3","Lab 4","Lab 5","Lab 6","Lab 7","Lab 8","Lab 9","Lab 10","All labs","Interlab"]
[null,null,"25th %ile",{"$f":"IF(COUNT(D69:D188)=0,\"\",QUARTILE(D69:D188,1))","v":""},"","","","",{"$f":"IF(COUNT(I69:I188)=0,\"\",QUARTILE(I69:I188,1))","v":""},{"$f":"IF(COUNT(J69:J188)=0,\"\",QUARTILE(J69:J188,1))","v":""},"","","",{"$f":"IF(D69=\"\",\"\",QUARTILE(D69:M188,1))","v":""},"CV"]
[null,null,"75th %ile",{"$f":"IF(COUNT(D69:D188)=0,\"\",QUARTILE(D69:D188,3))","v":""},"","","","",{"$f":"IF(COUNT(I69:I188)=0,\"\",QUARTILE(I69:I188,3))","v":""},{"$f":"IF(COUNT(J69:J188)=0,\"\",QUARTILE(J69:J188,3))","v":""},"","","",{"$f":"IF(D69=\"\",\"\",QUARTILE(D69:M188,3))","v":""},{"$f":"IF(D69=\"\",\"\",ABS(N48/N25))","v":""}]
[null,null,"Interquartile Range",{"$f":"IF(COUNT(D69:D188)=0,\"\",IF(D47-D46=0,1,D47-D46))","v":""},"","","","",{"$f":"IF(COUNT(I69:I188)=0,\"\",IF(I47-I46=0,1,I47-I46))","v":""},{"$f":"IF(COUNT(J69:J188)=0,\"\",IF(J47-J46=0,1,J47-J46))","v":""},"","","",{"$f":"IF(D69=\"\",\"\",IF(N47-N46=0,1,N47-N46))","v":""}]
[null,null,"Minimum",{"$f":"IF(COUNT(D69:D188)=0,\"\",MIN(D69:D188))","v":""},"","","","",{"$f":"IF(COUNT(I69:I188)=0,\"\",MIN(I69:I188))","v":""},{"$f":"IF(COUNT(J69:J188)=0,\"\",MIN(J69:J188))","v":""},"","","",{"$f":"IF(D69=\"\",\"\",MIN(D69:M188))","v":""}]
[null,null,"Maximum",{"$f":"IF(COUNT(D69:D188)=0,\"\",MAX(D69:D188))","v":""},"","","","",{"$f":"IF(COUNT(I69:I188)=0,\"\",MAX(I69:I188))","v":""},{"$f":"IF(COUNT(J69:J188)=0,\"\",MAX(J69:J188))","v":""},"","","",{"$f":"IF(D69=\"\",\"\",MAX(D69:M188))","v":""}]
[null,null,"Lower Inner Fence",{"$f":"IF(COUNT(D69:D188)=0,\"\",D$46-1.5*D$48)","v":""},"","","","",{"$f":"IF(COUNT(I69:I188)=0,\"\",I$46-1.5*I$48)","v":""},{"$f":"IF(COUNT(J69:J188)=0,\"\",J$46-1.5*J$48)","v":""},"","","",{"$f":"IF(D69=\"\",\"\",N$46-1.5*N$48)","v":""}]
[null,null,"Upper Inner Fence",{"$f":"IF(COUNT(D69:D188)=0,\"\",D$47+1.5*D$48)","v":""},"","","","",{"$f":"IF(COUNT(I69:I188)=0,\"\",I$47+1.5*I$48)","v":""},{"$f":"IF(COUNT(J69:J188)=0,\"\",J$47+1.5*J$48)","v":""},"","","",{"$f":"IF(D69=\"\",\"\",N$47+1.5*N$48)","v":""}]
[null,null,"Lower Outer Fence",{"$f":"IF(COUNT(D69:D188)=0,\"\",D$46-3*D$48)","v":""},"","","","",{"$f":"IF(COUNT(I69:I188)=0,\"\",I$46-3*I$48)","v":""},{"$f":"IF(COUNT(J69:J188)=0,\"\",J$46-3*J$48)","v":""},"","","",{"$f":"IF(D69=\"\",\"\",N$46-3*N$48)","v":""}]
[null,null,"Upper Outer Fence",{"$f":"IF(COUNT(D69:D188)=0,\"\",D$47+3*D$48)","v":""},"","","","",{"$f":"IF(COUNT(I69:I188)=0,\"\",I$47+3*I$48)","v":""},{"$f":"IF(COUNT(J69:J188)=0,\"\",J$47+3*J$48)","v":""},"","","",{"$f":"IF(D69=\"\",\"\",N$47+3*N$48)","v":""}]
[null,null,"Lower Near Outliers",{"$f":"IF(COUNT(D69:D188)=0,\"\",COUNTIF(D69:D188,\"<\"&D51))","v":""},"","","","",{"$f":"IF(COUNT(I69:I188)=0,\"\",COUNTIF(I69:I188,\"<\"&I51))","v":""},{"$f":"IF(COUNT(J69:J188)=0,\"\",COUNTIF(J69:J188,\"<\"&J51))","v":""},"","","",{"$f":"IF(D69=\"\",\"\",COUNTIF(D69:M188,\"<\"&N51)-N57)","v":""}]
[null,null,"Upper Near Outliers",{"$f":"IF(COUNT(D69:D188)=0,\"\",COUNTIF(D69:D188,\">\"&D52))","v":""},"","","","",{"$f":"IF(COUNT(I69:I188)=0,\"\",COUNTIF(I69:I188,\">\"&I52))","v":""},{"$f":"IF(COUNT(J69:J188)=0,\"\",COUNTIF(J69:J188,\">\"&J52))","v":""},"","","",{"$f":"IF(D69=\"\",\"\",COUNTIF(D69:M188,\">\"&N52)-N58)","v":""}]
[null,null,"Lower Extreme Outliers",{"$f":"IF(COUNT(D69:D188)=0,\"\",COUNTIF(D69:D188,\"<\"&D53))","v":""},"","","","",{"$f":"IF(COUNT(I69:I188)=0,\"\",COUNTIF(I69:I188,\"<\"&I53))","v":""},{"$f":"IF(COUNT(J69:J188)=0,\"\",COUNTIF(J69:J188,\"<\"&J53))","v":""},"","","",{"$f":"IF(D69=\"\",\"\",COUNTIF(D69:M188,\"<\"&N53))","v":""}]
[null,null,"Upper Extreme Outliers",{"$f":"IF(COUNT(D69:D188)=0,\"\",COUNTIF(D69:D188,\">\"&D54))","v":""},"","","","",{"$f":"IF(COUNT(I69:I188)=0,\"\",COUNTIF(I69:I188,\">\"&I54))","v":""},{"$f":"IF(COUNT(J69:J188)=0,\"\",COUNTIF(J69:J188,\">\"&J54))","v":""},"","","",{"$f":"IF(D69=\"\",\"\",COUNTIF(D69:M188,\">\"&N54))","v":""}]
[]
[null,null,"Chart Control Limits","Lab 1","Lab 2","Lab 3","Lab 4","Lab 5","Lab 6","Lab 7","Lab 8","Lab 9","Lab 10"]
[null,"Mean","Lower CL",{"$f":"$O$24","v":""},{"$f":"$O$24","v":""},"","","","","","","",""]
[null,null,"Upper CL",{"$f":"$P$24","v":""},{"$f":"$P$24","v":""},"","","","","","","",""]
[null,"Median","Lower CL",{"$f":"$O$25","v":""},{"$f":"$O$25","v":""},"","","","","","","",""]
[null,null,"Upper CL",{"$f":"$P$25","v":""},{"$f":"$P$25","v":""},"","","","","","","",""]
[null,"Mode","Lower CL",{"$f":"$O$26","v":""},{"$f":"$O$26","v":""},"","","","","","","",""]
[null,null,"Upper CL",{"$f":"$P$26","v":""},{"$f":"$P$26","v":""},"","","","","","","",""]
[]
[null,null,"Log2 Converted Raw Data","Lab 1","Lab 2","Lab 3","Lab 4","Lab 5","Lab 6","Lab 7","Lab 8","Lab 9","Lab 10","Control","Limits"]
[null,null,"Media Lot 1",{"$f":"IF(D191=\"\",\"\",LOOKUP(D191,$A$3:$A$22,$C$3:$C$22))","v":""},"","","","",{"$f":"IF(I191=\"\",\"\",LOOKUP(I191,$A$3:$A$22,$C$3:$C$22))","v":""},"","","","",{"$f":"IF(D69=\"\",\"\",LN($N$39)/LN(2))","v":""},{"$f":"IF(D69=\"\",\"\",LN($N$40)/LN(2)-0.5)","v":""}]
[{"$nulls":3},"","","","","","","","","",""]
[{"$nulls":3},"","","","","","","","","",""]
[{"$nulls":3},"","","","","","","","","",""]
[{"$nulls":3},{"$f":"IF(D195=\"\",\"\",LOOKUP(D195,$A$3:$A$22,$C$3:$C$22))","v":""},"","","","","","","","",""]
[{"$nulls":3},"","","","","","","","","",""]
[{"$nulls":3},"","","","","","","","","",""]
[{"$nulls":3},"","","","","","","","","",""]
[{"$nulls":3},"","","","","","","","","",""]
[{"$nulls":3},"","","","","","","","","",""]
[{"$nulls":3},{"$f":"IF(D201=\"\",\"\",LOOKUP(D201,$A$3:$A$22,$C$3:$C$22))","v":""},"","","","",{"$f":"IF(I201=\"\",\"\",LOOKUP(I201,$A$3:$A$22,$C$3:$C$22))","v":""},"","","",""]
[{"$nulls":3},"","","","","","","","","",""]
[{"$nulls":3},{"$f":"IF(D203=\"\",\"\",LOOKUP(D203,$A$3:$A$22,$C$3:$C$22))","v":""},"","","","","","","","",""]
[{"$nulls":3},"","","","","","","","","",""]
[{"$nulls":3},"","","","","","","","","",""]
[{"$nulls":3},"","","","","","","","","",""]
[{"$nulls":3},"","","","","","","","","",""]
[{"$nulls":3},"","","","","","","","","",""]
[{"$nulls":3},"","","","","","","","","",""]
[{"$nulls":3},"","","","","","","","","",""]
[{"$nulls":3},{"$f":"IF(D211=\"\",\"\",LOOKUP(D211,$A$3:$A$22,$C$3:$C$22))","v":""},"","","","",{"$f":"IF(I211=\"\",\"\",LOOKUP(I211,$A$3:$A$22,$C$3:$C$22))","v":""},"","","",""]
[{"$nulls":3},"","","","","","","","","",""]
[{"$nulls":3},"","","","","","","","","",""]
[{"$nulls":3},"","","","","","","","","",""]
[{"$nulls":3},"","","","","","","","","",""]
[{"$nulls":3},"","","","","","","","","",""]
[{"$nulls":3},"","","","","","","","","",""]
[{"$nulls":3},"","","","","","","","","",""]
[{"$nulls":3},"","","","","","","","","",""]
[{"$nulls":3},"","","","","","","","","",""]
[{"$nulls":3},"","","","","",{"$f":"IF(I221=\"\",\"\",LOOKUP(I221,$A$3:$A$22,$C$3:$C$22))","v":""},"","","",""]
[{"$nulls":3},"","","","","","","","","",""]
[{"$nulls":3},"","","","","","","","","",""]
[{"$nulls":3},"","","","","","","","","",""]
[{"$nulls":3},"","","","","","","","","",""]
[{"$nulls":3},"","","","","","","","","",""]
[{"$nulls":3},{"$f":"IF(D227=\"\",\"\",LOOKUP(D227,$A$3:$A$22,$C$3:$C$22))","v":""},"","","","","","","","",""]
[{"$nulls":3},"","","","","","","","","",""]
[{"$nulls":3},"","","","","","","","","",""]
[{"$nulls":3},"","","","","","","","","",""]
[null,null,"Media Lot 2","","","","","",{"$f":"IF(I231=\"\",\"\",LOOKUP(I231,$A$3:$A$22,$C$3:$C$22))","v":""},"","","",""]
[{"$nulls":3},"","","","","","","","","",""]
[{"$nulls":3},"","","","","","","","","",""]
[{"$nulls":3},"","","","","","","","","",""]
[{"$nulls":3},"","","","","","","","","",""]
[{"$nulls":3},"","","","","","","","","",""]
[{"$nulls":3},"","","","","","","","","",""]
[{"$nulls":3},"","","","","","","","","",""]
[{"$nulls":3},"","","","","","","","","",""]
[{"$nulls":3},"","","","","","","","","",""]
[{"$nulls":3},"","","","","",{"$f":"IF(I241=\"\",\"\",LOOKUP(I241,$A$3:$A$22,$C$3:$C$22))","v":""},"","","",""]
[{"$nulls":3},"","","","","","","","","",""]
[{"$nulls":3},{"$f":"IF(D243=\"\",\"\",LOOKUP(D243,$A$3:$A$22,$C$3:$C$22))","v":""},"","","","","","","","",""]
[{"$nulls":3},"","","","","","","","","",""]
[{"$nulls":3},"","","","","","","","","",""]
[{"$nulls":3},"","","","","","","","","",""]
[{"$nulls":3},"","","","","","","","","",""]
[{"$nulls":3},"","","","","","","","","",""]
[{"$nulls":3},"","","","","","","","","",""]
[{"$nulls":3},"","","","","","","","","",""]
[{"$nulls":3},"","","","","",{"$f":"IF(I251=\"\",\"\",LOOKUP(I251,$A$3:$A$22,$C$3:$C$22))","v":""},"","","",""]
[{"$nulls":3},"","","","","","","","","",""]
[{"$nulls":3},"","","","","","","","","",""]
[{"$nulls":3},"","","","","","","","","",""]
[{"$nulls":3},"","","","","","","","","",""]
[{"$nulls":3},"","","","","","","","","",""]
[{"$nulls":3},"","","","","","","","","",""]
[{"$nulls":3},"","","","","","","","","",""]
[{"$nulls":3},{"$f":"IF(D259=\"\",\"\",LOOKUP(D259,$A$3:$A$22,$C$3:$C$22))","v":""},"","","","","","","","",""]
[{"$nulls":3},"","","","","","","","","",""]
[{"$nulls":3},"","","","","",{"$f":"IF(I261=\"\",\"\",LOOKUP(I261,$A$3:$A$22,$C$3:$C$22))","v":""},"","","",""]
[{"$nulls":3},"","","","","","","","","",""]
[{"$nulls":3},"","","","","","","","","",""]
[{"$nulls":3},"","","","","","","","","",""]
[{"$nulls":3},"","","","","","","","","",""]
[{"$nulls":3},"","","","","","","","","",""]
[{"$nulls":3},"","","","","","","","","",""]
[{"$nulls":3},"","","","","","","","","",""]
[{"$nulls":3},"","","","","","","","","",""]
[{"$nulls":3},"","","","","","","","","",""]
[null,null,"Media Lot 3","","","","","",{"$f":"IF(I271=\"\",\"\",LOOKUP(I271,$A$3:$A$22,$C$3:$C$22))","v":""},"","","",""]
[{"$nulls":3},"","","","","","","","","",""]
[{"$nulls":3},"","","","","","","","","",""]
[{"$nulls":3},"","","","","","","","","",""]
[{"$nulls":3},{"$f":"IF(D275=\"\",\"\",LOOKUP(D275,$A$3:$A$22,$C$3:$C$22))","v":""},"","","","","","","","",""]
[{"$nulls":3},"","","","","","","","","",""]
[{"$nulls":3},"","","","","","","","","",""]
[{"$nulls":3},"","","","","","","","","",""]
[{"$nulls":3},"","","","","","","","","",""]
[{"$nulls":3},"","","","","","","","","",""]
[{"$nulls":3},"","","","","",{"$f":"IF(I281=\"\",\"\",LOOKUP(I281,$A$3:$A$22,$C$3:$C$22))","v":""},"","","",""]
[{"$nulls":3},"","","","","","","","","",""]
[{"$nulls":3},"","","","","","","","","",""]
[{"$nulls":3},"","","","","","","","","",""]
[{"$nulls":3},"","","","","","","","","",""]
[{"$nulls":3},"","","","","","","","","",""]
[{"$nulls":3},"","","","","","","","","",""]
[{"$nulls":3},"","","","","","","","","",""]
[{"$nulls":3},"","","","","","","","","",""]
[{"$nulls":3},"","","","","","","","","",""]
[{"$nulls":3},{"$f":"IF(D291=\"\",\"\",LOOKUP(D291,$A$3:$A$22,$C$3:$C$22))","v":""},"","","","",{"$f":"IF(I291=\"\",\"\",LOOKUP(I291,$A$3:$A$22,$C$3:$C$22))","v":""},"","","",""]
[{"$nulls":3},"","","","","","","","","",""]
[{"$nulls":3},"","","","","","","","","",""]
[{"$nulls":3},"","","","","","","","","",""]
[{"$nulls":3},"","","","","","","","","",""]
[{"$nulls":3},"","","","","","","","","",""]
[{"$nulls":3},"","","","","","","","","",""]
[{"$nulls":3},"","","","","","","","","",""]
[{"$nulls":3},"","","","","","","","","",""]
[{"$nulls":3},"","","","","","","","","",""]
[{"$nulls":3},"","","","","",{"$f":"IF(I301=\"\",\"\",LOOKUP(I301,$A$3:$A$22,$C$3:$C$22))","v":""},"","","",""]
[{"$nulls":3},"","","","","","","","","",""]
[{"$nulls":3},"","","","","","","","","",""]
[{"$nulls":3},"","","","","","","","","",""]
[{"$nulls":3},"","","","","","","","","",""]
[{"$nulls":3},"","","","","","","","","",""]
[{"$nulls":3},{"$f":"IF(D307=\"\",\"\",LOOKUP(D307,$A$3:$A$22,$C$3:$C$22))","v":""},"","","","","","","","",""]
[{"$nulls":3},"","","","","","","","","",""]
[{"$nulls":3},"","","","","","","","","",""]
[{"$nulls":3},"","","","","","","","","",""]
[]
[null,null,"Raw Data Entry","Lab 1","Lab 2","Lab 3","Lab 4","Lab 5","Lab 6","Lab 7","Lab 8","Lab 9","Lab 10"]
[null,null,"Media Lot 1"]
{"$rows_empty":39}
[null,null,"Media Lot 2"]
{"$rows_empty":39}
[null,null,"Media Lot 3"]

{"sheet":"Strain 9 control","index":21,"n_rows":271,"n_cols":16,"rows_kept":271,"merged":[[0,4,0,6]]}
[{"$f":"'Range Summary'!J2","v":"QC9"},{"$f":"'Range Summary'!B17","v":"Control"},"Control",null,"Go to Raw Data Entry area"]
["MIC","Midpoint MIC","Mid Log2MIC","Lab 1","Lab 2","Lab 3","Lab 4","Lab 5","Lab 6","Lab 7","Lab 8","Lab 9","Lab 10","All labs","Norm"]
[{"v":1E-3,"d":"0.001"},{"$f":"2^C3","v":{"v":6.9053396600248776E-4,"d":"0.000691"}},-10.5,{"$f":"IF(COUNTIF(D69:D188,-10.5)=0,\"\",COUNTIF(D69:D188,-10.5))","v":""},{"$f":"IF(COUNTIF(E69:E188,-10.5)=0,\"\",COUNTIF(E69:E188,-10.5))","v":""},{"$f":"IF(COUNTIF(F69:F188,-10.5)=0,\"\",COUNTIF(F69:F188,-10.5))","v":""},"","",{"$f":"IF(COUNTIF(I69:I188,-10.5)=0,\"\",COUNTIF(I69:I188,-10.5))","v":""},{"$f":"IF(COUNTIF(J69:J188,-10.5)=0,\"\",COUNTIF(J69:J188,-10.5))","v":""},"","","",{"$f":"SUM(D3:M3)","v":0},{"$f":"IF(D69=\"\",0,ROUND(N$33*NORMDIST(C3+0.5,N$34,N$36,TRUE),0))","v":0}]
[{"v":2E-3,"d":"0.002"},{"$f":"2^C4","v":{"v":1.3810679320049757E-3,"d":"0.001381"}},-9.5,{"$f":"IF(COUNTIF(D69:D188,-9.5)=0,\"\",COUNTIF(D69:D188,-9.5))","v":""},{"$f":"IF(COUNTIF(E69:E188,-9.5)=0,\"\",COUNTIF(E69:E188,-9.5))","v":""},{"$f":"IF(COUNTIF(F69:F188,-9.5)=0,\"\",COUNTIF(F69:F188,-9.5))","v":""},"","",{"$f":"IF(COUNTIF(I69:I188,-9.5)=0,\"\",COUNTIF(I69:I188,-9.5))","v":""},{"$f":"IF(COUNTIF(J69:J188,-9.5)=0,\"\",COUNTIF(J69:J188,-9.5))","v":""},"","","",0,{"$f":"IF(D69=\"\",0,ROUND(N$33*NORMDIST(C4+0.5,N$34,N$36,TRUE),0)-SUM(O2:O$3))","v":0}]
[0.004,{"v":2.7621358640099515E-3,"d":"0.002762"},-8.5,{"$f":"IF(COUNTIF(D69:D188,-8.5)=0,\"\",COUNTIF(D69:D188,-8.5))","v":""},{"$f":"IF(COUNTIF(E69:E188,-8.5)=0,\"\",COUNTIF(E69:E188,-8.5))","v":""},{"$f":"IF(COUNTIF(F69:F188,-8.5)=0,\"\",COUNTIF(F69:F188,-8.5))","v":""},"","",{"$f":"IF(COUNTIF(I69:I188,-8.5)=0,\"\",COUNTIF(I69:I188,-8.5))","v":""},{"$f":"IF(COUNTIF(J69:J188,-8.5)=0,\"\",COUNTIF(J69:J188,-8.5))","v":""},"","","",0,{"$f":"IF(D69=\"\",0,ROUND(N$33*NORMDIST(C5+0.5,N$34,N$36,TRUE),0)-SUM(O$3:O3))","v":0}]
[0.008,{"v":0.005524271728019904,"d":"0.005524"},-7.5,{"$f":"IF(COUNTIF(D69:D188,-7.5)=0,\"\",COUNTIF(D69:D188,-7.5))","v":""},{"$f":"IF(COUNTIF(E69:E188,-7.5)=0,\"\",COUNTIF(E69:E188,-7.5))","v":""},{"$f":"IF(COUNTIF(F69:F188,-7.5)=0,\"\",COUNTIF(F69:F188,-7.5))","v":""},"","",{"$f":"IF(COUNTIF(I69:I188,-7.5)=0,\"\",COUNTIF(I69:I188,-7.5))","v":""},{"$f":"IF(COUNTIF(J69:J188,-7.5)=0,\"\",COUNTIF(J69:J188,-7.5))","v":""},"","","",{"$f":"SUM(D6:M6)","v":0},{"$f":"IF(D69=\"\",0,ROUND(N$33*NORMDIST(C6+0.5,N$34,N$36,TRUE),0)-SUM(O$3:O5))","v":0}]
[0.016,{"v":0.011048543456039808,"d":"0.011049"},-6.5,{"$f":"IF(COUNTIF(D69:D188,-6.5)=0,\"\",COUNTIF(D69:D188,-6.5))","v":""},{"$f":"IF(COUNTIF(E69:E188,-6.5)=0,\"\",COUNTIF(E69:E188,-6.5))","v":""},{"$f":"IF(COUNTIF(F69:F188,-6.5)=0,\"\",COUNTIF(F69:F188,-6.5))","v":""},"","",{"$f":"IF(COUNTIF(I69:I188,-6.5)=0,\"\",COUNTIF(I69:I188,-6.5))","v":""},{"$f":"IF(COUNTIF(J69:J188,-6.5)=0,\"\",COUNTIF(J69:J188,-6.5))","v":""},"","","",0,{"$f":"IF(D69=\"\",0,ROUND(N$33*NORMDIST(C7+0.5,N$34,N$36,TRUE),0)-SUM(O$3:O6))","v":0}]
[0.03,{"v":0.022097086912079608,"d":"0.022097"},-5.5,{"$f":"IF(COUNTIF(D69:D188,-5.5)=0,\"\",COUNTIF(D69:D188,-5.5))","v":""},{"$f":"IF(COUNTIF(E69:E188,-5.5)=0,\"\",COUNTIF(E69:E188,-5.5))","v":""},{"$f":"IF(COUNTIF(F69:F188,-5.5)=0,\"\",COUNTIF(F69:F188,-5.5))","v":""},"","",{"$f":"IF(COUNTIF(I69:I188,-5.5)=0,\"\",COUNTIF(I69:I188,-5.5))","v":""},{"$f":"IF(COUNTIF(J69:J188,-5.5)=0,\"\",COUNTIF(J69:J188,-5.5))","v":""},"","","",0,{"$f":"IF(D69=\"\",0,ROUND(N$33*NORMDIST(C8+0.5,N$34,N$36,TRUE),0)-SUM(O$3:O7))","v":0}]
[0.06,{"v":0.04419417382415922,"d":"0.044194"},-4.5,{"$f":"IF(COUNTIF(D69:D188,-4.5)=0,\"\",COUNTIF(D69:D188,-4.5))","v":""},{"$f":"IF(COUNTIF(E69:E188,-4.5)=0,\"\",COUNTIF(E69:E188,-4.5))","v":""},{"$f":"IF(COUNTIF(F69:F188,-4.5)=0,\"\",COUNTIF(F69:F188,-4.5))","v":""},"","",{"$f":"IF(COUNTIF(I69:I188,-4.5)=0,\"\",COUNTIF(I69:I188,-4.5))","v":""},{"$f":"IF(COUNTIF(J69:J188,-4.5)=0,\"\",COUNTIF(J69:J188,-4.5))","v":""},"","","",0,{"$f":"IF(D69=\"\",0,ROUND(N$33*NORMDIST(C9+0.5,N$34,N$36,TRUE),0)-SUM(O$3:O8))","v":0}]
[0.13,{"v":0.08838834764831845,"d":"0.088388"},-3.5,{"$f":"IF(COUNTIF(D69:D188,-3.5)=0,\"\",COUNTIF(D69:D188,-3.5))","v":""},{"$f":"IF(COUNTIF(E69:E188,-3.5)=0,\"\",COUNTIF(E69:E188,-3.5))","v":""},{"$f":"IF(COUNTIF(F69:F188,-3.5)=0,\"\",COUNTIF(F69:F188,-3.5))","v":""},"","",{"$f":"IF(COUNTIF(I69:I188,-3.5)=0,\"\",COUNTIF(I69:I188,-3.5))","v":""},{"$f":"IF(COUNTIF(J69:J188,-3.5)=0,\"\",COUNTIF(J69:J188,-3.5))","v":""},"","","",0,{"$f":"IF(D69=\"\",0,ROUND(N$33*NORMDIST(C10+0.5,N$34,N$36,TRUE),0)-SUM(O$3:O9))","v":0}]
[0.25,{"v":0.17677669529663687,"d":"0.176777"},-2.5,{"$f":"IF(COUNTIF(D69:D188,-2.5)=0,\"\",COUNTIF(D69:D188,-2.5))","v":""},{"$f":"IF(COUNTIF(E69:E188,-2.5)=0,\"\",COUNTIF(E69:E188,-2.5))","v":""},{"$f":"IF(COUNTIF(F69:F188,-2.5)=0,\"\",COUNTIF(F69:F188,-2.5))","v":""},"","",{"$f":"IF(COUNTIF(I69:I188,-2.5)=0,\"\",COUNTIF(I69:I188,-2.5))","v":""},{"$f":"IF(COUNTIF(J69:J188,-2.5)=0,\"\",COUNTIF(J69:J188,-2.5))","v":""},"","","",0,{"$f":"IF(D69=\"\",0,ROUND(N$33*NORMDIST(C11+0.5,N$34,N$36,TRUE),0)-SUM(O$3:O10))","v":0}]
[0.5,{"v":0.3535533905932738,"d":"0.353553"},-1.5,{"$f":"IF(COUNTIF(D69:D188,-1.5)=0,\"\",COUNTIF(D69:D188,-1.5))","v":""},{"$f":"IF(COUNTIF(E69:E188,-1.5)=0,\"\",COUNTIF(E69:E188,-1.5))","v":""},{"$f":"IF(COUNTIF(F69:F188,-1.5)=0,\"\",COUNTIF(F69:F188,-1.5))","v":""},"","",{"$f":"IF(COUNTIF(I69:I188,-1.5)=0,\"\",COUNTIF(I69:I188,-1.5))","v":""},{"$f":"IF(COUNTIF(J69:J188,-1.5)=0,\"\",COUNTIF(J69:J188,-1.5))","v":""},"","","",0,{"$f":"IF(D69=\"\",0,ROUND(N$33*NORMDIST(C12+0.5,N$34,N$36,TRUE),0)-SUM(O$3:O11))","v":0}]
[1,{"v":0.7071067811865475,"d":"0.707107"},-0.5,{"$f":"IF(COUNTIF(D69:D188,-0.5)=0,\"\",COUNTIF(D69:D188,-0.5))","v":""},{"$f":"IF(COUNTIF(E69:E188,-0.5)=0,\"\",COUNTIF(E69:E188,-0.5))","v":""},{"$f":"IF(COUNTIF(F69:F188,-0.5)=0,\"\",COUNTIF(F69:F188,-0.5))","v":""},"","",{"$f":"IF(COUNTIF(I69:I188,-0.5)=0,\"\",COUNTIF(I69:I188,-0.5))","v":""},{"$f":"IF(COUNTIF(J69:J188,-0.5)=0,\"\",COUNTIF(J69:J188,-0.5))","v":""},"","","",0,{"$f":"IF(D69=\"\",0,ROUND(N$33*NORMDIST(C13+0.5,N$34,N$36,TRUE),0)-SUM(O$3:O12))","v":0}]
[2,{"v":1.4142135623730951,"d":"1.414214"},0.5,{"$f":"IF(COUNTIF(D69:D188,0.5)=0,\"\",COUNTIF(D69:D188,0.5))","v":""},{"$f":"IF(COUNTIF(E69:E188,0.5)=0,\"\",COUNTIF(E69:E188,0.5))","v":""},{"$f":"IF(COUNTIF(F69:F188,0.5)=0,\"\",COUNTIF(F69:F188,0.5))","v":""},"","",{"$f":"IF(COUNTIF(I69:I188,0.5)=0,\"\",COUNTIF(I69:I188,0.5))","v":""},{"$f":"IF(COUNTIF(J69:J188,0.5)=0,\"\",COUNTIF(J69:J188,0.5))","v":""},"","","",0,{"$f":"IF(D69=\"\",0,ROUND(N$33*NORMDIST(C14+0.5,N$34,N$36,TRUE),0)-SUM(O$3:O13))","v":0}]
[4,{"v":2.82842712474619,"d":"2.828427"},1.5,{"$f":"IF(COUNTIF(D69:D188,1.5)=0,\"\",COUNTIF(D69:D188,1.5))","v":""},{"$f":"IF(COUNTIF(E69:E188,1.5)=0,\"\",COUNTIF(E69:E188,1.5))","v":""},{"$f":"IF(COUNTIF(F69:F188,1.5)=0,\"\",COUNTIF(F69:F188,1.5))","v":""},"","",{"$f":"IF(COUNTIF(I69:I188,1.5)=0,\"\",COUNTIF(I69:I188,1.5))","v":""},{"$f":"IF(COUNTIF(J69:J188,1.5)=0,\"\",COUNTIF(J69:J188,1.5))","v":""},"","","",0,{"$f":"IF(D69=\"\",0,ROUND(N$33*NORMDIST(C15+0.5,N$34,N$36,TRUE),0)-SUM(O$3:O14))","v":0}]
[8,{"v":5.656854249492381,"d":"5.656854"},2.5,{"$f":"IF(COUNTIF(D69:D188,2.5)=0,\"\",COUNTIF(D69:D188,2.5))","v":""},{"$f":"IF(COUNTIF(E69:E188,2.5)=0,\"\",COUNTIF(E69:E188,2.5))","v":""},{"$f":"IF(COUNTIF(F69:F188,2.5)=0,\"\",COUNTIF(F69:F188,2.5))","v":""},"","",{"$f":"IF(COUNTIF(I69:I188,2.5)=0,\"\",COUNTIF(I69:I188,2.5))","v":""},{"$f":"IF(COUNTIF(J69:J188,2.5)=0,\"\",COUNTIF(J69:J188,2.5))","v":""},"","","",0,{"$f":"IF(D69=\"\",0,ROUND(N$33*NORMDIST(C16+0.5,N$34,N$36,TRUE),0)-SUM(O$3:O15))","v":0}]
[16,{"v":11.31370849898476,"d":"11.313708"},3.5,{"$f":"IF(COUNTIF(D69:D188,3.5)=0,\"\",COUNTIF(D69:D188,3.5))","v":""},{"$f":"IF(COUNTIF(E69:E188,3.5)=0,\"\",COUNTIF(E69:E188,3.5))","v":""},{"$f":"IF(COUNTIF(F69:F188,3.5)=0,\"\",COUNTIF(F69:F188,3.5))","v":""},"","",{"$f":"IF(COUNTIF(I69:I188,3.5)=0,\"\",COUNTIF(I69:I188,3.5))","v":""},{"$f":"IF(COUNTIF(J69:J188,3.5)=0,\"\",COUNTIF(J69:J188,3.5))","v":""},"","","",0,{"$f":"IF(D69=\"\",0,ROUND(N$33*NORMDIST(C17+0.5,N$34,N$36,TRUE),0)-SUM(O$3:O16))","v":0}]
[32,{"v":22.62741699796952,"d":"22.627417"},4.5,{"$f":"IF(COUNTIF(D69:D188,4.5)=0,\"\",COUNTIF(D69:D188,4.5))","v":""},{"$f":"IF(COUNTIF(E69:E188,4.5)=0,\"\",COUNTIF(E69:E188,4.5))","v":""},{"$f":"IF(COUNTIF(F69:F188,4.5)=0,\"\",COUNTIF(F69:F188,4.5))","v":""},"","",{"$f":"IF(COUNTIF(I69:I188,4.5)=0,\"\",COUNTIF(I69:I188,4.5))","v":""},{"$f":"IF(COUNTIF(J69:J188,4.5)=0,\"\",COUNTIF(J69:J188,4.5))","v":""},"","","",0,{"$f":"IF(D69=\"\",0,ROUND(N$33*NORMDIST(C18+0.5,N$34,N$36,TRUE),0)-SUM(O$3:O17))","v":0}]
[64,{"v":45.254833995939045,"d":"45.254834"},5.5,{"$f":"IF(COUNTIF(D69:D188,5.5)=0,\"\",COUNTIF(D69:D188,5.5))","v":""},{"$f":"IF(COUNTIF(E69:E188,5.5)=0,\"\",COUNTIF(E69:E188,5.5))","v":""},{"$f":"IF(COUNTIF(F69:F188,5.5)=0,\"\",COUNTIF(F69:F188,5.5))","v":""},"","",{"$f":"IF(COUNTIF(I69:I188,5.5)=0,\"\",COUNTIF(I69:I188,5.5))","v":""},{"$f":"IF(COUNTIF(J69:J188,5.5)=0,\"\",COUNTIF(J69:J188,5.5))","v":""},"","","",0,{"$f":"IF(D69=\"\",0,ROUND(N$33*NORMDIST(C19+0.5,N$34,N$36,TRUE),0)-SUM(O$3:O18))","v":0}]
[128,{"v":90.50966799187806,"d":"90.509668"},6.5,{"$f":"IF(COUNTIF(D69:D188,6.5)=0,\"\",COUNTIF(D69:D188,6.5))","v":""},{"$f":"IF(COUNTIF(E69:E188,6.5)=0,\"\",COUNTIF(E69:E188,6.5))","v":""},{"$f":"IF(COUNTIF(F69:F188,6.5)=0,\"\",COUNTIF(F69:F188,6.5))","v":""},"","",{"$f":"IF(COUNTIF(I69:I188,6.5)=0,\"\",COUNTIF(I69:I188,6.5))","v":""},{"$f":"IF(COUNTIF(J69:J188,6.5)=0,\"\",COUNTIF(J69:J188,6.5))","v":""},"","","",0,{"$f":"IF(D69=\"\",0,ROUND(N$33*NORMDIST(C20+0.5,N$34,N$36,TRUE),0)-SUM(O$3:O19))","v":0}]
[256,{"v":181.01933598375612,"d":"181.019336"},7.5,{"$f":"IF(COUNTIF(D69:D188,7.5)=0,\"\",COUNTIF(D69:D188,7.5))","v":""},{"$f":"IF(COUNTIF(E69:E188,7.5)=0,\"\",COUNTIF(E69:E188,7.5))","v":""},{"$f":"IF(COUNTIF(F69:F188,7.5)=0,\"\",COUNTIF(F69:F188,7.5))","v":""},"","",{"$f":"IF(COUNTIF(I69:I188,7.5)=0,\"\",COUNTIF(I69:I188,7.5))","v":""},{"$f":"IF(COUNTIF(J69:J188,7.5)=0,\"\",COUNTIF(J69:J188,7.5))","v":""},"","","",0,{"$f":"IF(D69=\"\",0,ROUND(N$33*NORMDIST(C21+0.5,N$34,N$36,TRUE),0)-SUM(O$3:O20))","v":0}]
[512,{"v":362.0386719675123,"d":"362.038672"},8.5,{"$f":"IF(COUNTIF(D69:D188,8.5)=0,\"\",COUNTIF(D69:D188,8.5))","v":""},{"$f":"IF(COUNTIF(E69:E188,8.5)=0,\"\",COUNTIF(E69:E188,8.5))","v":""},{"$f":"IF(COUNTIF(F69:F188,8.5)=0,\"\",COUNTIF(F69:F188,8.5))","v":""},"","",{"$f":"IF(COUNTIF(I69:I188,8.5)=0,\"\",COUNTIF(I69:I188,8.5))","v":""},{"$f":"IF(COUNTIF(J69:J188,8.5)=0,\"\",COUNTIF(J69:J188,8.5))","v":""},"","","",0,{"$f":"IF(D69=\"\",0,ROUND(N$33*NORMDIST(C22+0.5,N$34,N$36,TRUE),0)-SUM(O$3:O21))","v":0}]
[null,null,"Central Tendancy Stats","Lab 1","Lab 2","Lab 3","Lab 4","Lab 5","Lab 6","Lab 7","Lab 8","Lab 9","Lab 10","All labs","Control","Limits"]
[null,null,"Mean",{"$f":"IF(COUNT(D69:D188)=0,\"\",AVERAGE(D69:D188))","v":""},"","","","",{"$f":"IF(COUNT(I69:I188)=0,\"\",AVERAGE(I69:I188))","v":""},{"$f":"IF(COUNT(J69:J188)=0,\"\",AVERAGE(J69:J188))","v":""},"","","",{"$f":"IF(D69=\"\",\"\",AVERAGE(D69:M188))","v":""},{"$f":"IF(D69=\"\",\"\",ROUND(NORMINV(0.05,N34,N36),3))","v":""},{"$f":"IF(D69=\"\",\"\",ROUND(NORMINV(0.95,N34,N36),3))","v":""}]
["Calculated QC Range",null,"Median",{"$f":"IF(COUNT(D69:D188)=0,\"\",MEDIAN(D69:D188))","v":""},"","","","",{"$f":"IF(COUNT(I69:I188)=0,\"\",MEDIAN(I69:I188))","v":""},{"$f":"IF(COUNT(J69:J188)=0,\"\",MEDIAN(J69:J188))","v":""},"","","",{"$f":"IF(D69=\"\",\"\",MEDIAN(D69:M188))","v":""},{"$f":"IF(D69=\"\",\"\",ROUND(N51,3))","v":""},{"$f":"IF(D69=\"\",\"\",ROUND(N52,3))","v":""}]
[{"$f":"IF(N33=0,\"\",ROUND(2*N39,3)&\" to \"&ROUND(N40,3))","v":""},null,"Mode",{"$f":"IF(COUNT(D69:D188)=0,\"\",MODE(D69:D188))","v":""},"","","","",{"$f":"IF(COUNT(I69:I188)=0,\"\",MODE(I69:I188))","v":""},{"$f":"IF(COUNT(J69:J188)=0,\"\",MODE(J69:J188))","v":""},"","","",{"$f":"IF(D69=\"\",\"\",MODE(D69:M188))","v":""},{"$f":"IF(D69=\"\",\"\",N26-1)","v":""},{"$f":"IF(D69=\"\",\"\",N26+1)","v":""}]
["Dilution Range",null,null,"(Converted back to MIC)",{"$nulls":10},"Control","Limits"]
[{"$f":"IF(N33=0,\"\",LN(N40/N39)/LN(2))","v":""},null,"Mean",{"$f":"IF(COUNT(D69:D188)=0,\"\",2^(AVERAGE(D69:D188)+0.5))","v":""},"","","","",{"$f":"IF(COUNT(I69:I188)=0,\"\",2^(AVERAGE(I69:I188)+0.5))","v":""},{"$f":"IF(COUNT(J69:J188)=0,\"\",2^(AVERAGE(J69:J188)+0.5))","v":""},"","","",{"$f":"IF(D69=\"\",\"\",2^(AVERAGE(D69:M188)+0.5))","v":""},{"$f":"IF(D69=\"\",\"\",2^O24)","v":""},{"$f":"IF(D69=\"\",\"\",2^P24)","v":""}]
["% Obs. Captured",null,"Median",{"$f":"IF(COUNT(D69:D188)=0,\"\",2^(MEDIAN(D69:D188)+0.5))","v":""},"","","","",{"$f":"IF(COUNT(I69:I188)=0,\"\",2^(MEDIAN(I69:I188)+0.5))","v":""},{"$f":"IF(COUNT(J69:J188)=0,\"\",2^(MEDIAN(J69:J188)+0.5))","v":""},"","","",{"$f":"IF(D69=\"\",\"\",2^(MEDIAN(D69:M188)+0.5))","v":""},{"$f":"IF(D69=\"\",\"\",2^O25)","v":""},{"$f":"IF(D69=\"\",\"\",2^P25)","v":""}]
[{"$f":"IF(N33=0,\"\",((COUNTIF(D69:M188,\"<\"&LN(N40)/LN(2))-COUNTIF(D69:M188,\"<\"&LN(N39)/LN(2)))/N$33))","v":""},null,"Mode",{"$f":"IF(COUNT(D69:D188)=0,\"\",2^(MODE(D69:D188)+0.5))","v":""},"","","","",{"$f":"IF(COUNT(I69:I188)=0,\"\",2^(MODE(I69:I188)+0.5))","v":""},{"$f":"IF(COUNT(J69:J188)=0,\"\",2^(MODE(J69:J188)+0.5))","v":""},"","","",{"$f":"IF(D69=\"\",\"\",2^(MODE(D69:M188)+0.5))","v":""},{"$f":"IF(D69=\"\",\"\",2^O26)","v":""},{"$f":"IF(D69=\"\",\"\",2^P26)","v":""}]
["Prob'ty Outside Range"]
[{"$f":"IF(N33=0,\"\",N41+N42)","v":""},null,"Conventional Stats","Lab 1","Lab 2","Lab 3","Lab 4","Lab 5","Lab 6","Lab 7","Lab 8","Lab 9","Lab 10","All labs","Interlab"]
[null,null,"N",{"$f":"IF(COUNT(D69:D188)=0,\"\",COUNT(D69:D188))","v":""},"","","","",{"$f":"IF(COUNT(I69:I188)=0,\"\",COUNT(I69:I188))","v":""},{"$f":"IF(COUNT(J69:J188)=0,\"\",COUNT(J69:J188))","v":""},"","","",{"$f":"COUNT(D69:M188)","v":0},"CV"]
["CLSI QC Range",null,"GeoMean MIC (log2)",{"$f":"IF(COUNT(D69:D188)=0,\"\",AVERAGE(D69:D188))","v":""},"","","","",{"$f":"IF(COUNT(I69:I188)=0,\"\",AVERAGE(I69:I188))","v":""},{"$f":"IF(COUNT(J69:J188)=0,\"\",AVERAGE(J69:J188))","v":""},"","","",{"$f":"IF(D69=\"\",\"\",AVERAGE(D69:M188))","v":""},{"$f":"IF(D69=\"\",\"\",ABS(STDEVA(D34:M34)/N34))","v":""}]
[null,null,"GeoMean MIC",{"$f":"IF(COUNT(D69:D188)=0,\"\",2^D34)","v":""},"","","","",{"$f":"IF(COUNT(I69:I188)=0,\"\",2^I34)","v":""},{"$f":"IF(COUNT(J69:J188)=0,\"\",2^J34)","v":""},"","","",{"$f":"IF(D69=\"\",\"\",2^N34)","v":""}]
[null,null,"GeoSD (log2)",{"$f":"IF(COUNT(D69:D188)=0,\"\",STDEV(D69:D188))","v":""},"","","","",{"$f":"IF(COUNT(I69:I188)=0,\"\",STDEV(I69:I188))","v":""},{"$f":"IF(COUNT(J69:J188)=0,\"\",STDEV(J69:J188))","v":""},"","","",{"$f":"IF(D69=\"\",\"\",STDEV(D69:M188))","v":""}]
[{"$f":"IF(A35=\"\",\"\",ROUND(2^(A35+0.5),3)&\" to \"&ROUND(2^(A36+0.5),3))","v":""},null,"95% Lower Bound",{"$f":"IF(COUNT(D69:D188)=0,\"\",IF(D33=0,\"\",2^((NORMINV(0.025,D34,D36)))))","v":""},"","","","",{"$f":"IF(COUNT(I69:I188)=0,\"\",IF(I33=0,\"\",2^((NORMINV(0.025,I34,I36)))))","v":""},{"$f":"IF(COUNT(J69:J188)=0,\"\",IF(J33=0,\"\",2^((NORMINV(0.025,J34,J36)))))","v":""},"","","",{"$f":"IF(N33=0,\"\",2^((NORMINV(0.025,N34,N36))))","v":""}]
["Dilution Range",null,"95% Upper Bound",{"$f":"IF(COUNT(D69:D188)=0,\"\",IF(D33=0,\"\",2^(NORMINV(0.975,D34,D36))))","v":""},"","","","",{"$f":"IF(COUNT(I69:I188)=0,\"\",IF(I33=0,\"\",2^(NORMINV(0.975,I34,I36))))","v":""},{"$f":"IF(COUNT(J69:J188)=0,\"\",IF(J33=0,\"\",2^(NORMINV(0.975,J34,J36))))","v":""},"","","",{"$f":"IF(N33=0,\"\",2^(NORMINV(0.975,N34,N36)))","v":""}]
[{"$f":"IF(A35=\"\",\"\",A36-A35+1)","v":""},null,"Lower Bound Rounded Down",{"$f":"IF(COUNT(D69:D188)=0,\"\",IF(D33=0,\"\",2^(INT((NORMINV(0.025,D34,D36))))))","v":""},"","","","",{"$f":"IF(COUNT(I69:I188)=0,\"\",IF(I33=0,\"\",2^(INT((NORMINV(0.025,I34,I36))))))","v":""},{"$f":"IF(COUNT(J69:J188)=0,\"\",IF(J33=0,\"\",2^(INT((NORMINV(0.025,J34,J36))))))","v":""},"","","",{"$f":"IF(N33=0,\"\",2^(INT((NORMINV(0.025,N34,N36)))))","v":""}]
["CLSI% Obs. captured",null,"Upper Bound Rounded Up",{"$f":"IF(COUNT(D69:D188)=0,\"\",IF(D33=0,\"\",2^(INT((NORMINV(0.975,D34,D36)))+1)))","v":""},"","","","",{"$f":"IF(COUNT(I69:I188)=0,\"\",IF(I33=0,\"\",2^(INT((NORMINV(0.975,I34,I36)))+1)))","v":""},{"$f":"IF(COUNT(J69:J188)=0,\"\",IF(J33=0,\"\",2^(INT((NORMINV(0.975,J34,J36)))+1)))","v":""},"","","",{"$f":"IF(N33=0,\"\",2^(INT((NORMINV(0.975,N34,N36)))+1))","v":""}]
[{"$f":"IF(A35=0,\"\",(COUNTIF(D69:M188,\"<\"&A36+1)-COUNTIF(D69:M188,\"<\"&A35))/N$33)","v":""},null,"Probability of <=Lower Bound",{"$f":"IF(COUNT(D69:D188)=0,\"\",NORMDIST(LOG(D39)/LOG(2),D34,D36,TRUE))","v":""},"","","","",{"$f":"IF(COUNT(I69:I188)=0,\"\",NORMDIST(LOG(I39)/LOG(2),I34,I36,TRUE))","v":""},{"$f":"IF(COUNT(J69:J188)=0,\"\",NORMDIST(LOG(J39)/LOG(2),J34,J36,TRUE))","v":""},"","","",{"$f":"IF(D69=\"\",\"\",NORMDIST(LOG(N39)/LOG(2),N34,N36,TRUE))","v":""}]
[null,null,"Probability of >Upper Bound",{"$f":"IF(COUNT(D69:D188)=0,\"\",1-NORMDIST(LOG(D40)/LOG(2),D34,D36,TRUE))","v":""},"","","","",{"$f":"IF(COUNT(I69:I188)=0,\"\",1-NORMDIST(LOG(I40)/LOG(2),I34,I36,TRUE))","v":""},{"$f":"IF(COUNT(J69:J188)=0,\"\",1-NORMDIST(LOG(J40)/LOG(2),J34,J36,TRUE))","v":""},"","","",{"$f":"IF(D69=\"\",\"\",1-NORMDIST(LOG(N40)/LOG(2),N34,N36,TRUE))","v":""}]
[null,null,"New Range",{"$f":"IF(COUNT(D69:D188)=0,\"\",1-D41-D42)","v":""},"","","","",{"$f":"IF(COUNT(I69:I188)=0,\"\",1-I41-I42)","v":""},{"$f":"IF(COUNT(J69:J188)=0,\"\",1-J41-J42)","v":""},"","","",{"$f":"IF(D69=\"\",\"\",1-N41-N42)","v":""}]
[]
[null,null,"Order Stats","Lab 1","Lab 2","Lab 3","Lab 4","Lab 5","Lab 6","Lab 7","Lab 8","Lab 9","Lab 10","All labs","Interlab"]
[null,null,"25th %ile",{"$f":"IF(COUNT(D69:D188)=0,\"\",QUARTILE(D69:D188,1))","v":""},"","","","",{"$f":"IF(COUNT(I69:I188)=0,\"\",QUARTILE(I69:I188,1))","v":""},{"$f":"IF(COUNT(J69:J188)=0,\"\",QUARTILE(J69:J188,1))","v":""},"","","",{"$f":"IF(D69=\"\",\"\",QUARTILE(D69:M188,1))","v":""},"CV"]
[null,null,"75th %ile",{"$f":"IF(COUNT(D69:D188)=0,\"\",QUARTILE(D69:D188,3))","v":""},"","","","",{"$f":"IF(COUNT(I69:I188)=0,\"\",QUARTILE(I69:I188,3))","v":""},{"$f":"IF(COUNT(J69:J188)=0,\"\",QUARTILE(J69:J188,3))","v":""},"","","",{"$f":"IF(D69=\"\",\"\",QUARTILE(D69:M188,3))","v":""},{"$f":"IF(D69=\"\",\"\",ABS(N48/N25))","v":""}]
[null,null,"Interquartile Range",{"$f":"IF(COUNT(D69:D188)=0,\"\",IF(D47-D46=0,1,D47-D46))","v":""},"","","","",{"$f":"IF(COUNT(I69:I188)=0,\"\",IF(I47-I46=0,1,I47-I46))","v":""},{"$f":"IF(COUNT(J69:J188)=0,\"\",IF(J47-J46=0,1,J47-J46))","v":""},"","","",{"$f":"IF(D69=\"\",\"\",IF(N47-N46=0,1,N47-N46))","v":""}]
[null,null,"Minimum",{"$f":"IF(COUNT(D69:D188)=0,\"\",MIN(D69:D188))","v":""},"","","","",{"$f":"IF(COUNT(I69:I188)=0,\"\",MIN(I69:I188))","v":""},{"$f":"IF(COUNT(J69:J188)=0,\"\",MIN(J69:J188))","v":""},"","","",{"$f":"IF(D69=\"\",\"\",MIN(D69:M188))","v":""}]
[null,null,"Maximum",{"$f":"IF(COUNT(D69:D188)=0,\"\",MAX(D69:D188))","v":""},"","","","",{"$f":"IF(COUNT(I69:I188)=0,\"\",MAX(I69:I188))","v":""},{"$f":"IF(COUNT(J69:J188)=0,\"\",MAX(J69:J188))","v":""},"","","",{"$f":"IF(D69=\"\",\"\",MAX(D69:M188))","v":""}]
[null,null,"Lower Inner Fence",{"$f":"IF(COUNT(D69:D188)=0,\"\",D$46-1.5*D$48)","v":""},"","","","",{"$f":"IF(COUNT(I69:I188)=0,\"\",I$46-1.5*I$48)","v":""},{"$f":"IF(COUNT(J69:J188)=0,\"\",J$46-1.5*J$48)","v":""},"","","",{"$f":"IF(D69=\"\",\"\",N$46-1.5*N$48)","v":""}]
[null,null,"Upper Inner Fence",{"$f":"IF(COUNT(D69:D188)=0,\"\",D$47+1.5*D$48)","v":""},"","","","",{"$f":"IF(COUNT(I69:I188)=0,\"\",I$47+1.5*I$48)","v":""},{"$f":"IF(COUNT(J69:J188)=0,\"\",J$47+1.5*J$48)","v":""},"","","",{"$f":"IF(D69=\"\",\"\",N$47+1.5*N$48)","v":""}]
[null,null,"Lower Outer Fence",{"$f":"IF(COUNT(D69:D188)=0,\"\",D$46-3*D$48)","v":""},"","","","",{"$f":"IF(COUNT(I69:I188)=0,\"\",I$46-3*I$48)","v":""},{"$f":"IF(COUNT(J69:J188)=0,\"\",J$46-3*J$48)","v":""},"","","",{"$f":"IF(D69=\"\",\"\",N$46-3*N$48)","v":""}]
[null,null,"Upper Outer Fence",{"$f":"IF(COUNT(D69:D188)=0,\"\",D$47+3*D$48)","v":""},"","","","",{"$f":"IF(COUNT(I69:I188)=0,\"\",I$47+3*I$48)","v":""},{"$f":"IF(COUNT(J69:J188)=0,\"\",J$47+3*J$48)","v":""},"","","",{"$f":"IF(D69=\"\",\"\",N$47+3*N$48)","v":""}]
[null,null,"Lower Near Outliers",{"$f":"IF(COUNT(D69:D188)=0,\"\",COUNTIF(D69:D188,\"<\"&D51))","v":""},"","","","",{"$f":"IF(COUNT(I69:I188)=0,\"\",COUNTIF(I69:I188,\"<\"&I51))","v":""},{"$f":"IF(COUNT(J69:J188)=0,\"\",COUNTIF(J69:J188,\"<\"&J51))","v":""},"","","",{"$f":"IF(D69=\"\",\"\",COUNTIF(D69:M188,\"<\"&N51)-N57)","v":""}]
[null,null,"Upper Near Outliers",{"$f":"IF(COUNT(D69:D188)=0,\"\",COUNTIF(D69:D188,\">\"&D52))","v":""},"","","","",{"$f":"IF(COUNT(I69:I188)=0,\"\",COUNTIF(I69:I188,\">\"&I52))","v":""},{"$f":"IF(COUNT(J69:J188)=0,\"\",COUNTIF(J69:J188,\">\"&J52))","v":""},"","","",{"$f":"IF(D69=\"\",\"\",COUNTIF(D69:M188,\">\"&N52)-N58)","v":""}]
[null,null,"Lower Extreme Outliers",{"$f":"IF(COUNT(D69:D188)=0,\"\",COUNTIF(D69:D188,\"<\"&D53))","v":""},"","","","",{"$f":"IF(COUNT(I69:I188)=0,\"\",COUNTIF(I69:I188,\"<\"&I53))","v":""},{"$f":"IF(COUNT(J69:J188)=0,\"\",COUNTIF(J69:J188,\"<\"&J53))","v":""},"","","",{"$f":"IF(D69=\"\",\"\",COUNTIF(D69:M188,\"<\"&N53))","v":""}]
[null,null,"Upper Extreme Outliers",{"$f":"IF(COUNT(D69:D188)=0,\"\",COUNTIF(D69:D188,\">\"&D54))","v":""},"","","","",{"$f":"IF(COUNT(I69:I188)=0,\"\",COUNTIF(I69:I188,\">\"&I54))","v":""},{"$f":"IF(COUNT(J69:J188)=0,\"\",COUNTIF(J69:J188,\">\"&J54))","v":""},"","","",{"$f":"IF(D69=\"\",\"\",COUNTIF(D69:M188,\">\"&N54))","v":""}]
[]
[null,null,"Chart Control Limits","Lab 1","Lab 2","Lab 3","Lab 4","Lab 5","Lab 6","Lab 7","Lab 8","Lab 9","Lab 10"]
[null,"Mean","Lower CL",{"$f":"$O$24","v":""},{"$f":"$O$24","v":""},"","","","","","","",""]
[null,null,"Upper CL",{"$f":"$P$24","v":""},{"$f":"$P$24","v":""},"","","","","","","",""]
[null,"Median","Lower CL",{"$f":"$O$25","v":""},{"$f":"$O$25","v":""},"","","","","","","",""]
[null,null,"Upper CL",{"$f":"$P$25","v":""},{"$f":"$P$25","v":""},"","","","","","","",""]
[null,"Mode","Lower CL",{"$f":"$O$26","v":""},{"$f":"$O$26","v":""},"","","","","","","",""]
[null,null,"Upper CL",{"$f":"$P$26","v":""},{"$f":"$P$26","v":""},"","","","","","","",""]
[]
[null,null,"Log2 Converted Raw Data","Lab 1","Lab 2","Lab 3","Lab 4","Lab 5","Lab 6","Lab 7","Lab 8","Lab 9","Lab 10","Control","Limits"]
[null,null,"Media Lot 1",{"$f":"IF(D191=\"\",\"\",LOOKUP(D191,$A$3:$A$22,$C$3:$C$22))","v":""},"","","","",{"$f":"IF(I191=\"\",\"\",LOOKUP(I191,$A$3:$A$22,$C$3:$C$22))","v":""},"","","","",{"$f":"IF(D69=\"\",\"\",LN($N$39)/LN(2))","v":""},{"$f":"IF(D69=\"\",\"\",LN($N$40)/LN(2)-0.5)","v":""}]
[{"$nulls":3},"","","","","","","","","",""]
[{"$nulls":3},"","","","","","","","","",""]
[{"$nulls":3},"","","","","","","","","",""]
[{"$nulls":3},{"$f":"IF(D195=\"\",\"\",LOOKUP(D195,$A$3:$A$22,$C$3:$C$22))","v":""},"","","","","","","","",""]
[{"$nulls":3},"","","","","","","","","",""]
[{"$nulls":3},"","","","","","","","","",""]
[{"$nulls":3},"","","","","","","","","",""]
[{"$nulls":3},"","","","","","","","","",""]
[{"$nulls":3},"","","","","","","","","",""]
[{"$nulls":3},{"$f":"IF(D201=\"\",\"\",LOOKUP(D201,$A$3:$A$22,$C$3:$C$22))","v":""},"","","","",{"$f":"IF(I201=\"\",\"\",LOOKUP(I201,$A$3:$A$22,$C$3:$C$22))","v":""},"","","",""]
[{"$nulls":3},"","","","","","","","","",""]
[{"$nulls":3},{"$f":"IF(D203=\"\",\"\",LOOKUP(D203,$A$3:$A$22,$C$3:$C$22))","v":""},"","","","","","","","",""]
[{"$nulls":3},"","","","","","","","","",""]
[{"$nulls":3},"","","","","","","","","",""]
[{"$nulls":3},"","","","","","","","","",""]
[{"$nulls":3},"","","","","","","","","",""]
[{"$nulls":3},"","","","","","","","","",""]
[{"$nulls":3},"","","","","","","","","",""]
[{"$nulls":3},"","","","","","","","","",""]
[{"$nulls":3},{"$f":"IF(D211=\"\",\"\",LOOKUP(D211,$A$3:$A$22,$C$3:$C$22))","v":""},"","","","",{"$f":"IF(I211=\"\",\"\",LOOKUP(I211,$A$3:$A$22,$C$3:$C$22))","v":""},"","","",""]
[{"$nulls":3},"","","","","","","","","",""]
[{"$nulls":3},"","","","","","","","","",""]
[{"$nulls":3},"","","","","","","","","",""]
[{"$nulls":3},"","","","","","","","","",""]
[{"$nulls":3},"","","","","","","","","",""]
[{"$nulls":3},"","","","","","","","","",""]
[{"$nulls":3},"","","","","","","","","",""]
[{"$nulls":3},"","","","","","","","","",""]
[{"$nulls":3},"","","","","","","","","",""]
[{"$nulls":3},"","","","","",{"$f":"IF(I221=\"\",\"\",LOOKUP(I221,$A$3:$A$22,$C$3:$C$22))","v":""},"","","",""]
[{"$nulls":3},"","","","","","","","","",""]
[{"$nulls":3},"","","","","","","","","",""]
[{"$nulls":3},"","","","","","","","","",""]
[{"$nulls":3},"","","","","","","","","",""]
[{"$nulls":3},"","","","","","","","","",""]
[{"$nulls":3},{"$f":"IF(D227=\"\",\"\",LOOKUP(D227,$A$3:$A$22,$C$3:$C$22))","v":""},"","","","","","","","",""]
[{"$nulls":3},"","","","","","","","","",""]
[{"$nulls":3},"","","","","","","","","",""]
[{"$nulls":3},"","","","","","","","","",""]
[null,null,"Media Lot 2","","","","","",{"$f":"IF(I231=\"\",\"\",LOOKUP(I231,$A$3:$A$22,$C$3:$C$22))","v":""},"","","",""]
[{"$nulls":3},"","","","","","","","","",""]
[{"$nulls":3},"","","","","","","","","",""]
[{"$nulls":3},"","","","","","","","","",""]
[{"$nulls":3},"","","","","","","","","",""]
[{"$nulls":3},"","","","","","","","","",""]
[{"$nulls":3},"","","","","","","","","",""]
[{"$nulls":3},"","","","","","","","","",""]
[{"$nulls":3},"","","","","","","","","",""]
[{"$nulls":3},"","","","","","","","","",""]
[{"$nulls":3},"","","","","",{"$f":"IF(I241=\"\",\"\",LOOKUP(I241,$A$3:$A$22,$C$3:$C$22))","v":""},"","","",""]
[{"$nulls":3},"","","","","","","","","",""]
[{"$nulls":3},{"$f":"IF(D243=\"\",\"\",LOOKUP(D243,$A$3:$A$22,$C$3:$C$22))","v":""},"","","","","","","","",""]
[{"$nulls":3},"","","","","","","","","",""]
[{"$nulls":3},"","","","","","","","","",""]
[{"$nulls":3},"","","","","","","","","",""]
[{"$nulls":3},"","","","","","","","","",""]
[{"$nulls":3},"","","","","","","","","",""]
[{"$nulls":3},"","","","","","","","","",""]
[{"$nulls":3},"","","","","","","","","",""]
[{"$nulls":3},"","","","","",{"$f":"IF(I251=\"\",\"\",LOOKUP(I251,$A$3:$A$22,$C$3:$C$22))","v":""},"","","",""]
[{"$nulls":3},"","","","","","","","","",""]
[{"$nulls":3},"","","","","","","","","",""]
[{"$nulls":3},"","","","","","","","","",""]
[{"$nulls":3},"","","","","","","","","",""]
[{"$nulls":3},"","","","","","","","","",""]
[{"$nulls":3},"","","","","","","","","",""]
[{"$nulls":3},"","","","","","","","","",""]
[{"$nulls":3},{"$f":"IF(D259=\"\",\"\",LOOKUP(D259,$A$3:$A$22,$C$3:$C$22))","v":""},"","","","","","","","",""]
[{"$nulls":3},"","","","","","","","","",""]
[{"$nulls":3},"","","","","",{"$f":"IF(I261=\"\",\"\",LOOKUP(I261,$A$3:$A$22,$C$3:$C$22))","v":""},"","","",""]
[{"$nulls":3},"","","","","","","","","",""]
[{"$nulls":3},"","","","","","","","","",""]
[{"$nulls":3},"","","","","","","","","",""]
[{"$nulls":3},"","","","","","","","","",""]
[{"$nulls":3},"","","","","","","","","",""]
[{"$nulls":3},"","","","","","","","","",""]
[{"$nulls":3},"","","","","","","","","",""]
[{"$nulls":3},"","","","","","","","","",""]
[{"$nulls":3},"","","","","","","","","",""]
[null,null,"Media Lot 3","","","","","",{"$f":"IF(I271=\"\",\"\",LOOKUP(I271,$A$3:$A$22,$C$3:$C$22))","v":""},"","","",""]
[{"$nulls":3},"","","","","","","","","",""]
[{"$nulls":3},"","","","","","","","","",""]
[{"$nulls":3},"","","","","","","","","",""]
[{"$nulls":3},{"$f":"IF(D275=\"\",\"\",LOOKUP(D275,$A$3:$A$22,$C$3:$C$22))","v":""},"","","","","","","","",""]
[{"$nulls":3},"","","","","","","","","",""]
[{"$nulls":3},"","","","","","","","","",""]
[{"$nulls":3},"","","","","","","","","",""]
[{"$nulls":3},"","","","","","","","","",""]
[{"$nulls":3},"","","","","","","","","",""]
[{"$nulls":3},"","","","","",{"$f":"IF(I281=\"\",\"\",LOOKUP(I281,$A$3:$A$22,$C$3:$C$22))","v":""},"","","",""]
[{"$nulls":3},"","","","","","","","","",""]
[{"$nulls":3},"","","","","","","","","",""]
[{"$nulls":3},"","","","","","","","","",""]
[{"$nulls":3},"","","","","","","","","",""]
[{"$nulls":3},"","","","","","","","","",""]
[{"$nulls":3},"","","","","","","","","",""]
[{"$nulls":3},"","","","","","","","","",""]
[{"$nulls":3},"","","","","","","","","",""]
[{"$nulls":3},"","","","","","","","","",""]
[{"$nulls":3},{"$f":"IF(D291=\"\",\"\",LOOKUP(D291,$A$3:$A$22,$C$3:$C$22))","v":""},"","","","",{"$f":"IF(I291=\"\",\"\",LOOKUP(I291,$A$3:$A$22,$C$3:$C$22))","v":""},"","","",""]
[{"$nulls":3},"","","","","","","","","",""]
[{"$nulls":3},"","","","","","","","","",""]
[{"$nulls":3},"","","","","","","","","",""]
[{"$nulls":3},"","","","","","","","","",""]
[{"$nulls":3},"","","","","","","","","",""]
[{"$nulls":3},"","","","","","","","","",""]
[{"$nulls":3},"","","","","","","","","",""]
[{"$nulls":3},"","","","","","","","","",""]
[{"$nulls":3},"","","","","","","","","",""]
[{"$nulls":3},"","","","","",{"$f":"IF(I301=\"\",\"\",LOOKUP(I301,$A$3:$A$22,$C$3:$C$22))","v":""},"","","",""]
[{"$nulls":3},"","","","","","","","","",""]
[{"$nulls":3},"","","","","","","","","",""]
[{"$nulls":3},"","","","","","","","","",""]
[{"$nulls":3},"","","","","","","","","",""]
[{"$nulls":3},"","","","","","","","","",""]
[{"$nulls":3},{"$f":"IF(D307=\"\",\"\",LOOKUP(D307,$A$3:$A$22,$C$3:$C$22))","v":""},"","","","","","","","",""]
[{"$nulls":3},"","","","","","","","","",""]
[{"$nulls":3},"","","","","","","","","",""]
[{"$nulls":3},"","","","","","","","","",""]
[]
[null,null,"Raw Data Entry","Lab 1","Lab 2","Lab 3","Lab 4","Lab 5","Lab 6","Lab 7","Lab 8","Lab 9","Lab 10"]
[null,null,"Media Lot 1"]
{"$rows_empty":39}
[null,null,"Media Lot 2"]
{"$rows_empty":39}
[null,null,"Media Lot 3"]

{"sheet":"Strain 10","index":22,"n_rows":271,"n_cols":16,"rows_kept":271,"merged":[[0,4,0,6]]}
[{"$f":"'Range Summary'!K2","v":"QC10"},{"$f":"'Range Summary'!A2","v":"Test agent"},null,null,"Go to Raw Data Entry area"]
["MIC","Midpoint MIC","Mid Log2MIC","Lab 1","Lab 2","Lab 3","Lab 4","Lab 5","Lab 6","Lab 7","Lab 8","Lab 9","Lab 10","All labs","Norm"]
[{"v":1E-3,"d":"0.001"},{"$f":"2^C3","v":{"v":6.9053396600248776E-4,"d":"0.000691"}},-10.5,{"$f":"IF(COUNTIF(D69:D188,-10.5)=0,\"\",COUNTIF(D69:D188,-10.5))","v":""},{"$f":"IF(COUNTIF(E69:E188,-10.5)=0,\"\",COUNTIF(E69:E188,-10.5))","v":""},{"$f":"IF(COUNTIF(F69:F188,-10.5)=0,\"\",COUNTIF(F69:F188,-10.5))","v":""},"",{"$f":"IF(COUNTIF(H69:H188,-10.5)=0,\"\",COUNTIF(H69:H188,-10.5))","v":""},{"$f":"IF(COUNTIF(I69:I188,-10.5)=0,\"\",COUNTIF(I69:I188,-10.5))","v":""},{"$f":"IF(COUNTIF(J69:J188,-10.5)=0,\"\",COUNTIF(J69:J188,-10.5))","v":""},"","","",{"$f":"SUM(D3:M3)","v":0},{"$f":"IF(D69=\"\",0,ROUND(N$33*NORMDIST(C3+0.5,N$34,N$36,TRUE),0))","v":0}]
[{"v":2E-3,"d":"0.002"},{"v":1.3810679320049757E-3,"d":"0.001381"},-9.5,{"$f":"IF(COUNTIF(D69:D188,-9.5)=0,\"\",COUNTIF(D69:D188,-9.5))","v":""},{"$f":"IF(COUNTIF(E69:E188,-9.5)=0,\"\",COUNTIF(E69:E188,-9.5))","v":""},{"$f":"IF(COUNTIF(F69:F188,-9.5)=0,\"\",COUNTIF(F69:F188,-9.5))","v":""},"",{"$f":"IF(COUNTIF(H69:H188,-9.5)=0,\"\",COUNTIF(H69:H188,-9.5))","v":""},{"$f":"IF(COUNTIF(I69:I188,-9.5)=0,\"\",COUNTIF(I69:I188,-9.5))","v":""},{"$f":"IF(COUNTIF(J69:J188,-9.5)=0,\"\",COUNTIF(J69:J188,-9.5))","v":""},"","","",0,{"$f":"IF(D69=\"\",0,ROUND(N$33*NORMDIST(C4+0.5,N$34,N$36,TRUE),0)-SUM(O2:O$3))","v":0}]
[0.004,{"v":2.7621358640099515E-3,"d":"0.002762"},-8.5,{"$f":"IF(COUNTIF(D69:D188,-8.5)=0,\"\",COUNTIF(D69:D188,-8.5))","v":""},{"$f":"IF(COUNTIF(E69:E188,-8.5)=0,\"\",COUNTIF(E69:E188,-8.5))","v":""},{"$f":"IF(COUNTIF(F69:F188,-8.5)=0,\"\",COUNTIF(F69:F188,-8.5))","v":""},"",{"$f":"IF(COUNTIF(H69:H188,-8.5)=0,\"\",COUNTIF(H69:H188,-8.5))","v":""},{"$f":"IF(COUNTIF(I69:I188,-8.5)=0,\"\",COUNTIF(I69:I188,-8.5))","v":""},{"$f":"IF(COUNTIF(J69:J188,-8.5)=0,\"\",COUNTIF(J69:J188,-8.5))","v":""},"","","",0,{"$f":"IF(D69=\"\",0,ROUND(N$33*NORMDIST(C5+0.5,N$34,N$36,TRUE),0)-SUM(O$3:O3))","v":0}]
[0.008,{"v":0.005524271728019904,"d":"0.005524"},-7.5,{"$f":"IF(COUNTIF(D69:D188,-7.5)=0,\"\",COUNTIF(D69:D188,-7.5))","v":""},{"$f":"IF(COUNTIF(E69:E188,-7.5)=0,\"\",COUNTIF(E69:E188,-7.5))","v":""},{"$f":"IF(COUNTIF(F69:F188,-7.5)=0,\"\",COUNTIF(F69:F188,-7.5))","v":""},"",{"$f":"IF(COUNTIF(H69:H188,-7.5)=0,\"\",COUNTIF(H69:H188,-7.5))","v":""},{"$f":"IF(COUNTIF(I69:I188,-7.5)=0,\"\",COUNTIF(I69:I188,-7.5))","v":""},{"$f":"IF(COUNTIF(J69:J188,-7.5)=0,\"\",COUNTIF(J69:J188,-7.5))","v":""},"","","",{"$f":"SUM(D6:M6)","v":0},{"$f":"IF(D69=\"\",0,ROUND(N$33*NORMDIST(C6+0.5,N$34,N$36,TRUE),0)-SUM(O$3:O5))","v":0}]
[0.016,{"v":0.011048543456039808,"d":"0.011049"},-6.5,{"$f":"IF(COUNTIF(D69:D188,-6.5)=0,\"\",COUNTIF(D69:D188,-6.5))","v":""},{"$f":"IF(COUNTIF(E69:E188,-6.5)=0,\"\",COUNTIF(E69:E188,-6.5))","v":""},{"$f":"IF(COUNTIF(F69:F188,-6.5)=0,\"\",COUNTIF(F69:F188,-6.5))","v":""},"",{"$f":"IF(COUNTIF(H69:H188,-6.5)=0,\"\",COUNTIF(H69:H188,-6.5))","v":""},{"$f":"IF(COUNTIF(I69:I188,-6.5)=0,\"\",COUNTIF(I69:I188,-6.5))","v":""},{"$f":"IF(COUNTIF(J69:J188,-6.5)=0,\"\",COUNTIF(J69:J188,-6.5))","v":""},"","","",0,{"$f":"IF(D69=\"\",0,ROUND(N$33*NORMDIST(C7+0.5,N$34,N$36,TRUE),0)-SUM(O$3:O6))","v":0}]
[0.03,{"v":0.022097086912079608,"d":"0.022097"},-5.5,{"$f":"IF(COUNTIF(D69:D188,-5.5)=0,\"\",COUNTIF(D69:D188,-5.5))","v":""},{"$f":"IF(COUNTIF(E69:E188,-5.5)=0,\"\",COUNTIF(E69:E188,-5.5))","v":""},{"$f":"IF(COUNTIF(F69:F188,-5.5)=0,\"\",COUNTIF(F69:F188,-5.5))","v":""},"",{"$f":"IF(COUNTIF(H69:H188,-5.5)=0,\"\",COUNTIF(H69:H188,-5.5))","v":""},{"$f":"IF(COUNTIF(I69:I188,-5.5)=0,\"\",COUNTIF(I69:I188,-5.5))","v":""},{"$f":"IF(COUNTIF(J69:J188,-5.5)=0,\"\",COUNTIF(J69:J188,-5.5))","v":""},"","","",0,{"$f":"IF(D69=\"\",0,ROUND(N$33*NORMDIST(C8+0.5,N$34,N$36,TRUE),0)-SUM(O$3:O7))","v":0}]
[0.06,{"v":0.04419417382415922,"d":"0.044194"},-4.5,{"$f":"IF(COUNTIF(D69:D188,-4.5)=0,\"\",COUNTIF(D69:D188,-4.5))","v":""},{"$f":"IF(COUNTIF(E69:E188,-4.5)=0,\"\",COUNTIF(E69:E188,-4.5))","v":""},{"$f":"IF(COUNTIF(F69:F188,-4.5)=0,\"\",COUNTIF(F69:F188,-4.5))","v":""},"",{"$f":"IF(COUNTIF(H69:H188,-4.5)=0,\"\",COUNTIF(H69:H188,-4.5))","v":""},{"$f":"IF(COUNTIF(I69:I188,-4.5)=0,\"\",COUNTIF(I69:I188,-4.5))","v":""},{"$f":"IF(COUNTIF(J69:J188,-4.5)=0,\"\",COUNTIF(J69:J188,-4.5))","v":""},"","","",0,{"$f":"IF(D69=\"\",0,ROUND(N$33*NORMDIST(C9+0.5,N$34,N$36,TRUE),0)-SUM(O$3:O8))","v":0}]
[0.13,{"v":0.08838834764831845,"d":"0.088388"},-3.5,{"$f":"IF(COUNTIF(D69:D188,-3.5)=0,\"\",COUNTIF(D69:D188,-3.5))","v":""},{"$f":"IF(COUNTIF(E69:E188,-3.5)=0,\"\",COUNTIF(E69:E188,-3.5))","v":""},{"$f":"IF(COUNTIF(F69:F188,-3.5)=0,\"\",COUNTIF(F69:F188,-3.5))","v":""},"",{"$f":"IF(COUNTIF(H69:H188,-3.5)=0,\"\",COUNTIF(H69:H188,-3.5))","v":""},{"$f":"IF(COUNTIF(I69:I188,-3.5)=0,\"\",COUNTIF(I69:I188,-3.5))","v":""},{"$f":"IF(COUNTIF(J69:J188,-3.5)=0,\"\",COUNTIF(J69:J188,-3.5))","v":""},"","","",0,{"$f":"IF(D69=\"\",0,ROUND(N$33*NORMDIST(C10+0.5,N$34,N$36,TRUE),0)-SUM(O$3:O9))","v":0}]
[0.25,{"v":0.17677669529663687,"d":"0.176777"},-2.5,{"$f":"IF(COUNTIF(D69:D188,-2.5)=0,\"\",COUNTIF(D69:D188,-2.5))","v":""},{"$f":"IF(COUNTIF(E69:E188,-2.5)=0,\"\",COUNTIF(E69:E188,-2.5))","v":""},{"$f":"IF(COUNTIF(F69:F188,-2.5)=0,\"\",COUNTIF(F69:F188,-2.5))","v":""},"",{"$f":"IF(COUNTIF(H69:H188,-2.5)=0,\"\",COUNTIF(H69:H188,-2.5))","v":""},{"$f":"IF(COUNTIF(I69:I188,-2.5)=0,\"\",COUNTIF(I69:I188,-2.5))","v":""},{"$f":"IF(COUNTIF(J69:J188,-2.5)=0,\"\",COUNTIF(J69:J188,-2.5))","v":""},"","","",0,{"$f":"IF(D69=\"\",0,ROUND(N$33*NORMDIST(C11+0.5,N$34,N$36,TRUE),0)-SUM(O$3:O10))","v":0}]
[0.5,{"v":0.3535533905932738,"d":"0.353553"},-1.5,{"$f":"IF(COUNTIF(D69:D188,-1.5)=0,\"\",COUNTIF(D69:D188,-1.5))","v":""},{"$f":"IF(COUNTIF(E69:E188,-1.5)=0,\"\",COUNTIF(E69:E188,-1.5))","v":""},{"$f":"IF(COUNTIF(F69:F188,-1.5)=0,\"\",COUNTIF(F69:F188,-1.5))","v":""},"",{"$f":"IF(COUNTIF(H69:H188,-1.5)=0,\"\",COUNTIF(H69:H188,-1.5))","v":""},{"$f":"IF(COUNTIF(I69:I188,-1.5)=0,\"\",COUNTIF(I69:I188,-1.5))","v":""},{"$f":"IF(COUNTIF(J69:J188,-1.5)=0,\"\",COUNTIF(J69:J188,-1.5))","v":""},"","","",0,{"$f":"IF(D69=\"\",0,ROUND(N$33*NORMDIST(C12+0.5,N$34,N$36,TRUE),0)-SUM(O$3:O11))","v":0}]
[1,{"v":0.7071067811865475,"d":"0.707107"},-0.5,{"$f":"IF(COUNTIF(D69:D188,-0.5)=0,\"\",COUNTIF(D69:D188,-0.5))","v":""},{"$f":"IF(COUNTIF(E69:E188,-0.5)=0,\"\",COUNTIF(E69:E188,-0.5))","v":""},{"$f":"IF(COUNTIF(F69:F188,-0.5)=0,\"\",COUNTIF(F69:F188,-0.5))","v":""},"",{"$f":"IF(COUNTIF(H69:H188,-0.5)=0,\"\",COUNTIF(H69:H188,-0.5))","v":""},{"$f":"IF(COUNTIF(I69:I188,-0.5)=0,\"\",COUNTIF(I69:I188,-0.5))","v":""},{"$f":"IF(COUNTIF(J69:J188,-0.5)=0,\"\",COUNTIF(J69:J188,-0.5))","v":""},"","","",0,{"$f":"IF(D69=\"\",0,ROUND(N$33*NORMDIST(C13+0.5,N$34,N$36,TRUE),0)-SUM(O$3:O12))","v":0}]
[2,{"v":1.4142135623730951,"d":"1.414214"},0.5,{"$f":"IF(COUNTIF(D69:D188,0.5)=0,\"\",COUNTIF(D69:D188,0.5))","v":""},{"$f":"IF(COUNTIF(E69:E188,0.5)=0,\"\",COUNTIF(E69:E188,0.5))","v":""},{"$f":"IF(COUNTIF(F69:F188,0.5)=0,\"\",COUNTIF(F69:F188,0.5))","v":""},"",{"$f":"IF(COUNTIF(H69:H188,0.5)=0,\"\",COUNTIF(H69:H188,0.5))","v":""},{"$f":"IF(COUNTIF(I69:I188,0.5)=0,\"\",COUNTIF(I69:I188,0.5))","v":""},{"$f":"IF(COUNTIF(J69:J188,0.5)=0,\"\",COUNTIF(J69:J188,0.5))","v":""},"","","",0,{"$f":"IF(D69=\"\",0,ROUND(N$33*NORMDIST(C14+0.5,N$34,N$36,TRUE),0)-SUM(O$3:O13))","v":0}]
[4,{"v":2.82842712474619,"d":"2.828427"},1.5,{"$f":"IF(COUNTIF(D69:D188,1.5)=0,\"\",COUNTIF(D69:D188,1.5))","v":""},{"$f":"IF(COUNTIF(E69:E188,1.5)=0,\"\",COUNTIF(E69:E188,1.5))","v":""},{"$f":"IF(COUNTIF(F69:F188,1.5)=0,\"\",COUNTIF(F69:F188,1.5))","v":""},"",{"$f":"IF(COUNTIF(H69:H188,1.5)=0,\"\",COUNTIF(H69:H188,1.5))","v":""},{"$f":"IF(COUNTIF(I69:I188,1.5)=0,\"\",COUNTIF(I69:I188,1.5))","v":""},{"$f":"IF(COUNTIF(J69:J188,1.5)=0,\"\",COUNTIF(J69:J188,1.5))","v":""},"","","",0,{"$f":"IF(D69=\"\",0,ROUND(N$33*NORMDIST(C15+0.5,N$34,N$36,TRUE),0)-SUM(O$3:O14))","v":0}]
[8,{"v":5.656854249492381,"d":"5.656854"},2.5,{"$f":"IF(COUNTIF(D69:D188,2.5)=0,\"\",COUNTIF(D69:D188,2.5))","v":""},{"$f":"IF(COUNTIF(E69:E188,2.5)=0,\"\",COUNTIF(E69:E188,2.5))","v":""},{"$f":"IF(COUNTIF(F69:F188,2.5)=0,\"\",COUNTIF(F69:F188,2.5))","v":""},"",{"$f":"IF(COUNTIF(H69:H188,2.5)=0,\"\",COUNTIF(H69:H188,2.5))","v":""},{"$f":"IF(COUNTIF(I69:I188,2.5)=0,\"\",COUNTIF(I69:I188,2.5))","v":""},{"$f":"IF(COUNTIF(J69:J188,2.5)=0,\"\",COUNTIF(J69:J188,2.5))","v":""},"","","",0,{"$f":"IF(D69=\"\",0,ROUND(N$33*NORMDIST(C16+0.5,N$34,N$36,TRUE),0)-SUM(O$3:O15))","v":0}]
[16,{"v":11.31370849898476,"d":"11.313708"},3.5,{"$f":"IF(COUNTIF(D69:D188,3.5)=0,\"\",COUNTIF(D69:D188,3.5))","v":""},{"$f":"IF(COUNTIF(E69:E188,3.5)=0,\"\",COUNTIF(E69:E188,3.5))","v":""},{"$f":"IF(COUNTIF(F69:F188,3.5)=0,\"\",COUNTIF(F69:F188,3.5))","v":""},"",{"$f":"IF(COUNTIF(H69:H188,3.5)=0,\"\",COUNTIF(H69:H188,3.5))","v":""},{"$f":"IF(COUNTIF(I69:I188,3.5)=0,\"\",COUNTIF(I69:I188,3.5))","v":""},{"$f":"IF(COUNTIF(J69:J188,3.5)=0,\"\",COUNTIF(J69:J188,3.5))","v":""},"","","",0,{"$f":"IF(D69=\"\",0,ROUND(N$33*NORMDIST(C17+0.5,N$34,N$36,TRUE),0)-SUM(O$3:O16))","v":0}]
[32,{"v":22.62741699796952,"d":"22.627417"},4.5,{"$f":"IF(COUNTIF(D69:D188,4.5)=0,\"\",COUNTIF(D69:D188,4.5))","v":""},{"$f":"IF(COUNTIF(E69:E188,4.5)=0,\"\",COUNTIF(E69:E188,4.5))","v":""},{"$f":"IF(COUNTIF(F69:F188,4.5)=0,\"\",COUNTIF(F69:F188,4.5))","v":""},"",{"$f":"IF(COUNTIF(H69:H188,4.5)=0,\"\",COUNTIF(H69:H188,4.5))","v":""},{"$f":"IF(COUNTIF(I69:I188,4.5)=0,\"\",COUNTIF(I69:I188,4.5))","v":""},{"$f":"IF(COUNTIF(J69:J188,4.5)=0,\"\",COUNTIF(J69:J188,4.5))","v":""},"","","",0,{"$f":"IF(D69=\"\",0,ROUND(N$33*NORMDIST(C18+0.5,N$34,N$36,TRUE),0)-SUM(O$3:O17))","v":0}]
[64,{"v":45.254833995939045,"d":"45.254834"},5.5,{"$f":"IF(COUNTIF(D69:D188,5.5)=0,\"\",COUNTIF(D69:D188,5.5))","v":""},{"$f":"IF(COUNTIF(E69:E188,5.5)=0,\"\",COUNTIF(E69:E188,5.5))","v":""},{"$f":"IF(COUNTIF(F69:F188,5.5)=0,\"\",COUNTIF(F69:F188,5.5))","v":""},"",{"$f":"IF(COUNTIF(H69:H188,5.5)=0,\"\",COUNTIF(H69:H188,5.5))","v":""},{"$f":"IF(COUNTIF(I69:I188,5.5)=0,\"\",COUNTIF(I69:I188,5.5))","v":""},{"$f":"IF(COUNTIF(J69:J188,5.5)=0,\"\",COUNTIF(J69:J188,5.5))","v":""},"","","",0,{"$f":"IF(D69=\"\",0,ROUND(N$33*NORMDIST(C19+0.5,N$34,N$36,TRUE),0)-SUM(O$3:O18))","v":0}]
[128,{"v":90.50966799187806,"d":"90.509668"},6.5,{"$f":"IF(COUNTIF(D69:D188,6.5)=0,\"\",COUNTIF(D69:D188,6.5))","v":""},{"$f":"IF(COUNTIF(E69:E188,6.5)=0,\"\",COUNTIF(E69:E188,6.5))","v":""},{"$f":"IF(COUNTIF(F69:F188,6.5)=0,\"\",COUNTIF(F69:F188,6.5))","v":""},"",{"$f":"IF(COUNTIF(H69:H188,6.5)=0,\"\",COUNTIF(H69:H188,6.5))","v":""},{"$f":"IF(COUNTIF(I69:I188,6.5)=0,\"\",COUNTIF(I69:I188,6.5))","v":""},{"$f":"IF(COUNTIF(J69:J188,6.5)=0,\"\",COUNTIF(J69:J188,6.5))","v":""},"","","",0,{"$f":"IF(D69=\"\",0,ROUND(N$33*NORMDIST(C20+0.5,N$34,N$36,TRUE),0)-SUM(O$3:O19))","v":0}]
[256,{"v":181.01933598375612,"d":"181.019336"},7.5,{"$f":"IF(COUNTIF(D69:D188,7.5)=0,\"\",COUNTIF(D69:D188,7.5))","v":""},{"$f":"IF(COUNTIF(E69:E188,7.5)=0,\"\",COUNTIF(E69:E188,7.5))","v":""},{"$f":"IF(COUNTIF(F69:F188,7.5)=0,\"\",COUNTIF(F69:F188,7.5))","v":""},"",{"$f":"IF(COUNTIF(H69:H188,7.5)=0,\"\",COUNTIF(H69:H188,7.5))","v":""},{"$f":"IF(COUNTIF(I69:I188,7.5)=0,\"\",COUNTIF(I69:I188,7.5))","v":""},{"$f":"IF(COUNTIF(J69:J188,7.5)=0,\"\",COUNTIF(J69:J188,7.5))","v":""},"","","",0,{"$f":"IF(D69=\"\",0,ROUND(N$33*NORMDIST(C21+0.5,N$34,N$36,TRUE),0)-SUM(O$3:O20))","v":0}]
[512,{"v":362.0386719675123,"d":"362.038672"},8.5,{"$f":"IF(COUNTIF(D69:D188,8.5)=0,\"\",COUNTIF(D69:D188,8.5))","v":""},{"$f":"IF(COUNTIF(E69:E188,8.5)=0,\"\",COUNTIF(E69:E188,8.5))","v":""},{"$f":"IF(COUNTIF(F69:F188,8.5)=0,\"\",COUNTIF(F69:F188,8.5))","v":""},"",{"$f":"IF(COUNTIF(H69:H188,8.5)=0,\"\",COUNTIF(H69:H188,8.5))","v":""},{"$f":"IF(COUNTIF(I69:I188,8.5)=0,\"\",COUNTIF(I69:I188,8.5))","v":""},{"$f":"IF(COUNTIF(J69:J188,8.5)=0,\"\",COUNTIF(J69:J188,8.5))","v":""},"","","",0,{"$f":"IF(D69=\"\",0,ROUND(N$33*NORMDIST(C22+0.5,N$34,N$36,TRUE),0)-SUM(O$3:O21))","v":0}]
[null,null,"Central Tendancy Stats","Lab 1","Lab 2","Lab 3","Lab 4","Lab 5","Lab 6","Lab 7","Lab 8","Lab 9","Lab 10","All labs","Control","Limits"]
[null,null,"Mean",{"$f":"IF(COUNT(D69:D188)=0,\"\",AVERAGE(D69:D188))","v":""},"","","","",{"$f":"IF(COUNT(I69:I188)=0,\"\",AVERAGE(I69:I188))","v":""},{"$f":"IF(COUNT(J69:J188)=0,\"\",AVERAGE(J69:J188))","v":""},"","","",{"$f":"IF(D69=\"\",\"\",AVERAGE(D69:M188))","v":""},{"$f":"IF(D69=\"\",\"\",ROUND(NORMINV(0.05,N34,N36),3))","v":""},{"$f":"IF(D69=\"\",\"\",ROUND(NORMINV(0.95,N34,N36),3))","v":""}]
["Calculated QC Range",null,"Median",{"$f":"IF(COUNT(D69:D188)=0,\"\",MEDIAN(D69:D188))","v":""},"","","","",{"$f":"IF(COUNT(I69:I188)=0,\"\",MEDIAN(I69:I188))","v":""},{"$f":"IF(COUNT(J69:J188)=0,\"\",MEDIAN(J69:J188))","v":""},"","","",{"$f":"IF(D69=\"\",\"\",MEDIAN(D69:M188))","v":""},{"$f":"IF(D69=\"\",\"\",ROUND(N51,3))","v":""},{"$f":"IF(D69=\"\",\"\",ROUND(N52,3))","v":""}]
[{"$f":"IF(N33=0,\"\",ROUND(2*N39,3)&\" to \"&ROUND(N40,3))","v":""},null,"Mode",{"$f":"IF(COUNT(D69:D188)=0,\"\",MODE(D69:D188))","v":""},"","","","",{"$f":"IF(COUNT(I69:I188)=0,\"\",MODE(I69:I188))","v":""},{"$f":"IF(COUNT(J69:J188)=0,\"\",MODE(J69:J188))","v":""},"","","",{"$f":"IF(D69=\"\",\"\",MODE(D69:M188))","v":""},{"$f":"IF(D69=\"\",\"\",N26-1)","v":""},{"$f":"IF(D69=\"\",\"\",N26+1)","v":""}]
["Dilution Range",null,null,"(Converted back to MIC)",{"$nulls":10},"Control","Limits"]
[{"$f":"IF(N33=0,\"\",LN(N40/N39)/LN(2))","v":""},null,"Mean",{"$f":"IF(COUNT(D69:D188)=0,\"\",2^(AVERAGE(D69:D188)+0.5))","v":""},"","","","",{"$f":"IF(COUNT(I69:I188)=0,\"\",2^(AVERAGE(I69:I188)+0.5))","v":""},{"$f":"IF(COUNT(J69:J188)=0,\"\",2^(AVERAGE(J69:J188)+0.5))","v":""},"","","",{"$f":"IF(D69=\"\",\"\",2^(AVERAGE(D69:M188)+0.5))","v":""},{"$f":"IF(D69=\"\",\"\",2^O24)","v":""},{"$f":"IF(D69=\"\",\"\",2^P24)","v":""}]
["% Obs. Captured",null,"Median",{"$f":"IF(COUNT(D69:D188)=0,\"\",2^(MEDIAN(D69:D188)+0.5))","v":""},"","","","",{"$f":"IF(COUNT(I69:I188)=0,\"\",2^(MEDIAN(I69:I188)+0.5))","v":""},{"$f":"IF(COUNT(J69:J188)=0,\"\",2^(MEDIAN(J69:J188)+0.5))","v":""},"","","",{"$f":"IF(D69=\"\",\"\",2^(MEDIAN(D69:M188)+0.5))","v":""},{"$f":"IF(D69=\"\",\"\",2^O25)","v":""},{"$f":"IF(D69=\"\",\"\",2^P25)","v":""}]
[{"$f":"IF(N33=0,\"\",((COUNTIF(D69:M188,\"<\"&LN(N40)/LN(2))-COUNTIF(D69:M188,\"<\"&LN(N39)/LN(2)))/N$33))","v":""},null,"Mode",{"$f":"IF(COUNT(D69:D188)=0,\"\",2^(MODE(D69:D188)+0.5))","v":""},"","","","",{"$f":"IF(COUNT(I69:I188)=0,\"\",2^(MODE(I69:I188)+0.5))","v":""},{"$f":"IF(COUNT(J69:J188)=0,\"\",2^(MODE(J69:J188)+0.5))","v":""},"","","",{"$f":"IF(D69=\"\",\"\",2^(MODE(D69:M188)+0.5))","v":""},{"$f":"IF(D69=\"\",\"\",2^O26)","v":""},{"$f":"IF(D69=\"\",\"\",2^P26)","v":""}]
["Prob'ty Outside Range"]
[{"$f":"IF(N33=0,\"\",N41+N42)","v":""},null,"Conventional Stats","Lab 1","Lab 2","Lab 3","Lab 4","Lab 5","Lab 6","Lab 7","Lab 8","Lab 9","Lab 10","All labs","Interlab"]
[null,null,"N",{"$f":"IF(COUNT(D69:D188)=0,\"\",COUNT(D69:D188))","v":""},"","","","",{"$f":"IF(COUNT(I69:I188)=0,\"\",COUNT(I69:I188))","v":""},{"$f":"IF(COUNT(J69:J188)=0,\"\",COUNT(J69:J188))","v":""},"","","",{"$f":"COUNT(D69:M188)","v":0},"CV"]
["CLSI QC Range",null,"GeoMean MIC (log2)",{"$f":"IF(COUNT(D69:D188)=0,\"\",AVERAGE(D69:D188))","v":""},"","","","",{"$f":"IF(COUNT(I69:I188)=0,\"\",AVERAGE(I69:I188))","v":""},{"$f":"IF(COUNT(J69:J188)=0,\"\",AVERAGE(J69:J188))","v":""},"","","",{"$f":"IF(D69=\"\",\"\",AVERAGE(D69:M188))","v":""},{"$f":"IF(D69=\"\",\"\",ABS(STDEVA(D34:M34)/N34))","v":""}]
[null,null,"GeoMean MIC",{"$f":"IF(COUNT(D69:D188)=0,\"\",2^D34)","v":""},"","","","",{"$f":"IF(COUNT(I69:I188)=0,\"\",2^I34)","v":""},{"$f":"IF(COUNT(J69:J188)=0,\"\",2^J34)","v":""},"","","",{"$f":"IF(D69=\"\",\"\",2^N34)","v":""}]
[null,null,"GeoSD (log2)",{"$f":"IF(COUNT(D69:D188)=0,\"\",STDEV(D69:D188))","v":""},"","","","",{"$f":"IF(COUNT(I69:I188)=0,\"\",STDEV(I69:I188))","v":""},{"$f":"IF(COUNT(J69:J188)=0,\"\",STDEV(J69:J188))","v":""},"","","",{"$f":"IF(D69=\"\",\"\",STDEV(D69:M188))","v":""}]
[{"$f":"IF(A35=\"\",\"\",ROUND(2^(A35+0.5),3)&\" to \"&ROUND(2^(A36+0.5),3))","v":""},null,"95% Lower Bound",{"$f":"IF(COUNT(D69:D188)=0,\"\",IF(D33=0,\"\",2^((NORMINV(0.025,D34,D36)))))","v":""},"","","","",{"$f":"IF(COUNT(I69:I188)=0,\"\",IF(I33=0,\"\",2^((NORMINV(0.025,I34,I36)))))","v":""},{"$f":"IF(COUNT(J69:J188)=0,\"\",IF(J33=0,\"\",2^((NORMINV(0.025,J34,J36)))))","v":""},"","","",{"$f":"IF(N33=0,\"\",2^((NORMINV(0.025,N34,N36))))","v":""}]
["Dilution Range",null,"95% Upper Bound",{"$f":"IF(COUNT(D69:D188)=0,\"\",IF(D33=0,\"\",2^(NORMINV(0.975,D34,D36))))","v":""},"","","","",{"$f":"IF(COUNT(I69:I188)=0,\"\",IF(I33=0,\"\",2^(NORMINV(0.975,I34,I36))))","v":""},{"$f":"IF(COUNT(J69:J188)=0,\"\",IF(J33=0,\"\",2^(NORMINV(0.975,J34,J36))))","v":""},"","","",{"$f":"IF(N33=0,\"\",2^(NORMINV(0.975,N34,N36)))","v":""}]
[{"$f":"IF(A35=\"\",\"\",A36-A35+1)","v":""},null,"Lower Bound Rounded Down",{"$f":"IF(COUNT(D69:D188)=0,\"\",IF(D33=0,\"\",2^(INT((NORMINV(0.025,D34,D36))))))","v":""},"","","","",{"$f":"IF(COUNT(I69:I188)=0,\"\",IF(I33=0,\"\",2^(INT((NORMINV(0.025,I34,I36))))))","v":""},{"$f":"IF(COUNT(J69:J188)=0,\"\",IF(J33=0,\"\",2^(INT((NORMINV(0.025,J34,J36))))))","v":""},"","","",{"$f":"IF(N33=0,\"\",2^(INT((NORMINV(0.025,N34,N36)))))","v":""}]
["CLSI% Obs. captured",null,"Upper Bound Rounded Up",{"$f":"IF(COUNT(D69:D188)=0,\"\",IF(D33=0,\"\",2^(INT((NORMINV(0.975,D34,D36)))+1)))","v":""},"","","","",{"$f":"IF(COUNT(I69:I188)=0,\"\",IF(I33=0,\"\",2^(INT((NORMINV(0.975,I34,I36)))+1)))","v":""},{"$f":"IF(COUNT(J69:J188)=0,\"\",IF(J33=0,\"\",2^(INT((NORMINV(0.975,J34,J36)))+1)))","v":""},"","","",{"$f":"IF(N33=0,\"\",2^(INT((NORMINV(0.975,N34,N36)))+1))","v":""}]
[{"$f":"IF(A35=0,\"\",(COUNTIF(D69:M188,\"<\"&A36+1)-COUNTIF(D69:M188,\"<\"&A35))/N$33)","v":""},null,"Probability of <=Lower Bound",{"$f":"IF(COUNT(D69:D188)=0,\"\",NORMDIST(LOG(D39)/LOG(2),D34,D36,TRUE))","v":""},"","","","",{"$f":"IF(COUNT(I69:I188)=0,\"\",NORMDIST(LOG(I39)/LOG(2),I34,I36,TRUE))","v":""},{"$f":"IF(COUNT(J69:J188)=0,\"\",NORMDIST(LOG(J39)/LOG(2),J34,J36,TRUE))","v":""},"","","",{"$f":"IF(D69=\"\",\"\",NORMDIST(LOG(N39)/LOG(2),N34,N36,TRUE))","v":""}]
[null,null,"Probability of >Upper Bound",{"$f":"IF(COUNT(D69:D188)=0,\"\",1-NORMDIST(LOG(D40)/LOG(2),D34,D36,TRUE))","v":""},"","","","",{"$f":"IF(COUNT(I69:I188)=0,\"\",1-NORMDIST(LOG(I40)/LOG(2),I34,I36,TRUE))","v":""},{"$f":"IF(COUNT(J69:J188)=0,\"\",1-NORMDIST(LOG(J40)/LOG(2),J34,J36,TRUE))","v":""},"","","",{"$f":"IF(D69=\"\",\"\",1-NORMDIST(LOG(N40)/LOG(2),N34,N36,TRUE))","v":""}]
[null,null,"New Range",{"$f":"IF(COUNT(D69:D188)=0,\"\",1-D41-D42)","v":""},"","","","",{"$f":"IF(COUNT(I69:I188)=0,\"\",1-I41-I42)","v":""},{"$f":"IF(COUNT(J69:J188)=0,\"\",1-J41-J42)","v":""},"","","",{"$f":"IF(D69=\"\",\"\",1-N41-N42)","v":""}]
[]
[null,null,"Order Stats","Lab 1","Lab 2","Lab 3","Lab 4","Lab 5","Lab 6","Lab 7","Lab 8","Lab 9","Lab 10","All labs","Interlab"]
[null,null,"25th %ile",{"$f":"IF(COUNT(D69:D188)=0,\"\",QUARTILE(D69:D188,1))","v":""},"","","","",{"$f":"IF(COUNT(I69:I188)=0,\"\",QUARTILE(I69:I188,1))","v":""},{"$f":"IF(COUNT(J69:J188)=0,\"\",QUARTILE(J69:J188,1))","v":""},"","","",{"$f":"IF(D69=\"\",\"\",QUARTILE(D69:M188,1))","v":""},"CV"]
[null,null,"75th %ile",{"$f":"IF(COUNT(D69:D188)=0,\"\",QUARTILE(D69:D188,3))","v":""},"","","","",{"$f":"IF(COUNT(I69:I188)=0,\"\",QUARTILE(I69:I188,3))","v":""},{"$f":"IF(COUNT(J69:J188)=0,\"\",QUARTILE(J69:J188,3))","v":""},"","","",{"$f":"IF(D69=\"\",\"\",QUARTILE(D69:M188,3))","v":""},{"$f":"IF(D69=\"\",\"\",ABS(N48/N25))","v":""}]
[null,null,"Interquartile Range",{"$f":"IF(COUNT(D69:D188)=0,\"\",IF(D47-D46=0,1,D47-D46))","v":""},"","","","",{"$f":"IF(COUNT(I69:I188)=0,\"\",IF(I47-I46=0,1,I47-I46))","v":""},{"$f":"IF(COUNT(J69:J188)=0,\"\",IF(J47-J46=0,1,J47-J46))","v":""},"","","",{"$f":"IF(D69=\"\",\"\",IF(N47-N46=0,1,N47-N46))","v":""}]
[null,null,"Minimum",{"$f":"IF(COUNT(D69:D188)=0,\"\",MIN(D69:D188))","v":""},"","","","",{"$f":"IF(COUNT(I69:I188)=0,\"\",MIN(I69:I188))","v":""},{"$f":"IF(COUNT(J69:J188)=0,\"\",MIN(J69:J188))","v":""},"","","",{"$f":"IF(D69=\"\",\"\",MIN(D69:M188))","v":""}]
[null,null,"Maximum",{"$f":"IF(COUNT(D69:D188)=0,\"\",MAX(D69:D188))","v":""},"","","","",{"$f":"IF(COUNT(I69:I188)=0,\"\",MAX(I69:I188))","v":""},{"$f":"IF(COUNT(J69:J188)=0,\"\",MAX(J69:J188))","v":""},"","","",{"$f":"IF(D69=\"\",\"\",MAX(D69:M188))","v":""}]
[null,null,"Lower Inner Fence",{"$f":"IF(COUNT(D69:D188)=0,\"\",D$46-1.5*D$48)","v":""},"","","","",{"$f":"IF(COUNT(I69:I188)=0,\"\",I$46-1.5*I$48)","v":""},{"$f":"IF(COUNT(J69:J188)=0,\"\",J$46-1.5*J$48)","v":""},"","","",{"$f":"IF(D69=\"\",\"\",N$46-1.5*N$48)","v":""}]
[null,null,"Upper Inner Fence",{"$f":"IF(COUNT(D69:D188)=0,\"\",D$47+1.5*D$48)","v":""},"","","","",{"$f":"IF(COUNT(I69:I188)=0,\"\",I$47+1.5*I$48)","v":""},{"$f":"IF(COUNT(J69:J188)=0,\"\",J$47+1.5*J$48)","v":""},"","","",{"$f":"IF(D69=\"\",\"\",N$47+1.5*N$48)","v":""}]
[null,null,"Lower Outer Fence",{"$f":"IF(COUNT(D69:D188)=0,\"\",D$46-3*D$48)","v":""},"","","","",{"$f":"IF(COUNT(I69:I188)=0,\"\",I$46-3*I$48)","v":""},{"$f":"IF(COUNT(J69:J188)=0,\"\",J$46-3*J$48)","v":""},"","","",{"$f":"IF(D69=\"\",\"\",N$46-3*N$48)","v":""}]
[null,null,"Upper Outer Fence",{"$f":"IF(COUNT(D69:D188)=0,\"\",D$47+3*D$48)","v":""},"","","","",{"$f":"IF(COUNT(I69:I188)=0,\"\",I$47+3*I$48)","v":""},{"$f":"IF(COUNT(J69:J188)=0,\"\",J$47+3*J$48)","v":""},"","","",{"$f":"IF(D69=\"\",\"\",N$47+3*N$48)","v":""}]
[null,null,"Lower Near Outliers",{"$f":"IF(COUNT(D69:D188)=0,\"\",COUNTIF(D69:D188,\"<\"&D51))","v":""},"","","","",{"$f":"IF(COUNT(I69:I188)=0,\"\",COUNTIF(I69:I188,\"<\"&I51))","v":""},{"$f":"IF(COUNT(J69:J188)=0,\"\",COUNTIF(J69:J188,\"<\"&J51))","v":""},"","","",{"$f":"IF(D69=\"\",\"\",COUNTIF(D69:M188,\"<\"&N51)-N57)","v":""}]
[null,null,"Upper Near Outliers",{"$f":"IF(COUNT(D69:D188)=0,\"\",COUNTIF(D69:D188,\">\"&D52))","v":""},"","","","",{"$f":"IF(COUNT(I69:I188)=0,\"\",COUNTIF(I69:I188,\">\"&I52))","v":""},{"$f":"IF(COUNT(J69:J188)=0,\"\",COUNTIF(J69:J188,\">\"&J52))","v":""},"","","",{"$f":"IF(D69=\"\",\"\",COUNTIF(D69:M188,\">\"&N52)-N58)","v":""}]
[null,null,"Lower Extreme Outliers",{"$f":"IF(COUNT(D69:D188)=0,\"\",COUNTIF(D69:D188,\"<\"&D53))","v":""},"","","","",{"$f":"IF(COUNT(I69:I188)=0,\"\",COUNTIF(I69:I188,\"<\"&I53))","v":""},{"$f":"IF(COUNT(J69:J188)=0,\"\",COUNTIF(J69:J188,\"<\"&J53))","v":""},"","","",{"$f":"IF(D69=\"\",\"\",COUNTIF(D69:M188,\"<\"&N53))","v":""}]
[null,null,"Upper Extreme Outliers",{"$f":"IF(COUNT(D69:D188)=0,\"\",COUNTIF(D69:D188,\">\"&D54))","v":""},"","","","",{"$f":"IF(COUNT(I69:I188)=0,\"\",COUNTIF(I69:I188,\">\"&I54))","v":""},{"$f":"IF(COUNT(J69:J188)=0,\"\",COUNTIF(J69:J188,\">\"&J54))","v":""},"","","",{"$f":"IF(D69=\"\",\"\",COUNTIF(D69:M188,\">\"&N54))","v":""}]
[]
[null,null,"Chart Control Limits","Lab 1","Lab 2","Lab 3","Lab 4","Lab 5","Lab 6","Lab 7","Lab 8","Lab 9","Lab 10"]
[null,"Mean","Lower CL",{"$f":"$O$24","v":""},{"$f":"$O$24","v":""},"","","","","","","",""]
[null,null,"Upper CL",{"$f":"$P$24","v":""},{"$f":"$P$24","v":""},"","","","","","","",""]
[null,"Median","Lower CL",{"$f":"$O$25","v":""},{"$f":"$O$25","v":""},"","","","","","","",""]
[null,null,"Upper CL",{"$f":"$P$25","v":""},{"$f":"$P$25","v":""},"","","","","","","",""]
[null,"Mode","Lower CL",{"$f":"$O$26","v":""},{"$f":"$O$26","v":""},"","","","","","","",""]
[null,null,"Upper CL",{"$f":"$P$26","v":""},{"$f":"$P$26","v":""},"","","","","","","",""]
[]
[null,null,"Log2 Converted Raw Data","Lab 1","Lab 2","Lab 3","Lab 4","Lab 5","Lab 6","Lab 7","Lab 8","Lab 9","Lab 10","Control","Limits"]
[null,null,"Media Lot 1",{"$f":"IF(D191=\"\",\"\",LOOKUP(D191,$A$3:$A$22,$C$3:$C$22))","v":""},"","","","",{"$f":"IF(I191=\"\",\"\",LOOKUP(I191,$A$3:$A$22,$C$3:$C$22))","v":""},"","","","",{"$f":"IF(D69=\"\",\"\",LN($N$39)/LN(2))","v":""},{"$f":"IF(D69=\"\",\"\",LN($N$40)/LN(2)-0.5)","v":""}]
[{"$nulls":3},"","","","","","","","","",""]
[{"$nulls":3},"","","","","","","","","",""]
[{"$nulls":3},"","","","","","","","","",""]
[{"$nulls":3},{"$f":"IF(D195=\"\",\"\",LOOKUP(D195,$A$3:$A$22,$C$3:$C$22))","v":""},"","","","","","","","",""]
[{"$nulls":3},"","","","","","","","","",""]
[{"$nulls":3},"","","","","","","","","",""]
[{"$nulls":3},"","","","","","","","","",""]
[{"$nulls":3},"","","","","","","","","",""]
[{"$nulls":3},"","","","","","","","","",""]
[{"$nulls":3},{"$f":"IF(D201=\"\",\"\",LOOKUP(D201,$A$3:$A$22,$C$3:$C$22))","v":""},"","","","",{"$f":"IF(I201=\"\",\"\",LOOKUP(I201,$A$3:$A$22,$C$3:$C$22))","v":""},"","","",""]
[{"$nulls":3},"","","","","","","","","",""]
[{"$nulls":3},{"$f":"IF(D203=\"\",\"\",LOOKUP(D203,$A$3:$A$22,$C$3:$C$22))","v":""},"","","","","","","","",""]
[{"$nulls":3},"","","","","","","","","",""]
[{"$nulls":3},"","","","","","","","","",""]
[{"$nulls":3},"","","","","","","","","",""]
[{"$nulls":3},"","","","","","","","","",""]
[{"$nulls":3},"","","","","","","","","",""]
[{"$nulls":3},"","","","","","","","","",""]
[{"$nulls":3},"","","","","","","","","",""]
[{"$nulls":3},{"$f":"IF(D211=\"\",\"\",LOOKUP(D211,$A$3:$A$22,$C$3:$C$22))","v":""},"","","","",{"$f":"IF(I211=\"\",\"\",LOOKUP(I211,$A$3:$A$22,$C$3:$C$22))","v":""},"","","",""]
[{"$nulls":3},"","","","","","","","","",""]
[{"$nulls":3},"","","","","","","","","",""]
[{"$nulls":3},"","","","","","","","","",""]
[{"$nulls":3},"","","","","","","","","",""]
[{"$nulls":3},"","","","","","","","","",""]
[{"$nulls":3},"","","","","","","","","",""]
[{"$nulls":3},"","","","","","","","","",""]
[{"$nulls":3},"","","","","","","","","",""]
[{"$nulls":3},"","","","","","","","","",""]
[{"$nulls":3},"","","","","",{"$f":"IF(I221=\"\",\"\",LOOKUP(I221,$A$3:$A$22,$C$3:$C$22))","v":""},"","","",""]
[{"$nulls":3},"","","","","","","","","",""]
[{"$nulls":3},"","","","","","","","","",""]
[{"$nulls":3},"","","","","","","","","",""]
[{"$nulls":3},"","","","","","","","","",""]
[{"$nulls":3},"","","","","","","","","",""]
[{"$nulls":3},{"$f":"IF(D227=\"\",\"\",LOOKUP(D227,$A$3:$A$22,$C$3:$C$22))","v":""},"","","","","","","","",""]
[{"$nulls":3},"","","","","","","","","",""]
[{"$nulls":3},"","","","","","","","","",""]
[{"$nulls":3},"","","","","","","","","",""]
[null,null,"Media Lot 2","","","","","",{"$f":"IF(I231=\"\",\"\",LOOKUP(I231,$A$3:$A$22,$C$3:$C$22))","v":""},"","","",""]
[{"$nulls":3},"","","","","","","","","",""]
[{"$nulls":3},"","","","","","","","","",""]
[{"$nulls":3},"","","","","","","","","",""]
[{"$nulls":3},"","","","","","","","","",""]
[{"$nulls":3},"","","","","","","","","",""]
[{"$nulls":3},"","","","","","","","","",""]
[{"$nulls":3},"","","","","","","","","",""]
[{"$nulls":3},"","","","","","","","","",""]
[{"$nulls":3},"","","","","","","","","",""]
[{"$nulls":3},"","","","","",{"$f":"IF(I241=\"\",\"\",LOOKUP(I241,$A$3:$A$22,$C$3:$C$22))","v":""},"","","",""]
[{"$nulls":3},"","","","","","","","","",""]
[{"$nulls":3},{"$f":"IF(D243=\"\",\"\",LOOKUP(D243,$A$3:$A$22,$C$3:$C$22))","v":""},"","","","","","","","",""]
[{"$nulls":3},"","","","","","","","","",""]
[{"$nulls":3},"","","","","","","","","",""]
[{"$nulls":3},"","","","","","","","","",""]
[{"$nulls":3},"","","","","","","","","",""]
[{"$nulls":3},"","","","","","","","","",""]
[{"$nulls":3},"","","","","","","","","",""]
[{"$nulls":3},"","","","","","","","","",""]
[{"$nulls":3},"","","","","",{"$f":"IF(I251=\"\",\"\",LOOKUP(I251,$A$3:$A$22,$C$3:$C$22))","v":""},"","","",""]
[{"$nulls":3},"","","","","","","","","",""]
[{"$nulls":3},"","","","","","","","","",""]
[{"$nulls":3},"","","","","","","","","",""]
[{"$nulls":3},"","","","","","","","","",""]
[{"$nulls":3},"","","","","","","","","",""]
[{"$nulls":3},"","","","","","","","","",""]
[{"$nulls":3},"","","","","","","","","",""]
[{"$nulls":3},{"$f":"IF(D259=\"\",\"\",LOOKUP(D259,$A$3:$A$22,$C$3:$C$22))","v":""},"","","","","","","","",""]
[{"$nulls":3},"","","","","","","","","",""]
[{"$nulls":3},"","","","","",{"$f":"IF(I261=\"\",\"\",LOOKUP(I261,$A$3:$A$22,$C$3:$C$22))","v":""},"","","",""]
[{"$nulls":3},"","","","","","","","","",""]
[{"$nulls":3},"","","","","","","","","",""]
[{"$nulls":3},"","","","","","","","","",""]
[{"$nulls":3},"","","","","","","","","",""]
[{"$nulls":3},"","","","","","","","","",""]
[{"$nulls":3},"","","","","","","","","",""]
[{"$nulls":3},"","","","","","","","","",""]
[{"$nulls":3},"","","","","","","","","",""]
[{"$nulls":3},"","","","","","","","","",""]
[null,null,"Media Lot 3","","","","","",{"$f":"IF(I271=\"\",\"\",LOOKUP(I271,$A$3:$A$22,$C$3:$C$22))","v":""},"","","",""]
[{"$nulls":3},"","","","","","","","","",""]
[{"$nulls":3},"","","","","","","","","",""]
[{"$nulls":3},"","","","","","","","","",""]
[{"$nulls":3},{"$f":"IF(D275=\"\",\"\",LOOKUP(D275,$A$3:$A$22,$C$3:$C$22))","v":""},"","","","","","","","",""]
[{"$nulls":3},"","","","","","","","","",""]
[{"$nulls":3},"","","","","","","","","",""]
[{"$nulls":3},"","","","","","","","","",""]
[{"$nulls":3},"","","","","","","","","",""]
[{"$nulls":3},"","","","","","","","","",""]
[{"$nulls":3},"","","","","",{"$f":"IF(I281=\"\",\"\",LOOKUP(I281,$A$3:$A$22,$C$3:$C$22))","v":""},"","","",""]
[{"$nulls":3},"","","","","","","","","",""]
[{"$nulls":3},"","","","","","","","","",""]
[{"$nulls":3},"","","","","","","","","",""]
[{"$nulls":3},"","","","","","","","","",""]
[{"$nulls":3},"","","","","","","","","",""]
[{"$nulls":3},"","","","","","","","","",""]
[{"$nulls":3},"","","","","","","","","",""]
[{"$nulls":3},"","","","","","","","","",""]
[{"$nulls":3},"","","","","","","","","",""]
[{"$nulls":3},{"$f":"IF(D291=\"\",\"\",LOOKUP(D291,$A$3:$A$22,$C$3:$C$22))","v":""},"","","","",{"$f":"IF(I291=\"\",\"\",LOOKUP(I291,$A$3:$A$22,$C$3:$C$22))","v":""},"","","",""]
[{"$nulls":3},"","","","","","","","","",""]
[{"$nulls":3},"","","","","","","","","",""]
[{"$nulls":3},"","","","","","","","","",""]
[{"$nulls":3},"","","","","","","","","",""]
[{"$nulls":3},"","","","","","","","","",""]
[{"$nulls":3},"","","","","","","","","",""]
[{"$nulls":3},"","","","","","","","","",""]
[{"$nulls":3},"","","","","","","","","",""]
[{"$nulls":3},"","","","","","","","","",""]
[{"$nulls":3},"","","","","",{"$f":"IF(I301=\"\",\"\",LOOKUP(I301,$A$3:$A$22,$C$3:$C$22))","v":""},"","","",""]
[{"$nulls":3},"","","","","","","","","",""]
[{"$nulls":3},"","","","","","","","","",""]
[{"$nulls":3},"","","","","","","","","",""]
[{"$nulls":3},"","","","","","","","","",""]
[{"$nulls":3},"","","","","","","","","",""]
[{"$nulls":3},{"$f":"IF(D307=\"\",\"\",LOOKUP(D307,$A$3:$A$22,$C$3:$C$22))","v":""},"","","","","","","","",""]
[{"$nulls":3},"","","","","","","","","",""]
[{"$nulls":3},"","","","","","","","","",""]
[{"$nulls":3},"","","","","","","","","",""]
[]
[null,null,"Raw Data Entry","Lab 1","Lab 2","Lab 3","Lab 4","Lab 5","Lab 6","Lab 7","Lab 8","Lab 9","Lab 10"]
[null,null,"Media Lot 1"]
{"$rows_empty":39}
[null,null,"Media Lot 2"]
{"$rows_empty":39}
[null,null,"Media Lot 3"]

{"sheet":"Strain 10 control","index":23,"n_rows":271,"n_cols":16,"rows_kept":271,"merged":[[0,4,0,6]]}
[{"$f":"'Range Summary'!K2","v":"QC10"},{"$f":"'Range Summary'!B17","v":"Control"},"Control",null,"Go to Raw Data Entry area"]
["MIC","Midpoint MIC","Mid Log2MIC","Lab 1","Lab 2","Lab 3","Lab 4","Lab 5","Lab 6","Lab 7","Lab 8","Lab 9","Lab 10","All labs","Norm"]
[{"v":1E-3,"d":"0.001"},{"$f":"2^C3","v":{"v":6.9053396600248776E-4,"d":"0.000691"}},-10.5,{"$f":"IF(COUNTIF(D69:D188,-10.5)=0,\"\",COUNTIF(D69:D188,-10.5))","v":""},{"$f":"IF(COUNTIF(E69:E188,-10.5)=0,\"\",COUNTIF(E69:E188,-10.5))","v":""},{"$f":"IF(COUNTIF(F69:F188,-10.5)=0,\"\",COUNTIF(F69:F188,-10.5))","v":""},"","",{"$f":"IF(COUNTIF(I69:I188,-10.5)=0,\"\",COUNTIF(I69:I188,-10.5))","v":""},{"$f":"IF(COUNTIF(J69:J188,-10.5)=0,\"\",COUNTIF(J69:J188,-10.5))","v":""},"","","",{"$f":"SUM(D3:M3)","v":0},{"$f":"IF(D69=\"\",0,ROUND(N$33*NORMDIST(C3+0.5,N$34,N$36,TRUE),0))","v":0}]
[{"v":2E-3,"d":"0.002"},{"v":1.3810679320049757E-3,"d":"0.001381"},-9.5,{"$f":"IF(COUNTIF(D69:D188,-9.5)=0,\"\",COUNTIF(D69:D188,-9.5))","v":""},{"$f":"IF(COUNTIF(E69:E188,-9.5)=0,\"\",COUNTIF(E69:E188,-9.5))","v":""},{"$f":"IF(COUNTIF(F69:F188,-9.5)=0,\"\",COUNTIF(F69:F188,-9.5))","v":""},"","",{"$f":"IF(COUNTIF(I69:I188,-9.5)=0,\"\",COUNTIF(I69:I188,-9.5))","v":""},{"$f":"IF(COUNTIF(J69:J188,-9.5)=0,\"\",COUNTIF(J69:J188,-9.5))","v":""},"","","",0,{"$f":"IF(D69=\"\",0,ROUND(N$33*NORMDIST(C4+0.5,N$34,N$36,TRUE),0)-SUM(O2:O$3))","v":0}]
[0.004,{"v":2.7621358640099515E-3,"d":"0.002762"},-8.5,{"$f":"IF(COUNTIF(D69:D188,-8.5)=0,\"\",COUNTIF(D69:D188,-8.5))","v":""},{"$f":"IF(COUNTIF(E69:E188,-8.5)=0,\"\",COUNTIF(E69:E188,-8.5))","v":""},{"$f":"IF(COUNTIF(F69:F188,-8.5)=0,\"\",COUNTIF(F69:F188,-8.5))","v":""},"","",{"$f":"IF(COUNTIF(I69:I188,-8.5)=0,\"\",COUNTIF(I69:I188,-8.5))","v":""},{"$f":"IF(COUNTIF(J69:J188,-8.5)=0,\"\",COUNTIF(J69:J188,-8.5))","v":""},"","","",0,{"$f":"IF(D69=\"\",0,ROUND(N$33*NORMDIST(C5+0.5,N$34,N$36,TRUE),0)-SUM(O$3:O3))","v":0}]
[0.008,{"v":0.005524271728019904,"d":"0.005524"},-7.5,{"$f":"IF(COUNTIF(D69:D188,-7.5)=0,\"\",COUNTIF(D69:D188,-7.5))","v":""},{"$f":"IF(COUNTIF(E69:E188,-7.5)=0,\"\",COUNTIF(E69:E188,-7.5))","v":""},{"$f":"IF(COUNTIF(F69:F188,-7.5)=0,\"\",COUNTIF(F69:F188,-7.5))","v":""},"","",{"$f":"IF(COUNTIF(I69:I188,-7.5)=0,\"\",COUNTIF(I69:I188,-7.5))","v":""},{"$f":"IF(COUNTIF(J69:J188,-7.5)=0,\"\",COUNTIF(J69:J188,-7.5))","v":""},"","","",{"$f":"SUM(D6:M6)","v":0},{"$f":"IF(D69=\"\",0,ROUND(N$33*NORMDIST(C6+0.5,N$34,N$36,TRUE),0)-SUM(O$3:O5))","v":0}]
[0.016,{"v":0.011048543456039808,"d":"0.011049"},-6.5,{"$f":"IF(COUNTIF(D69:D188,-6.5)=0,\"\",COUNTIF(D69:D188,-6.5))","v":""},{"$f":"IF(COUNTIF(E69:E188,-6.5)=0,\"\",COUNTIF(E69:E188,-6.5))","v":""},{"$f":"IF(COUNTIF(F69:F188,-6.5)=0,\"\",COUNTIF(F69:F188,-6.5))","v":""},"","",{"$f":"IF(COUNTIF(I69:I188,-6.5)=0,\"\",COUNTIF(I69:I188,-6.5))","v":""},{"$f":"IF(COUNTIF(J69:J188,-6.5)=0,\"\",COUNTIF(J69:J188,-6.5))","v":""},"","","",0,{"$f":"IF(D69=\"\",0,ROUND(N$33*NORMDIST(C7+0.5,N$34,N$36,TRUE),0)-SUM(O$3:O6))","v":0}]
[0.03,{"v":0.022097086912079608,"d":"0.022097"},-5.5,{"$f":"IF(COUNTIF(D69:D188,-5.5)=0,\"\",COUNTIF(D69:D188,-5.5))","v":""},{"$f":"IF(COUNTIF(E69:E188,-5.5)=0,\"\",COUNTIF(E69:E188,-5.5))","v":""},{"$f":"IF(COUNTIF(F69:F188,-5.5)=0,\"\",COUNTIF(F69:F188,-5.5))","v":""},"","",{"$f":"IF(COUNTIF(I69:I188,-5.5)=0,\"\",COUNTIF(I69:I188,-5.5))","v":""},{"$f":"IF(COUNTIF(J69:J188,-5.5)=0,\"\",COUNTIF(J69:J188,-5.5))","v":""},"","","",0,{"$f":"IF(D69=\"\",0,ROUND(N$33*NORMDIST(C8+0.5,N$34,N$36,TRUE),0)-SUM(O$3:O7))","v":0}]
[0.06,{"v":0.04419417382415922,"d":"0.044194"},-4.5,{"$f":"IF(COUNTIF(D69:D188,-4.5)=0,\"\",COUNTIF(D69:D188,-4.5))","v":""},{"$f":"IF(COUNTIF(E69:E188,-4.5)=0,\"\",COUNTIF(E69:E188,-4.5))","v":""},{"$f":"IF(COUNTIF(F69:F188,-4.5)=0,\"\",COUNTIF(F69:F188,-4.5))","v":""},"","",{"$f":"IF(COUNTIF(I69:I188,-4.5)=0,\"\",COUNTIF(I69:I188,-4.5))","v":""},{"$f":"IF(COUNTIF(J69:J188,-4.5)=0,\"\",COUNTIF(J69:J188,-4.5))","v":""},"","","",0,{"$f":"IF(D69=\"\",0,ROUND(N$33*NORMDIST(C9+0.5,N$34,N$36,TRUE),0)-SUM(O$3:O8))","v":0}]
[0.13,{"v":0.08838834764831845,"d":"0.088388"},-3.5,{"$f":"IF(COUNTIF(D69:D188,-3.5)=0,\"\",COUNTIF(D69:D188,-3.5))","v":""},{"$f":"IF(COUNTIF(E69:E188,-3.5)=0,\"\",COUNTIF(E69:E188,-3.5))","v":""},{"$f":"IF(COUNTIF(F69:F188,-3.5)=0,\"\",COUNTIF(F69:F188,-3.5))","v":""},"","",{"$f":"IF(COUNTIF(I69:I188,-3.5)=0,\"\",COUNTIF(I69:I188,-3.5))","v":""},{"$f":"IF(COUNTIF(J69:J188,-3.5)=0,\"\",COUNTIF(J69:J188,-3.5))","v":""},"","","",0,{"$f":"IF(D69=\"\",0,ROUND(N$33*NORMDIST(C10+0.5,N$34,N$36,TRUE),0)-SUM(O$3:O9))","v":0}]
[0.25,{"v":0.17677669529663687,"d":"0.176777"},-2.5,{"$f":"IF(COUNTIF(D69:D188,-2.5)=0,\"\",COUNTIF(D69:D188,-2.5))","v":""},{"$f":"IF(COUNTIF(E69:E188,-2.5)=0,\"\",COUNTIF(E69:E188,-2.5))","v":""},{"$f":"IF(COUNTIF(F69:F188,-2.5)=0,\"\",COUNTIF(F69:F188,-2.5))","v":""},"","",{"$f":"IF(COUNTIF(I69:I188,-2.5)=0,\"\",COUNTIF(I69:I188,-2.5))","v":""},{"$f":"IF(COUNTIF(J69:J188,-2.5)=0,\"\",COUNTIF(J69:J188,-2.5))","v":""},"","","",0,{"$f":"IF(D69=\"\",0,ROUND(N$33*NORMDIST(C11+0.5,N$34,N$36,TRUE),0)-SUM(O$3:O10))","v":0}]
[0.5,{"v":0.3535533905932738,"d":"0.353553"},-1.5,{"$f":"IF(COUNTIF(D69:D188,-1.5)=0,\"\",COUNTIF(D69:D188,-1.5))","v":""},{"$f":"IF(COUNTIF(E69:E188,-1.5)=0,\"\",COUNTIF(E69:E188,-1.5))","v":""},{"$f":"IF(COUNTIF(F69:F188,-1.5)=0,\"\",COUNTIF(F69:F188,-1.5))","v":""},"","",{"$f":"IF(COUNTIF(I69:I188,-1.5)=0,\"\",COUNTIF(I69:I188,-1.5))","v":""},{"$f":"IF(COUNTIF(J69:J188,-1.5)=0,\"\",COUNTIF(J69:J188,-1.5))","v":""},"","","",0,{"$f":"IF(D69=\"\",0,ROUND(N$33*NORMDIST(C12+0.5,N$34,N$36,TRUE),0)-SUM(O$3:O11))","v":0}]
[1,{"v":0.7071067811865475,"d":"0.707107"},-0.5,{"$f":"IF(COUNTIF(D69:D188,-0.5)=0,\"\",COUNTIF(D69:D188,-0.5))","v":""},{"$f":"IF(COUNTIF(E69:E188,-0.5)=0,\"\",COUNTIF(E69:E188,-0.5))","v":""},{"$f":"IF(COUNTIF(F69:F188,-0.5)=0,\"\",COUNTIF(F69:F188,-0.5))","v":""},"","",{"$f":"IF(COUNTIF(I69:I188,-0.5)=0,\"\",COUNTIF(I69:I188,-0.5))","v":""},{"$f":"IF(COUNTIF(J69:J188,-0.5)=0,\"\",COUNTIF(J69:J188,-0.5))","v":""},"","","",0,{"$f":"IF(D69=\"\",0,ROUND(N$33*NORMDIST(C13+0.5,N$34,N$36,TRUE),0)-SUM(O$3:O12))","v":0}]
[2,{"v":1.4142135623730951,"d":"1.414214"},0.5,{"$f":"IF(COUNTIF(D69:D188,0.5)=0,\"\",COUNTIF(D69:D188,0.5))","v":""},{"$f":"IF(COUNTIF(E69:E188,0.5)=0,\"\",COUNTIF(E69:E188,0.5))","v":""},{"$f":"IF(COUNTIF(F69:F188,0.5)=0,\"\",COUNTIF(F69:F188,0.5))","v":""},"","",{"$f":"IF(COUNTIF(I69:I188,0.5)=0,\"\",COUNTIF(I69:I188,0.5))","v":""},{"$f":"IF(COUNTIF(J69:J188,0.5)=0,\"\",COUNTIF(J69:J188,0.5))","v":""},"","","",0,{"$f":"IF(D69=\"\",0,ROUND(N$33*NORMDIST(C14+0.5,N$34,N$36,TRUE),0)-SUM(O$3:O13))","v":0}]
[4,{"v":2.82842712474619,"d":"2.828427"},1.5,{"$f":"IF(COUNTIF(D69:D188,1.5)=0,\"\",COUNTIF(D69:D188,1.5))","v":""},{"$f":"IF(COUNTIF(E69:E188,1.5)=0,\"\",COUNTIF(E69:E188,1.5))","v":""},{"$f":"IF(COUNTIF(F69:F188,1.5)=0,\"\",COUNTIF(F69:F188,1.5))","v":""},"","",{"$f":"IF(COUNTIF(I69:I188,1.5)=0,\"\",COUNTIF(I69:I188,1.5))","v":""},{"$f":"IF(COUNTIF(J69:J188,1.5)=0,\"\",COUNTIF(J69:J188,1.5))","v":""},"","","",0,{"$f":"IF(D69=\"\",0,ROUND(N$33*NORMDIST(C15+0.5,N$34,N$36,TRUE),0)-SUM(O$3:O14))","v":0}]
[8,{"v":5.656854249492381,"d":"5.656854"},2.5,{"$f":"IF(COUNTIF(D69:D188,2.5)=0,\"\",COUNTIF(D69:D188,2.5))","v":""},{"$f":"IF(COUNTIF(E69:E188,2.5)=0,\"\",COUNTIF(E69:E188,2.5))","v":""},{"$f":"IF(COUNTIF(F69:F188,2.5)=0,\"\",COUNTIF(F69:F188,2.5))","v":""},"","",{"$f":"IF(COUNTIF(I69:I188,2.5)=0,\"\",COUNTIF(I69:I188,2.5))","v":""},{"$f":"IF(COUNTIF(J69:J188,2.5)=0,\"\",COUNTIF(J69:J188,2.5))","v":""},"","","",0,{"$f":"IF(D69=\"\",0,ROUND(N$33*NORMDIST(C16+0.5,N$34,N$36,TRUE),0)-SUM(O$3:O15))","v":0}]
[16,{"v":11.31370849898476,"d":"11.313708"},3.5,{"$f":"IF(COUNTIF(D69:D188,3.5)=0,\"\",COUNTIF(D69:D188,3.5))","v":""},{"$f":"IF(COUNTIF(E69:E188,3.5)=0,\"\",COUNTIF(E69:E188,3.5))","v":""},{"$f":"IF(COUNTIF(F69:F188,3.5)=0,\"\",COUNTIF(F69:F188,3.5))","v":""},"","",{"$f":"IF(COUNTIF(I69:I188,3.5)=0,\"\",COUNTIF(I69:I188,3.5))","v":""},{"$f":"IF(COUNTIF(J69:J188,3.5)=0,\"\",COUNTIF(J69:J188,3.5))","v":""},"","","",0,{"$f":"IF(D69=\"\",0,ROUND(N$33*NORMDIST(C17+0.5,N$34,N$36,TRUE),0)-SUM(O$3:O16))","v":0}]
[32,{"v":22.62741699796952,"d":"22.627417"},4.5,{"$f":"IF(COUNTIF(D69:D188,4.5)=0,\"\",COUNTIF(D69:D188,4.5))","v":""},{"$f":"IF(COUNTIF(E69:E188,4.5)=0,\"\",COUNTIF(E69:E188,4.5))","v":""},{"$f":"IF(COUNTIF(F69:F188,4.5)=0,\"\",COUNTIF(F69:F188,4.5))","v":""},"","",{"$f":"IF(COUNTIF(I69:I188,4.5)=0,\"\",COUNTIF(I69:I188,4.5))","v":""},{"$f":"IF(COUNTIF(J69:J188,4.5)=0,\"\",COUNTIF(J69:J188,4.5))","v":""},"","","",0,{"$f":"IF(D69=\"\",0,ROUND(N$33*NORMDIST(C18+0.5,N$34,N$36,TRUE),0)-SUM(O$3:O17))","v":0}]
[64,{"v":45.254833995939045,"d":"45.254834"},5.5,{"$f":"IF(COUNTIF(D69:D188,5.5)=0,\"\",COUNTIF(D69:D188,5.5))","v":""},{"$f":"IF(COUNTIF(E69:E188,5.5)=0,\"\",COUNTIF(E69:E188,5.5))","v":""},{"$f":"IF(COUNTIF(F69:F188,5.5)=0,\"\",COUNTIF(F69:F188,5.5))","v":""},"","",{"$f":"IF(COUNTIF(I69:I188,5.5)=0,\"\",COUNTIF(I69:I188,5.5))","v":""},{"$f":"IF(COUNTIF(J69:J188,5.5)=0,\"\",COUNTIF(J69:J188,5.5))","v":""},"","","",0,{"$f":"IF(D69=\"\",0,ROUND(N$33*NORMDIST(C19+0.5,N$34,N$36,TRUE),0)-SUM(O$3:O18))","v":0}]
[128,{"v":90.50966799187806,"d":"90.509668"},6.5,{"$f":"IF(COUNTIF(D69:D188,6.5)=0,\"\",COUNTIF(D69:D188,6.5))","v":""},{"$f":"IF(COUNTIF(E69:E188,6.5)=0,\"\",COUNTIF(E69:E188,6.5))","v":""},{"$f":"IF(COUNTIF(F69:F188,6.5)=0,\"\",COUNTIF(F69:F188,6.5))","v":""},"","",{"$f":"IF(COUNTIF(I69:I188,6.5)=0,\"\",COUNTIF(I69:I188,6.5))","v":""},{"$f":"IF(COUNTIF(J69:J188,6.5)=0,\"\",COUNTIF(J69:J188,6.5))","v":""},"","","",0,{"$f":"IF(D69=\"\",0,ROUND(N$33*NORMDIST(C20+0.5,N$34,N$36,TRUE),0)-SUM(O$3:O19))","v":0}]
[256,{"v":181.01933598375612,"d":"181.019336"},7.5,{"$f":"IF(COUNTIF(D69:D188,7.5)=0,\"\",COUNTIF(D69:D188,7.5))","v":""},{"$f":"IF(COUNTIF(E69:E188,7.5)=0,\"\",COUNTIF(E69:E188,7.5))","v":""},{"$f":"IF(COUNTIF(F69:F188,7.5)=0,\"\",COUNTIF(F69:F188,7.5))","v":""},"","",{"$f":"IF(COUNTIF(I69:I188,7.5)=0,\"\",COUNTIF(I69:I188,7.5))","v":""},{"$f":"IF(COUNTIF(J69:J188,7.5)=0,\"\",COUNTIF(J69:J188,7.5))","v":""},"","","",0,{"$f":"IF(D69=\"\",0,ROUND(N$33*NORMDIST(C21+0.5,N$34,N$36,TRUE),0)-SUM(O$3:O20))","v":0}]
[512,{"v":362.0386719675123,"d":"362.038672"},8.5,{"$f":"IF(COUNTIF(D69:D188,8.5)=0,\"\",COUNTIF(D69:D188,8.5))","v":""},{"$f":"IF(COUNTIF(E69:E188,8.5)=0,\"\",COUNTIF(E69:E188,8.5))","v":""},{"$f":"IF(COUNTIF(F69:F188,8.5)=0,\"\",COUNTIF(F69:F188,8.5))","v":""},"","",{"$f":"IF(COUNTIF(I69:I188,8.5)=0,\"\",COUNTIF(I69:I188,8.5))","v":""},{"$f":"IF(COUNTIF(J69:J188,8.5)=0,\"\",COUNTIF(J69:J188,8.5))","v":""},"","","",0,{"$f":"IF(D69=\"\",0,ROUND(N$33*NORMDIST(C22+0.5,N$34,N$36,TRUE),0)-SUM(O$3:O21))","v":0}]
[null,null,"Central Tendancy Stats","Lab 1","Lab 2","Lab 3","Lab 4","Lab 5","Lab 6","Lab 7","Lab 8","Lab 9","Lab 10","All labs","Control","Limits"]
[null,null,"Mean",{"$f":"IF(COUNT(D69:D188)=0,\"\",AVERAGE(D69:D188))","v":""},"","","","",{"$f":"IF(COUNT(I69:I188)=0,\"\",AVERAGE(I69:I188))","v":""},{"$f":"IF(COUNT(J69:J188)=0,\"\",AVERAGE(J69:J188))","v":""},"","","",{"$f":"IF(D69=\"\",\"\",AVERAGE(D69:M188))","v":""},{"$f":"IF(D69=\"\",\"\",ROUND(NORMINV(0.05,N34,N36),3))","v":""},{"$f":"IF(D69=\"\",\"\",ROUND(NORMINV(0.95,N34,N36),3))","v":""}]
["Calculated QC Range",null,"Median",{"$f":"IF(COUNT(D69:D188)=0,\"\",MEDIAN(D69:D188))","v":""},"","","","",{"$f":"IF(COUNT(I69:I188)=0,\"\",MEDIAN(I69:I188))","v":""},{"$f":"IF(COUNT(J69:J188)=0,\"\",MEDIAN(J69:J188))","v":""},"","","",{"$f":"IF(D69=\"\",\"\",MEDIAN(D69:M188))","v":""},{"$f":"IF(D69=\"\",\"\",ROUND(N51,3))","v":""},{"$f":"IF(D69=\"\",\"\",ROUND(N52,3))","v":""}]
[{"$f":"IF(N33=0,\"\",ROUND(2*N39,3)&\" to \"&ROUND(N40,3))","v":""},null,"Mode",{"$f":"IF(COUNT(D69:D188)=0,\"\",MODE(D69:D188))","v":""},"","","","",{"$f":"IF(COUNT(I69:I188)=0,\"\",MODE(I69:I188))","v":""},{"$f":"IF(COUNT(J69:J188)=0,\"\",MODE(J69:J188))","v":""},"","","",{"$f":"IF(D69=\"\",\"\",MODE(D69:M188))","v":""},{"$f":"IF(D69=\"\",\"\",N26-1)","v":""},{"$f":"IF(D69=\"\",\"\",N26+1)","v":""}]
["Dilution Range",null,null,"(Converted back to MIC)",{"$nulls":10},"Control","Limits"]
[{"$f":"IF(N33=0,\"\",LN(N40/N39)/LN(2))","v":""},null,"Mean",{"$f":"IF(COUNT(D69:D188)=0,\"\",2^(AVERAGE(D69:D188)+0.5))","v":""},"","","","",{"$f":"IF(COUNT(I69:I188)=0,\"\",2^(AVERAGE(I69:I188)+0.5))","v":""},{"$f":"IF(COUNT(J69:J188)=0,\"\",2^(AVERAGE(J69:J188)+0.5))","v":""},"","","",{"$f":"IF(D69=\"\",\"\",2^(AVERAGE(D69:M188)+0.5))","v":""},{"$f":"IF(D69=\"\",\"\",2^O24)","v":""},{"$f":"IF(D69=\"\",\"\",2^P24)","v":""}]
["% Obs. Captured",null,"Median",{"$f":"IF(COUNT(D69:D188)=0,\"\",2^(MEDIAN(D69:D188)+0.5))","v":""},"","","","",{"$f":"IF(COUNT(I69:I188)=0,\"\",2^(MEDIAN(I69:I188)+0.5))","v":""},{"$f":"IF(COUNT(J69:J188)=0,\"\",2^(MEDIAN(J69:J188)+0.5))","v":""},"","","",{"$f":"IF(D69=\"\",\"\",2^(MEDIAN(D69:M188)+0.5))","v":""},{"$f":"IF(D69=\"\",\"\",2^O25)","v":""},{"$f":"IF(D69=\"\",\"\",2^P25)","v":""}]
[{"$f":"IF(N33=0,\"\",((COUNTIF(D69:M188,\"<\"&LN(N40)/LN(2))-COUNTIF(D69:M188,\"<\"&LN(N39)/LN(2)))/N$33))","v":""},null,"Mode",{"$f":"IF(COUNT(D69:D188)=0,\"\",2^(MODE(D69:D188)+0.5))","v":""},"","","","",{"$f":"IF(COUNT(I69:I188)=0,\"\",2^(MODE(I69:I188)+0.5))","v":""},{"$f":"IF(COUNT(J69:J188)=0,\"\",2^(MODE(J69:J188)+0.5))","v":""},"","","",{"$f":"IF(D69=\"\",\"\",2^(MODE(D69:M188)+0.5))","v":""},{"$f":"IF(D69=\"\",\"\",2^O26)","v":""},{"$f":"IF(D69=\"\",\"\",2^P26)","v":""}]
["Prob'ty Outside Range"]
[{"$f":"IF(N33=0,\"\",N41+N42)","v":""},null,"Conventional Stats","Lab 1","Lab 2","Lab 3","Lab 4","Lab 5","Lab 6","Lab 7","Lab 8","Lab 9","Lab 10","All labs","Interlab"]
[null,null,"N",{"$f":"IF(COUNT(D69:D188)=0,\"\",COUNT(D69:D188))","v":""},"","","","",{"$f":"IF(COUNT(I69:I188)=0,\"\",COUNT(I69:I188))","v":""},{"$f":"IF(COUNT(J69:J188)=0,\"\",COUNT(J69:J188))","v":""},"","","",{"$f":"COUNT(D69:M188)","v":0},"CV"]
["CLSI QC Range",null,"GeoMean MIC (log2)",{"$f":"IF(COUNT(D69:D188)=0,\"\",AVERAGE(D69:D188))","v":""},"","","","",{"$f":"IF(COUNT(I69:I188)=0,\"\",AVERAGE(I69:I188))","v":""},{"$f":"IF(COUNT(J69:J188)=0,\"\",AVERAGE(J69:J188))","v":""},"","","",{"$f":"IF(D69=\"\",\"\",AVERAGE(D69:M188))","v":""},{"$f":"IF(D69=\"\",\"\",ABS(STDEVA(D34:M34)/N34))","v":""}]
[null,null,"GeoMean MIC",{"$f":"IF(COUNT(D69:D188)=0,\"\",2^D34)","v":""},"","","","",{"$f":"IF(COUNT(I69:I188)=0,\"\",2^I34)","v":""},{"$f":"IF(COUNT(J69:J188)=0,\"\",2^J34)","v":""},"","","",{"$f":"IF(D69=\"\",\"\",2^N34)","v":""}]
[null,null,"GeoSD (log2)",{"$f":"IF(COUNT(D69:D188)=0,\"\",STDEV(D69:D188))","v":""},"","","","",{"$f":"IF(COUNT(I69:I188)=0,\"\",STDEV(I69:I188))","v":""},{"$f":"IF(COUNT(J69:J188)=0,\"\",STDEV(J69:J188))","v":""},"","","",{"$f":"IF(D69=\"\",\"\",STDEV(D69:M188))","v":""}]
[{"$f":"IF(A35=\"\",\"\",ROUND(2^(A35+0.5),3)&\" to \"&ROUND(2^(A36+0.5),3))","v":""},null,"95% Lower Bound",{"$f":"IF(COUNT(D69:D188)=0,\"\",IF(D33=0,\"\",2^((NORMINV(0.025,D34,D36)))))","v":""},"","","","",{"$f":"IF(COUNT(I69:I188)=0,\"\",IF(I33=0,\"\",2^((NORMINV(0.025,I34,I36)))))","v":""},{"$f":"IF(COUNT(J69:J188)=0,\"\",IF(J33=0,\"\",2^((NORMINV(0.025,J34,J36)))))","v":""},"","","",{"$f":"IF(N33=0,\"\",2^((NORMINV(0.025,N34,N36))))","v":""}]
["Dilution Range",null,"95% Upper Bound",{"$f":"IF(COUNT(D69:D188)=0,\"\",IF(D33=0,\"\",2^(NORMINV(0.975,D34,D36))))","v":""},"","","","",{"$f":"IF(COUNT(I69:I188)=0,\"\",IF(I33=0,\"\",2^(NORMINV(0.975,I34,I36))))","v":""},{"$f":"IF(COUNT(J69:J188)=0,\"\",IF(J33=0,\"\",2^(NORMINV(0.975,J34,J36))))","v":""},"","","",{"$f":"IF(N33=0,\"\",2^(NORMINV(0.975,N34,N36)))","v":""}]
[{"$f":"IF(A35=\"\",\"\",A36-A35+1)","v":""},null,"Lower Bound Rounded Down",{"$f":"IF(COUNT(D69:D188)=0,\"\",IF(D33=0,\"\",2^(INT((NORMINV(0.025,D34,D36))))))","v":""},"","","","",{"$f":"IF(COUNT(I69:I188)=0,\"\",IF(I33=0,\"\",2^(INT((NORMINV(0.025,I34,I36))))))","v":""},{"$f":"IF(COUNT(J69:J188)=0,\"\",IF(J33=0,\"\",2^(INT((NORMINV(0.025,J34,J36))))))","v":""},"","","",{"$f":"IF(N33=0,\"\",2^(INT((NORMINV(0.025,N34,N36)))))","v":""}]
["CLSI% Obs. captured",null,"Upper Bound Rounded Up",{"$f":"IF(COUNT(D69:D188)=0,\"\",IF(D33=0,\"\",2^(INT((NORMINV(0.975,D34,D36)))+1)))","v":""},"","","","",{"$f":"IF(COUNT(I69:I188)=0,\"\",IF(I33=0,\"\",2^(INT((NORMINV(0.975,I34,I36)))+1)))","v":""},{"$f":"IF(COUNT(J69:J188)=0,\"\",IF(J33=0,\"\",2^(INT((NORMINV(0.975,J34,J36)))+1)))","v":""},"","","",{"$f":"IF(N33=0,\"\",2^(INT((NORMINV(0.975,N34,N36)))+1))","v":""}]
[{"$f":"IF(A35=0,\"\",(COUNTIF(D69:M188,\"<\"&A36+1)-COUNTIF(D69:M188,\"<\"&A35))/N$33)","v":""},null,"Probability of <=Lower Bound",{"$f":"IF(COUNT(D69:D188)=0,\"\",NORMDIST(LOG(D39)/LOG(2),D34,D36,TRUE))","v":""},"","","","",{"$f":"IF(COUNT(I69:I188)=0,\"\",NORMDIST(LOG(I39)/LOG(2),I34,I36,TRUE))","v":""},{"$f":"IF(COUNT(J69:J188)=0,\"\",NORMDIST(LOG(J39)/LOG(2),J34,J36,TRUE))","v":""},"","","",{"$f":"IF(D69=\"\",\"\",NORMDIST(LOG(N39)/LOG(2),N34,N36,TRUE))","v":""}]
[null,null,"Probability of >Upper Bound",{"$f":"IF(COUNT(D69:D188)=0,\"\",1-NORMDIST(LOG(D40)/LOG(2),D34,D36,TRUE))","v":""},"","","","",{"$f":"IF(COUNT(I69:I188)=0,\"\",1-NORMDIST(LOG(I40)/LOG(2),I34,I36,TRUE))","v":""},{"$f":"IF(COUNT(J69:J188)=0,\"\",1-NORMDIST(LOG(J40)/LOG(2),J34,J36,TRUE))","v":""},"","","",{"$f":"IF(D69=\"\",\"\",1-NORMDIST(LOG(N40)/LOG(2),N34,N36,TRUE))","v":""}]
[null,null,"New Range",{"$f":"IF(COUNT(D69:D188)=0,\"\",1-D41-D42)","v":""},"","","","",{"$f":"IF(COUNT(I69:I188)=0,\"\",1-I41-I42)","v":""},{"$f":"IF(COUNT(J69:J188)=0,\"\",1-J41-J42)","v":""},"","","",{"$f":"IF(D69=\"\",\"\",1-N41-N42)","v":""}]
[]
[null,null,"Order Stats","Lab 1","Lab 2","Lab 3","Lab 4","Lab 5","Lab 6","Lab 7","Lab 8","Lab 9","Lab 10","All labs","Interlab"]
[null,null,"25th %ile",{"$f":"IF(COUNT(D69:D188)=0,\"\",QUARTILE(D69:D188,1))","v":""},"","","","",{"$f":"IF(COUNT(I69:I188)=0,\"\",QUARTILE(I69:I188,1))","v":""},{"$f":"IF(COUNT(J69:J188)=0,\"\",QUARTILE(J69:J188,1))","v":""},"","","",{"$f":"IF(D69=\"\",\"\",QUARTILE(D69:M188,1))","v":""},"CV"]
[null,null,"75th %ile",{"$f":"IF(COUNT(D69:D188)=0,\"\",QUARTILE(D69:D188,3))","v":""},"","","","",{"$f":"IF(COUNT(I69:I188)=0,\"\",QUARTILE(I69:I188,3))","v":""},{"$f":"IF(COUNT(J69:J188)=0,\"\",QUARTILE(J69:J188,3))","v":""},"","","",{"$f":"IF(D69=\"\",\"\",QUARTILE(D69:M188,3))","v":""},{"$f":"IF(D69=\"\",\"\",ABS(N48/N25))","v":""}]
[null,null,"Interquartile Range",{"$f":"IF(COUNT(D69:D188)=0,\"\",IF(D47-D46=0,1,D47-D46))","v":""},"","","","",{"$f":"IF(COUNT(I69:I188)=0,\"\",IF(I47-I46=0,1,I47-I46))","v":""},{"$f":"IF(COUNT(J69:J188)=0,\"\",IF(J47-J46=0,1,J47-J46))","v":""},"","","",{"$f":"IF(D69=\"\",\"\",IF(N47-N46=0,1,N47-N46))","v":""}]
[null,null,"Minimum",{"$f":"IF(COUNT(D69:D188)=0,\"\",MIN(D69:D188))","v":""},"","","","",{"$f":"IF(COUNT(I69:I188)=0,\"\",MIN(I69:I188))","v":""},{"$f":"IF(COUNT(J69:J188)=0,\"\",MIN(J69:J188))","v":""},"","","",{"$f":"IF(D69=\"\",\"\",MIN(D69:M188))","v":""}]
[null,null,"Maximum",{"$f":"IF(COUNT(D69:D188)=0,\"\",MAX(D69:D188))","v":""},"","","","",{"$f":"IF(COUNT(I69:I188)=0,\"\",MAX(I69:I188))","v":""},{"$f":"IF(COUNT(J69:J188)=0,\"\",MAX(J69:J188))","v":""},"","","",{"$f":"IF(D69=\"\",\"\",MAX(D69:M188))","v":""}]
[null,null,"Lower Inner Fence",{"$f":"IF(COUNT(D69:D188)=0,\"\",D$46-1.5*D$48)","v":""},"","","","",{"$f":"IF(COUNT(I69:I188)=0,\"\",I$46-1.5*I$48)","v":""},{"$f":"IF(COUNT(J69:J188)=0,\"\",J$46-1.5*J$48)","v":""},"","","",{"$f":"IF(D69=\"\",\"\",N$46-1.5*N$48)","v":""}]
[null,null,"Upper Inner Fence",{"$f":"IF(COUNT(D69:D188)=0,\"\",D$47+1.5*D$48)","v":""},"","","","",{"$f":"IF(COUNT(I69:I188)=0,\"\",I$47+1.5*I$48)","v":""},{"$f":"IF(COUNT(J69:J188)=0,\"\",J$47+1.5*J$48)","v":""},"","","",{"$f":"IF(D69=\"\",\"\",N$47+1.5*N$48)","v":""}]
[null,null,"Lower Outer Fence",{"$f":"IF(COUNT(D69:D188)=0,\"\",D$46-3*D$48)","v":""},"","","","",{"$f":"IF(COUNT(I69:I188)=0,\"\",I$46-3*I$48)","v":""},{"$f":"IF(COUNT(J69:J188)=0,\"\",J$46-3*J$48)","v":""},"","","",{"$f":"IF(D69=\"\",\"\",N$46-3*N$48)","v":""}]
[null,null,"Upper Outer Fence",{"$f":"IF(COUNT(D69:D188)=0,\"\",D$47+3*D$48)","v":""},"","","","",{"$f":"IF(COUNT(I69:I188)=0,\"\",I$47+3*I$48)","v":""},{"$f":"IF(COUNT(J69:J188)=0,\"\",J$47+3*J$48)","v":""},"","","",{"$f":"IF(D69=\"\",\"\",N$47+3*N$48)","v":""}]
[null,null,"Lower Near Outliers",{"$f":"IF(COUNT(D69:D188)=0,\"\",COUNTIF(D69:D188,\"<\"&D51))","v":""},"","","","",{"$f":"IF(COUNT(I69:I188)=0,\"\",COUNTIF(I69:I188,\"<\"&I51))","v":""},{"$f":"IF(COUNT(J69:J188)=0,\"\",COUNTIF(J69:J188,\"<\"&J51))","v":""},"","","",{"$f":"IF(D69=\"\",\"\",COUNTIF(D69:M188,\"<\"&N51)-N57)","v":""}]
[null,null,"Upper Near Outliers",{"$f":"IF(COUNT(D69:D188)=0,\"\",COUNTIF(D69:D188,\">\"&D52))","v":""},"","","","",{"$f":"IF(COUNT(I69:I188)=0,\"\",COUNTIF(I69:I188,\">\"&I52))","v":""},{"$f":"IF(COUNT(J69:J188)=0,\"\",COUNTIF(J69:J188,\">\"&J52))","v":""},"","","",{"$f":"IF(D69=\"\",\"\",COUNTIF(D69:M188,\">\"&N52)-N58)","v":""}]
[null,null,"Lower Extreme Outliers",{"$f":"IF(COUNT(D69:D188)=0,\"\",COUNTIF(D69:D188,\"<\"&D53))","v":""},"","","","",{"$f":"IF(COUNT(I69:I188)=0,\"\",COUNTIF(I69:I188,\"<\"&I53))","v":""},{"$f":"IF(COUNT(J69:J188)=0,\"\",COUNTIF(J69:J188,\"<\"&J53))","v":""},"","","",{"$f":"IF(D69=\"\",\"\",COUNTIF(D69:M188,\"<\"&N53))","v":""}]
[null,null,"Upper Extreme Outliers",{"$f":"IF(COUNT(D69:D188)=0,\"\",COUNTIF(D69:D188,\">\"&D54))","v":""},"","","","",{"$f":"IF(COUNT(I69:I188)=0,\"\",COUNTIF(I69:I188,\">\"&I54))","v":""},{"$f":"IF(COUNT(J69:J188)=0,\"\",COUNTIF(J69:J188,\">\"&J54))","v":""},"","","",{"$f":"IF(D69=\"\",\"\",COUNTIF(D69:M188,\">\"&N54))","v":""}]
[]
[null,null,"Chart Control Limits","Lab 1","Lab 2","Lab 3","Lab 4","Lab 5","Lab 6","Lab 7","Lab 8","Lab 9","Lab 10"]
[null,"Mean","Lower CL",{"$f":"$O$24","v":""},{"$f":"$O$24","v":""},"","","","","","","",""]
[null,null,"Upper CL",{"$f":"$P$24","v":""},{"$f":"$P$24","v":""},"","","","","","","",""]
[null,"Median","Lower CL",{"$f":"$O$25","v":""},{"$f":"$O$25","v":""},"","","","","","","",""]
[null,null,"Upper CL",{"$f":"$P$25","v":""},{"$f":"$P$25","v":""},"","","","","","","",""]
[null,"Mode","Lower CL",{"$f":"$O$26","v":""},{"$f":"$O$26","v":""},"","","","","","","",""]
[null,null,"Upper CL",{"$f":"$P$26","v":""},{"$f":"$P$26","v":""},"","","","","","","",""]
[]
[null,null,"Log2 Converted Raw Data","Lab 1","Lab 2","Lab 3","Lab 4","Lab 5","Lab 6","Lab 7","Lab 8","Lab 9","Lab 10","Control","Limits"]
[null,null,"Media Lot 1",{"$f":"IF(D191=\"\",\"\",LOOKUP(D191,$A$3:$A$22,$C$3:$C$22))","v":""},"","","","",{"$f":"IF(I191=\"\",\"\",LOOKUP(I191,$A$3:$A$22,$C$3:$C$22))","v":""},"","","","",{"$f":"IF(D69=\"\",\"\",LN($N$39)/LN(2))","v":""},{"$f":"IF(D69=\"\",\"\",LN($N$40)/LN(2)-0.5)","v":""}]
[{"$nulls":3},"","","","","","","","","",""]
[{"$nulls":3},"","","","","","","","","",""]
[{"$nulls":3},"","","","","","","","","",""]
[{"$nulls":3},{"$f":"IF(D195=\"\",\"\",LOOKUP(D195,$A$3:$A$22,$C$3:$C$22))","v":""},"","","","","","","","",""]
[{"$nulls":3},"","","","","","","","","",""]
[{"$nulls":3},"","","","","","","","","",""]
[{"$nulls":3},"","","","","","","","","",""]
[{"$nulls":3},"","","","","","","","","",""]
[{"$nulls":3},"","","","","","","","","",""]
[{"$nulls":3},{"$f":"IF(D201=\"\",\"\",LOOKUP(D201,$A$3:$A$22,$C$3:$C$22))","v":""},"","","","",{"$f":"IF(I201=\"\",\"\",LOOKUP(I201,$A$3:$A$22,$C$3:$C$22))","v":""},"","","",""]
[{"$nulls":3},"","","","","","","","","",""]
[{"$nulls":3},{"$f":"IF(D203=\"\",\"\",LOOKUP(D203,$A$3:$A$22,$C$3:$C$22))","v":""},"","","","","","","","",""]
[{"$nulls":3},"","","","","","","","","",""]
[{"$nulls":3},"","","","","","","","","",""]
[{"$nulls":3},"","","","","","","","","",""]
[{"$nulls":3},"","","","","","","","","",""]
[{"$nulls":3},"","","","","","","","","",""]
[{"$nulls":3},"","","","","","","","","",""]
[{"$nulls":3},"","","","","","","","","",""]
[{"$nulls":3},{"$f":"IF(D211=\"\",\"\",LOOKUP(D211,$A$3:$A$22,$C$3:$C$22))","v":""},"","","","",{"$f":"IF(I211=\"\",\"\",LOOKUP(I211,$A$3:$A$22,$C$3:$C$22))","v":""},"","","",""]
[{"$nulls":3},"","","","","","","","","",""]
[{"$nulls":3},"","","","","","","","","",""]
[{"$nulls":3},"","","","","","","","","",""]
[{"$nulls":3},"","","","","","","","","",""]
[{"$nulls":3},"","","","","","","","","",""]
[{"$nulls":3},"","","","","","","","","",""]
[{"$nulls":3},"","","","","","","","","",""]
[{"$nulls":3},"","","","","","","","","",""]
[{"$nulls":3},"","","","","","","","","",""]
[{"$nulls":3},"","","","","",{"$f":"IF(I221=\"\",\"\",LOOKUP(I221,$A$3:$A$22,$C$3:$C$22))","v":""},"","","",""]
[{"$nulls":3},"","","","","","","","","",""]
[{"$nulls":3},"","","","","","","","","",""]
[{"$nulls":3},"","","","","","","","","",""]
[{"$nulls":3},"","","","","","","","","",""]
[{"$nulls":3},"","","","","","","","","",""]
[{"$nulls":3},{"$f":"IF(D227=\"\",\"\",LOOKUP(D227,$A$3:$A$22,$C$3:$C$22))","v":""},"","","","","","","","",""]
[{"$nulls":3},"","","","","","","","","",""]
[{"$nulls":3},"","","","","","","","","",""]
[{"$nulls":3},"","","","","","","","","",""]
[null,null,"Media Lot 2","","","","","",{"$f":"IF(I231=\"\",\"\",LOOKUP(I231,$A$3:$A$22,$C$3:$C$22))","v":""},"","","",""]
[{"$nulls":3},"","","","","","","","","",""]
[{"$nulls":3},"","","","","","","","","",""]
[{"$nulls":3},"","","","","","","","","",""]
[{"$nulls":3},"","","","","","","","","",""]
[{"$nulls":3},"","","","","","","","","",""]
[{"$nulls":3},"","","","","","","","","",""]
[{"$nulls":3},"","","","","","","","","",""]
[{"$nulls":3},"","","","","","","","","",""]
[{"$nulls":3},"","","","","","","","","",""]
[{"$nulls":3},"","","","","",{"$f":"IF(I241=\"\",\"\",LOOKUP(I241,$A$3:$A$22,$C$3:$C$22))","v":""},"","","",""]
[{"$nulls":3},"","","","","","","","","",""]
[{"$nulls":3},{"$f":"IF(D243=\"\",\"\",LOOKUP(D243,$A$3:$A$22,$C$3:$C$22))","v":""},"","","","","","","","",""]
[{"$nulls":3},"","","","","","","","","",""]
[{"$nulls":3},"","","","","","","","","",""]
[{"$nulls":3},"","","","","","","","","",""]
[{"$nulls":3},"","","","","","","","","",""]
[{"$nulls":3},"","","","","","","","","",""]
[{"$nulls":3},"","","","","","","","","",""]
[{"$nulls":3},"","","","","","","","","",""]
[{"$nulls":3},"","","","","",{"$f":"IF(I251=\"\",\"\",LOOKUP(I251,$A$3:$A$22,$C$3:$C$22))","v":""},"","","",""]
[{"$nulls":3},"","","","","","","","","",""]
[{"$nulls":3},"","","","","","","","","",""]
[{"$nulls":3},"","","","","","","","","",""]
[{"$nulls":3},"","","","","","","","","",""]
[{"$nulls":3},"","","","","","","","","",""]
[{"$nulls":3},"","","","","","","","","",""]
[{"$nulls":3},"","","","","","","","","",""]
[{"$nulls":3},{"$f":"IF(D259=\"\",\"\",LOOKUP(D259,$A$3:$A$22,$C$3:$C$22))","v":""},"","","","","","","","",""]
[{"$nulls":3},"","","","","","","","","",""]
[{"$nulls":3},"","","","","",{"$f":"IF(I261=\"\",\"\",LOOKUP(I261,$A$3:$A$22,$C$3:$C$22))","v":""},"","","",""]
[{"$nulls":3},"","","","","","","","","",""]
[{"$nulls":3},"","","","","","","","","",""]
[{"$nulls":3},"","","","","","","","","",""]
[{"$nulls":3},"","","","","","","","","",""]
[{"$nulls":3},"","","","","","","","","",""]
[{"$nulls":3},"","","","","","","","","",""]
[{"$nulls":3},"","","","","","","","","",""]
[{"$nulls":3},"","","","","","","","","",""]
[{"$nulls":3},"","","","","","","","","",""]
[null,null,"Media Lot 3","","","","","",{"$f":"IF(I271=\"\",\"\",LOOKUP(I271,$A$3:$A$22,$C$3:$C$22))","v":""},"","","",""]
[{"$nulls":3},"","","","","","","","","",""]
[{"$nulls":3},"","","","","","","","","",""]
[{"$nulls":3},"","","","","","","","","",""]
[{"$nulls":3},{"$f":"IF(D275=\"\",\"\",LOOKUP(D275,$A$3:$A$22,$C$3:$C$22))","v":""},"","","","","","","","",""]
[{"$nulls":3},"","","","","","","","","",""]
[{"$nulls":3},"","","","","","","","","",""]
[{"$nulls":3},"","","","","","","","","",""]
[{"$nulls":3},"","","","","","","","","",""]
[{"$nulls":3},"","","","","","","","","",""]
[{"$nulls":3},"","","","","",{"$f":"IF(I281=\"\",\"\",LOOKUP(I281,$A$3:$A$22,$C$3:$C$22))","v":""},"","","",""]
[{"$nulls":3},"","","","","","","","","",""]
[{"$nulls":3},"","","","","","","","","",""]
[{"$nulls":3},"","","","","","","","","",""]
[{"$nulls":3},"","","","","","","","","",""]
[{"$nulls":3},"","","","","","","","","",""]
[{"$nulls":3},"","","","","","","","","",""]
[{"$nulls":3},"","","","","","","","","",""]
[{"$nulls":3},"","","","","","","","","",""]
[{"$nulls":3},"","","","","","","","","",""]
[{"$nulls":3},{"$f":"IF(D291=\"\",\"\",LOOKUP(D291,$A$3:$A$22,$C$3:$C$22))","v":""},"","","","",{"$f":"IF(I291=\"\",\"\",LOOKUP(I291,$A$3:$A$22,$C$3:$C$22))","v":""},"","","",""]
[{"$nulls":3},"","","","","","","","","",""]
[{"$nulls":3},"","","","","","","","","",""]
[{"$nulls":3},"","","","","","","","","",""]
[{"$nulls":3},"","","","","","","","","",""]
[{"$nulls":3},"","","","","","","","","",""]
[{"$nulls":3},"","","","","","","","","",""]
[{"$nulls":3},"","","","","","","","","",""]
[{"$nulls":3},"","","","","","","","","",""]
[{"$nulls":3},"","","","","","","","","",""]
[{"$nulls":3},"","","","","",{"$f":"IF(I301=\"\",\"\",LOOKUP(I301,$A$3:$A$22,$C$3:$C$22))","v":""},"","","",""]
[{"$nulls":3},"","","","","","","","","",""]
[{"$nulls":3},"","","","","","","","","",""]
[{"$nulls":3},"","","","","","","","","",""]
[{"$nulls":3},"","","","","","","","","",""]
[{"$nulls":3},"","","","","","","","","",""]
[{"$nulls":3},{"$f":"IF(D307=\"\",\"\",LOOKUP(D307,$A$3:$A$22,$C$3:$C$22))","v":""},"","","","","","","","",""]
[{"$nulls":3},"","","","","","","","","",""]
[{"$nulls":3},"","","","","","","","","",""]
[{"$nulls":3},"","","","","","","","","",""]
[]
[null,null,"Raw Data Entry","Lab 1","Lab 2","Lab 3","Lab 4","Lab 5","Lab 6","Lab 7","Lab 8","Lab 9","Lab 10"]
[null,null,"Media Lot 1"]
{"$rows_empty":39}
[null,null,"Media Lot 2"]
{"$rows_empty":39}
[null,null,"Media Lot 3"]

{"sheet":"Strain 1 graphs","index":24,"n_rows":1,"n_cols":2,"rows_kept":1}
[{"$f":"'Range Summary'!B2","v":"QC1"},{"$f":"'Range Summary'!A2","v":"Test agent"}]

{"sheet":"Strain 1 control graphs","index":25,"n_rows":1,"n_cols":3,"rows_kept":1}
[{"$f":"'Range Summary'!B2","v":"QC1"},{"$f":"'Range Summary'!B17","v":"Control"},"Control"]

{"sheet":"Strain 2 graphs","index":26,"n_rows":2,"n_cols":2,"rows_kept":2}
[{"$f":"'Range Summary'!C2","v":"QC2"},{"$f":"'Range Summary'!A2","v":"Test agent"}]
[null,{"$f":"'Range Summary'!C2","v":"QC2"}]

{"sheet":"Strain 2 control graphs","index":27,"n_rows":1,"n_cols":3,"rows_kept":1}
[{"$f":"'Range Summary'!C2","v":"QC2"},{"$f":"'Range Summary'!B17","v":"Control"},"Control"]

{"sheet":"Strain 3 graphs","index":28,"n_rows":1,"n_cols":2,"rows_kept":1}
[{"$f":"'Range Summary'!D2","v":"QC3"},{"$f":"'Range Summary'!A2","v":"Test agent"}]

{"sheet":"Strain 3 control graphs","index":29,"n_rows":1,"n_cols":3,"rows_kept":1}
[{"$f":"'Range Summary'!D2","v":"QC3"},{"$f":"'Range Summary'!B17","v":"Control"},"Control"]

{"sheet":"Strain 4 graphs","index":30,"n_rows":1,"n_cols":2,"rows_kept":1}
[{"$f":"'Range Summary'!F2","v":"QC5"},{"$f":"'Range Summary'!A2","v":"Test agent"}]

{"sheet":"Strain 4 control graph","index":31,"n_rows":1,"n_cols":3,"rows_kept":1}
[{"$f":"'Range Summary'!F2","v":"QC5"},{"$f":"'Range Summary'!B17","v":"Control"},"Control"]

{"sheet":"Strain 5 graphs","index":32,"n_rows":1,"n_cols":2,"rows_kept":1}
[{"$f":"'Range Summary'!G2","v":"QC6"},{"$f":"'Range Summary'!A2","v":"Test agent"}]

{"sheet":"Strain 5 control graphs","index":33,"n_rows":1,"n_cols":3,"rows_kept":1}
[{"$f":"'Range Summary'!G2","v":"QC6"},{"$f":"'Range Summary'!B17","v":"Control"},"Control"]

{"sheet":"Strain 6 graphs","index":34,"n_rows":1,"n_cols":2,"rows_kept":1}
[{"$f":"'Range Summary'!H2","v":"QC7"},{"$f":"'Range Summary'!A2","v":"Test agent"}]

{"sheet":"Strain 6 control graphs","index":35,"n_rows":1,"n_cols":3,"rows_kept":1}
[{"$f":"'Range Summary'!H2","v":"QC7"},{"$f":"'Range Summary'!B17","v":"Control"},"Control"]

{"sheet":"Strain 7 graphs","index":36,"n_rows":1,"n_cols":2,"rows_kept":1}
[{"$f":"'Range Summary'!I2","v":"QC8"},{"$f":"'Range Summary'!A2","v":"Test agent"}]

{"sheet":"Strain 7 control graphs","index":37,"n_rows":1,"n_cols":3,"rows_kept":1}
[{"$f":"'Range Summary'!I2","v":"QC8"},{"$f":"'Range Summary'!B17","v":"Control"},"Control"]

{"sheet":"Strain 8 graphs","index":38,"n_rows":1,"n_cols":2,"rows_kept":1}
[{"$f":"'Range Summary'!J2","v":"QC9"},{"$f":"'Range Summary'!A2","v":"Test agent"}]

{"sheet":"Strain 8 control graphs","index":39,"n_rows":1,"n_cols":3,"rows_kept":1}
[{"$f":"'Range Summary'!I2","v":"QC8"},{"$f":"'Range Summary'!B17","v":"Control"},"Control"]

{"sheet":"Strain 9 graphs","index":40,"n_rows":1,"n_cols":2,"rows_kept":1}
[{"$f":"'Range Summary'!K2","v":"QC10"},{"$f":"'Range Summary'!A2","v":"Test agent"}]

{"sheet":"Strain 9 control graphs","index":41,"n_rows":1,"n_cols":3,"rows_kept":1}
[{"$f":"'Range Summary'!K2","v":"QC10"},{"$f":"'Range Summary'!B17","v":"Control"},"Control"]

{"sheet":"Strain 10 graphs","index":42,"n_rows":1,"n_cols":2,"rows_kept":1}
[{"$f":"'Range Summary'!#REF!","v":{"$error":"#REF!"}},{"$f":"'Range Summary'!A2","v":"Test agent"}]

{"sheet":"Strain 10 control graphs","index":43,"n_rows":1,"n_cols":3,"rows_kept":1}
[{"$f":"'Range Summary'!#REF!","v":{"$error":"#REF!"}},{"$f":"'Range Summary'!B17","v":"Control"},"Control"]